{"text_format":"1","workbook":"xlsx","n_sheets":3,"sheets":["FeとAl定量","吸光度データ","元データ"],"not_rendered":{"charts":3,"images":0,"macros":1,"external_links":0,"defined_names":7,"comments":0,"pivot_tables":0},"unopened":[],"bounds":{"document_bytes":16777216,"sheet_cells":100000,"rows_first":2000,"rows_last":500,"rows_between":2000,"halvings":0,"cell_chars":16384,"cell_head_chars":4096},"cells_cut":0,"cells_raw":0,"read":"whole","date_system":"1900"}

{"sheet":"FeとAl定量","index":0,"n_rows":48,"n_cols":4,"rows_kept":48,"cut":false,"hidden":false,"merged":[]}
["実験日","2030年6月31日"]
["実験者","宇羽野宗良"]
["課題","吸光度"]
[null,"スペクトルの波長較正、データの正規・平準化"]
[]
[]
[null,"鉄の定量"]
[null,"検量線"]
[null,"溶液中鉄濃度 c と510 nmにおける吸光度（イオン交換水を参照）"]
[null,"（700 nmの吸光度が0になるように補正）"]
[null,"c/mg L-1","A(510)","A(510)*"]
[null,0,0.03,{"$f":"C12-C$12","v":0}]
[null,1,0.22000000000000003,{"$f":"C13-C$12","v":0.19000000000000003}]
[null,2,0.42,0.39]
[null,3,0.56999999999999995,0.53999999999999992]
[null,4,0.76,0.73]
[null,null,null,"A*はブランクを補正した値"]
[]
[null,"A(510)* =",{"$f":"SUMPRODUCT(B12:B16,D12:D16)/SUMSQ(B12:B16)","v":0.18366666666666667},"c / mg L-1"]
[null,null,"[c = 0でA* = 0になるように最小２乗法を適用]"]
[]
[null,"温泉水中の鉄"]
[null,"温泉水のpH"]
[null,2,"簡易pH計による"]
[]
[null,"温泉水1.0 mLを取ってフェナントロリン等を加えて10 mLにした吸光度（イオン交換水を参照）"]
[null,"A(510)",0.55000000000000004]
[null,"A(510)*",{"$f":"C27-C12","v":0.52},"ブランク補正"]
[]
[null,"元の温泉水中の鉄濃度"]
[null,{"$f":"C28/C19*(10/1)","v":28.312159709618875},"mg/L"]
[]
[]
[null,"アルミニウムの定量"]
[null,"1.0 mLの試料の酢酸エチル抽出液の385 nmでの吸光度（酢酸エチルを参照）"]
[null,"（700 nmの吸光度が0になるように補正）"]
[null,null,"A(385)"]
[null,"ブランク",1.3000000239249344E-2]
[null,"Al標準液",0.6160000232135906]
[null,"温泉水*",0.69599998927630413]
[]
[null,null,"*温泉水は10倍希釈して鉄を測った残液"]
[]
[null,"Al標準液濃度"]
[null,10,"mg/L"]
[]
[null,"元の温泉水中のAl 濃度"]
[null,{"$f":"(C40-C38)/(C39-C38)*B45*10","v":113.26699220807785},"mg/L"]

{"sheet":"吸光度データ","index":1,"n_rows":405,"n_cols":13,"rows_kept":405,"cut":false,"hidden":false,"merged":[]}
["吸光度"]
["700 nmで0になるように補正済"]
["Fe 定量","補正値",{"$f":"-元データ!D355","v":0},{"$f":"-元データ!E355","v":0.01},{"$f":"-元データ!F355","v":0.01},{"$f":"-元データ!G355","v":0},{"$f":"-元データ!H355","v":0},{"$f":"-元データ!I355","v":0},"Al定量","補正値",{"$f":"-元データ!L355","v":0},{"$f":"-元データ!M355","v":0},{"$f":"-元データ!N355","v":0}]
[null,"波長/nm","Fe00","Fe01","Fe02","Fe03","Fe04","試料",null,"波長/nm","blanc","std","試料"]
[null,350,{"$f":"元データ!D5+C$3","v":0.20500000000000002},{"$f":"元データ!E5+D$3","v":0.14000000000000001},{"$f":"元データ!F5+E$3","v":0.11},{"$f":"元データ!G5+F$3","v":0.06},{"$f":"元データ!H5+G$3","v":0.09},{"$f":"元データ!I5+H$3","v":0.09},null,350,{"$f":"元データ!L5+K$3","v":1.6479998943529524},{"$f":"元データ!M5+L$3","v":1.7480000761683467},{"$f":"元データ!N5+M$3","v":1.7419997709730135}]
[null,351,{"$f":"元データ!D6+C$3","v":0.2},{"$f":"元データ!E6+D$3","v":0.13800000000000001},{"$f":"元データ!F6+E$3","v":0.11},{"$f":"元データ!G6+F$3","v":0.06},{"$f":"元データ!H6+G$3","v":8.7999999999999995E-2},{"$f":"元データ!I6+H$3","v":8.7999999999999995E-2},null,351,{"$f":"元データ!L6+K$3","v":1.6420000958365286},{"$f":"元データ!M6+L$3","v":1.7479998876630984},{"$f":"元データ!N6+M$3","v":1.7599998546526585}]
[null,352,{"$f":"元データ!D7+C$3","v":0.192},{"$f":"元データ!E7+D$3","v":0.13},{"$f":"元データ!F7+E$3","v":0.108},{"$f":"元データ!G7+F$3","v":0.06},{"$f":"元データ!H7+G$3","v":0.08},{"$f":"元データ!I7+H$3","v":0.08},null,352,{"$f":"元データ!L7+K$3","v":1.6059999620082996},{"$f":"元データ!M7+L$3","v":1.7509996829213712},{"$f":"元データ!N7+M$3","v":1.7580000575550758}]
[null,353,{"$f":"元データ!D8+C$3","v":0.182},{"$f":"元データ!E8+D$3","v":0.12399999999999999},{"$f":"元データ!F8+E$3","v":9.9999999999999992E-2},{"$f":"元データ!G8+F$3","v":5.2000000000000005E-2},{"$f":"元データ!H8+G$3","v":0.08},{"$f":"元データ!I8+H$3","v":0.08},null,353,{"$f":"元データ!L8+K$3","v":1.551999828974705},{"$f":"元データ!M8+L$3","v":1.7100002331339896},{"$f":"元データ!N8+M$3","v":1.7090003087557686}]
[null,354,{"$f":"元データ!D9+C$3","v":0.17250000000000001},{"$f":"元データ!E9+D$3","v":0.12},{"$f":"元データ!F9+E$3","v":9.7500000000000003E-2},{"$f":"元データ!G9+F$3","v":0.05},{"$f":"元データ!H9+G$3","v":0.08},{"$f":"元データ!I9+H$3","v":7.0000000000000007E-2},null,354,{"$f":"元データ!L9+K$3","v":1.4330000801800349},{"$f":"元データ!M9+L$3","v":1.6190001774808991},{"$f":"元データ!N9+M$3","v":1.6249999931183439}]
[null,355,{"$f":"元データ!D10+C$3","v":0.16400000000000001},{"$f":"元データ!E10+D$3","v":0.11},{"$f":"元データ!F10+E$3","v":0.09},{"$f":"元データ!G10+F$3","v":0.05},{"$f":"元データ!H10+G$3","v":0.08},{"$f":"元データ!I10+H$3","v":7.0000000000000007E-2},null,355,{"$f":"元データ!L10+K$3","v":1.3020000229340898},{"$f":"元データ!M10+L$3","v":1.5380001946828807},{"$f":"元データ!N10+M$3","v":1.5700000846368731}]
[null,356,{"$f":"元データ!D11+C$3","v":0.154},{"$f":"元データ!E11+D$3","v":0.106},{"$f":"元データ!F11+E$3","v":8.5999999999999993E-2},{"$f":"元データ!G11+F$3","v":4.4000000000000004E-2},{"$f":"元データ!H11+G$3","v":0.08},{"$f":"元データ!I11+H$3","v":6.2E-2},null,356,{"$f":"元データ!L11+K$3","v":1.1519999285859035},{"$f":"元データ!M11+L$3","v":1.4390001186745451},{"$f":"元データ!N11+M$3","v":1.4840000063962817}]
[null,357,{"$f":"元データ!D12+C$3","v":0.14400000000000002},{"$f":"元データ!E12+D$3","v":9.9999999999999992E-2},{"$f":"元データ!F12+E$3","v":0.08},{"$f":"元データ!G12+F$3","v":0.04},{"$f":"元データ!H12+G$3","v":7.400000000000001E-2},{"$f":"元データ!I12+H$3","v":0.06},null,357,{"$f":"元データ!L12+K$3","v":1.0210000435766247},{"$f":"元データ!M12+L$3","v":1.3419999289129616},{"$f":"元データ!N12+M$3","v":1.3969999835160292}]
[null,358,{"$f":"元データ!D13+C$3","v":0.13250000000000001},{"$f":"元データ!E13+D$3","v":0.09},{"$f":"元データ!F13+E$3","v":7.4999999999999997E-2},{"$f":"元データ!G13+F$3","v":0.04},{"$f":"元データ!H13+G$3","v":7.0000000000000007E-2},{"$f":"元データ!I13+H$3","v":5.4999999999999993E-2},null,358,{"$f":"元データ!L13+K$3","v":0.86400002725892977},{"$f":"元データ!M13+L$3","v":1.2249999580885476},{"$f":"元データ!N13+M$3","v":1.2940000462824468}]
[null,359,{"$f":"元データ!D14+C$3","v":0.124},{"$f":"元データ!E14+D$3","v":8.5999999999999993E-2},{"$f":"元データ!F14+E$3","v":6.9999999999999993E-2},{"$f":"元データ!G14+F$3","v":0.04},{"$f":"元データ!H14+G$3","v":7.0000000000000007E-2},{"$f":"元データ!I14+H$3","v":0.05},null,359,{"$f":"元データ!L14+K$3","v":0.71799999667249492},{"$f":"元データ!M14+L$3","v":1.1110000296241802},{"$f":"元データ!N14+M$3","v":1.1799999793620592}]
[null,360,{"$f":"元データ!D15+C$3","v":0.11599999999999999},{"$f":"元データ!E15+D$3","v":0.08},{"$f":"元データ!F15+E$3","v":6.7999999999999991E-2},{"$f":"元データ!G15+F$3","v":3.2000000000000001E-2},{"$f":"元データ!H15+G$3","v":7.0000000000000007E-2},{"$f":"元データ!I15+H$3","v":0.05},null,360,{"$f":"元データ!L15+K$3","v":0.59100000061734537},{"$f":"元データ!M15+L$3","v":1.0029999481718392},{"$f":"元データ!N15+M$3","v":1.0719999986466819}]
[null,361,{"$f":"元データ!D16+C$3","v":0.10600000000000001},{"$f":"元データ!E16+D$3","v":7.3999999999999996E-2},{"$f":"元データ!F16+E$3","v":6.0000000000000005E-2},{"$f":"元データ!G16+F$3","v":0.03},{"$f":"元データ!H16+G$3","v":7.0000000000000007E-2},{"$f":"元データ!I16+H$3","v":4.4000000000000004E-2},null,361,{"$f":"元データ!L16+K$3","v":0.48400001576087842},{"$f":"元データ!M16+L$3","v":0.91200001372685691},{"$f":"元データ!N16+M$3","v":0.98699999292172946}]
[null,362,{"$f":"元データ!D17+C$3","v":0.1},{"$f":"元データ!E17+D$3","v":6.9999999999999993E-2},{"$f":"元データ!F17+E$3","v":6.0000000000000005E-2},{"$f":"元データ!G17+F$3","v":0.03},{"$f":"元データ!H17+G$3","v":7.0000000000000007E-2},{"$f":"元データ!I17+H$3","v":0.04},null,362,{"$f":"元データ!L17+K$3","v":0.40700001502089267},{"$f":"元データ!M17+L$3","v":0.85300000854516633},{"$f":"元データ!N17+M$3","v":0.93100002040046492}]
[null,363,{"$f":"元データ!D18+C$3","v":9.1999999999999998E-2},{"$f":"元データ!E18+D$3","v":6.9999999999999993E-2},{"$f":"元データ!F18+E$3","v":6.0000000000000005E-2},{"$f":"元データ!G18+F$3","v":0.03},{"$f":"元データ!H18+G$3","v":7.0000000000000007E-2},{"$f":"元データ!I18+H$3","v":0.04},null,363,{"$f":"元データ!L18+K$3","v":0.32700000983979732},{"$f":"元データ!M18+L$3","v":0.79200003360322047},{"$f":"元データ!N18+M$3","v":0.86699999981971509}]
[null,364,{"$f":"元データ!D19+C$3","v":8.7999999999999995E-2},{"$f":"元データ!E19+D$3","v":6.2000000000000006E-2},{"$f":"元データ!F19+E$3","v":5.4000000000000006E-2},{"$f":"元データ!G19+F$3","v":0.03},{"$f":"元データ!H19+G$3","v":7.0000000000000007E-2},{"$f":"元データ!I19+H$3","v":0.04},null,364,{"$f":"元データ!L19+K$3","v":0.26299999838573096},{"$f":"元データ!M19+L$3","v":0.7430000280973601},{"$f":"元データ!N19+M$3","v":0.81800002473583666}]
[null,365,{"$f":"元データ!D20+C$3","v":0.08},{"$f":"元データ!E20+D$3","v":6.0000000000000005E-2},{"$f":"元データ!F20+E$3","v":0.05},{"$f":"元データ!G20+F$3","v":0.03},{"$f":"元データ!H20+G$3","v":7.2000000000000008E-2},{"$f":"元データ!I20+H$3","v":0.04},null,365,{"$f":"元データ!L20+K$3","v":0.21100000812634351},{"$f":"元データ!M20+L$3","v":0.70400001747024799},{"$f":"元データ!N20+M$3","v":0.78199997694420675}]
[null,366,{"$f":"元データ!D21+C$3","v":7.8E-2},{"$f":"元データ!E21+D$3","v":6.0000000000000005E-2},{"$f":"元データ!F21+E$3","v":0.05},{"$f":"元データ!G21+F$3","v":0.03},{"$f":"元データ!H21+G$3","v":0.08},{"$f":"元データ!I21+H$3","v":0.04},null,366,{"$f":"元データ!L21+K$3","v":0.16900000728717296},{"$f":"元データ!M21+L$3","v":0.6739999948873614},{"$f":"元データ!N21+M$3","v":0.75199996583824869}]
[null,367,{"$f":"元データ!D22+C$3","v":7.0000000000000007E-2},{"$f":"元データ!E22+D$3","v":6.0000000000000005E-2},{"$f":"元データ!F22+E$3","v":0.05},{"$f":"元データ!G22+F$3","v":0.03},{"$f":"元データ!H22+G$3","v":0.08},{"$f":"元データ!I22+H$3","v":0.04},null,367,{"$f":"元データ!L22+K$3","v":0.13500000074622195},{"$f":"元データ!M22+L$3","v":0.65200000432920702},{"$f":"元データ!N22+M$3","v":0.7329999786255178}]
[null,368,{"$f":"元データ!D23+C$3","v":7.0000000000000007E-2},{"$f":"元データ!E23+D$3","v":6.0000000000000005E-2},{"$f":"元データ!F23+E$3","v":0.05},{"$f":"元データ!G23+F$3","v":0.03},{"$f":"元データ!H23+G$3","v":0.08},{"$f":"元データ!I23+H$3","v":0.04},null,368,{"$f":"元データ!L23+K$3","v":0.11400000473578427},{"$f":"元データ!M23+L$3","v":0.63800001666744899},{"$f":"元データ!N23+M$3","v":0.71999996699321711}]
[null,369,{"$f":"元データ!D24+C$3","v":7.0000000000000007E-2},{"$f":"元データ!E24+D$3","v":0.05},{"$f":"元データ!F24+E$3","v":0.05},{"$f":"元データ!G24+F$3","v":0.03},{"$f":"元データ!H24+G$3","v":0.08},{"$f":"元データ!I24+H$3","v":0.04},null,369,{"$f":"元データ!L24+K$3","v":9.2999995835934976E-2},{"$f":"元データ!M24+L$3","v":0.62700000965637692},{"$f":"元データ!N24+M$3","v":0.70799996522926179}]
[null,370,{"$f":"元データ!D25+C$3","v":6.2E-2},{"$f":"元データ!E25+D$3","v":0.05},{"$f":"元データ!F25+E$3","v":0.05},{"$f":"元データ!G25+F$3","v":0.04},{"$f":"元データ!H25+G$3","v":8.7999999999999995E-2},{"$f":"元データ!I25+H$3","v":0.04},null,370,{"$f":"元データ!L25+K$3","v":7.5000009493405684E-2},{"$f":"元データ!M25+L$3","v":0.61599997678194696},{"$f":"元データ!N25+M$3","v":0.70000001388373656}]
[null,371,{"$f":"元データ!D26+C$3","v":0.06},{"$f":"元データ!E26+D$3","v":0.05},{"$f":"元データ!F26+E$3","v":0.05},{"$f":"元データ!G26+F$3","v":0.04},{"$f":"元データ!H26+G$3","v":0.09},{"$f":"元データ!I26+H$3","v":0.04},null,371,{"$f":"元データ!L26+K$3","v":6.0999997302637728E-2},{"$f":"元データ!M26+L$3","v":0.60900002105750384},{"$f":"元データ!N26+M$3","v":0.69399999457191475}]
[null,372,{"$f":"元データ!D27+C$3","v":0.06},{"$f":"元データ!E27+D$3","v":0.05},{"$f":"元データ!F27+E$3","v":0.05},{"$f":"元データ!G27+F$3","v":0.04},{"$f":"元データ!H27+G$3","v":0.09},{"$f":"元データ!I27+H$3","v":4.5999999999999999E-2},null,372,{"$f":"元データ!L27+K$3","v":4.9999997444249156E-2},{"$f":"元データ!M27+L$3","v":0.60600000047798663},{"$f":"元データ!N27+M$3","v":0.68999997131029456}]
[null,373,{"$f":"元データ!D28+C$3","v":0.06},{"$f":"元データ!E28+D$3","v":0.05},{"$f":"元データ!F28+E$3","v":6.0000000000000005E-2},{"$f":"元データ!G28+F$3","v":0.04},{"$f":"元データ!H28+G$3","v":9.6000000000000002E-2},{"$f":"元データ!I28+H$3","v":0.05},null,373,{"$f":"元データ!L28+K$3","v":4.3999997686586183E-2},{"$f":"元データ!M28+L$3","v":0.60700002515738771},{"$f":"元データ!N28+M$3","v":0.69099997476226083}]
[null,374,{"$f":"元データ!D29+C$3","v":0.06},{"$f":"元データ!E29+D$3","v":0.05},{"$f":"元データ!F29+E$3","v":6.0000000000000005E-2},{"$f":"元データ!G29+F$3","v":0.05},{"$f":"元データ!H29+G$3","v":0.1},{"$f":"元データ!I29+H$3","v":0.05},null,374,{"$f":"元データ!L29+K$3","v":3.7999998274621465E-2},{"$f":"元データ!M29+L$3","v":0.60800000096440487},{"$f":"元データ!N29+M$3","v":0.69400000403914441}]
[null,375,{"$f":"元データ!D30+C$3","v":0.06},{"$f":"元データ!E30+D$3","v":0.05},{"$f":"元データ!F30+E$3","v":6.0000000000000005E-2},{"$f":"元データ!G30+F$3","v":0.05},{"$f":"元データ!H30+G$3","v":0.10400000000000001},{"$f":"元データ!I30+H$3","v":0.05},null,375,{"$f":"元データ!L30+K$3","v":3.3000000171754078E-2},{"$f":"元データ!M30+L$3","v":0.60999999572233499},{"$f":"元データ!N30+M$3","v":0.69500000132393602}]
[null,376,{"$f":"元データ!D31+C$3","v":0.06},{"$f":"元データ!E31+D$3","v":5.7500000000000002E-2},{"$f":"元データ!F31+E$3","v":6.0000000000000005E-2},{"$f":"元データ!G31+F$3","v":0.05},{"$f":"元データ!H31+G$3","v":0.11},{"$f":"元データ!I31+H$3","v":5.5E-2},null,376,{"$f":"元データ!L31+K$3","v":2.8000006817082645E-2},{"$f":"元データ!M31+L$3","v":0.6099999916776726},{"$f":"元データ!N31+M$3","v":0.69500000797533379}]
[null,377,{"$f":"元データ!D32+C$3","v":0.06},{"$f":"元データ!E32+D$3","v":6.0000000000000005E-2},{"$f":"元データ!F32+E$3","v":6.4000000000000001E-2},{"$f":"元データ!G32+F$3","v":5.7999999999999996E-2},{"$f":"元データ!H32+G$3","v":0.11000000000000001},{"$f":"元データ!I32+H$3","v":0.06},null,377,{"$f":"元データ!L32+K$3","v":2.6000004520565334E-2},{"$f":"元データ!M32+L$3","v":0.61200000300834412},{"$f":"元データ!N32+M$3","v":0.69699997296529492}]
[null,378,{"$f":"元データ!D33+C$3","v":5.4000000000000006E-2},{"$f":"元データ!E33+D$3","v":6.0000000000000005E-2},{"$f":"元データ!F33+E$3","v":6.9999999999999993E-2},{"$f":"元データ!G33+F$3","v":0.06},{"$f":"元データ!H33+G$3","v":0.12},{"$f":"元データ!I33+H$3","v":0.06},null,378,{"$f":"元データ!L33+K$3","v":2.2999999861232689E-2},{"$f":"元データ!M33+L$3","v":0.61399997991581345},{"$f":"元データ!N33+M$3","v":0.69700001037112147}]
[null,379,{"$f":"元データ!D34+C$3","v":0.05},{"$f":"元データ!E34+D$3","v":6.0000000000000005E-2},{"$f":"元データ!F34+E$3","v":6.9999999999999993E-2},{"$f":"元データ!G34+F$3","v":6.2E-2},{"$f":"元データ!H34+G$3","v":0.12},{"$f":"元データ!I34+H$3","v":7.0000000000000007E-2},null,379,{"$f":"元データ!L34+K$3","v":2.100000506981331E-2},{"$f":"元データ!M34+L$3","v":0.61600002181036684},{"$f":"元データ!N34+M$3","v":0.69799999908256904}]
[null,380,{"$f":"元データ!D35+C$3","v":0.05},{"$f":"元データ!E35+D$3","v":6.0000000000000005E-2},{"$f":"元データ!F35+E$3","v":6.9999999999999993E-2},{"$f":"元データ!G35+F$3","v":7.0000000000000007E-2},{"$f":"元データ!H35+G$3","v":0.13},{"$f":"元データ!I35+H$3","v":7.0000000000000007E-2},null,380,{"$f":"元データ!L35+K$3","v":1.9000009627572912E-2},{"$f":"元データ!M35+L$3","v":0.61499999904640901},{"$f":"元データ!N35+M$3","v":0.69899999769109855}]
[null,381,{"$f":"元データ!D36+C$3","v":0.05},{"$f":"元データ!E36+D$3","v":6.0000000000000005E-2},{"$f":"元データ!F36+E$3","v":7.4999999999999997E-2},{"$f":"元データ!G36+F$3","v":7.0000000000000007E-2},{"$f":"元データ!H36+G$3","v":0.13250000000000001},{"$f":"元データ!I36+H$3","v":7.2500000000000009E-2},null,381,{"$f":"元データ!L36+K$3","v":1.8000007942224661E-2},{"$f":"元データ!M36+L$3","v":0.61499998129748767},{"$f":"元データ!N36+M$3","v":0.70100001819035596}]
[null,382,{"$f":"元データ!D37+C$3","v":0.05},{"$f":"元データ!E37+D$3","v":6.0000000000000005E-2},{"$f":"元データ!F37+E$3","v":0.08},{"$f":"元データ!G37+F$3","v":7.8000000000000014E-2},{"$f":"元データ!H37+G$3","v":0.14000000000000001},{"$f":"元データ!I37+H$3","v":0.08},null,382,{"$f":"元データ!L37+K$3","v":1.5999996490136611E-2},{"$f":"元データ!M37+L$3","v":0.61300003058314723},{"$f":"元データ!N37+M$3","v":0.69899997068888076}]
[null,383,{"$f":"元データ!D38+C$3","v":0.05},{"$f":"元データ!E38+D$3","v":6.0000000000000005E-2},{"$f":"元データ!F38+E$3","v":0.08},{"$f":"元データ!G38+F$3","v":0.08},{"$f":"元データ!H38+G$3","v":0.14400000000000002},{"$f":"元データ!I38+H$3","v":8.2000000000000003E-2},null,383,{"$f":"元データ!L38+K$3","v":1.5000002681109147E-2},{"$f":"元データ!M38+L$3","v":0.61200001155173966},{"$f":"元データ!N38+M$3","v":0.69600002923092275}]
[null,384,{"$f":"元データ!D39+C$3","v":0.05},{"$f":"元データ!E39+D$3","v":6.7999999999999991E-2},{"$f":"元データ!F39+E$3","v":8.4000000000000005E-2},{"$f":"元データ!G39+F$3","v":8.7999999999999995E-2},{"$f":"元データ!H39+G$3","v":0.15},{"$f":"元データ!I39+H$3","v":0.09},null,384,{"$f":"元データ!L39+K$3","v":1.4000004047329911E-2},{"$f":"元データ!M39+L$3","v":0.61500002927824526},{"$f":"元データ!N39+M$3","v":0.69499996344568404}]
[null,385,{"$f":"元データ!D40+C$3","v":0.05},{"$f":"元データ!E40+D$3","v":6.9999999999999993E-2},{"$f":"元データ!F40+E$3","v":0.09},{"$f":"元データ!G40+F$3","v":0.09},{"$f":"元データ!H40+G$3","v":0.158},{"$f":"元データ!I40+H$3","v":0.09},null,385,{"$f":"元データ!L40+K$3","v":1.3000000239249344E-2},{"$f":"元データ!M40+L$3","v":0.6160000232135906},{"$f":"元データ!N40+M$3","v":0.69599998927630413}]
[null,386,{"$f":"元データ!D41+C$3","v":0.05},{"$f":"元データ!E41+D$3","v":6.9999999999999993E-2},{"$f":"元データ!F41+E$3","v":0.09},{"$f":"元データ!G41+F$3","v":0.1},{"$f":"元データ!H41+G$3","v":0.16250000000000001},{"$f":"元データ!I41+H$3","v":0.1},null,386,{"$f":"元データ!L41+K$3","v":1.5000004780900657E-2},{"$f":"元データ!M41+L$3","v":0.61599997906281789},{"$f":"元データ!N41+M$3","v":0.6970000009593329}]
[null,387,{"$f":"元データ!D42+C$3","v":0.05},{"$f":"元データ!E42+D$3","v":6.9999999999999993E-2},{"$f":"元データ!F42+E$3","v":9.799999999999999E-2},{"$f":"元データ!G42+F$3","v":0.1},{"$f":"元データ!H42+G$3","v":0.17},{"$f":"元データ!I42+H$3","v":0.1},null,387,{"$f":"元データ!L42+K$3","v":1.5000007532601826E-2},{"$f":"元データ!M42+L$3","v":0.61399997530045725},{"$f":"元データ!N42+M$3","v":0.69400003373295627}]
[null,388,{"$f":"元データ!D43+C$3","v":0.05},{"$f":"元データ!E43+D$3","v":6.9999999999999993E-2},{"$f":"元データ!F43+E$3","v":9.9999999999999992E-2},{"$f":"元データ!G43+F$3","v":0.10800000000000001},{"$f":"元データ!H43+G$3","v":0.17799999999999999},{"$f":"元データ!I43+H$3","v":0.10600000000000001},null,388,{"$f":"元データ!L43+K$3","v":1.4999997434720129E-2},{"$f":"元データ!M43+L$3","v":0.61100002726710567},{"$f":"元データ!N43+M$3","v":0.69299997024032478}]
[null,389,{"$f":"元データ!D44+C$3","v":0.05},{"$f":"元データ!E44+D$3","v":6.9999999999999993E-2},{"$f":"元データ!F44+E$3","v":0.10199999999999999},{"$f":"元データ!G44+F$3","v":0.11000000000000001},{"$f":"元データ!H44+G$3","v":0.182},{"$f":"元データ!I44+H$3","v":0.11000000000000001},null,389,{"$f":"元データ!L44+K$3","v":1.4000005525080843E-2},{"$f":"元データ!M44+L$3","v":0.6099999884319417},{"$f":"元データ!N44+M$3","v":0.6919999673796583}]
[null,390,{"$f":"元データ!D45+C$3","v":0.05},{"$f":"元データ!E45+D$3","v":7.5999999999999998E-2},{"$f":"元データ!F45+E$3","v":0.11},{"$f":"元データ!G45+F$3","v":0.12},{"$f":"元データ!H45+G$3","v":0.19},{"$f":"元データ!I45+H$3","v":0.12},null,390,{"$f":"元データ!L45+K$3","v":1.2000001518373406E-2},{"$f":"元データ!M45+L$3","v":0.60700000675439858},{"$f":"元データ!N45+M$3","v":0.68600002074444677}]
[null,391,{"$f":"元データ!D46+C$3","v":0.05},{"$f":"元データ!E46+D$3","v":0.08},{"$f":"元データ!F46+E$3","v":0.11},{"$f":"元データ!G46+F$3","v":0.1225},{"$f":"元データ!H46+G$3","v":0.2},{"$f":"元データ!I46+H$3","v":0.1225},null,391,{"$f":"元データ!L46+K$3","v":1.2999997571006248E-2},{"$f":"元データ!M46+L$3","v":0.60199997686366957},{"$f":"元データ!N46+M$3","v":0.68200000145838646}]
[null,392,{"$f":"元データ!D47+C$3","v":0.05},{"$f":"元データ!E47+D$3","v":0.08},{"$f":"元データ!F47+E$3","v":0.11800000000000001},{"$f":"元データ!G47+F$3","v":0.13},{"$f":"元データ!H47+G$3","v":0.20600000000000002},{"$f":"元データ!I47+H$3","v":0.13},null,392,{"$f":"元データ!L47+K$3","v":1.3000002506320933E-2},{"$f":"元データ!M47+L$3","v":0.59799998870296334},{"$f":"元データ!N47+M$3","v":0.67600003164859557}]
[null,393,{"$f":"元データ!D48+C$3","v":0.05},{"$f":"元データ!E48+D$3","v":0.08},{"$f":"元データ!F48+E$3","v":0.12000000000000001},{"$f":"元データ!G48+F$3","v":0.13400000000000001},{"$f":"元データ!H48+G$3","v":0.21200000000000002},{"$f":"元データ!I48+H$3","v":0.13200000000000001},null,393,{"$f":"元データ!L48+K$3","v":1.3000002971181569E-2},{"$f":"元データ!M48+L$3","v":0.59200002559586273},{"$f":"元データ!N48+M$3","v":0.66999996714192123}]
[null,394,{"$f":"元データ!D49+C$3","v":0.05},{"$f":"元データ!E49+D$3","v":0.08},{"$f":"元データ!F49+E$3","v":0.12200000000000001},{"$f":"元データ!G49+F$3","v":0.14000000000000001},{"$f":"元データ!H49+G$3","v":0.22000000000000003},{"$f":"元データ!I49+H$3","v":0.14000000000000001},null,394,{"$f":"元データ!L49+K$3","v":1.3999997897775247E-2},{"$f":"元データ!M49+L$3","v":0.58399998774596595},{"$f":"元データ!N49+M$3","v":0.66399998406344451}]
[null,395,{"$f":"元データ!D50+C$3","v":0.05},{"$f":"元データ!E50+D$3","v":8.4000000000000005E-2},{"$f":"元データ!F50+E$3","v":0.13},{"$f":"元データ!G50+F$3","v":0.14800000000000002},{"$f":"元データ!H50+G$3","v":0.23000000000000004},{"$f":"元データ!I50+H$3","v":0.14400000000000002},null,395,{"$f":"元データ!L50+K$3","v":1.4000006097716681E-2},{"$f":"元データ!M50+L$3","v":0.57899997561204231},{"$f":"元データ!N50+M$3","v":0.65499996608323163}]
[null,396,{"$f":"元データ!D51+C$3","v":0.05},{"$f":"元データ!E51+D$3","v":0.09},{"$f":"元データ!F51+E$3","v":0.13},{"$f":"元データ!G51+F$3","v":0.155},{"$f":"元データ!H51+G$3","v":0.23749999999999999},{"$f":"元データ!I51+H$3","v":0.15},null,396,{"$f":"元データ!L51+K$3","v":1.4000005620748893E-2},{"$f":"元データ!M51+L$3","v":0.57300000271564222},{"$f":"元データ!N51+M$3","v":0.64600003217029811}]
[null,397,{"$f":"元データ!D52+C$3","v":0.05},{"$f":"元データ!E52+D$3","v":0.09},{"$f":"元データ!F52+E$3","v":0.14000000000000001},{"$f":"元データ!G52+F$3","v":0.16},{"$f":"元データ!H52+G$3","v":0.24399999999999999},{"$f":"元データ!I52+H$3","v":0.158},null,397,{"$f":"元データ!L52+K$3","v":1.4000009812633812E-2},{"$f":"元データ!M52+L$3","v":0.56499998025256315},{"$f":"元データ!N52+M$3","v":0.63599996678341153}]
[null,398,{"$f":"元データ!D53+C$3","v":0.05},{"$f":"元データ!E53+D$3","v":0.09},{"$f":"元データ!F53+E$3","v":0.14000000000000001},{"$f":"元データ!G53+F$3","v":0.16600000000000001},{"$f":"元データ!H53+G$3","v":0.25},{"$f":"元データ!I53+H$3","v":0.16},null,398,{"$f":"元データ!L53+K$3","v":1.4000010151870204E-2},{"$f":"元データ!M53+L$3","v":0.55600000281210316},{"$f":"元データ!N53+M$3","v":0.62600000697596747}]
[null,399,{"$f":"元データ!D54+C$3","v":0.05},{"$f":"元データ!E54+D$3","v":0.09},{"$f":"元データ!F54+E$3","v":0.14400000000000002},{"$f":"元データ!G54+F$3","v":0.17},{"$f":"元データ!H54+G$3","v":0.26},{"$f":"元データ!I54+H$3","v":0.17},null,399,{"$f":"元データ!L54+K$3","v":1.4000004582659407E-2},{"$f":"元データ!M54+L$3","v":0.5450000137751313},{"$f":"元データ!N54+M$3","v":0.61700002831344558}]
[null,400,{"$f":"元データ!D55+C$3","v":0.05},{"$f":"元データ!E55+D$3","v":9.5999999999999988E-2},{"$f":"元データ!F55+E$3","v":0.15000000000000002},{"$f":"元データ!G55+F$3","v":0.18},{"$f":"元データ!H55+G$3","v":0.26800000000000002},{"$f":"元データ!I55+H$3","v":0.17599999999999999},null,400,{"$f":"元データ!L55+K$3","v":1.2999999332643231E-2},{"$f":"元データ!M55+L$3","v":0.53300002180252182},{"$f":"元データ!N55+M$3","v":0.60600000488637873}]
[null,401,{"$f":"元データ!D56+C$3","v":0.05},{"$f":"元データ!E56+D$3","v":9.9999999999999992E-2},{"$f":"元データ!F56+E$3","v":0.15600000000000003},{"$f":"元データ!G56+F$3","v":0.186},{"$f":"元データ!H56+G$3","v":0.27800000000000002},{"$f":"元データ!I56+H$3","v":0.18},null,401,{"$f":"元データ!L56+K$3","v":1.3999996319781802E-2},{"$f":"元データ!M56+L$3","v":0.52200000232016763},{"$f":"元データ!N56+M$3","v":0.59099997284717254}]
[null,402,{"$f":"元データ!D57+C$3","v":0.05},{"$f":"元データ!E57+D$3","v":9.9999999999999992E-2},{"$f":"元データ!F57+E$3","v":0.16},{"$f":"元データ!G57+F$3","v":0.19},{"$f":"元データ!H57+G$3","v":0.28500000000000003},{"$f":"元データ!I57+H$3","v":0.1875},null,402,{"$f":"元データ!L57+K$3","v":1.3000000129213676E-2},{"$f":"元データ!M57+L$3","v":0.51200002396750122},{"$f":"元データ!N57+M$3","v":0.5800000071833139}]
[null,403,{"$f":"元データ!D58+C$3","v":0.05},{"$f":"元データ!E58+D$3","v":9.9999999999999992E-2},{"$f":"元データ!F58+E$3","v":0.16},{"$f":"元データ!G58+F$3","v":0.19800000000000001},{"$f":"元データ!H58+G$3","v":0.29199999999999998},{"$f":"元データ!I58+H$3","v":0.19},null,403,{"$f":"元データ!L58+K$3","v":1.1999999295529133E-2},{"$f":"元データ!M58+L$3","v":0.50200001105102909},{"$f":"元データ!N58+M$3","v":0.56800002738371524}]
[null,404,{"$f":"元データ!D59+C$3","v":0.05},{"$f":"元データ!E59+D$3","v":0.10199999999999999},{"$f":"元データ!F59+E$3","v":0.17},{"$f":"元データ!G59+F$3","v":0.20400000000000001},{"$f":"元データ!H59+G$3","v":0.30199999999999999},{"$f":"元データ!I59+H$3","v":0.2},null,404,{"$f":"元データ!L59+K$3","v":1.2999999566018314E-2},{"$f":"元データ!M59+L$3","v":0.49300000249833925},{"$f":"元データ!N59+M$3","v":0.55799998355965374}]
[null,405,{"$f":"元データ!D60+C$3","v":0.05},{"$f":"元データ!E60+D$3","v":0.11},{"$f":"元データ!F60+E$3","v":0.17},{"$f":"元データ!G60+F$3","v":0.21000000000000002},{"$f":"元データ!H60+G$3","v":0.31},{"$f":"元データ!I60+H$3","v":0.20400000000000001},null,405,{"$f":"元データ!L60+K$3","v":1.2999998999780032E-2},{"$f":"元データ!M60+L$3","v":0.47799998261137794},{"$f":"元データ!N60+M$3","v":0.5439999979714325}]
[null,406,{"$f":"元データ!D61+C$3","v":0.05},{"$f":"元データ!E61+D$3","v":0.11},{"$f":"元データ!F61+E$3","v":0.18000000000000002},{"$f":"元データ!G61+F$3","v":0.21800000000000003},{"$f":"元データ!H61+G$3","v":0.318},{"$f":"元データ!I61+H$3","v":0.21000000000000002},null,406,{"$f":"元データ!L61+K$3","v":1.1999999588867428E-2},{"$f":"元データ!M61+L$3","v":0.46499998176085955},{"$f":"元データ!N61+M$3","v":0.52699999619632876}]
[null,407,{"$f":"元データ!D62+C$3","v":0.05},{"$f":"元データ!E62+D$3","v":0.11},{"$f":"元データ!F62+E$3","v":0.18000000000000002},{"$f":"元データ!G62+F$3","v":0.2225},{"$f":"元データ!H62+G$3","v":0.32750000000000001},{"$f":"元データ!I62+H$3","v":0.22},null,407,{"$f":"元データ!L62+K$3","v":1.2999999818199572E-2},{"$f":"元データ!M62+L$3","v":0.45100001685967894},{"$f":"元データ!N62+M$3","v":0.51200001226335423}]
[null,408,{"$f":"元データ!D63+C$3","v":0.05},{"$f":"元データ!E63+D$3","v":0.11},{"$f":"元データ!F63+E$3","v":0.188},{"$f":"元データ!G63+F$3","v":0.23000000000000004},{"$f":"元データ!H63+G$3","v":0.33200000000000002},{"$f":"元データ!I63+H$3","v":0.22200000000000003},null,408,{"$f":"元データ!L63+K$3","v":1.3000010071048066E-2},{"$f":"元データ!M63+L$3","v":0.4390000106818715},{"$f":"元データ!N63+M$3","v":0.4979999880506305}]
[null,409,{"$f":"元データ!D64+C$3","v":0.05},{"$f":"元データ!E64+D$3","v":0.11800000000000001},{"$f":"元データ!F64+E$3","v":0.19},{"$f":"元データ!G64+F$3","v":0.23399999999999999},{"$f":"元データ!H64+G$3","v":0.34},{"$f":"元データ!I64+H$3","v":0.23000000000000004},null,409,{"$f":"元データ!L64+K$3","v":1.3999996117519072E-2},{"$f":"元データ!M64+L$3","v":0.42899999046602305},{"$f":"元データ!N64+M$3","v":0.48699999073947431}]
[null,410,{"$f":"元データ!D65+C$3","v":0.05},{"$f":"元データ!E65+D$3","v":0.12000000000000001},{"$f":"元データ!F65+E$3","v":0.19600000000000001},{"$f":"元データ!G65+F$3","v":0.24},{"$f":"元データ!H65+G$3","v":0.34800000000000003},{"$f":"元データ!I65+H$3","v":0.23200000000000004},null,410,{"$f":"元データ!L65+K$3","v":1.4000007856187196E-2},{"$f":"元データ!M65+L$3","v":0.41599999568569407},{"$f":"元データ!N65+M$3","v":0.47300002245053774}]
[null,411,{"$f":"元データ!D66+C$3","v":0.05},{"$f":"元データ!E66+D$3","v":0.12000000000000001},{"$f":"元データ!F66+E$3","v":0.2},{"$f":"元データ!G66+F$3","v":0.248},{"$f":"元データ!H66+G$3","v":0.35599999999999998},{"$f":"元データ!I66+H$3","v":0.24},null,411,{"$f":"元データ!L66+K$3","v":1.4000002187177479E-2},{"$f":"元データ!M66+L$3","v":0.40099999841532941},{"$f":"元データ!N66+M$3","v":0.45699998090715732}]
[null,412,{"$f":"元データ!D67+C$3","v":0.05},{"$f":"元データ!E67+D$3","v":0.12000000000000001},{"$f":"元データ!F67+E$3","v":0.2},{"$f":"元データ!G67+F$3","v":0.25},{"$f":"元データ!H67+G$3","v":0.36199999999999999},{"$f":"元データ!I67+H$3","v":0.248},null,412,{"$f":"元データ!L67+K$3","v":1.3000002305686011E-2},{"$f":"元データ!M67+L$3","v":0.38500001317029325},{"$f":"元データ!N67+M$3","v":0.44099997524954648}]
[null,413,{"$f":"元データ!D68+C$3","v":0.05},{"$f":"元データ!E68+D$3","v":0.12},{"$f":"元データ!F68+E$3","v":0.21000000000000002},{"$f":"元データ!G68+F$3","v":0.26},{"$f":"元データ!H68+G$3","v":0.37},{"$f":"元データ!I68+H$3","v":0.25},null,413,{"$f":"元データ!L68+K$3","v":1.3000008118321287E-2},{"$f":"元データ!M68+L$3","v":0.37000002334086324},{"$f":"元データ!N68+M$3","v":0.42399999774587743}]
[null,414,{"$f":"元データ!D69+C$3","v":0.05},{"$f":"元データ!E69+D$3","v":0.12200000000000001},{"$f":"元データ!F69+E$3","v":0.21000000000000002},{"$f":"元データ!G69+F$3","v":0.26},{"$f":"元データ!H69+G$3","v":0.37799999999999995},{"$f":"元データ!I69+H$3","v":0.25600000000000001},null,414,{"$f":"元データ!L69+K$3","v":1.3999995892915677E-2},{"$f":"元データ!M69+L$3","v":0.35599999833969981},{"$f":"元データ!N69+M$3","v":0.40699999519819968}]
[null,415,{"$f":"元データ!D70+C$3","v":0.05},{"$f":"元データ!E70+D$3","v":0.13},{"$f":"元データ!F70+E$3","v":0.21200000000000002},{"$f":"元データ!G70+F$3","v":0.27},{"$f":"元データ!H70+G$3","v":0.38200000000000001},{"$f":"元データ!I70+H$3","v":0.26},null,415,{"$f":"元データ!L70+K$3","v":1.200000448167424E-2},{"$f":"元データ!M70+L$3","v":0.34000001226238902},{"$f":"元データ!N70+M$3","v":0.39000000518222266}]
[null,416,{"$f":"元データ!D71+C$3","v":0.05},{"$f":"元データ!E71+D$3","v":0.13},{"$f":"元データ!F71+E$3","v":0.22000000000000003},{"$f":"元データ!G71+F$3","v":0.27200000000000002},{"$f":"元データ!H71+G$3","v":0.39},{"$f":"元データ!I71+H$3","v":0.26600000000000001},null,416,{"$f":"元データ!L71+K$3","v":1.2000006455657374E-2},{"$f":"元データ!M71+L$3","v":0.32799999410586028},{"$f":"元データ!N71+M$3","v":0.37800000138939865}]
[null,417,{"$f":"元データ!D72+C$3","v":0.05},{"$f":"元データ!E72+D$3","v":0.13},{"$f":"元データ!F72+E$3","v":0.22000000000000003},{"$f":"元データ!G72+F$3","v":0.28000000000000003},{"$f":"元データ!H72+G$3","v":0.39799999999999996},{"$f":"元データ!I72+H$3","v":0.27},null,417,{"$f":"元データ!L72+K$3","v":1.1999994975504597E-2},{"$f":"元データ!M72+L$3","v":0.31499998651317024},{"$f":"元データ!N72+M$3","v":0.36300000912190339}]
[null,418,{"$f":"元データ!D73+C$3","v":0.05},{"$f":"元データ!E73+D$3","v":0.13},{"$f":"元データ!F73+E$3","v":0.22800000000000004},{"$f":"元データ!G73+F$3","v":0.28400000000000003},{"$f":"元データ!H73+G$3","v":0.40200000000000002},{"$f":"元データ!I73+H$3","v":0.27800000000000002},null,418,{"$f":"元データ!L73+K$3","v":1.400000588559884E-2},{"$f":"元データ!M73+L$3","v":0.30100000210845318},{"$f":"元データ!N73+M$3","v":0.34599999876579351}]
[null,419,{"$f":"元データ!D74+C$3","v":0.04},{"$f":"元データ!E74+D$3","v":0.13},{"$f":"元データ!F74+E$3","v":0.23000000000000004},{"$f":"元データ!G74+F$3","v":0.28999999999999998},{"$f":"元データ!H74+G$3","v":0.41},{"$f":"元データ!I74+H$3","v":0.28000000000000003},null,419,{"$f":"元データ!L74+K$3","v":1.3000005175292616E-2},{"$f":"元データ!M74+L$3","v":0.28799998698069318},{"$f":"元データ!N74+M$3","v":0.32900000334453233}]
[null,420,{"$f":"元データ!D75+C$3","v":0.04},{"$f":"元データ!E75+D$3","v":0.13250000000000001},{"$f":"元データ!F75+E$3","v":0.23},{"$f":"元データ!G75+F$3","v":0.28999999999999998},{"$f":"元データ!H75+G$3","v":0.41749999999999998},{"$f":"元データ!I75+H$3","v":0.28500000000000003},null,420,{"$f":"元データ!L75+K$3","v":1.3000002156716695E-2},{"$f":"元データ!M75+L$3","v":0.2739999914064073},{"$f":"元データ!N75+M$3","v":0.31500000764743818}]
[null,421,{"$f":"元データ!D76+C$3","v":4.8000000000000001E-2},{"$f":"元データ!E76+D$3","v":0.14000000000000001},{"$f":"元データ!F76+E$3","v":0.23400000000000004},{"$f":"元データ!G76+F$3","v":0.3},{"$f":"元データ!H76+G$3","v":0.42000000000000004},{"$f":"元データ!I76+H$3","v":0.28999999999999998},null,421,{"$f":"元データ!L76+K$3","v":1.300001023878387E-2},{"$f":"元データ!M76+L$3","v":0.25899999972571358},{"$f":"元データ!N76+M$3","v":0.2989999807819696}]
[null,422,{"$f":"元データ!D77+C$3","v":4.2000000000000003E-2},{"$f":"元データ!E77+D$3","v":0.14000000000000001},{"$f":"元データ!F77+E$3","v":0.24000000000000005},{"$f":"元データ!G77+F$3","v":0.3},{"$f":"元データ!H77+G$3","v":0.42599999999999999},{"$f":"元データ!I77+H$3","v":0.28999999999999998},null,422,{"$f":"元データ!L77+K$3","v":1.2999996821705818E-2},{"$f":"元データ!M77+L$3","v":0.24499999247024887},{"$f":"元データ!N77+M$3","v":0.28399998992688308}]
[null,423,{"$f":"元データ!D78+C$3","v":0.04},{"$f":"元データ!E78+D$3","v":0.14000000000000001},{"$f":"元データ!F78+E$3","v":0.24000000000000005},{"$f":"元データ!G78+F$3","v":0.31},{"$f":"元データ!H78+G$3","v":0.43200000000000005},{"$f":"元データ!I78+H$3","v":0.3},null,423,{"$f":"元データ!L78+K$3","v":1.5000009681395022E-2},{"$f":"元データ!M78+L$3","v":0.2319999930301733},{"$f":"元データ!N78+M$3","v":0.27000001167600057}]
[null,424,{"$f":"元データ!D79+C$3","v":4.3999999999999997E-2},{"$f":"元データ!E79+D$3","v":0.14000000000000001},{"$f":"元データ!F79+E$3","v":0.248},{"$f":"元データ!G79+F$3","v":0.312},{"$f":"元データ!H79+G$3","v":0.44000000000000006},{"$f":"元データ!I79+H$3","v":0.3},null,424,{"$f":"元データ!L79+K$3","v":1.4000007889832172E-2},{"$f":"元データ!M79+L$3","v":0.22100000459013264},{"$f":"元データ!N79+M$3","v":0.2590000038690709}]
[null,425,{"$f":"元データ!D80+C$3","v":0.04},{"$f":"元データ!E80+D$3","v":0.14000000000000001},{"$f":"元データ!F80+E$3","v":0.25},{"$f":"元データ!G80+F$3","v":0.32},{"$f":"元データ!H80+G$3","v":0.44400000000000006},{"$f":"元データ!I80+H$3","v":0.31},null,425,{"$f":"元データ!L80+K$3","v":1.4000010329831832E-2},{"$f":"元データ!M80+L$3","v":0.20799998985236084},{"$f":"元データ!N80+M$3","v":0.24400000280033304}]
[null,426,{"$f":"元データ!D81+C$3","v":0.04},{"$f":"元データ!E81+D$3","v":0.14500000000000002},{"$f":"元データ!F81+E$3","v":0.25},{"$f":"元データ!G81+F$3","v":0.32},{"$f":"元データ!H81+G$3","v":0.45},{"$f":"元データ!I81+H$3","v":0.31},null,426,{"$f":"元データ!L81+K$3","v":1.399999532545184E-2},{"$f":"元データ!M81+L$3","v":0.1940000128573445},{"$f":"元データ!N81+M$3","v":0.22999999407209448}]
[null,427,{"$f":"元データ!D82+C$3","v":0.04},{"$f":"元データ!E82+D$3","v":0.15000000000000002},{"$f":"元データ!F82+E$3","v":0.25600000000000001},{"$f":"元データ!G82+F$3","v":0.32600000000000001},{"$f":"元データ!H82+G$3","v":0.45600000000000007},{"$f":"元データ!I82+H$3","v":0.316},null,427,{"$f":"元データ!L82+K$3","v":1.400000341538285E-2},{"$f":"元データ!M82+L$3","v":0.18199999094095928},{"$f":"元データ!N82+M$3","v":0.21599998116107061}]
[null,428,{"$f":"元データ!D83+C$3","v":0.04},{"$f":"元データ!E83+D$3","v":0.15000000000000002},{"$f":"元データ!F83+E$3","v":0.26},{"$f":"元データ!G83+F$3","v":0.33},{"$f":"元データ!H83+G$3","v":0.46000000000000008},{"$f":"元データ!I83+H$3","v":0.32},null,428,{"$f":"元データ!L83+K$3","v":1.3000001427446235E-2},{"$f":"元データ!M83+L$3","v":0.16999999466529842},{"$f":"元データ!N83+M$3","v":0.1999999881285702}]
[null,429,{"$f":"元データ!D84+C$3","v":0.04},{"$f":"元データ!E84+D$3","v":0.15000000000000002},{"$f":"元データ!F84+E$3","v":0.26},{"$f":"元データ!G84+F$3","v":0.33600000000000002},{"$f":"元データ!H84+G$3","v":0.46999999999999992},{"$f":"元データ!I84+H$3","v":0.32},null,429,{"$f":"元データ!L84+K$3","v":1.2999999195106512E-2},{"$f":"元データ!M84+L$3","v":0.15900000595606881},{"$f":"元データ!N84+M$3","v":0.18900000112729365}]
[null,430,{"$f":"元データ!D85+C$3","v":0.04},{"$f":"元データ!E85+D$3","v":0.15000000000000002},{"$f":"元データ!F85+E$3","v":0.26200000000000001},{"$f":"元データ!G85+F$3","v":0.34},{"$f":"元データ!H85+G$3","v":0.46999999999999992},{"$f":"元データ!I85+H$3","v":0.33},null,430,{"$f":"元データ!L85+K$3","v":1.3000002024433084E-2},{"$f":"元データ!M85+L$3","v":0.14699999960348079},{"$f":"元データ!N85+M$3","v":0.17699999505513311}]
[null,431,{"$f":"元データ!D86+C$3","v":0.04},{"$f":"元データ!E86+D$3","v":0.15000000000000002},{"$f":"元データ!F86+E$3","v":0.27},{"$f":"元データ!G86+F$3","v":0.34},{"$f":"元データ!H86+G$3","v":0.47799999999999992},{"$f":"元データ!I86+H$3","v":0.33},null,431,{"$f":"元データ!L86+K$3","v":1.4999998557614712E-2},{"$f":"元データ!M86+L$3","v":0.13800000346669036},{"$f":"元データ!N86+M$3","v":0.16599998744066591}]
[null,432,{"$f":"元データ!D87+C$3","v":0.04},{"$f":"元データ!E87+D$3","v":0.15000000000000002},{"$f":"元データ!F87+E$3","v":0.27},{"$f":"元データ!G87+F$3","v":0.35},{"$f":"元データ!H87+G$3","v":0.48},{"$f":"元データ!I87+H$3","v":0.33600000000000002},null,432,{"$f":"元データ!L87+K$3","v":1.4999996238477788E-2},{"$f":"元データ!M87+L$3","v":0.13000000869761572},{"$f":"元データ!N87+M$3","v":0.15699998733647674}]
[null,433,{"$f":"元データ!D88+C$3","v":0.04},{"$f":"元データ!E88+D$3","v":0.15000000000000002},{"$f":"元データ!F88+E$3","v":0.27},{"$f":"元データ!G88+F$3","v":0.35},{"$f":"元データ!H88+G$3","v":0.48749999999999999},{"$f":"元データ!I88+H$3","v":0.34},null,433,{"$f":"元データ!L88+K$3","v":1.5000010524218267E-2},{"$f":"元データ!M88+L$3","v":0.11899999433545858},{"$f":"元データ!N88+M$3","v":0.14599998279408763}]
[null,434,{"$f":"元データ!D89+C$3","v":0.04},{"$f":"元データ!E89+D$3","v":0.15800000000000003},{"$f":"元データ!F89+E$3","v":0.27400000000000002},{"$f":"元データ!G89+F$3","v":0.35199999999999998},{"$f":"元データ!H89+G$3","v":0.49000000000000005},{"$f":"元データ!I89+H$3","v":0.34},null,434,{"$f":"元データ!L89+K$3","v":1.5000012003317662E-2},{"$f":"元データ!M89+L$3","v":0.11000001504438235},{"$f":"元データ!N89+M$3","v":0.13599998551650189}]
[null,435,{"$f":"元データ!D90+C$3","v":0.04},{"$f":"元データ!E90+D$3","v":0.16},{"$f":"元データ!F90+E$3","v":0.28000000000000003},{"$f":"元データ!G90+F$3","v":0.36},{"$f":"元データ!H90+G$3","v":0.49800000000000005},{"$f":"元データ!I90+H$3","v":0.34400000000000003},null,435,{"$f":"元データ!L90+K$3","v":1.5000004239746737E-2},{"$f":"元データ!M90+L$3","v":0.10100001476940863},{"$f":"元データ!N90+M$3","v":0.12599999958826935}]
[null,436,{"$f":"元データ!D91+C$3","v":0.04},{"$f":"元データ!E91+D$3","v":0.16},{"$f":"元データ!F91+E$3","v":0.28000000000000003},{"$f":"元データ!G91+F$3","v":0.36},{"$f":"元データ!H91+G$3","v":0.5},{"$f":"元データ!I91+H$3","v":0.35},null,436,{"$f":"元データ!L91+K$3","v":1.5000003705516858E-2},{"$f":"元データ!M91+L$3","v":9.3999997953204531E-2},{"$f":"元データ!N91+M$3","v":0.11599998420725702}]
[null,437,{"$f":"元データ!D92+C$3","v":0.04},{"$f":"元データ!E92+D$3","v":0.16},{"$f":"元データ!F92+E$3","v":0.28000000000000003},{"$f":"元データ!G92+F$3","v":0.36599999999999999},{"$f":"元データ!H92+G$3","v":0.502},{"$f":"元データ!I92+H$3","v":0.35},null,437,{"$f":"元データ!L92+K$3","v":1.300000758211544E-2},{"$f":"元データ!M92+L$3","v":8.5000001069073711E-2},{"$f":"元データ!N92+M$3","v":0.10700000126862813}]
[null,438,{"$f":"元データ!D93+C$3","v":0.04},{"$f":"元データ!E93+D$3","v":0.16},{"$f":"元データ!F93+E$3","v":0.28600000000000003},{"$f":"元データ!G93+F$3","v":0.37},{"$f":"元データ!H93+G$3","v":0.51},{"$f":"元データ!I93+H$3","v":0.35599999999999998},null,438,{"$f":"元データ!L93+K$3","v":1.4000008146647293E-2},{"$f":"元データ!M93+L$3","v":7.9000006977217221E-2},{"$f":"元データ!N93+M$3","v":0.10099998935074284}]
[null,439,{"$f":"元データ!D94+C$3","v":0.04},{"$f":"元データ!E94+D$3","v":0.16},{"$f":"元データ!F94+E$3","v":0.29000000000000004},{"$f":"元データ!G94+F$3","v":0.37},{"$f":"元データ!H94+G$3","v":0.51},{"$f":"元データ!I94+H$3","v":0.36},null,439,{"$f":"元データ!L94+K$3","v":1.3999995121263778E-2},{"$f":"元データ!M94+L$3","v":7.0999994193698693E-2},{"$f":"元データ!N94+M$3","v":9.3999996251294168E-2}]
[null,440,{"$f":"元データ!D95+C$3","v":0.04},{"$f":"元データ!E95+D$3","v":0.16},{"$f":"元データ!F95+E$3","v":0.29000000000000004},{"$f":"元データ!G95+F$3","v":0.38},{"$f":"元データ!H95+G$3","v":0.52},{"$f":"元データ!I95+H$3","v":0.36},null,440,{"$f":"元データ!L95+K$3","v":1.3000000456116882E-2},{"$f":"元データ!M95+L$3","v":6.2000012186364105E-2},{"$f":"元データ!N95+M$3","v":8.5000002089542184E-2}]
[null,441,{"$f":"元データ!D96+C$3","v":0.04},{"$f":"元データ!E96+D$3","v":0.16},{"$f":"元データ!F96+E$3","v":0.29000000000000004},{"$f":"元データ!G96+F$3","v":0.38},{"$f":"元データ!H96+G$3","v":0.52},{"$f":"元データ!I96+H$3","v":0.36},null,441,{"$f":"元データ!L96+K$3","v":1.3000007738728045E-2},{"$f":"元データ!M96+L$3","v":5.6000007027889188E-2},{"$f":"元データ!N96+M$3","v":7.8000006745877967E-2}]
[null,442,{"$f":"元データ!D97+C$3","v":0.04},{"$f":"元データ!E97+D$3","v":0.16},{"$f":"元データ!F97+E$3","v":0.29000000000000004},{"$f":"元データ!G97+F$3","v":0.38},{"$f":"元データ!H97+G$3","v":0.52},{"$f":"元データ!I97+H$3","v":0.36800000000000005},null,442,{"$f":"元データ!L97+K$3","v":1.3000011917291436E-2},{"$f":"元データ!M97+L$3","v":5.0999993581122581E-2},{"$f":"元データ!N97+M$3","v":7.4000007365125159E-2}]
[null,443,{"$f":"元データ!D98+C$3","v":0.04},{"$f":"元データ!E98+D$3","v":0.16800000000000001},{"$f":"元データ!F98+E$3","v":0.29800000000000004},{"$f":"元データ!G98+F$3","v":0.38200000000000001},{"$f":"元データ!H98+G$3","v":0.52800000000000014},{"$f":"元データ!I98+H$3","v":0.37},null,443,{"$f":"元データ!L98+K$3","v":1.2999998170930924E-2},{"$f":"元データ!M98+L$3","v":4.6000000413594977E-2},{"$f":"元データ!N98+M$3","v":6.7999998374784945E-2}]
[null,444,{"$f":"元データ!D99+C$3","v":0.04},{"$f":"元データ!E99+D$3","v":0.17},{"$f":"元データ!F99+E$3","v":0.3},{"$f":"元データ!G99+F$3","v":0.38800000000000007},{"$f":"元データ!H99+G$3","v":0.53},{"$f":"元データ!I99+H$3","v":0.37},null,444,{"$f":"元データ!L99+K$3","v":1.2999995663561682E-2},{"$f":"元データ!M99+L$3","v":4.2000011450476112E-2},{"$f":"元データ!N99+M$3","v":6.2000001854779357E-2}]
[null,445,{"$f":"元データ!D100+C$3","v":0.04},{"$f":"元データ!E100+D$3","v":0.17},{"$f":"元データ!F100+E$3","v":0.3},{"$f":"元データ!G100+F$3","v":0.39},{"$f":"元データ!H100+G$3","v":0.53},{"$f":"元データ!I100+H$3","v":0.37399999999999994},null,445,{"$f":"元データ!L100+K$3","v":1.3000006233058404E-2},{"$f":"元データ!M100+L$3","v":3.8000000745993877E-2},{"$f":"元データ!N100+M$3","v":5.7000000197757E-2}]
[null,446,{"$f":"元データ!D101+C$3","v":0.04},{"$f":"元データ!E101+D$3","v":0.17},{"$f":"元データ!F101+E$3","v":0.3},{"$f":"元データ!G101+F$3","v":0.39},{"$f":"元データ!H101+G$3","v":0.54},{"$f":"元データ!I101+H$3","v":0.38},null,446,{"$f":"元データ!L101+K$3","v":1.3999996898809829E-2},{"$f":"元データ!M101+L$3","v":3.499999652840783E-2},{"$f":"元データ!N101+M$3","v":5.3999993141657071E-2}]
[null,447,{"$f":"元データ!D102+C$3","v":0.04},{"$f":"元データ!E102+D$3","v":0.17},{"$f":"元データ!F102+E$3","v":0.3},{"$f":"元データ!G102+F$3","v":0.39},{"$f":"元データ!H102+G$3","v":0.54},{"$f":"元データ!I102+H$3","v":0.38},null,447,{"$f":"元データ!L102+K$3","v":1.5000012153987028E-2},{"$f":"元データ!M102+L$3","v":3.2000008289694619E-2},{"$f":"元データ!N102+M$3","v":5.0000003403029208E-2}]
[null,448,{"$f":"元データ!D103+C$3","v":0.04},{"$f":"元データ!E103+D$3","v":0.17},{"$f":"元データ!F103+E$3","v":0.308},{"$f":"元データ!G103+F$3","v":0.39600000000000002},{"$f":"元データ!H103+G$3","v":0.54200000000000004},{"$f":"元データ!I103+H$3","v":0.38},null,448,{"$f":"元データ!L103+K$3","v":1.5999996523695874E-2},{"$f":"元データ!M103+L$3","v":2.9000010123701757E-2},{"$f":"元データ!N103+M$3","v":4.599999452872823E-2}]
[null,449,{"$f":"元データ!D104+C$3","v":0.04},{"$f":"元データ!E104+D$3","v":0.17},{"$f":"元データ!F104+E$3","v":0.31},{"$f":"元データ!G104+F$3","v":0.4},{"$f":"元データ!H104+G$3","v":0.55000000000000004},{"$f":"元データ!I104+H$3","v":0.38750000000000007},null,449,{"$f":"元データ!L104+K$3","v":1.5000011530748855E-2},{"$f":"元データ!M104+L$3","v":2.4999994414359468E-2},{"$f":"元データ!N104+M$3","v":4.0999994264752398E-2}]
[null,450,{"$f":"元データ!D105+C$3","v":0.04},{"$f":"元データ!E105+D$3","v":0.17},{"$f":"元データ!F105+E$3","v":0.31},{"$f":"元データ!G105+F$3","v":0.40200000000000002},{"$f":"元データ!H105+G$3","v":0.55000000000000004},{"$f":"元データ!I105+H$3","v":0.39},null,450,{"$f":"元データ!L105+K$3","v":1.4999996855931771E-2},{"$f":"元データ!M105+L$3","v":2.2000003718200663E-2},{"$f":"元データ!N105+M$3","v":3.6999988007321516E-2}]
[null,451,{"$f":"元データ!D106+C$3","v":0.04},{"$f":"元データ!E106+D$3","v":0.17},{"$f":"元データ!F106+E$3","v":0.31},{"$f":"元データ!G106+F$3","v":0.41},{"$f":"元データ!H106+G$3","v":0.55000000000000004},{"$f":"元データ!I106+H$3","v":0.39},null,451,{"$f":"元データ!L106+K$3","v":1.500001282269809E-2},{"$f":"元データ!M106+L$3","v":1.9000013662695728E-2},{"$f":"元データ!N106+M$3","v":3.3999985332690136E-2}]
[null,452,{"$f":"元データ!D107+C$3","v":0.04},{"$f":"元データ!E107+D$3","v":0.17},{"$f":"元データ!F107+E$3","v":0.31},{"$f":"元データ!G107+F$3","v":0.41},{"$f":"元データ!H107+G$3","v":0.55800000000000005},{"$f":"元データ!I107+H$3","v":0.39},null,452,{"$f":"元データ!L107+K$3","v":1.4999998298143476E-2},{"$f":"元データ!M107+L$3","v":1.6999999454117062E-2},{"$f":"元データ!N107+M$3","v":3.3999989655246324E-2}]
[null,453,{"$f":"元データ!D108+C$3","v":0.04},{"$f":"元データ!E108+D$3","v":0.17200000000000001},{"$f":"元データ!F108+E$3","v":0.316},{"$f":"元データ!G108+F$3","v":0.41},{"$f":"元データ!H108+G$3","v":0.56000000000000005},{"$f":"元データ!I108+H$3","v":0.39799999999999996},null,453,{"$f":"元データ!L108+K$3","v":1.5999997685106238E-2},{"$f":"元データ!M108+L$3","v":1.600000933172737E-2},{"$f":"元データ!N108+M$3","v":3.2000008755718734E-2}]
[null,454,{"$f":"元データ!D109+C$3","v":0.04},{"$f":"元データ!E109+D$3","v":0.18000000000000002},{"$f":"元データ!F109+E$3","v":0.32},{"$f":"元データ!G109+F$3","v":0.41200000000000003},{"$f":"元データ!H109+G$3","v":0.56399999999999995},{"$f":"元データ!I109+H$3","v":0.4},null,454,{"$f":"元データ!L109+K$3","v":1.6000011302799242E-2},{"$f":"元データ!M109+L$3","v":1.4000003213220643E-2},{"$f":"元データ!N109+M$3","v":2.9999985079064723E-2}]
[null,455,{"$f":"元データ!D110+C$3","v":0.04},{"$f":"元データ!E110+D$3","v":0.18000000000000002},{"$f":"元データ!F110+E$3","v":0.32},{"$f":"元データ!G110+F$3","v":0.42000000000000004},{"$f":"元データ!H110+G$3","v":0.56999999999999995},{"$f":"元データ!I110+H$3","v":0.4},null,455,{"$f":"元データ!L110+K$3","v":1.5999993508751528E-2},{"$f":"元データ!M110+L$3","v":1.100001054050922E-2},{"$f":"元データ!N110+M$3","v":2.6999991389141258E-2}]
[null,456,{"$f":"元データ!D111+C$3","v":0.04},{"$f":"元データ!E111+D$3","v":0.18000000000000002},{"$f":"元データ!F111+E$3","v":0.32200000000000001},{"$f":"元データ!G111+F$3","v":0.42000000000000004},{"$f":"元データ!H111+G$3","v":0.57599999999999996},{"$f":"元データ!I111+H$3","v":0.40800000000000003},null,456,{"$f":"元データ!L111+K$3","v":1.5999998568389528E-2},{"$f":"元データ!M111+L$3","v":1.0000003837966358E-2},{"$f":"元データ!N111+M$3","v":2.4999991595131058E-2}]
[null,457,{"$f":"元データ!D112+C$3","v":0.04},{"$f":"元データ!E112+D$3","v":0.18000000000000002},{"$f":"元データ!F112+E$3","v":0.33},{"$f":"元データ!G112+F$3","v":0.43},{"$f":"元データ!H112+G$3","v":0.57999999999999996},{"$f":"元データ!I112+H$3","v":0.41},null,457,{"$f":"元データ!L112+K$3","v":1.6000009392621539E-2},{"$f":"元データ!M112+L$3","v":9.0000091998972652E-3},{"$f":"元データ!N112+M$3","v":2.3999999781760217E-2}]
[null,458,{"$f":"元データ!D113+C$3","v":0.04},{"$f":"元データ!E113+D$3","v":0.18000000000000002},{"$f":"元データ!F113+E$3","v":0.33},{"$f":"元データ!G113+F$3","v":0.43},{"$f":"元データ!H113+G$3","v":0.59},{"$f":"元データ!I113+H$3","v":0.41600000000000004},null,458,{"$f":"元データ!L113+K$3","v":1.29999947853928E-2},{"$f":"元データ!M113+L$3","v":4.9999996037532373E-3},{"$f":"元データ!N113+M$3","v":2.0999992852332148E-2}]
[null,459,{"$f":"元データ!D114+C$3","v":0.04},{"$f":"元データ!E114+D$3","v":0.18000000000000002},{"$f":"元データ!F114+E$3","v":0.33},{"$f":"元データ!G114+F$3","v":0.435},{"$f":"元データ!H114+G$3","v":0.59250000000000003},{"$f":"元データ!I114+H$3","v":0.42},null,459,{"$f":"元データ!L114+K$3","v":1.3000009500791814E-2},{"$f":"元データ!M114+L$3","v":5.0000020540771932E-3},{"$f":"元データ!N114+M$3","v":1.8999988857915647E-2}]
[null,460,{"$f":"元データ!D115+C$3","v":0.04},{"$f":"元データ!E115+D$3","v":0.18000000000000002},{"$f":"元データ!F115+E$3","v":0.33600000000000002},{"$f":"元データ!G115+F$3","v":0.44000000000000006},{"$f":"元データ!H115+G$3","v":0.6},{"$f":"元データ!I115+H$3","v":0.42199999999999999},null,460,{"$f":"元データ!L115+K$3","v":1.4000010237490097E-2},{"$f":"元データ!M115+L$3","v":3.9999972343589471E-3},{"$f":"元データ!N115+M$3","v":1.7999995387604533E-2}]
[null,461,{"$f":"元データ!D116+C$3","v":0.04},{"$f":"元データ!E116+D$3","v":0.19},{"$f":"元データ!F116+E$3","v":0.34},{"$f":"元データ!G116+F$3","v":0.44400000000000006},{"$f":"元データ!H116+G$3","v":0.6},{"$f":"元データ!I116+H$3","v":0.43},null,461,{"$f":"元データ!L116+K$3","v":1.4999994697529748E-2},{"$f":"元データ!M116+L$3","v":3.0000114871337443E-3},{"$f":"元データ!N116+M$3","v":1.8000002036345834E-2}]
[null,462,{"$f":"元データ!D117+C$3","v":0.04},{"$f":"元データ!E117+D$3","v":0.19},{"$f":"元データ!F117+E$3","v":0.34200000000000003},{"$f":"元データ!G117+F$3","v":0.45},{"$f":"元データ!H117+G$3","v":0.60799999999999987},{"$f":"元データ!I117+H$3","v":0.43200000000000005},null,462,{"$f":"元データ!L117+K$3","v":1.3999995138572797E-2},{"$f":"元データ!M117+L$3","v":4.0000108670950954E-3},{"$f":"元データ!N117+M$3","v":1.6999993854564941E-2}]
[null,463,{"$f":"元データ!D118+C$3","v":0.04},{"$f":"元データ!E118+D$3","v":0.19},{"$f":"元データ!F118+E$3","v":0.35000000000000003},{"$f":"元データ!G118+F$3","v":0.45600000000000007},{"$f":"元データ!H118+G$3","v":0.61599999999999999},{"$f":"元データ!I118+H$3","v":0.44000000000000006},null,463,{"$f":"元データ!L118+K$3","v":1.5999996464387808E-2},{"$f":"元データ!M118+L$3","v":5.0000084754601385E-3},{"$f":"元データ!N118+M$3","v":1.9000000287018735E-2}]
[null,464,{"$f":"元データ!D119+C$3","v":0.04},{"$f":"元データ!E119+D$3","v":0.19},{"$f":"元データ!F119+E$3","v":0.35000000000000003},{"$f":"元データ!G119+F$3","v":0.46000000000000008},{"$f":"元データ!H119+G$3","v":0.622},{"$f":"元データ!I119+H$3","v":0.44000000000000006},null,464,{"$f":"元データ!L119+K$3","v":1.5999994027428317E-2},{"$f":"元データ!M119+L$3","v":2.9999961998249478E-3},{"$f":"元データ!N119+M$3","v":1.6999997276228609E-2}]
[null,465,{"$f":"元データ!D120+C$3","v":0.04},{"$f":"元データ!E120+D$3","v":0.19},{"$f":"元データ!F120+E$3","v":0.35000000000000003},{"$f":"元データ!G120+F$3","v":0.46600000000000003},{"$f":"元データ!H120+G$3","v":0.63},{"$f":"元データ!I120+H$3","v":0.45},null,465,{"$f":"元データ!L120+K$3","v":1.5000011190413633E-2},{"$f":"元データ!M120+L$3","v":1.0000063502173182E-3},{"$f":"元データ!N120+M$3","v":1.5999996055252375E-2}]
[null,466,{"$f":"元データ!D121+C$3","v":0.04},{"$f":"元データ!E121+D$3","v":0.19600000000000001},{"$f":"元データ!F121+E$3","v":0.35599999999999998},{"$f":"元データ!G121+F$3","v":0.46999999999999992},{"$f":"元データ!H121+G$3","v":0.63600000000000001},{"$f":"元データ!I121+H$3","v":0.45},null,466,{"$f":"元データ!L121+K$3","v":1.5000010344378784E-2},{"$f":"元データ!M121+L$3","v":-5.9410780687413345E-9},{"$f":"元データ!N121+M$3","v":1.5000000974305566E-2}]
[null,467,{"$f":"元データ!D122+C$3","v":0.04},{"$f":"元データ!E122+D$3","v":0.2},{"$f":"元データ!F122+E$3","v":0.36},{"$f":"元データ!G122+F$3","v":0.46999999999999992},{"$f":"元データ!H122+G$3","v":0.64},{"$f":"元データ!I122+H$3","v":0.45600000000000007},null,467,{"$f":"元データ!L122+K$3","v":1.300000451505556E-2},{"$f":"元データ!M122+L$3","v":-2.7650231826381599E-9},{"$f":"元データ!N122+M$3","v":1.4000001663592439E-2}]
[null,468,{"$f":"元データ!D123+C$3","v":0.04},{"$f":"元データ!E123+D$3","v":0.2},{"$f":"元データ!F123+E$3","v":0.36},{"$f":"元データ!G123+F$3","v":0.47799999999999992},{"$f":"元データ!H123+G$3","v":0.64200000000000002},{"$f":"元データ!I123+H$3","v":0.46000000000000008},null,468,{"$f":"元データ!L123+K$3","v":1.2999997783783118E-2},{"$f":"元データ!M123+L$3","v":-1.0000019954062578E-3},{"$f":"元データ!N123+M$3","v":1.2999986434178681E-2}]
[null,469,{"$f":"元データ!D124+C$3","v":0.04},{"$f":"元データ!E124+D$3","v":0.2},{"$f":"元データ!F124+E$3","v":0.36399999999999993},{"$f":"元データ!G124+F$3","v":0.48},{"$f":"元データ!H124+G$3","v":0.65},{"$f":"元データ!I124+H$3","v":0.46200000000000002},null,469,{"$f":"元データ!L124+K$3","v":1.3000008886811125E-2},{"$f":"元データ!M124+L$3","v":-1.0000022467748729E-3},{"$f":"元データ!N124+M$3","v":1.3000003646132498E-2}]
[null,470,{"$f":"元データ!D125+C$3","v":0.04},{"$f":"元データ!E125+D$3","v":0.2},{"$f":"元データ!F125+E$3","v":0.37},{"$f":"元データ!G125+F$3","v":0.48749999999999999},{"$f":"元データ!H125+G$3","v":0.65250000000000008},{"$f":"元データ!I125+H$3","v":0.47},null,470,{"$f":"元データ!L125+K$3","v":1.3000003581287604E-2},{"$f":"元データ!M125+L$3","v":9.3405349236436175E-9},{"$f":"元データ!N125+M$3","v":1.1999994186856697E-2}]
[null,471,{"$f":"元データ!D126+C$3","v":0.04},{"$f":"元データ!E126+D$3","v":0.2},{"$f":"元データ!F126+E$3","v":0.37},{"$f":"元データ!G126+F$3","v":0.49000000000000005},{"$f":"元データ!H126+G$3","v":0.66},{"$f":"元データ!I126+H$3","v":0.46999999999999992},null,471,{"$f":"元データ!L126+K$3","v":1.3000009111593405E-2},{"$f":"元データ!M126+L$3","v":1.1194534629138664E-8},{"$f":"元データ!N126+M$3","v":1.2000003898109863E-2}]
[null,472,{"$f":"元データ!D127+C$3","v":0.04},{"$f":"元データ!E127+D$3","v":0.2},{"$f":"元データ!F127+E$3","v":0.376},{"$f":"元データ!G127+F$3","v":0.49399999999999994},{"$f":"元データ!H127+G$3","v":0.66799999999999993},{"$f":"元データ!I127+H$3","v":0.47799999999999992},null,472,{"$f":"元データ!L127+K$3","v":1.2999998436239234E-2},{"$f":"元データ!M127+L$3","v":3.6438880385292194E-9},{"$f":"元データ!N127+M$3","v":1.1999989576867914E-2}]
[null,473,{"$f":"元データ!D128+C$3","v":0.04},{"$f":"元データ!E128+D$3","v":0.20800000000000002},{"$f":"元データ!F128+E$3","v":0.38},{"$f":"元データ!G128+F$3","v":0.5},{"$f":"元データ!H128+G$3","v":0.67200000000000004},{"$f":"元データ!I128+H$3","v":0.48},null,473,{"$f":"元データ!L128+K$3","v":1.4000008471641651E-2},{"$f":"元データ!M128+L$3","v":-2.4655676320040065E-9},{"$f":"元データ!N128+M$3","v":1.1999987539838514E-2}]
[null,474,{"$f":"元データ!D129+C$3","v":0.04},{"$f":"元データ!E129+D$3","v":0.21000000000000002},{"$f":"元データ!F129+E$3","v":0.38},{"$f":"元データ!G129+F$3","v":0.5},{"$f":"元データ!H129+G$3","v":0.68},{"$f":"元データ!I129+H$3","v":0.48200000000000004},null,474,{"$f":"元データ!L129+K$3","v":1.4000005910815818E-2},{"$f":"元データ!M129+L$3","v":-2.0000031148403492E-3},{"$f":"元データ!N129+M$3","v":1.1000005953504966E-2}]
[null,475,{"$f":"元データ!D130+C$3","v":0.04},{"$f":"元データ!E130+D$3","v":0.21000000000000002},{"$f":"元データ!F130+E$3","v":0.38},{"$f":"元データ!G130+F$3","v":0.50800000000000001},{"$f":"元データ!H130+G$3","v":0.68},{"$f":"元データ!I130+H$3","v":0.49000000000000005},null,475,{"$f":"元データ!L130+K$3","v":1.4000003174529395E-2},{"$f":"元データ!M130+L$3","v":-2.0000025553486827E-3},{"$f":"元データ!N130+M$3","v":1.1000005368173457E-2}]
[null,476,{"$f":"元データ!D131+C$3","v":0.04},{"$f":"元データ!E131+D$3","v":0.21000000000000002},{"$f":"元データ!F131+E$3","v":0.38},{"$f":"元データ!G131+F$3","v":0.51},{"$f":"元データ!H131+G$3","v":0.68},{"$f":"元データ!I131+H$3","v":0.49000000000000005},null,476,{"$f":"元データ!L131+K$3","v":1.3000008259719847E-2},{"$f":"元データ!M131+L$3","v":-1.9999882525092751E-3},{"$f":"元データ!N131+M$3","v":9.9999891729122548E-3}]
[null,477,{"$f":"元データ!D132+C$3","v":0.04},{"$f":"元データ!E132+D$3","v":0.21000000000000002},{"$f":"元データ!F132+E$3","v":0.38},{"$f":"元データ!G132+F$3","v":0.51},{"$f":"元データ!H132+G$3","v":0.68799999999999994},{"$f":"元データ!I132+H$3","v":0.49000000000000005},null,477,{"$f":"元データ!L132+K$3","v":1.1999994947748158E-2},{"$f":"元データ!M132+L$3","v":-2.0000002960851599E-3},{"$f":"元データ!N132+M$3","v":8.9999895056722644E-3}]
[null,478,{"$f":"元データ!D133+C$3","v":0.04},{"$f":"元データ!E133+D$3","v":0.21000000000000002},{"$f":"元データ!F133+E$3","v":0.38799999999999996},{"$f":"元データ!G133+F$3","v":0.51},{"$f":"元データ!H133+G$3","v":0.69},{"$f":"元データ!I133+H$3","v":0.49000000000000005},null,478,{"$f":"元データ!L133+K$3","v":1.3000009401593255E-2},{"$f":"元データ!M133+L$3","v":-2.0000041377830659E-3},{"$f":"元データ!N133+M$3","v":9.0000013468398248E-3}]
[null,479,{"$f":"元データ!D134+C$3","v":0.04},{"$f":"元データ!E134+D$3","v":0.21000000000000002},{"$f":"元データ!F134+E$3","v":0.39},{"$f":"元データ!G134+F$3","v":0.51},{"$f":"元データ!H134+G$3","v":0.69},{"$f":"元データ!I134+H$3","v":0.49399999999999994},null,479,{"$f":"元データ!L134+K$3","v":1.4000008058834945E-2},{"$f":"元データ!M134+L$3","v":-9.9998980931964229E-4},{"$f":"元データ!N134+M$3","v":9.9999948227565728E-3}]
[null,480,{"$f":"元データ!D135+C$3","v":0.04},{"$f":"元データ!E135+D$3","v":0.21000000000000002},{"$f":"元データ!F135+E$3","v":0.39},{"$f":"元データ!G135+F$3","v":0.51800000000000002},{"$f":"元データ!H135+G$3","v":0.69},{"$f":"元データ!I135+H$3","v":0.5},null,480,{"$f":"元データ!L135+K$3","v":1.2999996400032209E-2},{"$f":"元データ!M135+L$3","v":-9.9999383467305573E-4},{"$f":"元データ!N135+M$3","v":9.9999982091720473E-3}]
[null,481,{"$f":"元データ!D136+C$3","v":0.04},{"$f":"元データ!E136+D$3","v":0.21000000000000002},{"$f":"元データ!F136+E$3","v":0.39},{"$f":"元データ!G136+F$3","v":0.52},{"$f":"元データ!H136+G$3","v":0.69399999999999995},{"$f":"元データ!I136+H$3","v":0.5},null,481,{"$f":"元データ!L136+K$3","v":1.3000000205209736E-2},{"$f":"元データ!M136+L$3","v":-1.9999939635818968E-3},{"$f":"元データ!N136+M$3","v":9.9999920062734671E-3}]
[null,482,{"$f":"元データ!D137+C$3","v":0.04},{"$f":"元データ!E137+D$3","v":0.21000000000000002},{"$f":"元データ!F137+E$3","v":0.39},{"$f":"元データ!G137+F$3","v":0.52},{"$f":"元データ!H137+G$3","v":0.7},{"$f":"元データ!I137+H$3","v":0.5},null,482,{"$f":"元データ!L137+K$3","v":1.3000009464120207E-2},{"$f":"元データ!M137+L$3","v":-2.0000014164761291E-3},{"$f":"元データ!N137+M$3","v":9.0000016962171851E-3}]
[null,483,{"$f":"元データ!D138+C$3","v":0.04},{"$f":"元データ!E138+D$3","v":0.21000000000000002},{"$f":"元データ!F138+E$3","v":0.39},{"$f":"元データ!G138+F$3","v":0.52},{"$f":"元データ!H138+G$3","v":0.7},{"$f":"元データ!I138+H$3","v":0.5},null,483,{"$f":"元データ!L138+K$3","v":1.2999996628393348E-2},{"$f":"元データ!M138+L$3","v":-2.9999917608719978E-3},{"$f":"元データ!N138+M$3","v":9.0000027186680452E-3}]
[null,484,{"$f":"元データ!D139+C$3","v":0.04},{"$f":"元データ!E139+D$3","v":0.21000000000000002},{"$f":"元データ!F139+E$3","v":0.39},{"$f":"元データ!G139+F$3","v":0.52},{"$f":"元データ!H139+G$3","v":0.7},{"$f":"元データ!I139+H$3","v":0.5},null,484,{"$f":"元データ!L139+K$3","v":1.2000005157342154E-2},{"$f":"元データ!M139+L$3","v":-3.0000014063317638E-3},{"$f":"元データ!N139+M$3","v":7.9999994386924303E-3}]
[null,485,{"$f":"元データ!D140+C$3","v":3.2000000000000001E-2},{"$f":"元データ!E140+D$3","v":0.21000000000000002},{"$f":"元データ!F140+E$3","v":0.39},{"$f":"元データ!G140+F$3","v":0.52},{"$f":"元データ!H140+G$3","v":0.7},{"$f":"元データ!I140+H$3","v":0.5},null,485,{"$f":"元データ!L140+K$3","v":1.2999996734257772E-2},{"$f":"元データ!M140+L$3","v":-1.9999961274938336E-3},{"$f":"元データ!N140+M$3","v":8.0000011100579346E-3}]
[null,486,{"$f":"元データ!D141+C$3","v":0.03},{"$f":"元データ!E141+D$3","v":0.21000000000000002},{"$f":"元データ!F141+E$3","v":0.39},{"$f":"元データ!G141+F$3","v":0.52},{"$f":"元データ!H141+G$3","v":0.7},{"$f":"元データ!I141+H$3","v":0.5},null,486,{"$f":"元データ!L141+K$3","v":1.1999999071233912E-2},{"$f":"元データ!M141+L$3","v":-1.9999999857065603E-3},{"$f":"元データ!N141+M$3","v":8.9999989183394448E-3}]
[null,487,{"$f":"元データ!D142+C$3","v":0.03},{"$f":"元データ!E142+D$3","v":0.21000000000000002},{"$f":"元データ!F142+E$3","v":0.39},{"$f":"元データ!G142+F$3","v":0.52},{"$f":"元データ!H142+G$3","v":0.7},{"$f":"元データ!I142+H$3","v":0.5},null,487,{"$f":"元データ!L142+K$3","v":1.100000368227096E-2},{"$f":"元データ!M142+L$3","v":-2.9999925231014319E-3},{"$f":"元データ!N142+M$3","v":6.9999900846954774E-3}]
[null,488,{"$f":"元データ!D143+C$3","v":0.03},{"$f":"元データ!E143+D$3","v":0.21000000000000002},{"$f":"元データ!F143+E$3","v":0.39},{"$f":"元データ!G143+F$3","v":0.52},{"$f":"元データ!H143+G$3","v":0.7},{"$f":"元データ!I143+H$3","v":0.5},null,488,{"$f":"元データ!L143+K$3","v":1.1000006354470751E-2},{"$f":"元データ!M143+L$3","v":-3.9999936025385541E-3},{"$f":"元データ!N143+M$3","v":7.9999987259134174E-3}]
[null,489,{"$f":"元データ!D144+C$3","v":0.03},{"$f":"元データ!E144+D$3","v":0.21000000000000002},{"$f":"元データ!F144+E$3","v":0.39},{"$f":"元データ!G144+F$3","v":0.52400000000000002},{"$f":"元データ!H144+G$3","v":0.71},{"$f":"元データ!I144+H$3","v":0.51},null,489,{"$f":"元データ!L144+K$3","v":1.1999999541218508E-2},{"$f":"元データ!M144+L$3","v":-3.0000025399224712E-3},{"$f":"元データ!N144+M$3","v":7.9999895442380911E-3}]
[null,490,{"$f":"元データ!D145+C$3","v":0.03},{"$f":"元データ!E145+D$3","v":0.21000000000000002},{"$f":"元データ!F145+E$3","v":0.39400000000000007},{"$f":"元データ!G145+F$3","v":0.53},{"$f":"元データ!H145+G$3","v":0.71},{"$f":"元データ!I145+H$3","v":0.51},null,490,{"$f":"元データ!L145+K$3","v":1.2000000961016607E-2},{"$f":"元データ!M145+L$3","v":-3.0000000957536958E-3},{"$f":"元データ!N145+M$3","v":7.9999962238720031E-3}]
[null,491,{"$f":"元データ!D146+C$3","v":0.03},{"$f":"元データ!E146+D$3","v":0.21000000000000002},{"$f":"元データ!F146+E$3","v":0.4},{"$f":"元データ!G146+F$3","v":0.53},{"$f":"元データ!H146+G$3","v":0.71},{"$f":"元データ!I146+H$3","v":0.51},null,491,{"$f":"元データ!L146+K$3","v":1.1000004478259332E-2},{"$f":"元データ!M146+L$3","v":-2.9999936881401068E-3},{"$f":"元データ!N146+M$3","v":7.9999905133963933E-3}]
[null,492,{"$f":"元データ!D147+C$3","v":0.03},{"$f":"元データ!E147+D$3","v":0.21000000000000002},{"$f":"元データ!F147+E$3","v":0.4},{"$f":"元データ!G147+F$3","v":0.53},{"$f":"元データ!H147+G$3","v":0.71},{"$f":"元データ!I147+H$3","v":0.51},null,492,{"$f":"元データ!L147+K$3","v":1.1999999238523067E-2},{"$f":"元データ!M147+L$3","v":-2.9999970368797309E-3},{"$f":"元データ!N147+M$3","v":8.9999955564573041E-3}]
[null,493,{"$f":"元データ!D148+C$3","v":0.03},{"$f":"元データ!E148+D$3","v":0.21000000000000002},{"$f":"元データ!F148+E$3","v":0.4},{"$f":"元データ!G148+F$3","v":0.53},{"$f":"元データ!H148+G$3","v":0.71},{"$f":"元データ!I148+H$3","v":0.51},null,493,{"$f":"元データ!L148+K$3","v":1.1000005194737421E-2},{"$f":"元データ!M148+L$3","v":-3.0000007509466617E-3},{"$f":"元データ!N148+M$3","v":8.0000030195314445E-3}]
[null,494,{"$f":"元データ!D149+C$3","v":0.03},{"$f":"元データ!E149+D$3","v":0.21000000000000002},{"$f":"元データ!F149+E$3","v":0.4},{"$f":"元データ!G149+F$3","v":0.53},{"$f":"元データ!H149+G$3","v":0.71599999999999986},{"$f":"元データ!I149+H$3","v":0.51},null,494,{"$f":"元データ!L149+K$3","v":1.100000663996166E-2},{"$f":"元データ!M149+L$3","v":-2.9999919478710339E-3},{"$f":"元データ!N149+M$3","v":7.0000022255138385E-3}]
[null,495,{"$f":"元データ!D150+C$3","v":0.03},{"$f":"元データ!E150+D$3","v":0.21000000000000002},{"$f":"元データ!F150+E$3","v":0.4},{"$f":"元データ!G150+F$3","v":0.53800000000000003},{"$f":"元データ!H150+G$3","v":0.72},{"$f":"元データ!I150+H$3","v":0.51600000000000001},null,495,{"$f":"元データ!L150+K$3","v":1.1000005245007813E-2},{"$f":"元データ!M150+L$3","v":-2.9999982040715013E-3},{"$f":"元データ!N150+M$3","v":6.9999985160547791E-3}]
[null,496,{"$f":"元データ!D151+C$3","v":0.03},{"$f":"元データ!E151+D$3","v":0.22000000000000003},{"$f":"元データ!F151+E$3","v":0.4},{"$f":"元データ!G151+F$3","v":0.54},{"$f":"元データ!H151+G$3","v":0.72},{"$f":"元データ!I151+H$3","v":0.52},null,496,{"$f":"元データ!L151+K$3","v":1.0999998461061384E-2},{"$f":"元データ!M151+L$3","v":-2.999994901788967E-3},{"$f":"元データ!N151+M$3","v":6.9999999112870942E-3}]
[null,497,{"$f":"元データ!D152+C$3","v":0.03},{"$f":"元データ!E152+D$3","v":0.22000000000000003},{"$f":"元データ!F152+E$3","v":0.4},{"$f":"元データ!G152+F$3","v":0.54},{"$f":"元データ!H152+G$3","v":0.72199999999999998},{"$f":"元データ!I152+H$3","v":0.52},null,497,{"$f":"元データ!L152+K$3","v":1.0999999666420218E-2},{"$f":"元データ!M152+L$3","v":-2.9999994354335535E-3},{"$f":"元データ!N152+M$3","v":6.9999975367054934E-3}]
[null,498,{"$f":"元データ!D153+C$3","v":0.03},{"$f":"元データ!E153+D$3","v":0.22000000000000003},{"$f":"元データ!F153+E$3","v":0.40600000000000003},{"$f":"元データ!G153+F$3","v":0.54},{"$f":"元データ!H153+G$3","v":0.73},{"$f":"元データ!I153+H$3","v":0.52},null,498,{"$f":"元データ!L153+K$3","v":1.0999996784237527E-2},{"$f":"元データ!M153+L$3","v":-2.9999973355567654E-3},{"$f":"元データ!N153+M$3","v":7.0000004198502788E-3}]
[null,499,{"$f":"元データ!D154+C$3","v":0.03},{"$f":"元データ!E154+D$3","v":0.22000000000000003},{"$f":"元データ!F154+E$3","v":0.41000000000000003},{"$f":"元データ!G154+F$3","v":0.54},{"$f":"元データ!H154+G$3","v":0.73},{"$f":"元データ!I154+H$3","v":0.52600000000000002},null,499,{"$f":"元データ!L154+K$3","v":1.1000000685892519E-2},{"$f":"元データ!M154+L$3","v":-3.9999999954830195E-3},{"$f":"元データ!N154+M$3","v":8.0000000357732769E-3}]
[null,500,{"$f":"元データ!D155+C$3","v":0.03},{"$f":"元データ!E155+D$3","v":0.22000000000000003},{"$f":"元データ!F155+E$3","v":0.41000000000000003},{"$f":"元データ!G155+F$3","v":0.55000000000000004},{"$f":"元データ!H155+G$3","v":0.73},{"$f":"元データ!I155+H$3","v":0.53},null,500,{"$f":"元データ!L155+K$3","v":1.1000008031431471E-2},{"$f":"元データ!M155+L$3","v":-1.9999905317733338E-3},{"$f":"元データ!N155+M$3","v":6.9999936643631369E-3}]
[null,501,{"$f":"元データ!D156+C$3","v":0.03},{"$f":"元データ!E156+D$3","v":0.22000000000000003},{"$f":"元データ!F156+E$3","v":0.41000000000000003},{"$f":"元データ!G156+F$3","v":0.55000000000000004},{"$f":"元データ!H156+G$3","v":0.7380000000000001},{"$f":"元データ!I156+H$3","v":0.53},null,501,{"$f":"元データ!L156+K$3","v":1.1000006131347051E-2},{"$f":"元データ!M156+L$3","v":-1.999994403771084E-3},{"$f":"元データ!N156+M$3","v":7.999996529349844E-3}]
[null,502,{"$f":"元データ!D157+C$3","v":0.03},{"$f":"元データ!E157+D$3","v":0.22000000000000003},{"$f":"元データ!F157+E$3","v":0.41000000000000003},{"$f":"元データ!G157+F$3","v":0.55000000000000004},{"$f":"元データ!H157+G$3","v":0.74},{"$f":"元データ!I157+H$3","v":0.53},null,502,{"$f":"元データ!L157+K$3","v":9.9999991139805289E-3},{"$f":"元データ!M157+L$3","v":-2.9999986219103724E-3},{"$f":"元データ!N157+M$3","v":7.9999927076388026E-3}]
[null,503,{"$f":"元データ!D158+C$3","v":0.03},{"$f":"元データ!E158+D$3","v":0.22000000000000003},{"$f":"元データ!F158+E$3","v":0.41400000000000003},{"$f":"元データ!G158+F$3","v":0.55800000000000005},{"$f":"元データ!H158+G$3","v":0.74},{"$f":"元データ!I158+H$3","v":0.53800000000000003},null,503,{"$f":"元データ!L158+K$3","v":1.1000008892314197E-2},{"$f":"元データ!M158+L$3","v":-2.9999895047510515E-3},{"$f":"元データ!N158+M$3","v":7.0000000964943812E-3}]
[null,504,{"$f":"元データ!D159+C$3","v":0.03},{"$f":"元データ!E159+D$3","v":0.22},{"$f":"元データ!F159+E$3","v":0.42},{"$f":"元データ!G159+F$3","v":0.56000000000000005},{"$f":"元データ!H159+G$3","v":0.74750000000000005},{"$f":"元データ!I159+H$3","v":0.54},null,504,{"$f":"元データ!L159+K$3","v":1.0000006646366535E-2},{"$f":"元データ!M159+L$3","v":-2.9999905017568697E-3},{"$f":"元データ!N159+M$3","v":7.0000003068150171E-3}]
[null,505,{"$f":"元データ!D160+C$3","v":0.03},{"$f":"元データ!E160+D$3","v":0.22000000000000003},{"$f":"元データ!F160+E$3","v":0.42},{"$f":"元データ!G160+F$3","v":0.56000000000000005},{"$f":"元データ!H160+G$3","v":0.75},{"$f":"元データ!I160+H$3","v":0.54},null,505,{"$f":"元データ!L160+K$3","v":9.9999987003473526E-3},{"$f":"元データ!M160+L$3","v":-1.9999900527832414E-3},{"$f":"元データ!N160+M$3","v":6.0000007617020436E-3}]
[null,506,{"$f":"元データ!D161+C$3","v":0.03},{"$f":"元データ!E161+D$3","v":0.22000000000000003},{"$f":"元データ!F161+E$3","v":0.42},{"$f":"元データ!G161+F$3","v":0.56000000000000005},{"$f":"元データ!H161+G$3","v":0.75},{"$f":"元データ!I161+H$3","v":0.54},null,506,{"$f":"元データ!L161+K$3","v":8.0000076923878866E-3},{"$f":"元データ!M161+L$3","v":-3.9999997304772765E-3},{"$f":"元データ!N161+M$3","v":5.000002128743939E-3}]
[null,507,{"$f":"元データ!D162+C$3","v":0.03},{"$f":"元データ!E162+D$3","v":0.22000000000000003},{"$f":"元データ!F162+E$3","v":0.42},{"$f":"元データ!G162+F$3","v":0.56399999999999995},{"$f":"元データ!H162+G$3","v":0.75},{"$f":"元データ!I162+H$3","v":0.54600000000000004},null,507,{"$f":"元データ!L162+K$3","v":8.0000031310394279E-3},{"$f":"元データ!M162+L$3","v":-3.999996272650826E-3},{"$f":"元データ!N162+M$3","v":4.9999964260424058E-3}]
[null,508,{"$f":"元データ!D163+C$3","v":0.03},{"$f":"元データ!E163+D$3","v":0.22000000000000003},{"$f":"元データ!F163+E$3","v":0.42},{"$f":"元データ!G163+F$3","v":0.56999999999999995},{"$f":"元データ!H163+G$3","v":0.75},{"$f":"元データ!I163+H$3","v":0.55000000000000004},null,508,{"$f":"元データ!L163+K$3","v":9.0000072132391286E-3},{"$f":"元データ!M163+L$3","v":-3.0000030788497993E-3},{"$f":"元データ!N163+M$3","v":5.0000040008175602E-3}]
[null,509,{"$f":"元データ!D164+C$3","v":0.03},{"$f":"元データ!E164+D$3","v":0.22000000000000003},{"$f":"元データ!F164+E$3","v":0.42},{"$f":"元データ!G164+F$3","v":0.56999999999999995},{"$f":"元データ!H164+G$3","v":0.752},{"$f":"元データ!I164+H$3","v":0.55000000000000004},null,509,{"$f":"元データ!L164+K$3","v":9.0000056941072319E-3},{"$f":"元データ!M164+L$3","v":-3.9999940709270539E-3},{"$f":"元データ!N164+M$3","v":4.9999952161047696E-3}]
[null,510,{"$f":"元データ!D165+C$3","v":0.03},{"$f":"元データ!E165+D$3","v":0.22000000000000003},{"$f":"元データ!F165+E$3","v":0.42},{"$f":"元データ!G165+F$3","v":0.56999999999999995},{"$f":"元データ!H165+G$3","v":0.76},{"$f":"元データ!I165+H$3","v":0.55000000000000004},null,510,{"$f":"元データ!L165+K$3","v":7.9999970566632418E-3},{"$f":"元データ!M165+L$3","v":-4.9999971509404103E-3},{"$f":"元データ!N165+M$3","v":6.0000016228734104E-3}]
[null,511,{"$f":"元データ!D166+C$3","v":0.03},{"$f":"元データ!E166+D$3","v":0.22000000000000003},{"$f":"元データ!F166+E$3","v":0.42},{"$f":"元データ!G166+F$3","v":0.56999999999999995},{"$f":"元データ!H166+G$3","v":0.76},{"$f":"元データ!I166+H$3","v":0.55000000000000004},null,511,{"$f":"元データ!L166+K$3","v":7.0000042490127937E-3},{"$f":"元データ!M166+L$3","v":-3.9999961037683468E-3},{"$f":"元データ!N166+M$3","v":4.9999955991411917E-3}]
[null,512,{"$f":"元データ!D167+C$3","v":0.03},{"$f":"元データ!E167+D$3","v":0.22000000000000003},{"$f":"元データ!F167+E$3","v":0.42},{"$f":"元データ!G167+F$3","v":0.56999999999999995},{"$f":"元データ!H167+G$3","v":0.75800000000000001},{"$f":"元データ!I167+H$3","v":0.55000000000000004},null,512,{"$f":"元データ!L167+K$3","v":7.0000063161944695E-3},{"$f":"元データ!M167+L$3","v":-4.0000003908006211E-3},{"$f":"元データ!N167+M$3","v":5.0000025886233514E-3}]
[null,513,{"$f":"元データ!D168+C$3","v":0.03},{"$f":"元データ!E168+D$3","v":0.22000000000000003},{"$f":"元データ!F168+E$3","v":0.42},{"$f":"元データ!G168+F$3","v":0.56999999999999995},{"$f":"元データ!H168+G$3","v":0.75},{"$f":"元データ!I168+H$3","v":0.55000000000000004},null,513,{"$f":"元データ!L168+K$3","v":6.9999988614255805E-3},{"$f":"元データ!M168+L$3","v":-3.9999937146902587E-3},{"$f":"元データ!N168+M$3","v":4.9999988505606899E-3}]
[null,514,{"$f":"元データ!D169+C$3","v":0.03},{"$f":"元データ!E169+D$3","v":0.22000000000000003},{"$f":"元データ!F169+E$3","v":0.42},{"$f":"元データ!G169+F$3","v":0.56200000000000006},{"$f":"元データ!H169+G$3","v":0.75},{"$f":"元データ!I169+H$3","v":0.54400000000000004},null,514,{"$f":"元データ!L169+K$3","v":7.000001891465206E-3},{"$f":"元データ!M169+L$3","v":-3.999993790889448E-3},{"$f":"元データ!N169+M$3","v":4.9999980995700036E-3}]
[null,515,{"$f":"元データ!D170+C$3","v":0.03},{"$f":"元データ!E170+D$3","v":0.22000000000000003},{"$f":"元データ!F170+E$3","v":0.42},{"$f":"元データ!G170+F$3","v":0.56000000000000005},{"$f":"元データ!H170+G$3","v":0.75},{"$f":"元データ!I170+H$3","v":0.54},null,515,{"$f":"元データ!L170+K$3","v":6.0000033409469897E-3},{"$f":"元データ!M170+L$3","v":-3.9999917521976267E-3},{"$f":"元データ!N170+M$3","v":2.9999991546761431E-3}]
[null,516,{"$f":"元データ!D171+C$3","v":0.03},{"$f":"元データ!E171+D$3","v":0.22000000000000003},{"$f":"元データ!F171+E$3","v":0.41400000000000003},{"$f":"元データ!G171+F$3","v":0.56000000000000005},{"$f":"元データ!H171+G$3","v":0.74199999999999999},{"$f":"元データ!I171+H$3","v":0.54},null,516,{"$f":"元データ!L171+K$3","v":6.0000059318346573E-3},{"$f":"元データ!M171+L$3","v":-4.9999915056891837E-3},{"$f":"元データ!N171+M$3","v":2.9999904249885211E-3}]
[null,517,{"$f":"元データ!D172+C$3","v":0.03},{"$f":"元データ!E172+D$3","v":0.22000000000000003},{"$f":"元データ!F172+E$3","v":0.41000000000000003},{"$f":"元データ!G172+F$3","v":0.55000000000000004},{"$f":"元データ!H172+G$3","v":0.73799999999999999},{"$f":"元データ!I172+H$3","v":0.53400000000000003},null,517,{"$f":"元データ!L172+K$3","v":6.0000079970896382E-3},{"$f":"元データ!M172+L$3","v":-4.9999926623104374E-3},{"$f":"元データ!N172+M$3","v":3.9999999372979378E-3}]
[null,518,{"$f":"元データ!D173+C$3","v":0.03},{"$f":"元データ!E173+D$3","v":0.21600000000000003},{"$f":"元データ!F173+E$3","v":0.41000000000000003},{"$f":"元データ!G173+F$3","v":0.55000000000000004},{"$f":"元データ!H173+G$3","v":0.73},{"$f":"元データ!I173+H$3","v":0.53},null,518,{"$f":"元データ!L173+K$3","v":6.0000004550532539E-3},{"$f":"元データ!M173+L$3","v":-4.9999970851170982E-3},{"$f":"元データ!N173+M$3","v":4.0000013643114903E-3}]
[null,519,{"$f":"元データ!D174+C$3","v":0.03},{"$f":"元データ!E174+D$3","v":0.21000000000000002},{"$f":"元データ!F174+E$3","v":0.40200000000000008},{"$f":"元データ!G174+F$3","v":0.54},{"$f":"元データ!H174+G$3","v":0.72199999999999986},{"$f":"元データ!I174+H$3","v":0.52400000000000002},null,519,{"$f":"元データ!L174+K$3","v":3.9999988672372311E-3},{"$f":"元データ!M174+L$3","v":-5.9999959792175327E-3},{"$f":"元データ!N174+M$3","v":3.0000030159643837E-3}]
[null,520,{"$f":"元データ!D175+C$3","v":0.03},{"$f":"元データ!E175+D$3","v":0.21000000000000002},{"$f":"元データ!F175+E$3","v":0.4},{"$f":"元データ!G175+F$3","v":0.53400000000000003},{"$f":"元データ!H175+G$3","v":0.71199999999999997},{"$f":"元データ!I175+H$3","v":0.51800000000000002},null,520,{"$f":"元データ!L175+K$3","v":4.0000041774054876E-3},{"$f":"元データ!M175+L$3","v":-5.9999916121590158E-3},{"$f":"元データ!N175+M$3","v":1.999997058714835E-3}]
[null,521,{"$f":"元データ!D176+C$3","v":0.03},{"$f":"元データ!E176+D$3","v":0.20800000000000002},{"$f":"元データ!F176+E$3","v":0.39},{"$f":"元データ!G176+F$3","v":0.52600000000000002},{"$f":"元データ!H176+G$3","v":0.70199999999999996},{"$f":"元データ!I176+H$3","v":0.51},null,521,{"$f":"元データ!L176+K$3","v":3.9999974013776377E-3},{"$f":"元データ!M176+L$3","v":-6.9999933364411505E-3},{"$f":"元データ!N176+M$3","v":2.9999961847171838E-3}]
[null,522,{"$f":"元データ!D177+C$3","v":2.7999999999999997E-2},{"$f":"元データ!E177+D$3","v":0.2},{"$f":"元データ!F177+E$3","v":0.38600000000000007},{"$f":"元データ!G177+F$3","v":0.51800000000000002},{"$f":"元データ!H177+G$3","v":0.69},{"$f":"元データ!I177+H$3","v":0.5},null,522,{"$f":"元データ!L177+K$3","v":3.9999991399846321E-3},{"$f":"元データ!M177+L$3","v":-4.9999944499011031E-3},{"$f":"元データ!N177+M$3","v":2.9999921084125983E-3}]
[null,523,{"$f":"元データ!D178+C$3","v":0.02},{"$f":"元データ!E178+D$3","v":0.2},{"$f":"元データ!F178+E$3","v":0.378},{"$f":"元データ!G178+F$3","v":0.50800000000000001},{"$f":"元データ!H178+G$3","v":0.67800000000000005},{"$f":"元データ!I178+H$3","v":0.49000000000000005},null,523,{"$f":"元データ!L178+K$3","v":3.0000011022504533E-3},{"$f":"元データ!M178+L$3","v":-4.9999979863703074E-3},{"$f":"元データ!N178+M$3","v":3.0000039922579783E-3}]
[null,524,{"$f":"元データ!D179+C$3","v":0.02},{"$f":"元データ!E179+D$3","v":0.19400000000000001},{"$f":"元データ!F179+E$3","v":0.37},{"$f":"元データ!G179+F$3","v":0.496},{"$f":"元データ!H179+G$3","v":0.66600000000000015},{"$f":"元データ!I179+H$3","v":0.48},null,524,{"$f":"元データ!L179+K$3","v":3.9999965271096463E-3},{"$f":"元データ!M179+L$3","v":-4.000000172058274E-3},{"$f":"元データ!N179+M$3","v":2.9999960406984286E-3}]
[null,525,{"$f":"元データ!D180+C$3","v":0.02},{"$f":"元データ!E180+D$3","v":0.19},{"$f":"元データ!F180+E$3","v":0.36200000000000004},{"$f":"元データ!G180+F$3","v":0.48599999999999993},{"$f":"元データ!H180+G$3","v":0.65},{"$f":"元データ!I180+H$3","v":0.46999999999999992},null,525,{"$f":"元データ!L180+K$3","v":4.0000035687933339E-3},{"$f":"元データ!M180+L$3","v":-5.0000012186653016E-3},{"$f":"元データ!N180+M$3","v":3.0000022969165034E-3}]
[null,526,{"$f":"元データ!D181+C$3","v":0.02},{"$f":"元データ!E181+D$3","v":0.188},{"$f":"元データ!F181+E$3","v":0.35599999999999998},{"$f":"元データ!G181+F$3","v":0.47599999999999998},{"$f":"元データ!H181+G$3","v":0.6359999999999999},{"$f":"元データ!I181+H$3","v":0.46000000000000008},null,526,{"$f":"元データ!L181+K$3","v":4.0000019405216705E-3},{"$f":"元データ!M181+L$3","v":-5.0000012859690007E-3},{"$f":"元データ!N181+M$3","v":3.0000035306212737E-3}]
[null,527,{"$f":"元データ!D182+C$3","v":0.02},{"$f":"元データ!E182+D$3","v":0.18000000000000002},{"$f":"元データ!F182+E$3","v":0.34600000000000003},{"$f":"元データ!G182+F$3","v":0.46399999999999997},{"$f":"元データ!H182+G$3","v":0.62},{"$f":"元データ!I182+H$3","v":0.44600000000000001},null,527,{"$f":"元データ!L182+K$3","v":2.9999961420385593E-3},{"$f":"元データ!M182+L$3","v":-7.0000031171203025E-3},{"$f":"元データ!N182+M$3","v":2.0000035732708928E-3}]
[null,528,{"$f":"元データ!D183+C$3","v":0.02},{"$f":"元データ!E183+D$3","v":0.18000000000000002},{"$f":"元データ!F183+E$3","v":0.33800000000000002},{"$f":"元データ!G183+F$3","v":0.45},{"$f":"元データ!H183+G$3","v":0.60399999999999998},{"$f":"元データ!I183+H$3","v":0.434},null,528,{"$f":"元データ!L183+K$3","v":3.9999987797421782E-3},{"$f":"元データ!M183+L$3","v":-5.9999915744039598E-3},{"$f":"元データ!N183+M$3","v":2.9999943029492306E-3}]
[null,529,{"$f":"元データ!D184+C$3","v":0.02},{"$f":"元データ!E184+D$3","v":0.17},{"$f":"元データ!F184+E$3","v":0.32800000000000001},{"$f":"元データ!G184+F$3","v":0.438},{"$f":"元データ!H184+G$3","v":0.58799999999999997},{"$f":"元データ!I184+H$3","v":0.42400000000000004},null,529,{"$f":"元データ!L184+K$3","v":4.0000009822131963E-3},{"$f":"元データ!M184+L$3","v":-5.9999981600716863E-3},{"$f":"元データ!N184+M$3","v":3.0000017909195473E-3}]
[null,530,{"$f":"元データ!D185+C$3","v":0.02},{"$f":"元データ!E185+D$3","v":0.17},{"$f":"元データ!F185+E$3","v":0.318},{"$f":"元データ!G185+F$3","v":0.42599999999999999},{"$f":"元データ!H185+G$3","v":0.56999999999999995},{"$f":"元データ!I185+H$3","v":0.41},null,530,{"$f":"元データ!L185+K$3","v":2.999999325275865E-3},{"$f":"元データ!M185+L$3","v":-7.0000001312159974E-3},{"$f":"元データ!N185+M$3","v":9.9999131227015807E-4}]
[null,531,{"$f":"元データ!D186+C$3","v":0.02},{"$f":"元データ!E186+D$3","v":0.16},{"$f":"元データ!F186+E$3","v":0.308},{"$f":"元データ!G186+F$3","v":0.41},{"$f":"元データ!H186+G$3","v":0.55200000000000005},{"$f":"元データ!I186+H$3","v":0.39600000000000007},null,531,{"$f":"元データ!L186+K$3","v":2.0000065405282111E-3},{"$f":"元データ!M186+L$3","v":-5.9999897326139199E-3},{"$f":"元データ!N186+M$3","v":1.9999992951487654E-3}]
[null,532,{"$f":"元データ!D187+C$3","v":0.02},{"$f":"元データ!E187+D$3","v":0.158},{"$f":"元データ!F187+E$3","v":0.29599999999999999},{"$f":"元データ!G187+F$3","v":0.39600000000000007},{"$f":"元データ!H187+G$3","v":0.53400000000000003},{"$f":"元データ!I187+H$3","v":0.38400000000000001},null,532,{"$f":"元データ!L187+K$3","v":1.9999985203794854E-3},{"$f":"元データ!M187+L$3","v":-7.0000022245319555E-3},{"$f":"元データ!N187+M$3","v":9.9999642004134498E-4}]
[null,533,{"$f":"元データ!D188+C$3","v":0.02},{"$f":"元データ!E188+D$3","v":0.15000000000000002},{"$f":"元データ!F188+E$3","v":0.28800000000000003},{"$f":"元データ!G188+F$3","v":0.38199999999999995},{"$f":"元データ!H188+G$3","v":0.51400000000000001},{"$f":"元データ!I188+H$3","v":0.36799999999999999},null,533,{"$f":"元データ!L188+K$3","v":3.0000055523677766E-3},{"$f":"元データ!M188+L$3","v":-6.0000024238106939E-3},{"$f":"元データ!N188+M$3","v":2.0000022131230893E-3}]
[null,534,{"$f":"元データ!D189+C$3","v":0.02},{"$f":"元データ!E189+D$3","v":0.14600000000000002},{"$f":"元データ!F189+E$3","v":0.27600000000000002},{"$f":"元データ!G189+F$3","v":0.36599999999999994},{"$f":"元データ!H189+G$3","v":0.496},{"$f":"元データ!I189+H$3","v":0.35399999999999998},null,534,{"$f":"元データ!L189+K$3","v":5.0000068761056719E-3},{"$f":"元データ!M189+L$3","v":-4.9999905989174115E-3},{"$f":"元データ!N189+M$3","v":4.0000035016209239E-3}]
[null,535,{"$f":"元データ!D190+C$3","v":0.02},{"$f":"元データ!E190+D$3","v":0.14000000000000001},{"$f":"元データ!F190+E$3","v":0.26600000000000001},{"$f":"元データ!G190+F$3","v":0.35200000000000004},{"$f":"元データ!H190+G$3","v":0.47599999999999998},{"$f":"元データ!I190+H$3","v":0.33800000000000002},null,535,{"$f":"元データ!L190+K$3","v":3.0000052507750674E-3},{"$f":"元データ!M190+L$3","v":-6.9999959645402118E-3},{"$f":"元データ!N190+M$3","v":2.999993626394859E-3}]
[null,536,{"$f":"元データ!D191+C$3","v":0.02},{"$f":"元データ!E191+D$3","v":0.13600000000000001},{"$f":"元データ!F191+E$3","v":0.254},{"$f":"元データ!G191+F$3","v":0.33800000000000002},{"$f":"元データ!H191+G$3","v":0.45600000000000007},{"$f":"元データ!I191+H$3","v":0.32600000000000001},null,536,{"$f":"元データ!L191+K$3","v":2.0000037715140334E-3},{"$f":"元データ!M191+L$3","v":-6.9999985506090639E-3},{"$f":"元データ!N191+M$3","v":9.9999654368367399E-4}]
[null,537,{"$f":"元データ!D192+C$3","v":0.02},{"$f":"元データ!E192+D$3","v":0.13},{"$f":"元データ!F192+E$3","v":0.24399999999999999},{"$f":"元データ!G192+F$3","v":0.32400000000000001},{"$f":"元データ!H192+G$3","v":0.43600000000000005},{"$f":"元データ!I192+H$3","v":0.312},null,537,{"$f":"元データ!L192+K$3","v":1.9999968417765343E-3},{"$f":"元データ!M192+L$3","v":-7.0000003978436132E-3},{"$f":"元データ!N192+M$3","v":9.9999587778869074E-4}]
[null,538,{"$f":"元データ!D193+C$3","v":0.02},{"$f":"元データ!E193+D$3","v":0.12199999999999998},{"$f":"元データ!F193+E$3","v":0.23400000000000004},{"$f":"元データ!G193+F$3","v":0.308},{"$f":"元データ!H193+G$3","v":0.41799999999999998},{"$f":"元データ!I193+H$3","v":0.29599999999999999},null,538,{"$f":"元データ!L193+K$3","v":1.0000084860603276E-3},{"$f":"元データ!M193+L$3","v":-7.9999909636432522E-3},{"$f":"元データ!N193+M$3","v":9.9999767294764452E-4}]
[null,539,{"$f":"元データ!D194+C$3","v":0.02},{"$f":"元データ!E194+D$3","v":0.12000000000000001},{"$f":"元データ!F194+E$3","v":0.22200000000000003},{"$f":"元データ!G194+F$3","v":0.29399999999999998},{"$f":"元データ!H194+G$3","v":0.4},{"$f":"元データ!I194+H$3","v":0.28200000000000003},null,539,{"$f":"元データ!L194+K$3","v":1.0000033481279078E-3},{"$f":"元データ!M194+L$3","v":-6.99999770377247E-3},{"$f":"元データ!N194+M$3","v":7.923245809449142E-10}]
[null,540,{"$f":"元データ!D195+C$3","v":0.02},{"$f":"元データ!E195+D$3","v":0.112},{"$f":"元データ!F195+E$3","v":0.21200000000000002},{"$f":"元データ!G195+F$3","v":0.28000000000000003},{"$f":"元データ!H195+G$3","v":0.38},{"$f":"元データ!I195+H$3","v":0.26800000000000002},null,540,{"$f":"元データ!L195+K$3","v":-1.1241029843067629E-9},{"$f":"元データ!M195+L$3","v":-6.9999949119155403E-3},{"$f":"元データ!N195+M$3","v":1.000000987669409E-3}]
[null,541,{"$f":"元データ!D196+C$3","v":0.02},{"$f":"元データ!E196+D$3","v":0.11},{"$f":"元データ!F196+E$3","v":0.20200000000000001},{"$f":"元データ!G196+F$3","v":0.26400000000000001},{"$f":"元データ!H196+G$3","v":0.36199999999999999},{"$f":"元データ!I196+H$3","v":0.25600000000000001},null,541,{"$f":"元データ!L196+K$3","v":1.0000078965012107E-3},{"$f":"元データ!M196+L$3","v":-7.0000027083331386E-3},{"$f":"元データ!N196+M$3","v":1.9999932425880662E-3}]
[null,542,{"$f":"元データ!D197+C$3","v":0.02},{"$f":"元データ!E197+D$3","v":0.10199999999999999},{"$f":"元データ!F197+E$3","v":0.192},{"$f":"元データ!G197+F$3","v":0.25},{"$f":"元データ!H197+G$3","v":0.34400000000000003},{"$f":"元データ!I197+H$3","v":0.24199999999999999},null,542,{"$f":"元データ!L197+K$3","v":1.0000088445869387E-3},{"$f":"元データ!M197+L$3","v":-6.9999896020602245E-3},{"$f":"元データ!N197+M$3","v":9.9999060326622438E-4}]
[null,543,{"$f":"元データ!D198+C$3","v":0.02},{"$f":"元データ!E198+D$3","v":9.8333333333333314E-2},{"$f":"元データ!F198+E$3","v":0.18166666666666667},{"$f":"元データ!G198+F$3","v":0.23666666666666666},{"$f":"元データ!H198+G$3","v":0.32500000000000001},{"$f":"元データ!I198+H$3","v":0.22666666666666668},null,543,{"$f":"元データ!L198+K$3","v":-9.9999971445324798E-4},{"$f":"元データ!M198+L$3","v":-7.999999534829565E-3},{"$f":"元データ!N198+M$3","v":-5.1344099787770103E-9}]
[null,544,{"$f":"元データ!D199+C$3","v":0.02},{"$f":"元データ!E199+D$3","v":0.09},{"$f":"元データ!F199+E$3","v":0.17200000000000001},{"$f":"元データ!G199+F$3","v":0.22200000000000003},{"$f":"元データ!H199+G$3","v":0.30599999999999999},{"$f":"元データ!I199+H$3","v":0.21400000000000002},null,544,{"$f":"元データ!L199+K$3","v":-1.0000010451018462E-3},{"$f":"元データ!M199+L$3","v":-8.9999985872645499E-3},{"$f":"元データ!N199+M$3","v":-1.0000040107421889E-3}]
[null,545,{"$f":"元データ!D200+C$3","v":0.02},{"$f":"元データ!E200+D$3","v":0.09},{"$f":"元データ!F200+E$3","v":0.16200000000000001},{"$f":"元データ!G200+F$3","v":0.21200000000000002},{"$f":"元データ!H200+G$3","v":0.28999999999999998},{"$f":"元データ!I200+H$3","v":0.20200000000000001},null,545,{"$f":"元データ!L200+K$3","v":7.2539248635594689E-9},{"$f":"元データ!M200+L$3","v":-7.9999898067757685E-3},{"$f":"元データ!N200+M$3","v":-1.0047589128758805E-8}]
[null,546,{"$f":"元データ!D201+C$3","v":0.02},{"$f":"元データ!E201+D$3","v":8.2000000000000003E-2},{"$f":"元データ!F201+E$3","v":0.15400000000000003},{"$f":"元データ!G201+F$3","v":0.19800000000000001},{"$f":"元データ!H201+G$3","v":0.27400000000000002},{"$f":"元データ!I201+H$3","v":0.188},null,546,{"$f":"元データ!L201+K$3","v":2.954312607050813E-9},{"$f":"元データ!M201+L$3","v":-8.0000017328624769E-3},{"$f":"元データ!N201+M$3","v":-3.8768004102102127E-9}]
[null,547,{"$f":"元データ!D202+C$3","v":0.02},{"$f":"元データ!E202+D$3","v":0.08},{"$f":"元データ!F202+E$3","v":0.14600000000000002},{"$f":"元データ!G202+F$3","v":0.186},{"$f":"元データ!H202+G$3","v":0.25800000000000001},{"$f":"元データ!I202+H$3","v":0.17799999999999999},null,547,{"$f":"元データ!L202+K$3","v":2.8143147118298018E-9},{"$f":"元データ!M202+L$3","v":-7.999998003989808E-3},{"$f":"元データ!N202+M$3","v":2.7768966084917857E-9}]
[null,548,{"$f":"元データ!D203+C$3","v":0.02},{"$f":"元データ!E203+D$3","v":7.5999999999999998E-2},{"$f":"元データ!F203+E$3","v":0.13800000000000001},{"$f":"元データ!G203+F$3","v":0.17600000000000002},{"$f":"元データ!H203+G$3","v":0.24399999999999999},{"$f":"元データ!I203+H$3","v":0.16800000000000001},null,548,{"$f":"元データ!L203+K$3","v":-9.9999712447648714E-4},{"$f":"元データ!M203+L$3","v":-7.9999919960487918E-3},{"$f":"元データ!N203+M$3","v":1.5565044583082388E-9}]
[null,549,{"$f":"元データ!D204+C$3","v":0.02},{"$f":"元データ!E204+D$3","v":6.9999999999999993E-2},{"$f":"元データ!F204+E$3","v":0.13},{"$f":"元データ!G204+F$3","v":0.16600000000000001},{"$f":"元データ!H204+G$3","v":0.23199999999999998},{"$f":"元データ!I204+H$3","v":0.158},null,549,{"$f":"元データ!L204+K$3","v":-1.9999926164972551E-3},{"$f":"元データ!M204+L$3","v":-7.999993346962395E-3},{"$f":"元データ!N204+M$3","v":-6.3749890609476889E-9}]
[null,550,{"$f":"元データ!D205+C$3","v":0.02},{"$f":"元データ!E205+D$3","v":6.9999999999999993E-2},{"$f":"元データ!F205+E$3","v":0.12199999999999998},{"$f":"元データ!G205+F$3","v":0.156},{"$f":"元データ!H205+G$3","v":0.21800000000000003},{"$f":"元データ!I205+H$3","v":0.14799999999999999},null,550,{"$f":"元データ!L205+K$3","v":-1.9999999496020243E-3},{"$f":"元データ!M205+L$3","v":-7.9999928194798304E-3},{"$f":"元データ!N205+M$3","v":9.9998981103778008E-4}]
[null,551,{"$f":"元データ!D206+C$3","v":0.02},{"$f":"元データ!E206+D$3","v":6.3999999999999987E-2},{"$f":"元データ!F206+E$3","v":0.11600000000000001},{"$f":"元データ!G206+F$3","v":0.14599999999999999},{"$f":"元データ!H206+G$3","v":0.20600000000000002},{"$f":"元データ!I206+H$3","v":0.14000000000000001},null,551,{"$f":"元データ!L206+K$3","v":-2.999998779480012E-3},{"$f":"元データ!M206+L$3","v":-8.9999957862495986E-3},{"$f":"元データ!N206+M$3","v":-8.0335633804995421E-10}]
[null,552,{"$f":"元データ!D207+C$3","v":0.02},{"$f":"元データ!E207+D$3","v":6.0000000000000005E-2},{"$f":"元データ!F207+E$3","v":0.11},{"$f":"元データ!G207+F$3","v":0.13800000000000001},{"$f":"元データ!H207+G$3","v":0.19400000000000001},{"$f":"元データ!I207+H$3","v":0.13},null,552,{"$f":"元データ!L207+K$3","v":-2.9999925400579913E-3},{"$f":"元データ!M207+L$3","v":-8.9999978055998273E-3},{"$f":"元データ!N207+M$3","v":-1.0000053038754422E-3}]
[null,553,{"$f":"元データ!D208+C$3","v":0.02},{"$f":"元データ!E208+D$3","v":6.0000000000000005E-2},{"$f":"元データ!F208+E$3","v":9.9999999999999992E-2},{"$f":"元データ!G208+F$3","v":0.13},{"$f":"元データ!H208+G$3","v":0.182},{"$f":"元データ!I208+H$3","v":0.122},null,553,{"$f":"元データ!L208+K$3","v":-2.0000022247136512E-3},{"$f":"元データ!M208+L$3","v":-8.9999975821955912E-3},{"$f":"元データ!N208+M$3","v":-2.000006214739232E-3}]
[null,554,{"$f":"元データ!D209+C$3","v":0.02},{"$f":"元データ!E209+D$3","v":5.4000000000000006E-2},{"$f":"元データ!F209+E$3","v":9.9999999999999992E-2},{"$f":"元データ!G209+F$3","v":0.12},{"$f":"元データ!H209+G$3","v":0.17200000000000001},{"$f":"元データ!I209+H$3","v":0.11399999999999999},null,554,{"$f":"元データ!L209+K$3","v":-1.99999673662557E-3},{"$f":"元データ!M209+L$3","v":-8.999992497511192E-3},{"$f":"元データ!N209+M$3","v":-1.0000024037331526E-3}]
[null,555,{"$f":"元データ!D210+C$3","v":0.02},{"$f":"元データ!E210+D$3","v":0.05},{"$f":"元データ!F210+E$3","v":0.09},{"$f":"元データ!G210+F$3","v":0.11199999999999999},{"$f":"元データ!H210+G$3","v":0.16},{"$f":"元データ!I210+H$3","v":0.10800000000000001},null,555,{"$f":"元データ!L210+K$3","v":-1.9999939973673123E-3},{"$f":"元データ!M210+L$3","v":-8.9999927464220319E-3},{"$f":"元データ!N210+M$3","v":-9.9999803872870795E-4}]
[null,556,{"$f":"元データ!D211+C$3","v":0.01},{"$f":"元データ!E211+D$3","v":0.05},{"$f":"元データ!F211+E$3","v":8.7999999999999995E-2},{"$f":"元データ!G211+F$3","v":0.10600000000000001},{"$f":"元データ!H211+G$3","v":0.15},{"$f":"元データ!I211+H$3","v":0.1},null,556,{"$f":"元データ!L211+K$3","v":-2.9999981897487413E-3},{"$f":"元データ!M211+L$3","v":-9.9999948038320876E-3},{"$f":"元データ!N211+M$3","v":-1.000009174685899E-3}]
[null,557,{"$f":"元データ!D212+C$3","v":0.01},{"$f":"元データ!E212+D$3","v":0.05},{"$f":"元データ!F212+E$3","v":0.08},{"$f":"元データ!G212+F$3","v":0.1},{"$f":"元データ!H212+G$3","v":0.14400000000000002},{"$f":"元データ!I212+H$3","v":9.4E-2},null,557,{"$f":"元データ!L212+K$3","v":-3.9999962769476718E-3},{"$f":"元データ!M212+L$3","v":-9.9999939539200892E-3},{"$f":"元データ!N212+M$3","v":-2.0000034531869187E-3}]
[null,558,{"$f":"元データ!D213+C$3","v":0.01},{"$f":"元データ!E213+D$3","v":4.2000000000000003E-2},{"$f":"元データ!F213+E$3","v":0.08},{"$f":"元データ!G213+F$3","v":9.4E-2},{"$f":"元データ!H213+G$3","v":0.13600000000000001},{"$f":"元データ!I213+H$3","v":0.09},null,558,{"$f":"元データ!L213+K$3","v":-3.9999950119778138E-3},{"$f":"元データ!M213+L$3","v":-9.9999996155144422E-3},{"$f":"元データ!N213+M$3","v":-1.000005963718003E-3}]
[null,559,{"$f":"元データ!D214+C$3","v":0.01},{"$f":"元データ!E214+D$3","v":0.04},{"$f":"元データ!F214+E$3","v":7.1999999999999995E-2},{"$f":"元データ!G214+F$3","v":0.09},{"$f":"元データ!H214+G$3","v":0.128},{"$f":"元データ!I214+H$3","v":8.2000000000000003E-2},null,559,{"$f":"元データ!L214+K$3","v":-2.9999984524056098E-3},{"$f":"元データ!M214+L$3","v":-8.9999979896759185E-3},{"$f":"元データ!N214+M$3","v":-1.00000298964684E-3}]
[null,560,{"$f":"元データ!D215+C$3","v":0.01},{"$f":"元データ!E215+D$3","v":0.04},{"$f":"元データ!F215+E$3","v":6.9999999999999993E-2},{"$f":"元データ!G215+F$3","v":0.08},{"$f":"元データ!H215+G$3","v":0.12},{"$f":"元データ!I215+H$3","v":7.5999999999999998E-2},null,560,{"$f":"元データ!L215+K$3","v":-3.9999992437635898E-3},{"$f":"元データ!M215+L$3","v":-9.9999956999609219E-3},{"$f":"元データ!N215+M$3","v":-2.0000060237476223E-3}]
[null,561,{"$f":"元データ!D216+C$3","v":0.01},{"$f":"元データ!E216+D$3","v":0.04},{"$f":"元データ!F216+E$3","v":6.3999999999999987E-2},{"$f":"元データ!G216+F$3","v":7.8E-2},{"$f":"元データ!H216+G$3","v":0.11000000000000001},{"$f":"元データ!I216+H$3","v":7.0000000000000007E-2},null,561,{"$f":"元データ!L216+K$3","v":-4.0000013101526288E-3},{"$f":"元データ!M216+L$3","v":-9.9999946611790558E-3},{"$f":"元データ!N216+M$3","v":-2.0000027602866347E-3}]
[null,562,{"$f":"元データ!D217+C$3","v":0.01},{"$f":"元データ!E217+D$3","v":0.04},{"$f":"元データ!F217+E$3","v":6.0000000000000005E-2},{"$f":"元データ!G217+F$3","v":7.0000000000000007E-2},{"$f":"元データ!H217+G$3","v":0.10600000000000001},{"$f":"元データ!I217+H$3","v":6.6000000000000003E-2},null,562,{"$f":"元データ!L217+K$3","v":-2.9999968415298228E-3},{"$f":"元データ!M217+L$3","v":-9.9999916942959E-3},{"$f":"元データ!N217+M$3","v":-2.0000020372004587E-3}]
[null,563,{"$f":"元データ!D218+C$3","v":0.01},{"$f":"元データ!E218+D$3","v":3.1666666666666669E-2},{"$f":"元データ!F218+E$3","v":0.06},{"$f":"元データ!G218+F$3","v":7.0000000000000007E-2},{"$f":"元データ!H218+G$3","v":9.9999999999999992E-2},{"$f":"元データ!I218+H$3","v":0.06},null,563,{"$f":"元データ!L218+K$3","v":-2.9999969930961518E-3},{"$f":"元データ!M218+L$3","v":-8.9999922051143388E-3},{"$f":"元データ!N218+M$3","v":-9.9999799630325591E-4}]
[null,564,{"$f":"元データ!D219+C$3","v":0.01},{"$f":"元データ!E219+D$3","v":0.03},{"$f":"元データ!F219+E$3","v":5.6000000000000008E-2},{"$f":"元データ!G219+F$3","v":0.06},{"$f":"元データ!H219+G$3","v":9.4E-2},{"$f":"元データ!I219+H$3","v":0.06},null,564,{"$f":"元データ!L219+K$3","v":-3.9999923460433892E-3},{"$f":"元データ!M219+L$3","v":-9.9999982116657175E-3},{"$f":"元データ!N219+M$3","v":-2.0000074815695445E-3}]
[null,565,{"$f":"元データ!D220+C$3","v":0.01},{"$f":"元データ!E220+D$3","v":0.03},{"$f":"元データ!F220+E$3","v":0.05},{"$f":"元データ!G220+F$3","v":0.06},{"$f":"元データ!H220+G$3","v":0.09},{"$f":"元データ!I220+H$3","v":5.5999999999999994E-2},null,565,{"$f":"元データ!L220+K$3","v":-4.999998675298066E-3},{"$f":"元データ!M220+L$3","v":-1.0999994356817521E-2},{"$f":"元データ!N220+M$3","v":-2.0000033273927052E-3}]
[null,566,{"$f":"元データ!D221+C$3","v":0.01},{"$f":"元データ!E221+D$3","v":0.03},{"$f":"元データ!F221+E$3","v":0.05},{"$f":"元データ!G221+F$3","v":5.7999999999999996E-2},{"$f":"元データ!H221+G$3","v":8.2000000000000003E-2},{"$f":"元データ!I221+H$3","v":0.05},null,566,{"$f":"元データ!L221+K$3","v":-4.0000002466920939E-3},{"$f":"元データ!M221+L$3","v":-9.9999900514678771E-3},{"$f":"元データ!N221+M$3","v":-9.9999795820769448E-4}]
[null,567,{"$f":"元データ!D222+C$3","v":0.01},{"$f":"元データ!E222+D$3","v":0.03},{"$f":"元データ!F222+E$3","v":0.05},{"$f":"元データ!G222+F$3","v":0.05},{"$f":"元データ!H222+G$3","v":0.08},{"$f":"元データ!I222+H$3","v":0.05},null,567,{"$f":"元データ!L222+K$3","v":-3.9999984201299424E-3},{"$f":"元データ!M222+L$3","v":-1.0999992052175932E-2},{"$f":"元データ!N222+M$3","v":-2.0000041098710616E-3}]
[null,568,{"$f":"元データ!D223+C$3","v":0.01},{"$f":"元データ!E223+D$3","v":0.03},{"$f":"元データ!F223+E$3","v":4.4000000000000004E-2},{"$f":"元データ!G223+F$3","v":0.05},{"$f":"元データ!H223+G$3","v":7.2000000000000008E-2},{"$f":"元データ!I223+H$3","v":0.04},null,568,{"$f":"元データ!L223+K$3","v":-1.9999958429541137E-3},{"$f":"元データ!M223+L$3","v":-9.9999915886185824E-3},{"$f":"元データ!N223+M$3","v":-1.0000060969645817E-3}]
[null,569,{"$f":"元データ!D224+C$3","v":0.01},{"$f":"元データ!E224+D$3","v":2.5999999999999995E-2},{"$f":"元データ!F224+E$3","v":0.04},{"$f":"元データ!G224+F$3","v":4.2000000000000003E-2},{"$f":"元データ!H224+G$3","v":7.0000000000000007E-2},{"$f":"元データ!I224+H$3","v":0.04},null,569,{"$f":"元データ!L224+K$3","v":-9.9999277484535964E-4},{"$f":"元データ!M224+L$3","v":-8.9999959057666615E-3},{"$f":"元データ!N224+M$3","v":-7.1402654830410306E-9}]
[null,570,{"$f":"元データ!D225+C$3","v":0.01},{"$f":"元データ!E225+D$3","v":0.02},{"$f":"元データ!F225+E$3","v":0.04},{"$f":"元データ!G225+F$3","v":0.04},{"$f":"元データ!H225+G$3","v":6.2E-2},{"$f":"元データ!I225+H$3","v":0.03},null,570,{"$f":"元データ!L225+K$3","v":-9.9999960306308699E-4},{"$f":"元データ!M225+L$3","v":-8.9999933503635537E-3},{"$f":"元データ!N225+M$3","v":-4.0138470446676733E-9}]
[null,571,{"$f":"元データ!D226+C$3","v":0.01},{"$f":"元データ!E226+D$3","v":0.02},{"$f":"元データ!F226+E$3","v":0.04},{"$f":"元データ!G226+F$3","v":3.7999999999999999E-2},{"$f":"元データ!H226+G$3","v":0.06},{"$f":"元データ!I226+H$3","v":0.03},null,571,{"$f":"元データ!L226+K$3","v":-1.0000013538295355E-3},{"$f":"元データ!M226+L$3","v":-8.9999952058780319E-3},{"$f":"元データ!N226+M$3","v":1.4973173690507879E-9}]
[null,572,{"$f":"元データ!D227+C$3","v":0.01},{"$f":"元データ!E227+D$3","v":0.02},{"$f":"元データ!F227+E$3","v":3.6000000000000004E-2},{"$f":"元データ!G227+F$3","v":0.03},{"$f":"元データ!H227+G$3","v":5.3999999999999992E-2},{"$f":"元データ!I227+H$3","v":0.03},null,572,{"$f":"元データ!L227+K$3","v":-2.0000013939238601E-3},{"$f":"元データ!M227+L$3","v":-9.9999998425627495E-3},{"$f":"元データ!N227+M$3","v":-1.000005490482913E-3}]
[null,573,{"$f":"元データ!D228+C$3","v":0.01},{"$f":"元データ!E228+D$3","v":0.02},{"$f":"元データ!F228+E$3","v":0.03},{"$f":"元データ!G228+F$3","v":0.03},{"$f":"元データ!H228+G$3","v":0.05},{"$f":"元データ!I228+H$3","v":0.02},null,573,{"$f":"元データ!L228+K$3","v":-1.9999929027441146E-3},{"$f":"元データ!M228+L$3","v":-9.9999965080021149E-3},{"$f":"元データ!N228+M$3","v":-4.5073122317829117E-10}]
[null,574,{"$f":"元データ!D229+C$3","v":0.01},{"$f":"元データ!E229+D$3","v":0.02},{"$f":"元データ!F229+E$3","v":0.03},{"$f":"元データ!G229+F$3","v":0.03},{"$f":"元データ!H229+G$3","v":0.05},{"$f":"元データ!I229+H$3","v":0.02},null,574,{"$f":"元データ!L229+K$3","v":-2.00000147984912E-3},{"$f":"元データ!M229+L$3","v":-9.9999975982068019E-3},{"$f":"元データ!N229+M$3","v":-1.0000033339605252E-3}]
[null,575,{"$f":"元データ!D230+C$3","v":0.01},{"$f":"元データ!E230+D$3","v":0.02},{"$f":"元データ!F230+E$3","v":0.03},{"$f":"元データ!G230+F$3","v":2.6000000000000002E-2},{"$f":"元データ!H230+G$3","v":4.2000000000000003E-2},{"$f":"元データ!I230+H$3","v":0.02},null,575,{"$f":"元データ!L230+K$3","v":-9.9999757961000135E-4},{"$f":"元データ!M230+L$3","v":-1.0999993680534946E-2},{"$f":"元データ!N230+M$3","v":-1.0000080516944405E-3}]
[null,576,{"$f":"元データ!D231+C$3","v":0.01},{"$f":"元データ!E231+D$3","v":0.02},{"$f":"元データ!F231+E$3","v":0.03},{"$f":"元データ!G231+F$3","v":0.02},{"$f":"元データ!H231+G$3","v":0.04},{"$f":"元データ!I231+H$3","v":1.6666666666666666E-2},null,576,{"$f":"元データ!L231+K$3","v":-1.0000008801976379E-3},{"$f":"元データ!M231+L$3","v":-1.0999999223476007E-2},{"$f":"元データ!N231+M$3","v":-7.5595619711960049E-9}]
[null,577,{"$f":"元データ!D232+C$3","v":0.01},{"$f":"元データ!E232+D$3","v":0.02},{"$f":"元データ!F232+E$3","v":2.7999999999999997E-2},{"$f":"元データ!G232+F$3","v":0.02},{"$f":"元データ!H232+G$3","v":0.04},{"$f":"元データ!I232+H$3","v":0.01},null,577,{"$f":"元データ!L232+K$3","v":2.1887409315524131E-9},{"$f":"元データ!M232+L$3","v":-9.9999987834453862E-3},{"$f":"元データ!N232+M$3","v":-1.000002657410376E-3}]
[null,578,{"$f":"元データ!D233+C$3","v":0.01},{"$f":"元データ!E233+D$3","v":0.02},{"$f":"元データ!F233+E$3","v":0.02},{"$f":"元データ!G233+F$3","v":0.02},{"$f":"元データ!H233+G$3","v":3.4000000000000002E-2},{"$f":"元データ!I233+H$3","v":0.01},null,578,{"$f":"元データ!L233+K$3","v":3.8683860559274308E-9},{"$f":"元データ!M233+L$3","v":-8.9999982873509455E-3},{"$f":"元データ!N233+M$3","v":-6.8921572667773878E-9}]
[null,579,{"$f":"元データ!D234+C$3","v":0.01},{"$f":"元データ!E234+D$3","v":0.02},{"$f":"元データ!F234+E$3","v":0.02},{"$f":"元データ!G234+F$3","v":0.02},{"$f":"元データ!H234+G$3","v":0.03},{"$f":"元データ!I234+H$3","v":0.01},null,579,{"$f":"元データ!L234+K$3","v":4.048404812773132E-9},{"$f":"元データ!M234+L$3","v":-9.999999423017698E-3},{"$f":"元データ!N234+M$3","v":5.8809590704200776E-10}]
[null,580,{"$f":"元データ!D235+C$3","v":0.01},{"$f":"元データ!E235+D$3","v":0.02},{"$f":"元データ!F235+E$3","v":0.02},{"$f":"元データ!G235+F$3","v":1.4000000000000002E-2},{"$f":"元データ!H235+G$3","v":0.03},{"$f":"元データ!I235+H$3","v":0.01},null,580,{"$f":"元データ!L235+K$3","v":9.9999912349096887E-4},{"$f":"元データ!M235+L$3","v":-8.9999969201205714E-3},{"$f":"元データ!N235+M$3","v":9.9999247437067978E-4}]
[null,581,{"$f":"元データ!D236+C$3","v":0.01},{"$f":"元データ!E236+D$3","v":0.02},{"$f":"元データ!F236+E$3","v":0.02},{"$f":"元データ!G236+F$3","v":0.01},{"$f":"元データ!H236+G$3","v":0.03},{"$f":"元データ!I236+H$3","v":4.0000000000000001E-3},null,581,{"$f":"元データ!L236+K$3","v":1.0000010019685437E-3},{"$f":"元データ!M236+L$3","v":-9.9999962837812335E-3},{"$f":"元データ!N236+M$3","v":9.9999340347920081E-4}]
[null,582,{"$f":"元データ!D237+C$3","v":0.01},{"$f":"元データ!E237+D$3","v":0.02},{"$f":"元データ!F237+E$3","v":0.02},{"$f":"元データ!G237+F$3","v":0.01},{"$f":"元データ!H237+G$3","v":0.03},{"$f":"元データ!I237+H$3","v":6.0000000000000001E-3},null,582,{"$f":"元データ!L237+K$3","v":-9.9999400445368453E-4},{"$f":"元データ!M237+L$3","v":-1.0000000166836576E-2},{"$f":"元データ!N237+M$3","v":1.1795618076043679E-9}]
[null,583,{"$f":"元データ!D238+C$3","v":0.01},{"$f":"元データ!E238+D$3","v":1.8000000000000002E-2},{"$f":"元データ!F238+E$3","v":0.02},{"$f":"元データ!G238+F$3","v":0.01},{"$f":"元データ!H238+G$3","v":0.03},{"$f":"元データ!I238+H$3","v":8.0000000000000002E-3},null,583,{"$f":"元データ!L238+K$3","v":-1.9999971321408988E-3},{"$f":"元データ!M238+L$3","v":-9.9999974423854564E-3},{"$f":"元データ!N238+M$3","v":-1.000003598670713E-3}]
[null,584,{"$f":"元データ!D239+C$3","v":0.01},{"$f":"元データ!E239+D$3","v":0.01},{"$f":"元データ!F239+E$3","v":0.02},{"$f":"元データ!G239+F$3","v":0.01},{"$f":"元データ!H239+G$3","v":0.02},{"$f":"元データ!I239+H$3","v":0},null,584,{"$f":"元データ!L239+K$3","v":-1.9999929546322751E-3},{"$f":"元データ!M239+L$3","v":-9.9999923602493348E-3},{"$f":"元データ!N239+M$3","v":-6.1760106334629583E-9}]
[null,585,{"$f":"元データ!D240+C$3","v":0.01},{"$f":"元データ!E240+D$3","v":0.01},{"$f":"元データ!F240+E$3","v":0.02},{"$f":"元データ!G240+F$3","v":0.01},{"$f":"元データ!H240+G$3","v":0.02},{"$f":"元データ!I240+H$3","v":0},null,585,{"$f":"元データ!L240+K$3","v":-1.9999956543067729E-3},{"$f":"元データ!M240+L$3","v":-1.0000000055004161E-2},{"$f":"元データ!N240+M$3","v":2.3983162678042902E-10}]
[null,586,{"$f":"元データ!D241+C$3","v":0.01},{"$f":"元データ!E241+D$3","v":0.01},{"$f":"元データ!F241+E$3","v":1.8333333333333333E-2},{"$f":"元データ!G241+F$3","v":0.01},{"$f":"元データ!H241+G$3","v":0.02},{"$f":"元データ!I241+H$3","v":0},null,586,{"$f":"元データ!L241+K$3","v":-2.9999989825715973E-3},{"$f":"元データ!M241+L$3","v":-9.9999998944942017E-3},{"$f":"元データ!N241+M$3","v":-9.999985235073991E-4}]
[null,587,{"$f":"元データ!D242+C$3","v":0.01},{"$f":"元データ!E242+D$3","v":0.01},{"$f":"元データ!F242+E$3","v":1.4E-2},{"$f":"元データ!G242+F$3","v":0.01},{"$f":"元データ!H242+G$3","v":0.02},{"$f":"元データ!I242+H$3","v":0},null,587,{"$f":"元データ!L242+K$3","v":-3.9999939509326524E-3},{"$f":"元データ!M242+L$3","v":-9.9999926558916822E-3},{"$f":"元データ!N242+M$3","v":-1.0000055977113995E-3}]
[null,588,{"$f":"元データ!D243+C$3","v":0.01},{"$f":"元データ!E243+D$3","v":0.01},{"$f":"元データ!F243+E$3","v":0.01},{"$f":"元データ!G243+F$3","v":0.01},{"$f":"元データ!H243+G$3","v":0.02},{"$f":"元データ!I243+H$3","v":0},null,588,{"$f":"元データ!L243+K$3","v":-3.9999980355076986E-3},{"$f":"元データ!M243+L$3","v":-1.0999996385993438E-2},{"$f":"元データ!N243+M$3","v":-9.9999951534796537E-4}]
[null,589,{"$f":"元データ!D244+C$3","v":0.01},{"$f":"元データ!E244+D$3","v":0.01},{"$f":"元データ!F244+E$3","v":0.01},{"$f":"元データ!G244+F$3","v":0.01},{"$f":"元データ!H244+G$3","v":0.02},{"$f":"元データ!I244+H$3","v":0},null,589,{"$f":"元データ!L244+K$3","v":-4.0000001209425234E-3},{"$f":"元データ!M244+L$3","v":-1.1000000215988686E-2},{"$f":"元データ!N244+M$3","v":-2.0000003809507848E-3}]
[null,590,{"$f":"元データ!D245+C$3","v":0.01},{"$f":"元データ!E245+D$3","v":0.01},{"$f":"元データ!F245+E$3","v":0.01},{"$f":"元データ!G245+F$3","v":0.01},{"$f":"元データ!H245+G$3","v":0.02},{"$f":"元データ!I245+H$3","v":0},null,590,{"$f":"元データ!L245+K$3","v":-3.9999966818092397E-3},{"$f":"元データ!M245+L$3","v":-9.9999973437454853E-3},{"$f":"元データ!N245+M$3","v":-1.0000074890264762E-3}]
[null,591,{"$f":"元データ!D246+C$3","v":0.01},{"$f":"元データ!E246+D$3","v":0.01},{"$f":"元データ!F246+E$3","v":0.01},{"$f":"元データ!G246+F$3","v":2E-3},{"$f":"元データ!H246+G$3","v":0.02},{"$f":"元データ!I246+H$3","v":0},null,591,{"$f":"元データ!L246+K$3","v":-2.9999955042498416E-3},{"$f":"元データ!M246+L$3","v":-1.0999991848144342E-2},{"$f":"元データ!N246+M$3","v":-1.0000083059294364E-3}]
[null,592,{"$f":"元データ!D247+C$3","v":0.01},{"$f":"元データ!E247+D$3","v":0.01},{"$f":"元データ!F247+E$3","v":0.01},{"$f":"元データ!G247+F$3","v":0},{"$f":"元データ!H247+G$3","v":1.2E-2},{"$f":"元データ!I247+H$3","v":0},null,592,{"$f":"元データ!L247+K$3","v":-1.9999957120791084E-3},{"$f":"元データ!M247+L$3","v":-9.9999959987744722E-3},{"$f":"元データ!N247+M$3","v":-9.9999881662660335E-4}]
[null,593,{"$f":"元データ!D248+C$3","v":0.01},{"$f":"元データ!E248+D$3","v":0.01},{"$f":"元データ!F248+E$3","v":0.01},{"$f":"元データ!G248+F$3","v":0},{"$f":"元データ!H248+G$3","v":0.01},{"$f":"元データ!I248+H$3","v":0},null,593,{"$f":"元データ!L248+K$3","v":-3.9999938893511416E-3},{"$f":"元データ!M248+L$3","v":-9.9999958507325532E-3},{"$f":"元データ!N248+M$3","v":-1.0000041750764573E-3}]
[null,594,{"$f":"元データ!D249+C$3","v":0.01},{"$f":"元データ!E249+D$3","v":0.01},{"$f":"元データ!F249+E$3","v":0.01},{"$f":"元データ!G249+F$3","v":0},{"$f":"元データ!H249+G$3","v":0.01},{"$f":"元データ!I249+H$3","v":0},null,594,{"$f":"元データ!L249+K$3","v":-4.9999982037644483E-3},{"$f":"元データ!M249+L$3","v":-1.1000000369345011E-2},{"$f":"元データ!N249+M$3","v":-2.0000080107319042E-3}]
[null,595,{"$f":"元データ!D250+C$3","v":0.01},{"$f":"元データ!E250+D$3","v":0.01},{"$f":"元データ!F250+E$3","v":0.01},{"$f":"元データ!G250+F$3","v":0},{"$f":"元データ!H250+G$3","v":0.01},{"$f":"元データ!I250+H$3","v":0},null,595,{"$f":"元データ!L250+K$3","v":-5.9999950970939103E-3},{"$f":"元データ!M250+L$3","v":-1.0999997967205665E-2},{"$f":"元データ!N250+M$3","v":-3.000002407438529E-3}]
[null,596,{"$f":"元データ!D251+C$3","v":0.01},{"$f":"元データ!E251+D$3","v":0.01},{"$f":"元データ!F251+E$3","v":0.01},{"$f":"元データ!G251+F$3","v":0},{"$f":"元データ!H251+G$3","v":0.01},{"$f":"元データ!I251+H$3","v":0},null,596,{"$f":"元データ!L251+K$3","v":-6.0000003908550273E-3},{"$f":"元データ!M251+L$3","v":-1.0999995207477081E-2},{"$f":"元データ!N251+M$3","v":-2.0000071716710886E-3}]
[null,597,{"$f":"元データ!D252+C$3","v":0.01},{"$f":"元データ!E252+D$3","v":0.01},{"$f":"元データ!F252+E$3","v":0.01},{"$f":"元データ!G252+F$3","v":0},{"$f":"元データ!H252+G$3","v":0.01},{"$f":"元データ!I252+H$3","v":-6.0000000000000001E-3},null,597,{"$f":"元データ!L252+K$3","v":-3.9999957835553032E-3},{"$f":"元データ!M252+L$3","v":-1.1000000730664037E-2},{"$f":"元データ!N252+M$3","v":-2.000004801432087E-3}]
[null,598,{"$f":"元データ!D253+C$3","v":0.01},{"$f":"元データ!E253+D$3","v":0.01},{"$f":"元データ!F253+E$3","v":0.01},{"$f":"元データ!G253+F$3","v":0},{"$f":"元データ!H253+G$3","v":0.01},{"$f":"元データ!I253+H$3","v":-0.01},null,598,{"$f":"元データ!L253+K$3","v":-3.9999950873190124E-3},{"$f":"元データ!M253+L$3","v":-1.0999993986408265E-2},{"$f":"元データ!N253+M$3","v":-3.0000056312283578E-3}]
[null,599,{"$f":"元データ!D254+C$3","v":0.01},{"$f":"元データ!E254+D$3","v":0.01},{"$f":"元データ!F254+E$3","v":0.01},{"$f":"元データ!G254+F$3","v":-4.0000000000000001E-3},{"$f":"元データ!H254+G$3","v":6.0000000000000001E-3},{"$f":"元データ!I254+H$3","v":-0.01},null,599,{"$f":"元データ!L254+K$3","v":-3.9999942755304177E-3},{"$f":"元データ!M254+L$3","v":-1.1999996032440259E-2},{"$f":"元データ!N254+M$3","v":-2.0000020192857751E-3}]
[null,600,{"$f":"元データ!D255+C$3","v":0.01},{"$f":"元データ!E255+D$3","v":0.01},{"$f":"元データ!F255+E$3","v":0.01},{"$f":"元データ!G255+F$3","v":-2E-3},{"$f":"元データ!H255+G$3","v":0},{"$f":"元データ!I255+H$3","v":-0.01},null,600,{"$f":"元データ!L255+K$3","v":-3.9999977525740221E-3},{"$f":"元データ!M255+L$3","v":-1.1999999049387018E-2},{"$f":"元データ!N255+M$3","v":-2.0000070293498297E-3}]
[null,601,{"$f":"元データ!D256+C$3","v":0.01},{"$f":"元データ!E256+D$3","v":0.01},{"$f":"元データ!F256+E$3","v":0.01},{"$f":"元データ!G256+F$3","v":0},{"$f":"元データ!H256+G$3","v":2E-3},{"$f":"元データ!I256+H$3","v":-0.01},null,601,{"$f":"元データ!L256+K$3","v":-6.000000092677843E-3},{"$f":"元データ!M256+L$3","v":-1.2000000485575925E-2},{"$f":"元データ!N256+M$3","v":-3.0000043034530775E-3}]
[null,602,{"$f":"元データ!D257+C$3","v":0.01},{"$f":"元データ!E257+D$3","v":0.01},{"$f":"元データ!F257+E$3","v":0.01},{"$f":"元データ!G257+F$3","v":0},{"$f":"元データ!H257+G$3","v":0.01},{"$f":"元データ!I257+H$3","v":-0.01},null,602,{"$f":"元データ!L257+K$3","v":-6.9999961269832447E-3},{"$f":"元データ!M257+L$3","v":-1.0999999917012308E-2},{"$f":"元データ!N257+M$3","v":-3.0000078769509119E-3}]
[null,603,{"$f":"元データ!D258+C$3","v":0.01},{"$f":"元データ!E258+D$3","v":0.01},{"$f":"元データ!F258+E$3","v":0.01},{"$f":"元データ!G258+F$3","v":0},{"$f":"元データ!H258+G$3","v":0},{"$f":"元データ!I258+H$3","v":-0.01},null,603,{"$f":"元データ!L258+K$3","v":-5.9999938382122517E-3},{"$f":"元データ!M258+L$3","v":-1.1999998098040933E-2},{"$f":"元データ!N258+M$3","v":-3.0000020732762235E-3}]
[null,604,{"$f":"元データ!D259+C$3","v":0.01},{"$f":"元データ!E259+D$3","v":0.01},{"$f":"元データ!F259+E$3","v":0.01},{"$f":"元データ!G259+F$3","v":-0.01},{"$f":"元データ!H259+G$3","v":0},{"$f":"元データ!I259+H$3","v":-0.01},null,604,{"$f":"元データ!L259+K$3","v":-4.9999973321632335E-3},{"$f":"元データ!M259+L$3","v":-1.1999992660186609E-2},{"$f":"元データ!N259+M$3","v":-2.0000000911830091E-3}]
[null,605,{"$f":"元データ!D260+C$3","v":0.01},{"$f":"元データ!E260+D$3","v":0.01},{"$f":"元データ!F260+E$3","v":0.01},{"$f":"元データ!G260+F$3","v":-0.01},{"$f":"元データ!H260+G$3","v":0},{"$f":"元データ!I260+H$3","v":-0.01},null,605,{"$f":"元データ!L260+K$3","v":-4.9999932804694475E-3},{"$f":"元データ!M260+L$3","v":-1.1999992476395724E-2},{"$f":"元データ!N260+M$3","v":-2.000003310952795E-3}]
[null,606,{"$f":"元データ!D261+C$3","v":0.01},{"$f":"元データ!E261+D$3","v":0.01},{"$f":"元データ!F261+E$3","v":2E-3},{"$f":"元データ!G261+F$3","v":-0.01},{"$f":"元データ!H261+G$3","v":0},{"$f":"元データ!I261+H$3","v":-0.01},null,606,{"$f":"元データ!L261+K$3","v":-3.9999963527683619E-3},{"$f":"元データ!M261+L$3","v":-9.9999921584000336E-3},{"$f":"元データ!N261+M$3","v":-2.0000013248427581E-3}]
[null,607,{"$f":"元データ!D262+C$3","v":0.01},{"$f":"元データ!E262+D$3","v":0.01},{"$f":"元データ!F262+E$3","v":0},{"$f":"元データ!G262+F$3","v":-0.01},{"$f":"元データ!H262+G$3","v":0},{"$f":"元データ!I262+H$3","v":-0.01},null,607,{"$f":"元データ!L262+K$3","v":-4.99999902065313E-3},{"$f":"元データ!M262+L$3","v":-9.9999998685681209E-3},{"$f":"元データ!N262+M$3","v":-2.0000016042927699E-3}]
[null,608,{"$f":"元データ!D263+C$3","v":0.01},{"$f":"元データ!E263+D$3","v":0.01},{"$f":"元データ!F263+E$3","v":0},{"$f":"元データ!G263+F$3","v":-0.01},{"$f":"元データ!H263+G$3","v":0},{"$f":"元データ!I263+H$3","v":-0.01},null,608,{"$f":"元データ!L263+K$3","v":-5.9999929909190577E-3},{"$f":"元データ!M263+L$3","v":-1.0999994443999217E-2},{"$f":"元データ!N263+M$3","v":-3.0000021659673751E-3}]
[null,609,{"$f":"元データ!D264+C$3","v":0.01},{"$f":"元データ!E264+D$3","v":2E-3},{"$f":"元データ!F264+E$3","v":0},{"$f":"元データ!G264+F$3","v":-0.01},{"$f":"元データ!H264+G$3","v":0},{"$f":"元データ!I264+H$3","v":-0.01},null,609,{"$f":"元データ!L264+K$3","v":-6.9999989872846363E-3},{"$f":"元データ!M264+L$3","v":-1.0999996895075371E-2},{"$f":"元データ!N264+M$3","v":-2.0000058746498794E-3}]
[null,610,{"$f":"元データ!D265+C$3","v":0.01},{"$f":"元データ!E265+D$3","v":0},{"$f":"元データ!F265+E$3","v":0},{"$f":"元データ!G265+F$3","v":-0.01},{"$f":"元データ!H265+G$3","v":0},{"$f":"元データ!I265+H$3","v":-0.01},null,610,{"$f":"元データ!L265+K$3","v":-6.9999959960622277E-3},{"$f":"元データ!M265+L$3","v":-1.1999991696453311E-2},{"$f":"元データ!N265+M$3","v":-1.9999983456117122E-3}]
[null,611,{"$f":"元データ!D266+C$3","v":0.01},{"$f":"元データ!E266+D$3","v":0},{"$f":"元データ!F266+E$3","v":0},{"$f":"元データ!G266+F$3","v":-0.01},{"$f":"元データ!H266+G$3","v":0},{"$f":"元データ!I266+H$3","v":-0.01},null,611,{"$f":"元データ!L266+K$3","v":-6.9999980997322783E-3},{"$f":"元データ!M266+L$3","v":-1.2999996815468347E-2},{"$f":"元データ!N266+M$3","v":-3.0000011457058818E-3}]
[null,612,{"$f":"元データ!D267+C$3","v":0.01},{"$f":"元データ!E267+D$3","v":0},{"$f":"元データ!F267+E$3","v":0},{"$f":"元データ!G267+F$3","v":-0.01},{"$f":"元データ!H267+G$3","v":0},{"$f":"元データ!I267+H$3","v":-0.01},null,612,{"$f":"元データ!L267+K$3","v":-7.0000006022676239E-3},{"$f":"元データ!M267+L$3","v":-1.1999991957845122E-2},{"$f":"元データ!N267+M$3","v":-3.0000037316727669E-3}]
[null,613,{"$f":"元データ!D268+C$3","v":0.01},{"$f":"元データ!E268+D$3","v":0},{"$f":"元データ!F268+E$3","v":0},{"$f":"元データ!G268+F$3","v":-0.01},{"$f":"元データ!H268+G$3","v":0},{"$f":"元データ!I268+H$3","v":-0.01},null,613,{"$f":"元データ!L268+K$3","v":-5.9999945216741082E-3},{"$f":"元データ!M268+L$3","v":-1.0999994658046451E-2},{"$f":"元データ!N268+M$3","v":-2.0000017014812459E-3}]
[null,614,{"$f":"元データ!D269+C$3","v":0.01},{"$f":"元データ!E269+D$3","v":0},{"$f":"元データ!F269+E$3","v":0},{"$f":"元データ!G269+F$3","v":-0.01},{"$f":"元データ!H269+G$3","v":0},{"$f":"元データ!I269+H$3","v":-0.01},null,614,{"$f":"元データ!L269+K$3","v":-5.9999944706693523E-3},{"$f":"元データ!M269+L$3","v":-1.1999994834301907E-2},{"$f":"元データ!N269+M$3","v":-2.0000064742389297E-3}]
[null,615,{"$f":"元データ!D270+C$3","v":0.01},{"$f":"元データ!E270+D$3","v":0},{"$f":"元データ!F270+E$3","v":0},{"$f":"元データ!G270+F$3","v":-0.01},{"$f":"元データ!H270+G$3","v":0},{"$f":"元データ!I270+H$3","v":-0.01},null,615,{"$f":"元データ!L270+K$3","v":-7.9999996190726549E-3},{"$f":"元データ!M270+L$3","v":-1.2999995060531329E-2},{"$f":"元データ!N270+M$3","v":-4.0000051179914474E-3}]
[null,616,{"$f":"元データ!D271+C$3","v":0.01},{"$f":"元データ!E271+D$3","v":0},{"$f":"元データ!F271+E$3","v":0},{"$f":"元データ!G271+F$3","v":-0.01},{"$f":"元データ!H271+G$3","v":0},{"$f":"元データ!I271+H$3","v":-0.01},null,616,{"$f":"元データ!L271+K$3","v":-7.9999986711052837E-3},{"$f":"元データ!M271+L$3","v":-1.2999993689368118E-2},{"$f":"元データ!N271+M$3","v":-4.0000075358714113E-3}]
[null,617,{"$f":"元データ!D272+C$3","v":0.01},{"$f":"元データ!E272+D$3","v":0},{"$f":"元データ!F272+E$3","v":0},{"$f":"元データ!G272+F$3","v":-0.01},{"$f":"元データ!H272+G$3","v":0},{"$f":"元データ!I272+H$3","v":-0.01},null,617,{"$f":"元データ!L272+K$3","v":-8.9999941968158526E-3},{"$f":"元データ!M272+L$3","v":-1.1999996960832324E-2},{"$f":"元データ!N272+M$3","v":-4.0000062270111464E-3}]
[null,618,{"$f":"元データ!D273+C$3","v":8.0000000000000002E-3},{"$f":"元データ!E273+D$3","v":0},{"$f":"元データ!F273+E$3","v":0},{"$f":"元データ!G273+F$3","v":-0.01},{"$f":"元データ!H273+G$3","v":0},{"$f":"元データ!I273+H$3","v":-0.01},null,618,{"$f":"元データ!L273+K$3","v":-9.9999970907423338E-3},{"$f":"元データ!M273+L$3","v":-1.2999997362237474E-2},{"$f":"元データ!N273+M$3","v":-4.000000612009438E-3}]
[null,619,{"$f":"元データ!D274+C$3","v":0},{"$f":"元データ!E274+D$3","v":0},{"$f":"元データ!F274+E$3","v":0},{"$f":"元データ!G274+F$3","v":-0.01},{"$f":"元データ!H274+G$3","v":0},{"$f":"元データ!I274+H$3","v":-0.01},null,619,{"$f":"元データ!L274+K$3","v":-9.9999935926465486E-3},{"$f":"元データ!M274+L$3","v":-1.2999993394225915E-2},{"$f":"元データ!N274+M$3","v":-5.0000071895261178E-3}]
[null,620,{"$f":"元データ!D275+C$3","v":0},{"$f":"元データ!E275+D$3","v":0},{"$f":"元データ!F275+E$3","v":0},{"$f":"元データ!G275+F$3","v":-0.01},{"$f":"元データ!H275+G$3","v":0},{"$f":"元データ!I275+H$3","v":-0.01},null,620,{"$f":"元データ!L275+K$3","v":-8.9999941818154072E-3},{"$f":"元データ!M275+L$3","v":-1.299999227353762E-2},{"$f":"元データ!N275+M$3","v":-5.0000059782456894E-3}]
[null,621,{"$f":"元データ!D276+C$3","v":0},{"$f":"元データ!E276+D$3","v":0},{"$f":"元データ!F276+E$3","v":0},{"$f":"元データ!G276+F$3","v":-0.01},{"$f":"元データ!H276+G$3","v":0},{"$f":"元データ!I276+H$3","v":-0.01},null,621,{"$f":"元データ!L276+K$3","v":-8.9999951225964644E-3},{"$f":"元データ!M276+L$3","v":-1.2999997261301752E-2},{"$f":"元データ!N276+M$3","v":-5.0000063453437028E-3}]
[null,622,{"$f":"元データ!D277+C$3","v":0},{"$f":"元データ!E277+D$3","v":0},{"$f":"元データ!F277+E$3","v":0},{"$f":"元データ!G277+F$3","v":-0.01},{"$f":"元データ!H277+G$3","v":0},{"$f":"元データ!I277+H$3","v":-0.01},null,622,{"$f":"元データ!L277+K$3","v":-8.999998508675118E-3},{"$f":"元データ!M277+L$3","v":-1.2999998414732672E-2},{"$f":"元データ!N277+M$3","v":-4.9999996577864223E-3}]
[null,623,{"$f":"元データ!D278+C$3","v":2E-3},{"$f":"元データ!E278+D$3","v":0},{"$f":"元データ!F278+E$3","v":0},{"$f":"元データ!G278+F$3","v":-0.01},{"$f":"元データ!H278+G$3","v":0},{"$f":"元データ!I278+H$3","v":-0.01},null,623,{"$f":"元データ!L278+K$3","v":-8.9999977279830168E-3},{"$f":"元データ!M278+L$3","v":-1.2999999440099696E-2},{"$f":"元データ!N278+M$3","v":-4.0000027205040669E-3}]
[null,624,{"$f":"元データ!D279+C$3","v":4.0000000000000001E-3},{"$f":"元データ!E279+D$3","v":0},{"$f":"元データ!F279+E$3","v":0},{"$f":"元データ!G279+F$3","v":-0.01},{"$f":"元データ!H279+G$3","v":0},{"$f":"元データ!I279+H$3","v":-0.01},null,624,{"$f":"元データ!L279+K$3","v":-8.9999975728038903E-3},{"$f":"元データ!M279+L$3","v":-1.1999993226545479E-2},{"$f":"元データ!N279+M$3","v":-3.9999999290661597E-3}]
[null,625,{"$f":"元データ!D280+C$3","v":4.0000000000000001E-3},{"$f":"元データ!E280+D$3","v":0},{"$f":"元データ!F280+E$3","v":0},{"$f":"元データ!G280+F$3","v":-0.01},{"$f":"元データ!H280+G$3","v":0},{"$f":"元データ!I280+H$3","v":-0.01},null,625,{"$f":"元データ!L280+K$3","v":-9.9999940639695084E-3},{"$f":"元データ!M280+L$3","v":-1.1999995177784424E-2},{"$f":"元データ!N280+M$3","v":-4.0000052483321839E-3}]
[null,626,{"$f":"元データ!D281+C$3","v":0},{"$f":"元データ!E281+D$3","v":0},{"$f":"元データ!F281+E$3","v":0},{"$f":"元データ!G281+F$3","v":-0.01},{"$f":"元データ!H281+G$3","v":0},{"$f":"元データ!I281+H$3","v":-0.01},null,626,{"$f":"元データ!L281+K$3","v":-9.9999973156736019E-3},{"$f":"元データ!M281+L$3","v":-1.1999998157424479E-2},{"$f":"元データ!N281+M$3","v":-5.0000006769222866E-3}]
[null,627,{"$f":"元データ!D282+C$3","v":0},{"$f":"元データ!E282+D$3","v":0},{"$f":"元データ!F282+E$3","v":0},{"$f":"元データ!G282+F$3","v":-0.01},{"$f":"元データ!H282+G$3","v":0},{"$f":"元データ!I282+H$3","v":-0.01},null,627,{"$f":"元データ!L282+K$3","v":-9.9999941860849095E-3},{"$f":"元データ!M282+L$3","v":-1.1999999910359967E-2},{"$f":"元データ!N282+M$3","v":-4.0000052687555205E-3}]
[null,628,{"$f":"元データ!D283+C$3","v":0},{"$f":"元データ!E283+D$3","v":0},{"$f":"元データ!F283+E$3","v":0},{"$f":"元データ!G283+F$3","v":-8.0000000000000002E-3},{"$f":"元データ!H283+G$3","v":0},{"$f":"元データ!I283+H$3","v":-0.01},null,628,{"$f":"元データ!L283+K$3","v":-1.0000001007180057E-2},{"$f":"元データ!M283+L$3","v":-1.1999997818798061E-2},{"$f":"元データ!N283+M$3","v":-4.9999996521893283E-3}]
[null,629,{"$f":"元データ!D284+C$3","v":0},{"$f":"元データ!E284+D$3","v":0},{"$f":"元データ!F284+E$3","v":0},{"$f":"元データ!G284+F$3","v":-6.0000000000000001E-3},{"$f":"元データ!H284+G$3","v":0},{"$f":"元データ!I284+H$3","v":-0.01},null,629,{"$f":"元データ!L284+K$3","v":-9.9999957237039902E-3},{"$f":"元データ!M284+L$3","v":-1.2999998637493073E-2},{"$f":"元データ!N284+M$3","v":-5.00000442357788E-3}]
[null,630,{"$f":"元データ!D285+C$3","v":0},{"$f":"元データ!E285+D$3","v":0},{"$f":"元データ!F285+E$3","v":0},{"$f":"元データ!G285+F$3","v":-6.0000000000000001E-3},{"$f":"元データ!H285+G$3","v":0},{"$f":"元データ!I285+H$3","v":0},null,630,{"$f":"元データ!L285+K$3","v":-1.099999658296915E-2},{"$f":"元データ!M285+L$3","v":-1.2999995674435641E-2},{"$f":"元データ!N285+M$3","v":-6.0000055839083185E-3}]
[null,631,{"$f":"元データ!D286+C$3","v":0},{"$f":"元データ!E286+D$3","v":0},{"$f":"元データ!F286+E$3","v":0},{"$f":"元データ!G286+F$3","v":-3.3333333333333335E-3},{"$f":"元データ!H286+G$3","v":0},{"$f":"元データ!I286+H$3","v":0},null,631,{"$f":"元データ!L286+K$3","v":-1.1999996357092972E-2},{"$f":"元データ!M286+L$3","v":-1.2999997288477854E-2},{"$f":"元データ!N286+M$3","v":-6.0000013735671508E-3}]
[null,632,{"$f":"元データ!D287+C$3","v":0},{"$f":"元データ!E287+D$3","v":0},{"$f":"元データ!F287+E$3","v":0},{"$f":"元データ!G287+F$3","v":0},{"$f":"元データ!H287+G$3","v":0},{"$f":"元データ!I287+H$3","v":0},null,632,{"$f":"元データ!L287+K$3","v":-1.1000001017002936E-2},{"$f":"元データ!M287+L$3","v":-1.2999992473770034E-2},{"$f":"元データ!N287+M$3","v":-5.0000035058130263E-3}]
[null,633,{"$f":"元データ!D288+C$3","v":0},{"$f":"元データ!E288+D$3","v":0},{"$f":"元データ!F288+E$3","v":0},{"$f":"元データ!G288+F$3","v":0},{"$f":"元データ!H288+G$3","v":0},{"$f":"元データ!I288+H$3","v":0},null,633,{"$f":"元データ!L288+K$3","v":-1.2000000436419148E-2},{"$f":"元データ!M288+L$3","v":-1.2999995407106368E-2},{"$f":"元データ!N288+M$3","v":-6.000006178064201E-3}]
[null,634,{"$f":"元データ!D289+C$3","v":0},{"$f":"元データ!E289+D$3","v":0},{"$f":"元データ!F289+E$3","v":0},{"$f":"元データ!G289+F$3","v":0},{"$f":"元データ!H289+G$3","v":0},{"$f":"元データ!I289+H$3","v":0},null,634,{"$f":"元データ!L289+K$3","v":-1.1999998943295564E-2},{"$f":"元データ!M289+L$3","v":-1.4000000327680959E-2},{"$f":"元データ!N289+M$3","v":-6.0000080524642892E-3}]
[null,635,{"$f":"元データ!D290+C$3","v":0},{"$f":"元データ!E290+D$3","v":0},{"$f":"元データ!F290+E$3","v":0},{"$f":"元データ!G290+F$3","v":0},{"$f":"元データ!H290+G$3","v":0},{"$f":"元データ!I290+H$3","v":0},null,635,{"$f":"元データ!L290+K$3","v":-1.1999996718561376E-2},{"$f":"元データ!M290+L$3","v":-1.3999994018523405E-2},{"$f":"元データ!N290+M$3","v":-6.0000060217436663E-3}]
[null,636,{"$f":"元データ!D291+C$3","v":0},{"$f":"元データ!E291+D$3","v":0},{"$f":"元データ!F291+E$3","v":0},{"$f":"元データ!G291+F$3","v":0},{"$f":"元データ!H291+G$3","v":0},{"$f":"元データ!I291+H$3","v":0},null,636,{"$f":"元データ!L291+K$3","v":-1.1999998959628541E-2},{"$f":"元データ!M291+L$3","v":-1.2999996340787435E-2},{"$f":"元データ!N291+M$3","v":-6.0000001575900453E-3}]
[null,637,{"$f":"元データ!D292+C$3","v":0},{"$f":"元データ!E292+D$3","v":0},{"$f":"元データ!F292+E$3","v":0},{"$f":"元データ!G292+F$3","v":0},{"$f":"元データ!H292+G$3","v":0},{"$f":"元データ!I292+H$3","v":0},null,637,{"$f":"元データ!L292+K$3","v":-1.1999996236142264E-2},{"$f":"元データ!M292+L$3","v":-1.2999993287552724E-2},{"$f":"元データ!N292+M$3","v":-6.0000049094841267E-3}]
[null,638,{"$f":"元データ!D293+C$3","v":0},{"$f":"元データ!E293+D$3","v":0},{"$f":"元データ!F293+E$3","v":0},{"$f":"元データ!G293+F$3","v":0},{"$f":"元データ!H293+G$3","v":0},{"$f":"元データ!I293+H$3","v":0},null,638,{"$f":"元データ!L293+K$3","v":-1.2999995915836143E-2},{"$f":"元データ!M293+L$3","v":-1.2999994153358252E-2},{"$f":"元データ!N293+M$3","v":-5.9999997423727004E-3}]
[null,639,{"$f":"元データ!D294+C$3","v":0},{"$f":"元データ!E294+D$3","v":0},{"$f":"元データ!F294+E$3","v":0},{"$f":"元データ!G294+F$3","v":0},{"$f":"元データ!H294+G$3","v":0},{"$f":"元データ!I294+H$3","v":0},null,639,{"$f":"元データ!L294+K$3","v":-1.1999993552415295E-2},{"$f":"元データ!M294+L$3","v":-1.2999996871698829E-2},{"$f":"元データ!N294+M$3","v":-6.0000018757622019E-3}]
[null,640,{"$f":"元データ!D295+C$3","v":0},{"$f":"元データ!E295+D$3","v":0},{"$f":"元データ!F295+E$3","v":0},{"$f":"元データ!G295+F$3","v":0},{"$f":"元データ!H295+G$3","v":0},{"$f":"元データ!I295+H$3","v":0},null,640,{"$f":"元データ!L295+K$3","v":-1.1999998588774451E-2},{"$f":"元データ!M295+L$3","v":-1.1999994019317667E-2},{"$f":"元データ!N295+M$3","v":-5.0000008793819797E-3}]
[null,641,{"$f":"元データ!D296+C$3","v":0},{"$f":"元データ!E296+D$3","v":0},{"$f":"元データ!F296+E$3","v":0},{"$f":"元データ!G296+F$3","v":0},{"$f":"元データ!H296+G$3","v":0},{"$f":"元データ!I296+H$3","v":0},null,641,{"$f":"元データ!L296+K$3","v":-1.1999995262520068E-2},{"$f":"元データ!M296+L$3","v":-1.2999997229764635E-2},{"$f":"元データ!N296+M$3","v":-5.0000045336790148E-3}]
[null,642,{"$f":"元データ!D297+C$3","v":0},{"$f":"元データ!E297+D$3","v":0},{"$f":"元データ!F297+E$3","v":0},{"$f":"元データ!G297+F$3","v":0},{"$f":"元データ!H297+G$3","v":0},{"$f":"元データ!I297+H$3","v":0},null,642,{"$f":"元データ!L297+K$3","v":-1.1999998291640002E-2},{"$f":"元データ!M297+L$3","v":-1.1999997396737702E-2},{"$f":"元データ!N297+M$3","v":-4.9999999425325448E-3}]
[null,643,{"$f":"元データ!D298+C$3","v":0},{"$f":"元データ!E298+D$3","v":0},{"$f":"元データ!F298+E$3","v":0},{"$f":"元データ!G298+F$3","v":0},{"$f":"元データ!H298+G$3","v":0},{"$f":"元データ!I298+H$3","v":0},null,643,{"$f":"元データ!L298+K$3","v":-1.1000000859918736E-2},{"$f":"元データ!M298+L$3","v":-1.199999881411889E-2},{"$f":"元データ!N298+M$3","v":-5.0000005355560449E-3}]
[null,644,{"$f":"元データ!D299+C$3","v":0},{"$f":"元データ!E299+D$3","v":0},{"$f":"元データ!F299+E$3","v":0},{"$f":"元データ!G299+F$3","v":0},{"$f":"元データ!H299+G$3","v":0},{"$f":"元データ!I299+H$3","v":0},null,644,{"$f":"元データ!L299+K$3","v":-1.1999994291400591E-2},{"$f":"元データ!M299+L$3","v":-1.1999992497164534E-2},{"$f":"元データ!N299+M$3","v":-5.0000018655377999E-3}]
[null,645,{"$f":"元データ!D300+C$3","v":0},{"$f":"元データ!E300+D$3","v":0},{"$f":"元データ!F300+E$3","v":0},{"$f":"元データ!G300+F$3","v":0},{"$f":"元データ!H300+G$3","v":0},{"$f":"元データ!I300+H$3","v":0},null,645,{"$f":"元データ!L300+K$3","v":-1.299999392552393E-2},{"$f":"元データ!M300+L$3","v":-1.1999996383656559E-2},{"$f":"元データ!N300+M$3","v":-5.9999995274247122E-3}]
[null,646,{"$f":"元データ!D301+C$3","v":0},{"$f":"元データ!E301+D$3","v":0},{"$f":"元データ!F301+E$3","v":0},{"$f":"元データ!G301+F$3","v":0},{"$f":"元データ!H301+G$3","v":0},{"$f":"元データ!I301+H$3","v":0},null,646,{"$f":"元データ!L301+K$3","v":-1.1999997183579116E-2},{"$f":"元データ!M301+L$3","v":-1.1999992839622923E-2},{"$f":"元データ!N301+M$3","v":-6.000001190405644E-3}]
[null,647,{"$f":"元データ!D302+C$3","v":0},{"$f":"元データ!E302+D$3","v":0},{"$f":"元データ!F302+E$3","v":0},{"$f":"元データ!G302+F$3","v":0},{"$f":"元データ!H302+G$3","v":0},{"$f":"元データ!I302+H$3","v":0},null,647,{"$f":"元データ!L302+K$3","v":-1.19999939050595E-2},{"$f":"元データ!M302+L$3","v":-1.199999462901234E-2},{"$f":"元データ!N302+M$3","v":-5.0000052073549267E-3}]
[null,648,{"$f":"元データ!D303+C$3","v":0},{"$f":"元データ!E303+D$3","v":0},{"$f":"元データ!F303+E$3","v":0},{"$f":"元データ!G303+F$3","v":0},{"$f":"元データ!H303+G$3","v":0},{"$f":"元データ!I303+H$3","v":0},null,648,{"$f":"元データ!L303+K$3","v":-1.0999997106164242E-2},{"$f":"元データ!M303+L$3","v":-1.1999995540439146E-2},{"$f":"元データ!N303+M$3","v":-5.0000023425597374E-3}]
[null,649,{"$f":"元データ!D304+C$3","v":0},{"$f":"元データ!E304+D$3","v":0},{"$f":"元データ!F304+E$3","v":0},{"$f":"元データ!G304+F$3","v":-4.0000000000000001E-3},{"$f":"元データ!H304+G$3","v":0},{"$f":"元データ!I304+H$3","v":0},null,649,{"$f":"元データ!L304+K$3","v":-1.0000000442618832E-2},{"$f":"元データ!M304+L$3","v":-1.0999999744120944E-2},{"$f":"元データ!N304+M$3","v":-5.000005989135612E-3}]
[null,650,{"$f":"元データ!D305+C$3","v":0},{"$f":"元データ!E305+D$3","v":0},{"$f":"元データ!F305+E$3","v":0},{"$f":"元データ!G305+F$3","v":0},{"$f":"元データ!H305+G$3","v":0},{"$f":"元データ!I305+H$3","v":0},null,650,{"$f":"元データ!L305+K$3","v":-1.0999998078525065E-2},{"$f":"元データ!M305+L$3","v":-1.099999761673876E-2},{"$f":"元データ!N305+M$3","v":-5.9999991273834621E-3}]
[null,651,{"$f":"元データ!D306+C$3","v":0},{"$f":"元データ!E306+D$3","v":0},{"$f":"元データ!F306+E$3","v":0},{"$f":"元データ!G306+F$3","v":0},{"$f":"元データ!H306+G$3","v":0},{"$f":"元データ!I306+H$3","v":0},null,651,{"$f":"元データ!L306+K$3","v":-1.0999997045589155E-2},{"$f":"元データ!M306+L$3","v":-1.1999997382787722E-2},{"$f":"元データ!N306+M$3","v":-5.0000015338527194E-3}]
[null,652,{"$f":"元データ!D307+C$3","v":0},{"$f":"元データ!E307+D$3","v":0},{"$f":"元データ!F307+E$3","v":0},{"$f":"元データ!G307+F$3","v":0},{"$f":"元データ!H307+G$3","v":0},{"$f":"元データ!I307+H$3","v":0},null,652,{"$f":"元データ!L307+K$3","v":-9.9999944116646589E-3},{"$f":"元データ!M307+L$3","v":-1.1999992871878097E-2},{"$f":"元データ!N307+M$3","v":-5.000000977181094E-3}]
[null,653,{"$f":"元データ!D308+C$3","v":0},{"$f":"元データ!E308+D$3","v":0},{"$f":"元データ!F308+E$3","v":0},{"$f":"元データ!G308+F$3","v":0},{"$f":"元データ!H308+G$3","v":0},{"$f":"元データ!I308+H$3","v":0},null,653,{"$f":"元データ!L308+K$3","v":-1.0999993505955062E-2},{"$f":"元データ!M308+L$3","v":-1.0999995763130795E-2},{"$f":"元データ!N308+M$3","v":-6.0000002063367915E-3}]
[null,654,{"$f":"元データ!D309+C$3","v":0},{"$f":"元データ!E309+D$3","v":0},{"$f":"元データ!F309+E$3","v":0},{"$f":"元データ!G309+F$3","v":-3.3333333333333335E-3},{"$f":"元データ!H309+G$3","v":0},{"$f":"元データ!I309+H$3","v":-3.3333333333333335E-3},null,654,{"$f":"元データ!L309+K$3","v":-7.9999975529874354E-3},{"$f":"元データ!M309+L$3","v":-9.9999987077255045E-3},{"$f":"元データ!N309+M$3","v":-4.0000034472908938E-3}]
[null,655,{"$f":"元データ!D310+C$3","v":0},{"$f":"元データ!E310+D$3","v":0},{"$f":"元データ!F310+E$3","v":0},{"$f":"元データ!G310+F$3","v":-0.01},{"$f":"元データ!H310+G$3","v":-8.0000000000000002E-3},{"$f":"元データ!I310+H$3","v":-0.01},null,655,{"$f":"元データ!L310+K$3","v":-4.999993837420183E-3},{"$f":"元データ!M310+L$3","v":-8.9999947355632031E-3},{"$f":"元データ!N310+M$3","v":-3.0000020232729876E-3}]
[null,656,{"$f":"元データ!D311+C$3","v":0},{"$f":"元データ!E311+D$3","v":0},{"$f":"元データ!F311+E$3","v":0},{"$f":"元データ!G311+F$3","v":-0.01},{"$f":"元データ!H311+G$3","v":-0.01},{"$f":"元データ!I311+H$3","v":-0.01},null,656,{"$f":"元データ!L311+K$3","v":-5.9999988095469636E-3},{"$f":"元データ!M311+L$3","v":-9.9999947652592135E-3},{"$f":"元データ!N311+M$3","v":-3.0000068932887688E-3}]
[null,657,{"$f":"元データ!D312+C$3","v":0},{"$f":"元データ!E312+D$3","v":0},{"$f":"元データ!F312+E$3","v":0},{"$f":"元データ!G312+F$3","v":-0.01},{"$f":"元データ!H312+G$3","v":-0.01},{"$f":"元データ!I312+H$3","v":-0.01},null,657,{"$f":"元データ!L312+K$3","v":-9.0000006049972617E-3},{"$f":"元データ!M312+L$3","v":-1.0999995521911847E-2},{"$f":"元データ!N312+M$3","v":-4.000006801884037E-3}]
[null,658,{"$f":"元データ!D313+C$3","v":0},{"$f":"元データ!E313+D$3","v":0},{"$f":"元データ!F313+E$3","v":0},{"$f":"元データ!G313+F$3","v":-0.01},{"$f":"元データ!H313+G$3","v":0},{"$f":"元データ!I313+H$3","v":-3.3333333333333335E-3},null,658,{"$f":"元データ!L313+K$3","v":-9.9999968152355845E-3},{"$f":"元データ!M313+L$3","v":-1.0999995460027131E-2},{"$f":"元データ!N313+M$3","v":-4.0000002733820966E-3}]
[null,659,{"$f":"元データ!D314+C$3","v":0},{"$f":"元データ!E314+D$3","v":0},{"$f":"元データ!F314+E$3","v":0},{"$f":"元データ!G314+F$3","v":-2E-3},{"$f":"元データ!H314+G$3","v":0},{"$f":"元データ!I314+H$3","v":0},null,659,{"$f":"元データ!L314+K$3","v":-1.0999998826019687E-2},{"$f":"元データ!M314+L$3","v":-1.0999998265813144E-2},{"$f":"元データ!N314+M$3","v":-5.0000065289109476E-3}]
[null,660,{"$f":"元データ!D315+C$3","v":0},{"$f":"元データ!E315+D$3","v":0},{"$f":"元データ!F315+E$3","v":0},{"$f":"元データ!G315+F$3","v":0},{"$f":"元データ!H315+G$3","v":0},{"$f":"元データ!I315+H$3","v":0},null,660,{"$f":"元データ!L315+K$3","v":-9.9999976876505026E-3},{"$f":"元データ!M315+L$3","v":-9.999997968675638E-3},{"$f":"元データ!N315+M$3","v":-5.0000038997263154E-3}]
[null,661,{"$f":"元データ!D316+C$3","v":0},{"$f":"元データ!E316+D$3","v":0},{"$f":"元データ!F316+E$3","v":0},{"$f":"元データ!G316+F$3","v":0},{"$f":"元データ!H316+G$3","v":0},{"$f":"元データ!I316+H$3","v":0},null,661,{"$f":"元データ!L316+K$3","v":-8.9999963550547735E-3},{"$f":"元データ!M316+L$3","v":-9.999999133050835E-3},{"$f":"元データ!N316+M$3","v":-5.0000004341345366E-3}]
[null,662,{"$f":"元データ!D317+C$3","v":0},{"$f":"元データ!E317+D$3","v":0},{"$f":"元データ!F317+E$3","v":0},{"$f":"元データ!G317+F$3","v":0},{"$f":"元データ!H317+G$3","v":0},{"$f":"元データ!I317+H$3","v":0},null,662,{"$f":"元データ!L317+K$3","v":-9.9999933581059325E-3},{"$f":"元データ!M317+L$3","v":-9.9999955763571454E-3},{"$f":"元データ!N317+M$3","v":-4.0000037731994526E-3}]
[null,663,{"$f":"元データ!D318+C$3","v":0},{"$f":"元データ!E318+D$3","v":0},{"$f":"元データ!F318+E$3","v":0},{"$f":"元データ!G318+F$3","v":0},{"$f":"元データ!H318+G$3","v":0},{"$f":"元データ!I318+H$3","v":0},null,663,{"$f":"元データ!L318+K$3","v":-9.9999952090461669E-3},{"$f":"元データ!M318+L$3","v":-9.9999956253581223E-3},{"$f":"元データ!N318+M$3","v":-4.0000000901532374E-3}]
[null,664,{"$f":"元データ!D319+C$3","v":0},{"$f":"元データ!E319+D$3","v":0},{"$f":"元データ!F319+E$3","v":0},{"$f":"元データ!G319+F$3","v":0},{"$f":"元データ!H319+G$3","v":0},{"$f":"元データ!I319+H$3","v":0},null,664,{"$f":"元データ!L319+K$3","v":-9.9999962165349052E-3},{"$f":"元データ!M319+L$3","v":-9.999993813175399E-3},{"$f":"元データ!N319+M$3","v":-5.0000043200438878E-3}]
[null,665,{"$f":"元データ!D320+C$3","v":0},{"$f":"元データ!E320+D$3","v":0},{"$f":"元データ!F320+E$3","v":0},{"$f":"元データ!G320+F$3","v":0},{"$f":"元データ!H320+G$3","v":0},{"$f":"元データ!I320+H$3","v":0},null,665,{"$f":"元データ!L320+K$3","v":-8.9999976648941216E-3},{"$f":"元データ!M320+L$3","v":-8.9999973096484363E-3},{"$f":"元データ!N320+M$3","v":-4.0000049553546666E-3}]
[null,666,{"$f":"元データ!D321+C$3","v":0},{"$f":"元データ!E321+D$3","v":0},{"$f":"元データ!F321+E$3","v":0},{"$f":"元データ!G321+F$3","v":0},{"$f":"元データ!H321+G$3","v":0},{"$f":"元データ!I321+H$3","v":0},null,666,{"$f":"元データ!L321+K$3","v":-8.9999938229806745E-3},{"$f":"元データ!M321+L$3","v":-8.9999966159499557E-3},{"$f":"元データ!N321+M$3","v":-4.0000024670474189E-3}]
[null,667,{"$f":"元データ!D322+C$3","v":0},{"$f":"元データ!E322+D$3","v":0},{"$f":"元データ!F322+E$3","v":0},{"$f":"元データ!G322+F$3","v":0},{"$f":"元データ!H322+G$3","v":0},{"$f":"元データ!I322+H$3","v":0},null,667,{"$f":"元データ!L322+K$3","v":-8.9999954308456268E-3},{"$f":"元データ!M322+L$3","v":-7.9999960900126715E-3},{"$f":"元データ!N322+M$3","v":-4.0000075063226902E-3}]
[null,668,{"$f":"元データ!D323+C$3","v":0},{"$f":"元データ!E323+D$3","v":0},{"$f":"元データ!F323+E$3","v":0},{"$f":"元データ!G323+F$3","v":0},{"$f":"元データ!H323+G$3","v":0},{"$f":"元データ!I323+H$3","v":0},null,668,{"$f":"元データ!L323+K$3","v":-8.9999990361204069E-3},{"$f":"元データ!M323+L$3","v":-7.9999972779150868E-3},{"$f":"元データ!N323+M$3","v":-3.9999999260482613E-3}]
[null,669,{"$f":"元データ!D324+C$3","v":0},{"$f":"元データ!E324+D$3","v":0},{"$f":"元データ!F324+E$3","v":0},{"$f":"元データ!G324+F$3","v":0},{"$f":"元データ!H324+G$3","v":0},{"$f":"元データ!I324+H$3","v":0},null,669,{"$f":"元データ!L324+K$3","v":-7.9999984511640448E-3},{"$f":"元データ!M324+L$3","v":-7.999992044439309E-3},{"$f":"元データ!N324+M$3","v":-4.0000065771065556E-3}]
[null,670,{"$f":"元データ!D325+C$3","v":0},{"$f":"元データ!E325+D$3","v":0},{"$f":"元データ!F325+E$3","v":0},{"$f":"元データ!G325+F$3","v":0},{"$f":"元データ!H325+G$3","v":0},{"$f":"元データ!I325+H$3","v":0},null,670,{"$f":"元データ!L325+K$3","v":-6.9999946510309885E-3},{"$f":"元データ!M325+L$3","v":-7.9999947952685713E-3},{"$f":"元データ!N325+M$3","v":-3.0000021663643371E-3}]
[null,671,{"$f":"元データ!D326+C$3","v":0},{"$f":"元データ!E326+D$3","v":0},{"$f":"元データ!F326+E$3","v":0},{"$f":"元データ!G326+F$3","v":0},{"$f":"元データ!H326+G$3","v":0},{"$f":"元データ!I326+H$3","v":0},null,671,{"$f":"元データ!L326+K$3","v":-7.0000008894385637E-3},{"$f":"元データ!M326+L$3","v":-7.9999928204151829E-3},{"$f":"元データ!N326+M$3","v":-3.0000025543474671E-3}]
[null,672,{"$f":"元データ!D327+C$3","v":0},{"$f":"元データ!E327+D$3","v":0},{"$f":"元データ!F327+E$3","v":0},{"$f":"元データ!G327+F$3","v":0},{"$f":"元データ!H327+G$3","v":0},{"$f":"元データ!I327+H$3","v":0},null,672,{"$f":"元データ!L327+K$3","v":-6.9999976783480383E-3},{"$f":"元データ!M327+L$3","v":-6.9999970994639362E-3},{"$f":"元データ!N327+M$3","v":-3.0000011600915255E-3}]
[null,673,{"$f":"元データ!D328+C$3","v":0},{"$f":"元データ!E328+D$3","v":0},{"$f":"元データ!F328+E$3","v":0},{"$f":"元データ!G328+F$3","v":0},{"$f":"元データ!H328+G$3","v":0},{"$f":"元データ!I328+H$3","v":0},null,673,{"$f":"元データ!L328+K$3","v":-6.9999937653335079E-3},{"$f":"元データ!M328+L$3","v":-5.9999956859172112E-3},{"$f":"元データ!N328+M$3","v":-3.0000069902721624E-3}]
[null,674,{"$f":"元データ!D329+C$3","v":0},{"$f":"元データ!E329+D$3","v":0},{"$f":"元データ!F329+E$3","v":0},{"$f":"元データ!G329+F$3","v":0},{"$f":"元データ!H329+G$3","v":0},{"$f":"元データ!I329+H$3","v":0},null,674,{"$f":"元データ!L329+K$3","v":-7.9999989405105873E-3},{"$f":"元データ!M329+L$3","v":-6.9999928548161641E-3},{"$f":"元データ!N329+M$3","v":-4.0000016297924625E-3}]
[null,675,{"$f":"元データ!D330+C$3","v":0},{"$f":"元データ!E330+D$3","v":0},{"$f":"元データ!F330+E$3","v":0},{"$f":"元データ!G330+F$3","v":0},{"$f":"元データ!H330+G$3","v":0},{"$f":"元データ!I330+H$3","v":0},null,675,{"$f":"元データ!L330+K$3","v":-7.9999976581197896E-3},{"$f":"元データ!M330+L$3","v":-6.9999990374202039E-3},{"$f":"元データ!N330+M$3","v":-4.0000072660891246E-3}]
[null,676,{"$f":"元データ!D331+C$3","v":0},{"$f":"元データ!E331+D$3","v":0},{"$f":"元データ!F331+E$3","v":0},{"$f":"元データ!G331+F$3","v":0},{"$f":"元データ!H331+G$3","v":0},{"$f":"元データ!I331+H$3","v":0},null,676,{"$f":"元データ!L331+K$3","v":-5.999994738290923E-3},{"$f":"元データ!M331+L$3","v":-5.9999971856757265E-3},{"$f":"元データ!N331+M$3","v":-3.0000073234785832E-3}]
[null,677,{"$f":"元データ!D332+C$3","v":0},{"$f":"元データ!E332+D$3","v":0},{"$f":"元データ!F332+E$3","v":0},{"$f":"元データ!G332+F$3","v":0},{"$f":"元データ!H332+G$3","v":0},{"$f":"元データ!I332+H$3","v":0},null,677,{"$f":"元データ!L332+K$3","v":-5.9999969149255108E-3},{"$f":"元データ!M332+L$3","v":-5.9999998707055916E-3},{"$f":"元データ!N332+M$3","v":-2.9999990169148807E-3}]
[null,678,{"$f":"元データ!D333+C$3","v":0},{"$f":"元データ!E333+D$3","v":0},{"$f":"元データ!F333+E$3","v":0},{"$f":"元データ!G333+F$3","v":0},{"$f":"元データ!H333+G$3","v":0},{"$f":"元データ!I333+H$3","v":0},null,678,{"$f":"元データ!L333+K$3","v":-4.9999963414790946E-3},{"$f":"元データ!M333+L$3","v":-4.9999946859176012E-3},{"$f":"元データ!N333+M$3","v":-2.0000065610775719E-3}]
[null,679,{"$f":"元データ!D334+C$3","v":0},{"$f":"元データ!E334+D$3","v":0},{"$f":"元データ!F334+E$3","v":0},{"$f":"元データ!G334+F$3","v":0},{"$f":"元データ!H334+G$3","v":0},{"$f":"元データ!I334+H$3","v":0},null,679,{"$f":"元データ!L334+K$3","v":-4.9999955381739222E-3},{"$f":"元データ!M334+L$3","v":-4.9999923353027144E-3},{"$f":"元データ!N334+M$3","v":-2.0000026023566549E-3}]
[null,680,{"$f":"元データ!D335+C$3","v":0},{"$f":"元データ!E335+D$3","v":0},{"$f":"元データ!F335+E$3","v":0},{"$f":"元データ!G335+F$3","v":0},{"$f":"元データ!H335+G$3","v":0},{"$f":"元データ!I335+H$3","v":0},null,680,{"$f":"元データ!L335+K$3","v":-4.9999987766078044E-3},{"$f":"元データ!M335+L$3","v":-4.999998959894357E-3},{"$f":"元データ!N335+M$3","v":-3.0000005043931098E-3}]
[null,681,{"$f":"元データ!D336+C$3","v":0},{"$f":"元データ!E336+D$3","v":0},{"$f":"元データ!F336+E$3","v":0},{"$f":"元データ!G336+F$3","v":0},{"$f":"元データ!H336+G$3","v":0},{"$f":"元データ!I336+H$3","v":0},null,681,{"$f":"元データ!L336+K$3","v":-5.0000004641203924E-3},{"$f":"元データ!M336+L$3","v":-4.999994900078731E-3},{"$f":"元データ!N336+M$3","v":-2.000003241007603E-3}]
[null,682,{"$f":"元データ!D337+C$3","v":0},{"$f":"元データ!E337+D$3","v":0},{"$f":"元データ!F337+E$3","v":0},{"$f":"元データ!G337+F$3","v":0},{"$f":"元データ!H337+G$3","v":0},{"$f":"元データ!I337+H$3","v":0},null,682,{"$f":"元データ!L337+K$3","v":-4.9999939142338565E-3},{"$f":"元データ!M337+L$3","v":-3.999995204941223E-3},{"$f":"元データ!N337+M$3","v":-2.0000069686017842E-3}]
[null,683,{"$f":"元データ!D338+C$3","v":0},{"$f":"元データ!E338+D$3","v":0},{"$f":"元データ!F338+E$3","v":0},{"$f":"元データ!G338+F$3","v":0},{"$f":"元データ!H338+G$3","v":0},{"$f":"元データ!I338+H$3","v":0},null,683,{"$f":"元データ!L338+K$3","v":-3.9999972810561835E-3},{"$f":"元データ!M338+L$3","v":-3.9999969308580473E-3},{"$f":"元データ!N338+M$3","v":-2.0000060567425364E-3}]
[null,684,{"$f":"元データ!D339+C$3","v":0},{"$f":"元データ!E339+D$3","v":0},{"$f":"元データ!F339+E$3","v":0},{"$f":"元データ!G339+F$3","v":0},{"$f":"元データ!H339+G$3","v":0},{"$f":"元データ!I339+H$3","v":0},null,684,{"$f":"元データ!L339+K$3","v":-2.9999948324879594E-3},{"$f":"元データ!M339+L$3","v":-3.9999931642097555E-3},{"$f":"元データ!N339+M$3","v":-1.0000055088509527E-3}]
[null,685,{"$f":"元データ!D340+C$3","v":0},{"$f":"元データ!E340+D$3","v":0},{"$f":"元データ!F340+E$3","v":0},{"$f":"元データ!G340+F$3","v":-0.01},{"$f":"元データ!H340+G$3","v":0},{"$f":"元データ!I340+H$3","v":0},null,685,{"$f":"元データ!L340+K$3","v":-2.9999994845186853E-3},{"$f":"元データ!M340+L$3","v":-3.9999927703112392E-3},{"$f":"元データ!N340+M$3","v":-2.0000061803834984E-3}]
[null,686,{"$f":"元データ!D341+C$3","v":0},{"$f":"元データ!E341+D$3","v":0},{"$f":"元データ!F341+E$3","v":0},{"$f":"元データ!G341+F$3","v":-0.01},{"$f":"元データ!H341+G$3","v":0},{"$f":"元データ!I341+H$3","v":0},null,686,{"$f":"元データ!L341+K$3","v":-2.9999983848842185E-3},{"$f":"元データ!M341+L$3","v":-3.9999973680298496E-3},{"$f":"元データ!N341+M$3","v":-2.0000019149467828E-3}]
[null,687,{"$f":"元データ!D342+C$3","v":0},{"$f":"元データ!E342+D$3","v":0},{"$f":"元データ!F342+E$3","v":0},{"$f":"元データ!G342+F$3","v":-0.01},{"$f":"元データ!H342+G$3","v":0},{"$f":"元データ!I342+H$3","v":0},null,687,{"$f":"元データ!L342+K$3","v":-3.9999937864403576E-3},{"$f":"元データ!M342+L$3","v":-3.99999660778339E-3},{"$f":"元データ!N342+M$3","v":-2.0000024836396985E-3}]
[null,688,{"$f":"元データ!D343+C$3","v":0},{"$f":"元データ!E343+D$3","v":0},{"$f":"元データ!F343+E$3","v":0},{"$f":"元データ!G343+F$3","v":-4.0000000000000001E-3},{"$f":"元データ!H343+G$3","v":0},{"$f":"元データ!I343+H$3","v":0},null,688,{"$f":"元データ!L343+K$3","v":-1.9999952579986477E-3},{"$f":"元データ!M343+L$3","v":-2.9999976222783737E-3},{"$f":"元データ!N343+M$3","v":-1.0000035969507902E-3}]
[null,689,{"$f":"元データ!D344+C$3","v":0},{"$f":"元データ!E344+D$3","v":0},{"$f":"元データ!F344+E$3","v":0},{"$f":"元データ!G344+F$3","v":0},{"$f":"元データ!H344+G$3","v":0},{"$f":"元データ!I344+H$3","v":0},null,689,{"$f":"元データ!L344+K$3","v":-1.999998954180647E-3},{"$f":"元データ!M344+L$3","v":-2.9999984779669302E-3},{"$f":"元データ!N344+M$3","v":-1.000005179331272E-3}]
[null,690,{"$f":"元データ!D345+C$3","v":0},{"$f":"元データ!E345+D$3","v":0},{"$f":"元データ!F345+E$3","v":0},{"$f":"元データ!G345+F$3","v":0},{"$f":"元データ!H345+G$3","v":0},{"$f":"元データ!I345+H$3","v":0},null,690,{"$f":"元データ!L345+K$3","v":-1.9999943621990118E-3},{"$f":"元データ!M345+L$3","v":-2.9999959059261588E-3},{"$f":"元データ!N345+M$3","v":-1.0000049431176869E-3}]
[null,691,{"$f":"元データ!D346+C$3","v":0},{"$f":"元データ!E346+D$3","v":0},{"$f":"元データ!F346+E$3","v":0},{"$f":"元データ!G346+F$3","v":-6.0000000000000001E-3},{"$f":"元データ!H346+G$3","v":0},{"$f":"元データ!I346+H$3","v":0},null,691,{"$f":"元データ!L346+K$3","v":-1.9999961305245118E-3},{"$f":"元データ!M346+L$3","v":-2.9999929505683653E-3},{"$f":"元データ!N346+M$3","v":-1.0000073618515719E-3}]
[null,692,{"$f":"元データ!D347+C$3","v":0},{"$f":"元データ!E347+D$3","v":0},{"$f":"元データ!F347+E$3","v":0},{"$f":"元データ!G347+F$3","v":-1.6666666666666668E-3},{"$f":"元データ!H347+G$3","v":0},{"$f":"元データ!I347+H$3","v":0},null,692,{"$f":"元データ!L347+K$3","v":-1.9999988474743435E-3},{"$f":"元データ!M347+L$3","v":-1.9999946212266705E-3},{"$f":"元データ!N347+M$3","v":-1.0000014048738414E-3}]
[null,693,{"$f":"元データ!D348+C$3","v":0},{"$f":"元データ!E348+D$3","v":0},{"$f":"元データ!F348+E$3","v":0},{"$f":"元データ!G348+F$3","v":0},{"$f":"元データ!H348+G$3","v":0},{"$f":"元データ!I348+H$3","v":0},null,693,{"$f":"元データ!L348+K$3","v":-1.9999966188567753E-3},{"$f":"元データ!M348+L$3","v":-1.9999965168604854E-3},{"$f":"元データ!N348+M$3","v":8.5439565492007041E-10}]
[null,694,{"$f":"元データ!D349+C$3","v":0},{"$f":"元データ!E349+D$3","v":0},{"$f":"元データ!F349+E$3","v":0},{"$f":"元データ!G349+F$3","v":0},{"$f":"元データ!H349+G$3","v":0},{"$f":"元データ!I349+H$3","v":0},null,694,{"$f":"元データ!L349+K$3","v":-1.9999966175911071E-3},{"$f":"元データ!M349+L$3","v":-9.9999809007881441E-4},{"$f":"元データ!N349+M$3","v":-2.0124588263198406E-9}]
[null,695,{"$f":"元データ!D350+C$3","v":0},{"$f":"元データ!E350+D$3","v":0},{"$f":"元データ!F350+E$3","v":0},{"$f":"元データ!G350+F$3","v":0},{"$f":"元データ!H350+G$3","v":0},{"$f":"元データ!I350+H$3","v":0},null,695,{"$f":"元データ!L350+K$3","v":-9.9999418225937137E-4},{"$f":"元データ!M350+L$3","v":-9.9999591271112374E-4},{"$f":"元データ!N350+M$3","v":-1.9765265743543203E-9}]
[null,696,{"$f":"元データ!D351+C$3","v":0},{"$f":"元データ!E351+D$3","v":0},{"$f":"元データ!F351+E$3","v":0},{"$f":"元データ!G351+F$3","v":0},{"$f":"元データ!H351+G$3","v":0},{"$f":"元データ!I351+H$3","v":0},null,696,{"$f":"元データ!L351+K$3","v":5.5926596548294683E-9},{"$f":"元データ!M351+L$3","v":-9.9999887475406973E-4},{"$f":"元データ!N351+M$3","v":-4.6875091204434671E-9}]
[null,697,{"$f":"元データ!D352+C$3","v":0},{"$f":"元データ!E352+D$3","v":0},{"$f":"元データ!F352+E$3","v":0},{"$f":"元データ!G352+F$3","v":-6.0000000000000001E-3},{"$f":"元データ!H352+G$3","v":0},{"$f":"元データ!I352+H$3","v":0},null,697,{"$f":"元データ!L352+K$3","v":5.5176477692375769E-9},{"$f":"元データ!M352+L$3","v":-9.9999424660855186E-4},{"$f":"元データ!N352+M$3","v":-4.8202863957291786E-9}]
[null,698,{"$f":"元データ!D353+C$3","v":0},{"$f":"元データ!E353+D$3","v":0},{"$f":"元データ!F353+E$3","v":0},{"$f":"元データ!G353+F$3","v":-5.0000000000000001E-3},{"$f":"元データ!H353+G$3","v":-1.6666666666666668E-3},{"$f":"元データ!I353+H$3","v":0},null,698,{"$f":"元データ!L353+K$3","v":2.453112032951843E-9},{"$f":"元データ!M353+L$3","v":-9.9999621242605717E-4},{"$f":"元データ!N353+M$3","v":-4.2948249123764271E-9}]
[null,699,{"$f":"元データ!D354+C$3","v":0},{"$f":"元データ!E354+D$3","v":0},{"$f":"元データ!F354+E$3","v":0},{"$f":"元データ!G354+F$3","v":0},{"$f":"元データ!H354+G$3","v":0},{"$f":"元データ!I354+H$3","v":0},null,699,{"$f":"元データ!L354+K$3","v":2.8254721201603772E-9},{"$f":"元データ!M354+L$3","v":3.522117890744636E-9},{"$f":"元データ!N354+M$3","v":2.4444348281638106E-10}]
[null,700,{"$f":"元データ!D355+C$3","v":0},{"$f":"元データ!E355+D$3","v":0},{"$f":"元データ!F355+E$3","v":0},{"$f":"元データ!G355+F$3","v":0},{"$f":"元データ!H355+G$3","v":0},{"$f":"元データ!I355+H$3","v":0},null,700,{"$f":"元データ!L355+K$3","v":0},{"$f":"元データ!M355+L$3","v":0},{"$f":"元データ!N355+M$3","v":0}]
[null,701,{"$f":"元データ!D356+C$3","v":0},{"$f":"元データ!E356+D$3","v":0},{"$f":"元データ!F356+E$3","v":0},{"$f":"元データ!G356+F$3","v":0},{"$f":"元データ!H356+G$3","v":0},{"$f":"元データ!I356+H$3","v":0},null,701,{"$f":"元データ!L356+K$3","v":-7.5029350787847449E-10},{"$f":"元データ!M356+L$3","v":7.0118986259665173E-9},{"$f":"元データ!N356+M$3","v":9.999983626701979E-4}]
[null,702,{"$f":"元データ!D357+C$3","v":0},{"$f":"元データ!E357+D$3","v":0},{"$f":"元データ!F357+E$3","v":0},{"$f":"元データ!G357+F$3","v":0},{"$f":"元データ!H357+G$3","v":0},{"$f":"元データ!I357+H$3","v":0},null,702,{"$f":"元データ!L357+K$3","v":6.8583004553257609E-10},{"$f":"元データ!M357+L$3","v":4.8329112881800862E-9},{"$f":"元データ!N357+M$3","v":9.9999426112698693E-4}]
[null,703,{"$f":"元データ!D358+C$3","v":0},{"$f":"元データ!E358+D$3","v":0},{"$f":"元データ!F358+E$3","v":0},{"$f":"元データ!G358+F$3","v":0},{"$f":"元データ!H358+G$3","v":0},{"$f":"元データ!I358+H$3","v":0},null,703,{"$f":"元データ!L358+K$3","v":9.9999958676794815E-4},{"$f":"元データ!M358+L$3","v":1.0000058834259695E-3},{"$f":"元データ!N358+M$3","v":9.999937418296613E-4}]
[null,704,{"$f":"元データ!D359+C$3","v":0},{"$f":"元データ!E359+D$3","v":0},{"$f":"元データ!F359+E$3","v":0},{"$f":"元データ!G359+F$3","v":0},{"$f":"元データ!H359+G$3","v":0},{"$f":"元データ!I359+H$3","v":0},null,704,{"$f":"元データ!L359+K$3","v":1.3068228443824381E-10},{"$f":"元データ!M359+L$3","v":1.0000050455494288E-3},{"$f":"元データ!N359+M$3","v":-2.5889966386027918E-10}]
[null,705,{"$f":"元データ!D360+C$3","v":0},{"$f":"元データ!E360+D$3","v":0},{"$f":"元データ!F360+E$3","v":0},{"$f":"元データ!G360+F$3","v":0},{"$f":"元データ!H360+G$3","v":0},{"$f":"元データ!I360+H$3","v":0},null,705,{"$f":"元データ!L360+K$3","v":2.5452473323417379E-9},{"$f":"元データ!M360+L$3","v":1.0000000830420758E-3},{"$f":"元データ!N360+M$3","v":9.9999952128941062E-4}]
[null,706,{"$f":"元データ!D361+C$3","v":0},{"$f":"元データ!E361+D$3","v":0},{"$f":"元データ!F361+E$3","v":0},{"$f":"元データ!G361+F$3","v":-5.0000000000000001E-3},{"$f":"元データ!H361+G$3","v":-1.6666666666666668E-3},{"$f":"元データ!I361+H$3","v":0},null,706,{"$f":"元データ!L361+K$3","v":2.0000064407849835E-3},{"$f":"元データ!M361+L$3","v":1.0000074437194542E-3},{"$f":"元データ!N361+M$3","v":1.9999950315530875E-3}]
[null,707,{"$f":"元データ!D362+C$3","v":0},{"$f":"元データ!E362+D$3","v":0},{"$f":"元データ!F362+E$3","v":0},{"$f":"元データ!G362+F$3","v":-0.01},{"$f":"元データ!H362+G$3","v":-0.01},{"$f":"元データ!I362+H$3","v":-8.0000000000000002E-3},null,707,{"$f":"元データ!L362+K$3","v":4.0000037324882179E-3},{"$f":"元データ!M362+L$3","v":3.0000073080539008E-3},{"$f":"元データ!N362+M$3","v":2.999995844711504E-3}]
[null,708,{"$f":"元データ!D363+C$3","v":0},{"$f":"元データ!E363+D$3","v":0},{"$f":"元データ!F363+E$3","v":0},{"$f":"元データ!G363+F$3","v":-0.01},{"$f":"元データ!H363+G$3","v":-4.0000000000000001E-3},{"$f":"元データ!I363+H$3","v":0},null,708,{"$f":"元データ!L363+K$3","v":3.0000042262176979E-3},{"$f":"元データ!M363+L$3","v":3.0000031535323355E-3},{"$f":"元データ!N363+M$3","v":2.9999979019380424E-3}]
[null,709,{"$f":"元データ!D364+C$3","v":0},{"$f":"元データ!E364+D$3","v":0},{"$f":"元データ!F364+E$3","v":0},{"$f":"元データ!G364+F$3","v":-0.01},{"$f":"元データ!H364+G$3","v":-5.0000000000000001E-3},{"$f":"元データ!I364+H$3","v":0},null,709,{"$f":"元データ!L364+K$3","v":3.0000032809014907E-3},{"$f":"元データ!M364+L$3","v":2.0000001837842327E-3},{"$f":"元データ!N364+M$3","v":2.0000004189943688E-3}]
[null,710,{"$f":"元データ!D365+C$3","v":0},{"$f":"元データ!E365+D$3","v":0},{"$f":"元データ!F365+E$3","v":0},{"$f":"元データ!G365+F$3","v":-0.01},{"$f":"元データ!H365+G$3","v":-0.01},{"$f":"元データ!I365+H$3","v":-8.0000000000000002E-3},null,710,{"$f":"元データ!L365+K$3","v":3.0000011884605826E-3},{"$f":"元データ!M365+L$3","v":2.0000067693741845E-3},{"$f":"元データ!N365+M$3","v":1.9999928057746891E-3}]
[null,711,{"$f":"元データ!D366+C$3","v":0},{"$f":"元データ!E366+D$3","v":0},{"$f":"元データ!F366+E$3","v":0},{"$f":"元データ!G366+F$3","v":-0.01},{"$f":"元データ!H366+G$3","v":-0.01},{"$f":"元データ!I366+H$3","v":-4.0000000000000001E-3},null,711,{"$f":"元データ!L366+K$3","v":3.0000024211016621E-3},{"$f":"元データ!M366+L$3","v":2.0000063883293534E-3},{"$f":"元データ!N366+M$3","v":1.9999981035175272E-3}]
[null,712,{"$f":"元データ!D367+C$3","v":0},{"$f":"元データ!E367+D$3","v":0},{"$f":"元データ!F367+E$3","v":0},{"$f":"元データ!G367+F$3","v":-8.3333333333333332E-3},{"$f":"元データ!H367+G$3","v":-0.01},{"$f":"元データ!I367+H$3","v":0},null,712,{"$f":"元データ!L367+K$3","v":3.0000037974331206E-3},{"$f":"元データ!M367+L$3","v":3.0000039663417299E-3},{"$f":"元データ!N367+M$3","v":1.9999943418143283E-3}]
[null,713,{"$f":"元データ!D368+C$3","v":0},{"$f":"元データ!E368+D$3","v":0},{"$f":"元データ!F368+E$3","v":0},{"$f":"元データ!G368+F$3","v":-0.01},{"$f":"元データ!H368+G$3","v":-0.01},{"$f":"元データ!I368+H$3","v":0},null,713,{"$f":"元データ!L368+K$3","v":4.00000498590182E-3},{"$f":"元データ!M368+L$3","v":3.0000003318609103E-3},{"$f":"元データ!N368+M$3","v":2.9999997862053471E-3}]
[null,714,{"$f":"元データ!D369+C$3","v":0},{"$f":"元データ!E369+D$3","v":0},{"$f":"元データ!F369+E$3","v":0},{"$f":"元データ!G369+F$3","v":-0.01},{"$f":"元データ!H369+G$3","v":-0.01},{"$f":"元データ!I369+H$3","v":0},null,714,{"$f":"元データ!L369+K$3","v":4.0000048418087214E-3},{"$f":"元データ!M369+L$3","v":3.0000029286563852E-3},{"$f":"元データ!N369+M$3","v":1.9999979884910216E-3}]
[null,715,{"$f":"元データ!D370+C$3","v":0},{"$f":"元データ!E370+D$3","v":0},{"$f":"元データ!F370+E$3","v":0},{"$f":"元データ!G370+F$3","v":-0.01},{"$f":"元データ!H370+G$3","v":-0.01},{"$f":"元データ!I370+H$3","v":0},null,715,{"$f":"元データ!L370+K$3","v":3.0000045689361349E-3},{"$f":"元データ!M370+L$3","v":3.0000064206551326E-3},{"$f":"元データ!N370+M$3","v":1.9999991829027473E-3}]
[null,716,{"$f":"元データ!D371+C$3","v":0},{"$f":"元データ!E371+D$3","v":0},{"$f":"元データ!F371+E$3","v":0},{"$f":"元データ!G371+F$3","v":-6.0000000000000001E-3},{"$f":"元データ!H371+G$3","v":-0.01},{"$f":"元データ!I371+H$3","v":0},null,716,{"$f":"元データ!L371+K$3","v":3.000003129622765E-3},{"$f":"元データ!M371+L$3","v":4.0000034768772497E-3},{"$f":"元データ!N371+M$3","v":1.9999996156585334E-3}]
[null,717,{"$f":"元データ!D372+C$3","v":0},{"$f":"元データ!E372+D$3","v":0},{"$f":"元データ!F372+E$3","v":0},{"$f":"元データ!G372+F$3","v":0},{"$f":"元データ!H372+G$3","v":-0.01},{"$f":"元データ!I372+H$3","v":0},null,717,{"$f":"元データ!L372+K$3","v":4.0000029272159732E-3},{"$f":"元データ!M372+L$3","v":4.0000073852124599E-3},{"$f":"元データ!N372+M$3","v":2.9999940616893331E-3}]
[null,718,{"$f":"元データ!D373+C$3","v":0},{"$f":"元データ!E373+D$3","v":0},{"$f":"元データ!F373+E$3","v":0},{"$f":"元データ!G373+F$3","v":-0.01},{"$f":"元データ!H373+G$3","v":-0.01},{"$f":"元データ!I373+H$3","v":0},null,718,{"$f":"元データ!L373+K$3","v":4.000003955875242E-3},{"$f":"元データ!M373+L$3","v":3.0000070400395991E-3},{"$f":"元データ!N373+M$3","v":2.9999986357278734E-3}]
[null,719,{"$f":"元データ!D374+C$3","v":0},{"$f":"元データ!E374+D$3","v":0},{"$f":"元データ!F374+E$3","v":0},{"$f":"元データ!G374+F$3","v":-0.01},{"$f":"元データ!H374+G$3","v":-0.01},{"$f":"元データ!I374+H$3","v":0},null,719,{"$f":"元データ!L374+K$3","v":4.0000017510013267E-3},{"$f":"元データ!M374+L$3","v":3.0000031932563209E-3},{"$f":"元データ!N374+M$3","v":1.9999991654805413E-3}]
[null,720,{"$f":"元データ!D375+C$3","v":0},{"$f":"元データ!E375+D$3","v":0},{"$f":"元データ!F375+E$3","v":0},{"$f":"元データ!G375+F$3","v":-0.01},{"$f":"元データ!H375+G$3","v":-0.01},{"$f":"元データ!I375+H$3","v":0},null,720,{"$f":"元データ!L375+K$3","v":4.0000014643820289E-3},{"$f":"元データ!M375+L$3","v":4.0000004083843447E-3},{"$f":"元データ!N375+M$3","v":1.999993281684171E-3}]
[null,721,{"$f":"元データ!D376+C$3","v":0},{"$f":"元データ!E376+D$3","v":0},{"$f":"元データ!F376+E$3","v":0},{"$f":"元データ!G376+F$3","v":0},{"$f":"元データ!H376+G$3","v":-0.01},{"$f":"元データ!I376+H$3","v":0},null,721,{"$f":"元データ!L376+K$3","v":4.0000066136540932E-3},{"$f":"元データ!M376+L$3","v":5.0000009336834267E-3},{"$f":"元データ!N376+M$3","v":1.999994557958247E-3}]
[null,722,{"$f":"元データ!D377+C$3","v":0},{"$f":"元データ!E377+D$3","v":0},{"$f":"元データ!F377+E$3","v":0},{"$f":"元データ!G377+F$3","v":0},{"$f":"元データ!H377+G$3","v":-0.01},{"$f":"元データ!I377+H$3","v":0},null,722,{"$f":"元データ!L377+K$3","v":3.9999991546014052E-3},{"$f":"元データ!M377+L$3","v":4.000003164571813E-3},{"$f":"元データ!N377+M$3","v":1.9999948792290521E-3}]
[null,723,{"$f":"元データ!D378+C$3","v":-0.01},{"$f":"元データ!E378+D$3","v":0},{"$f":"元データ!F378+E$3","v":0},{"$f":"元データ!G378+F$3","v":0},{"$f":"元データ!H378+G$3","v":-0.01},{"$f":"元データ!I378+H$3","v":0},null,723,{"$f":"元データ!L378+K$3","v":4.0000020116627635E-3},{"$f":"元データ!M378+L$3","v":4.0000023521995802E-3},{"$f":"元データ!N378+M$3","v":2.999996555121405E-3}]
[null,724,{"$f":"元データ!D379+C$3","v":-0.01},{"$f":"元データ!E379+D$3","v":0},{"$f":"元データ!F379+E$3","v":0},{"$f":"元データ!G379+F$3","v":0},{"$f":"元データ!H379+G$3","v":-0.01},{"$f":"元データ!I379+H$3","v":0},null,724,{"$f":"元データ!L379+K$3","v":3.9999998912265411E-3},{"$f":"元データ!M379+L$3","v":4.0000028254563958E-3},{"$f":"元データ!N379+M$3","v":2.9999941256576949E-3}]
[null,725,{"$f":"元データ!D380+C$3","v":-0.01},{"$f":"元データ!E380+D$3","v":0},{"$f":"元データ!F380+E$3","v":0},{"$f":"元データ!G380+F$3","v":-4.0000000000000001E-3},{"$f":"元データ!H380+G$3","v":-0.01},{"$f":"元データ!I380+H$3","v":0},null,725,{"$f":"元データ!L380+K$3","v":4.0000052311890549E-3},{"$f":"元データ!M380+L$3","v":4.0000013394568277E-3},{"$f":"元データ!N380+M$3","v":2.9999938300077564E-3}]
[null,726,{"$f":"元データ!D381+C$3","v":-0.01},{"$f":"元データ!E381+D$3","v":0},{"$f":"元データ!F381+E$3","v":0},{"$f":"元データ!G381+F$3","v":-0.01},{"$f":"元データ!H381+G$3","v":-0.01},{"$f":"元データ!I381+H$3","v":0},null,726,{"$f":"元データ!L381+K$3","v":6.0000035815915391E-3},{"$f":"元データ!M381+L$3","v":6.0000076233820117E-3},{"$f":"元データ!N381+M$3","v":3.9999996477389534E-3}]
[null,727,{"$f":"元データ!D382+C$3","v":-0.01},{"$f":"元データ!E382+D$3","v":0},{"$f":"元データ!F382+E$3","v":0},{"$f":"元データ!G382+F$3","v":-0.01},{"$f":"元データ!H382+G$3","v":-0.01},{"$f":"元データ!I382+H$3","v":0},null,727,{"$f":"元データ!L382+K$3","v":5.0000042688030898E-3},{"$f":"元データ!M382+L$3","v":6.0000044191784114E-3},{"$f":"元データ!N382+M$3","v":4.0000000820721512E-3}]
[null,728,{"$f":"元データ!D383+C$3","v":-0.01},{"$f":"元データ!E383+D$3","v":0},{"$f":"元データ!F383+E$3","v":0},{"$f":"元データ!G383+F$3","v":-0.01},{"$f":"元データ!H383+G$3","v":-0.01},{"$f":"元データ!I383+H$3","v":0},null,728,{"$f":"元データ!L383+K$3","v":4.9999994624371838E-3},{"$f":"元データ!M383+L$3","v":5.000003567402253E-3},{"$f":"元データ!N383+M$3","v":3.9999952555882547E-3}]
[null,729,{"$f":"元データ!D384+C$3","v":-8.3333333333333332E-3},{"$f":"元データ!E384+D$3","v":0},{"$f":"元データ!F384+E$3","v":0},{"$f":"元データ!G384+F$3","v":-0.01},{"$f":"元データ!H384+G$3","v":-0.01},{"$f":"元データ!I384+H$3","v":0},null,729,{"$f":"元データ!L384+K$3","v":4.9999993752033872E-3},{"$f":"元データ!M384+L$3","v":5.000001613760869E-3},{"$f":"元データ!N384+M$3","v":3.9999949370444383E-3}]
[null,730,{"$f":"元データ!D385+C$3","v":0},{"$f":"元データ!E385+D$3","v":0},{"$f":"元データ!F385+E$3","v":0},{"$f":"元データ!G385+F$3","v":-0.01},{"$f":"元データ!H385+G$3","v":-0.01},{"$f":"元データ!I385+H$3","v":-8.0000000000000002E-3},null,730,{"$f":"元データ!L385+K$3","v":5.9999995716143624E-3},{"$f":"元データ!M385+L$3","v":6.0000056935764429E-3},{"$f":"元データ!N385+M$3","v":3.9999977491296801E-3}]
[null,731,{"$f":"元データ!D386+C$3","v":0},{"$f":"元データ!E386+D$3","v":0},{"$f":"元データ!F386+E$3","v":0},{"$f":"元データ!G386+F$3","v":-0.01},{"$f":"元データ!H386+G$3","v":-0.01},{"$f":"元データ!I386+H$3","v":-0.01},null,731,{"$f":"元データ!L386+K$3","v":6.0000021251956706E-3},{"$f":"元データ!M386+L$3","v":6.0000049000185646E-3},{"$f":"元データ!N386+M$3","v":3.9999940727276223E-3}]
[null,732,{"$f":"元データ!D387+C$3","v":0},{"$f":"元データ!E387+D$3","v":0},{"$f":"元データ!F387+E$3","v":0},{"$f":"元データ!G387+F$3","v":-0.01},{"$f":"元データ!H387+G$3","v":-0.01},{"$f":"元データ!I387+H$3","v":-0.01},null,732,{"$f":"元データ!L387+K$3","v":6.0000054303973663E-3},{"$f":"元データ!M387+L$3","v":6.0000045496408187E-3},{"$f":"元データ!N387+M$3","v":3.9999953414285722E-3}]
[null,733,{"$f":"元データ!D388+C$3","v":0},{"$f":"元データ!E388+D$3","v":0},{"$f":"元データ!F388+E$3","v":0},{"$f":"元データ!G388+F$3","v":-0.01},{"$f":"元データ!H388+G$3","v":-0.01},{"$f":"元データ!I388+H$3","v":-0.01},null,733,{"$f":"元データ!L388+K$3","v":6.0000054750860045E-3},{"$f":"元データ!M388+L$3","v":7.0000012322799648E-3},{"$f":"元データ!N388+M$3","v":4.0000002119805686E-3}]
[null,734,{"$f":"元データ!D389+C$3","v":-0.01},{"$f":"元データ!E389+D$3","v":0},{"$f":"元データ!F389+E$3","v":0},{"$f":"元データ!G389+F$3","v":-0.01},{"$f":"元データ!H389+G$3","v":-0.01},{"$f":"元データ!I389+H$3","v":-0.01},null,734,{"$f":"元データ!L389+K$3","v":6.0000048313230241E-3},{"$f":"元データ!M389+L$3","v":7.0000001153842743E-3},{"$f":"元データ!N389+M$3","v":3.9999930720648544E-3}]
[null,735,{"$f":"元データ!D390+C$3","v":-0.01},{"$f":"元データ!E390+D$3","v":0},{"$f":"元データ!F390+E$3","v":0},{"$f":"元データ!G390+F$3","v":-0.01},{"$f":"元データ!H390+G$3","v":-0.01},{"$f":"元データ!I390+H$3","v":-0.01},null,735,{"$f":"元データ!L390+K$3","v":6.0000057252232765E-3},{"$f":"元データ!M390+L$3","v":6.0000015863348683E-3},{"$f":"元データ!N390+M$3","v":4.0000000669459211E-3}]
[null,736,{"$f":"元データ!D391+C$3","v":-0.01},{"$f":"元データ!E391+D$3","v":0},{"$f":"元データ!F391+E$3","v":0},{"$f":"元データ!G391+F$3","v":-0.01},{"$f":"元データ!H391+G$3","v":-0.01},{"$f":"元データ!I391+H$3","v":-0.01},null,736,{"$f":"元データ!L391+K$3","v":6.0000030473009308E-3},{"$f":"元データ!M391+L$3","v":6.0000000176696662E-3},{"$f":"元データ!N391+M$3","v":3.9999929925066333E-3}]
[null,737,{"$f":"元データ!D392+C$3","v":-0.01},{"$f":"元データ!E392+D$3","v":0},{"$f":"元データ!F392+E$3","v":0},{"$f":"元データ!G392+F$3","v":-0.01},{"$f":"元データ!H392+G$3","v":-0.01},{"$f":"元データ!I392+H$3","v":0},null,737,{"$f":"元データ!L392+K$3","v":6.0000017241150297E-3},{"$f":"元データ!M392+L$3","v":6.0000035249157977E-3},{"$f":"元データ!N392+M$3","v":4.000000906324238E-3}]
[null,738,{"$f":"元データ!D393+C$3","v":-0.01},{"$f":"元データ!E393+D$3","v":0},{"$f":"元データ!F393+E$3","v":0},{"$f":"元データ!G393+F$3","v":-0.01},{"$f":"元データ!H393+G$3","v":-0.01},{"$f":"元データ!I393+H$3","v":-3.3333333333333335E-3},null,738,{"$f":"元データ!L393+K$3","v":6.0000045216610474E-3},{"$f":"元データ!M393+L$3","v":6.0000073432806764E-3},{"$f":"元データ!N393+M$3","v":4.9999928938138094E-3}]
[null,739,{"$f":"元データ!D394+C$3","v":-0.01},{"$f":"元データ!E394+D$3","v":0},{"$f":"元データ!F394+E$3","v":0},{"$f":"元データ!G394+F$3","v":-0.01},{"$f":"元データ!H394+G$3","v":-0.01},{"$f":"元データ!I394+H$3","v":-8.0000000000000002E-3},null,739,{"$f":"元データ!L394+K$3","v":6.0000036083781225E-3},{"$f":"元データ!M394+L$3","v":6.0000010044809777E-3},{"$f":"元データ!N394+M$3","v":4.9999991127961697E-3}]
[null,740,{"$f":"元データ!D395+C$3","v":-0.01},{"$f":"元データ!E395+D$3","v":0},{"$f":"元データ!F395+E$3","v":0},{"$f":"元データ!G395+F$3","v":-0.01},{"$f":"元データ!H395+G$3","v":-0.01},{"$f":"元データ!I395+H$3","v":0},null,740,{"$f":"元データ!L395+K$3","v":6.0000058952145406E-3},{"$f":"元データ!M395+L$3","v":7.0000058110590803E-3},{"$f":"元データ!N395+M$3","v":4.9999946839180895E-3}]
[null,741,{"$f":"元データ!D396+C$3","v":-0.01},{"$f":"元データ!E396+D$3","v":0},{"$f":"元データ!F396+E$3","v":0},{"$f":"元データ!G396+F$3","v":-6.0000000000000001E-3},{"$f":"元データ!H396+G$3","v":-0.01},{"$f":"元データ!I396+H$3","v":0},null,741,{"$f":"元データ!L396+K$3","v":5.0000009068373458E-3},{"$f":"元データ!M396+L$3","v":7.0000071106621356E-3},{"$f":"元データ!N396+M$3","v":3.9999956611949349E-3}]
[null,742,{"$f":"元データ!D397+C$3","v":-0.01},{"$f":"元データ!E397+D$3","v":0},{"$f":"元データ!F397+E$3","v":0},{"$f":"元データ!G397+F$3","v":0},{"$f":"元データ!H397+G$3","v":-0.01},{"$f":"元データ!I397+H$3","v":0},null,742,{"$f":"元データ!L397+K$3","v":5.9999994012375525E-3},{"$f":"元データ!M397+L$3","v":6.0000060537170634E-3},{"$f":"元データ!N397+M$3","v":3.9999988090768483E-3}]
[null,743,{"$f":"元データ!D398+C$3","v":-0.01},{"$f":"元データ!E398+D$3","v":0},{"$f":"元データ!F398+E$3","v":0},{"$f":"元データ!G398+F$3","v":0},{"$f":"元データ!H398+G$3","v":-0.01},{"$f":"元データ!I398+H$3","v":0},null,743,{"$f":"元データ!L398+K$3","v":6.0000054252394089E-3},{"$f":"元データ!M398+L$3","v":7.0000066310167714E-3},{"$f":"元データ!N398+M$3","v":5.0000008609189274E-3}]
[null,744,{"$f":"元データ!D399+C$3","v":-0.01},{"$f":"元データ!E399+D$3","v":0},{"$f":"元データ!F399+E$3","v":0},{"$f":"元データ!G399+F$3","v":0},{"$f":"元データ!H399+G$3","v":-0.01},{"$f":"元データ!I399+H$3","v":0},null,744,{"$f":"元データ!L399+K$3","v":5.0000012341141868E-3},{"$f":"元データ!M399+L$3","v":7.0000009463711804E-3},{"$f":"元データ!N399+M$3","v":3.999995980727606E-3}]
[null,745,{"$f":"元データ!D400+C$3","v":-0.01},{"$f":"元データ!E400+D$3","v":0},{"$f":"元データ!F400+E$3","v":0},{"$f":"元データ!G400+F$3","v":0},{"$f":"元データ!H400+G$3","v":-0.01},{"$f":"元データ!I400+H$3","v":0},null,745,{"$f":"元データ!L400+K$3","v":6.0000014246073367E-3},{"$f":"元データ!M400+L$3","v":7.0000032907415657E-3},{"$f":"元データ!N400+M$3","v":3.9999947162679232E-3}]
[null,746,{"$f":"元データ!D401+C$3","v":-0.01},{"$f":"元データ!E401+D$3","v":0},{"$f":"元データ!F401+E$3","v":0},{"$f":"元データ!G401+F$3","v":0},{"$f":"元データ!H401+G$3","v":-0.01},{"$f":"元データ!I401+H$3","v":0},null,746,{"$f":"元データ!L401+K$3","v":6.0000002188903417E-3},{"$f":"元データ!M401+L$3","v":7.0000049780851508E-3},{"$f":"元データ!N401+M$3","v":4.9999946169321276E-3}]
[null,747,{"$f":"元データ!D402+C$3","v":-0.01},{"$f":"元データ!E402+D$3","v":0},{"$f":"元データ!F402+E$3","v":0},{"$f":"元データ!G402+F$3","v":0},{"$f":"元データ!H402+G$3","v":-0.01},{"$f":"元データ!I402+H$3","v":0},null,747,{"$f":"元データ!L402+K$3","v":5.0000065010575995E-3},{"$f":"元データ!M402+L$3","v":7.0000040316882742E-3},{"$f":"元データ!N402+M$3","v":5.0000000852282213E-3}]
[null,748,{"$f":"元データ!D403+C$3","v":-0.01},{"$f":"元データ!E403+D$3","v":0},{"$f":"元データ!F403+E$3","v":0},{"$f":"元データ!G403+F$3","v":0},{"$f":"元データ!H403+G$3","v":-0.01},{"$f":"元データ!I403+H$3","v":0},null,748,{"$f":"元データ!L403+K$3","v":5.0000044530947099E-3},{"$f":"元データ!M403+L$3","v":7.0000014794115353E-3},{"$f":"元データ!N403+M$3","v":4.9999942012976667E-3}]
[null,749,{"$f":"元データ!D404+C$3","v":-0.01},{"$f":"元データ!E404+D$3","v":0},{"$f":"元データ!F404+E$3","v":0},{"$f":"元データ!G404+F$3","v":0},{"$f":"元データ!H404+G$3","v":-0.01},{"$f":"元データ!I404+H$3","v":0},null,749,{"$f":"元データ!L404+K$3","v":6.0000003760522745E-3},{"$f":"元データ!M404+L$3","v":8.0000016952815681E-3},{"$f":"元データ!N404+M$3","v":4.9999939206874164E-3}]
[null,750,{"$f":"元データ!D405+C$3","v":-0.01},{"$f":"元データ!E405+D$3","v":0},{"$f":"元データ!F405+E$3","v":0},{"$f":"元データ!G405+F$3","v":0},{"$f":"元データ!H405+G$3","v":-0.01},{"$f":"元データ!I405+H$3","v":0},null,750,{"$f":"元データ!L405+K$3","v":6.0000007041385549E-3},{"$f":"元データ!M405+L$3","v":7.0000031771081158E-3},{"$f":"元データ!N405+M$3","v":4.9999932337821441E-3}]

{"sheet":"元データ","index":2,"n_rows":405,"n_cols":14,"rows_kept":405,"cut":false,"hidden":false,"merged":[]}
["元データ（波長較正、規格・平準化済み）"]
["D2輝線波長",656.1,"←ここに光源の656 nm付近の輝線の測定値を入力する",null,null,null,null,null,"マクロ「データ読み込み」を利用して、元のデータの波長較正、波長の規格化、光強度の平準化を行う"]
[null,null,"Fe 定量",null,null,null,null,null,null,null,"Al定量"]
[null,null,"波長/nm","Fe00.txt","Fe01.txt","Fe02.txt","Fe03.txt","Fe04.txt","FeX.txt",null,"波長/nm","blanc.txt","AlStd.txt","AlSample.txt"]
[null,null,350,0.20500000000000002,0.13,0.1,0.06,0.09,0.09,null,350,1.6479998943529524,1.7480000761683467,1.7419997709730135]
[null,null,351,0.2,0.128,0.1,0.06,8.7999999999999995E-2,8.7999999999999995E-2,null,351,1.6420000958365286,1.7479998876630984,1.7599998546526585]
[null,null,352,0.192,0.12,9.8000000000000004E-2,0.06,0.08,0.08,null,352,1.6059999620082996,1.7509996829213712,1.7580000575550758]
[null,null,353,0.182,0.11399999999999999,0.09,5.2000000000000005E-2,0.08,0.08,null,353,1.551999828974705,1.7100002331339896,1.7090003087557686]
[null,null,354,0.17250000000000001,0.11,8.7500000000000008E-2,0.05,0.08,7.0000000000000007E-2,null,354,1.4330000801800349,1.6190001774808991,1.6249999931183439]
[null,null,355,0.16400000000000001,0.1,0.08,0.05,0.08,7.0000000000000007E-2,null,355,1.3020000229340898,1.5380001946828807,1.5700000846368731]
[null,null,356,0.154,9.6000000000000002E-2,7.5999999999999998E-2,4.4000000000000004E-2,0.08,6.2E-2,null,356,1.1519999285859035,1.4390001186745451,1.4840000063962817]
[null,null,357,0.14400000000000002,0.09,7.0000000000000007E-2,0.04,7.400000000000001E-2,0.06,null,357,1.0210000435766247,1.3419999289129616,1.3969999835160292]
[null,null,358,0.13250000000000001,0.08,6.5000000000000002E-2,0.04,7.0000000000000007E-2,5.4999999999999993E-2,null,358,0.86400002725892977,1.2249999580885476,1.2940000462824468]
[null,null,359,0.124,7.5999999999999998E-2,0.06,0.04,7.0000000000000007E-2,0.05,null,359,0.71799999667249492,1.1110000296241802,1.1799999793620592]
[null,null,360,0.11599999999999999,7.0000000000000007E-2,5.7999999999999996E-2,3.2000000000000001E-2,7.0000000000000007E-2,0.05,null,360,0.59100000061734537,1.0029999481718392,1.0719999986466819]
[null,null,361,0.10600000000000001,6.4000000000000001E-2,0.05,0.03,7.0000000000000007E-2,4.4000000000000004E-2,null,361,0.48400001576087842,0.91200001372685691,0.98699999292172946]
[null,null,362,0.1,0.06,0.05,0.03,7.0000000000000007E-2,0.04,null,362,0.40700001502089267,0.85300000854516633,0.93100002040046492]
[null,null,363,9.1999999999999998E-2,0.06,0.05,0.03,7.0000000000000007E-2,0.04,null,363,0.32700000983979732,0.79200003360322047,0.86699999981971509]
[null,null,364,8.7999999999999995E-2,5.2000000000000005E-2,4.4000000000000004E-2,0.03,7.0000000000000007E-2,0.04,null,364,0.26299999838573096,0.7430000280973601,0.81800002473583666]
[null,null,365,0.08,0.05,0.04,0.03,7.2000000000000008E-2,0.04,null,365,0.21100000812634351,0.70400001747024799,0.78199997694420675]
[null,null,366,7.8E-2,0.05,0.04,0.03,0.08,0.04,null,366,0.16900000728717296,0.6739999948873614,0.75199996583824869]
[null,null,367,7.0000000000000007E-2,0.05,0.04,0.03,0.08,0.04,null,367,0.13500000074622195,0.65200000432920702,0.7329999786255178]
[null,null,368,7.0000000000000007E-2,0.05,0.04,0.03,0.08,0.04,null,368,0.11400000473578427,0.63800001666744899,0.71999996699321711]
[null,null,369,7.0000000000000007E-2,0.04,0.04,0.03,0.08,0.04,null,369,9.2999995835934976E-2,0.62700000965637692,0.70799996522926179]
[null,null,370,6.2E-2,0.04,0.04,0.04,8.7999999999999995E-2,0.04,null,370,7.5000009493405684E-2,0.61599997678194696,0.70000001388373656]
[null,null,371,0.06,0.04,0.04,0.04,0.09,0.04,null,371,6.0999997302637728E-2,0.60900002105750384,0.69399999457191475]
[null,null,372,0.06,0.04,0.04,0.04,0.09,4.5999999999999999E-2,null,372,4.9999997444249156E-2,0.60600000047798663,0.68999997131029456]
[null,null,373,0.06,0.04,0.05,0.04,9.6000000000000002E-2,0.05,null,373,4.3999997686586183E-2,0.60700002515738771,0.69099997476226083]
[null,null,374,0.06,0.04,0.05,0.05,0.1,0.05,null,374,3.7999998274621465E-2,0.60800000096440487,0.69400000403914441]
[null,null,375,0.06,0.04,0.05,0.05,0.10400000000000001,0.05,null,375,3.3000000171754078E-2,0.60999999572233499,0.69500000132393602]
[null,null,376,0.06,4.7500000000000001E-2,0.05,0.05,0.11,5.5E-2,null,376,2.8000006817082645E-2,0.6099999916776726,0.69500000797533379]
[null,null,377,0.06,0.05,5.4000000000000006E-2,5.7999999999999996E-2,0.11000000000000001,0.06,null,377,2.6000004520565334E-2,0.61200000300834412,0.69699997296529492]
[null,null,378,5.4000000000000006E-2,0.05,0.06,0.06,0.12,0.06,null,378,2.2999999861232689E-2,0.61399997991581345,0.69700001037112147]
[null,null,379,0.05,0.05,0.06,6.2E-2,0.12,7.0000000000000007E-2,null,379,2.100000506981331E-2,0.61600002181036684,0.69799999908256904]
[null,null,380,0.05,0.05,0.06,7.0000000000000007E-2,0.13,7.0000000000000007E-2,null,380,1.9000009627572912E-2,0.61499999904640901,0.69899999769109855]
[null,null,381,0.05,0.05,6.5000000000000002E-2,7.0000000000000007E-2,0.13250000000000001,7.2500000000000009E-2,null,381,1.8000007942224661E-2,0.61499998129748767,0.70100001819035596]
[null,null,382,0.05,0.05,7.0000000000000007E-2,7.8000000000000014E-2,0.14000000000000001,0.08,null,382,1.5999996490136611E-2,0.61300003058314723,0.69899997068888076]
[null,null,383,0.05,0.05,7.0000000000000007E-2,0.08,0.14400000000000002,8.2000000000000003E-2,null,383,1.5000002681109147E-2,0.61200001155173966,0.69600002923092275]
[null,null,384,0.05,5.7999999999999996E-2,7.400000000000001E-2,8.7999999999999995E-2,0.15,0.09,null,384,1.4000004047329911E-2,0.61500002927824526,0.69499996344568404]
[null,null,385,0.05,0.06,0.08,0.09,0.158,0.09,null,385,1.3000000239249344E-2,0.6160000232135906,0.69599998927630413]
[null,null,386,0.05,0.06,0.08,0.1,0.16250000000000001,0.1,null,386,1.5000004780900657E-2,0.61599997906281789,0.6970000009593329]
[null,null,387,0.05,0.06,8.7999999999999995E-2,0.1,0.17,0.1,null,387,1.5000007532601826E-2,0.61399997530045725,0.69400003373295627]
[null,null,388,0.05,0.06,0.09,0.10800000000000001,0.17799999999999999,0.10600000000000001,null,388,1.4999997434720129E-2,0.61100002726710567,0.69299997024032478]
[null,null,389,0.05,0.06,9.1999999999999998E-2,0.11000000000000001,0.182,0.11000000000000001,null,389,1.4000005525080843E-2,0.6099999884319417,0.6919999673796583]
[null,null,390,0.05,6.6000000000000003E-2,0.1,0.12,0.19,0.12,null,390,1.2000001518373406E-2,0.60700000675439858,0.68600002074444677]
[null,null,391,0.05,7.0000000000000007E-2,0.1,0.1225,0.2,0.1225,null,391,1.2999997571006248E-2,0.60199997686366957,0.68200000145838646]
[null,null,392,0.05,7.0000000000000007E-2,0.10800000000000001,0.13,0.20600000000000002,0.13,null,392,1.3000002506320933E-2,0.59799998870296334,0.67600003164859557]
[null,null,393,0.05,7.0000000000000007E-2,0.11000000000000001,0.13400000000000001,0.21200000000000002,0.13200000000000001,null,393,1.3000002971181569E-2,0.59200002559586273,0.66999996714192123]
[null,null,394,0.05,7.0000000000000007E-2,0.11200000000000002,0.14000000000000001,0.22000000000000003,0.14000000000000001,null,394,1.3999997897775247E-2,0.58399998774596595,0.66399998406344451]
[null,null,395,0.05,7.400000000000001E-2,0.12,0.14800000000000002,0.23000000000000004,0.14400000000000002,null,395,1.4000006097716681E-2,0.57899997561204231,0.65499996608323163]
[null,null,396,0.05,0.08,0.12,0.155,0.23749999999999999,0.15,null,396,1.4000005620748893E-2,0.57300000271564222,0.64600003217029811]
[null,null,397,0.05,0.08,0.13,0.16,0.24399999999999999,0.158,null,397,1.4000009812633812E-2,0.56499998025256315,0.63599996678341153]
[null,null,398,0.05,0.08,0.13,0.16600000000000001,0.25,0.16,null,398,1.4000010151870204E-2,0.55600000281210316,0.62600000697596747]
[null,null,399,0.05,0.08,0.13400000000000001,0.17,0.26,0.17,null,399,1.4000004582659407E-2,0.5450000137751313,0.61700002831344558]
[null,null,400,0.05,8.5999999999999993E-2,0.14000000000000001,0.18,0.26800000000000002,0.17599999999999999,null,400,1.2999999332643231E-2,0.53300002180252182,0.60600000488637873]
[null,null,401,0.05,0.09,0.14600000000000002,0.186,0.27800000000000002,0.18,null,401,1.3999996319781802E-2,0.52200000232016763,0.59099997284717254]
[null,null,402,0.05,0.09,0.15,0.19,0.28500000000000003,0.1875,null,402,1.3000000129213676E-2,0.51200002396750122,0.5800000071833139]
[null,null,403,0.05,0.09,0.15,0.19800000000000001,0.29199999999999998,0.19,null,403,1.1999999295529133E-2,0.50200001105102909,0.56800002738371524]
[null,null,404,0.05,9.1999999999999998E-2,0.16,0.20400000000000001,0.30199999999999999,0.2,null,404,1.2999999566018314E-2,0.49300000249833925,0.55799998355965374]
[null,null,405,0.05,0.1,0.16,0.21000000000000002,0.31,0.20400000000000001,null,405,1.2999998999780032E-2,0.47799998261137794,0.5439999979714325]
[null,null,406,0.05,0.1,0.17,0.21800000000000003,0.318,0.21000000000000002,null,406,1.1999999588867428E-2,0.46499998176085955,0.52699999619632876]
[null,null,407,0.05,0.1,0.17,0.2225,0.32750000000000001,0.22,null,407,1.2999999818199572E-2,0.45100001685967894,0.51200001226335423]
[null,null,408,0.05,0.1,0.17799999999999999,0.23000000000000004,0.33200000000000002,0.22200000000000003,null,408,1.3000010071048066E-2,0.4390000106818715,0.4979999880506305]
[null,null,409,0.05,0.10800000000000001,0.18,0.23399999999999999,0.34,0.23000000000000004,null,409,1.3999996117519072E-2,0.42899999046602305,0.48699999073947431]
[null,null,410,0.05,0.11000000000000001,0.186,0.24,0.34800000000000003,0.23200000000000004,null,410,1.4000007856187196E-2,0.41599999568569407,0.47300002245053774]
[null,null,411,0.05,0.11000000000000001,0.19,0.248,0.35599999999999998,0.24,null,411,1.4000002187177479E-2,0.40099999841532941,0.45699998090715732]
[null,null,412,0.05,0.11000000000000001,0.19,0.25,0.36199999999999999,0.248,null,412,1.3000002305686011E-2,0.38500001317029325,0.44099997524954648]
[null,null,413,0.05,0.11,0.2,0.26,0.37,0.25,null,413,1.3000008118321287E-2,0.37000002334086324,0.42399999774587743]
[null,null,414,0.05,0.11200000000000002,0.2,0.26,0.37799999999999995,0.25600000000000001,null,414,1.3999995892915677E-2,0.35599999833969981,0.40699999519819968]
[null,null,415,0.05,0.12,0.20200000000000001,0.27,0.38200000000000001,0.26,null,415,1.200000448167424E-2,0.34000001226238902,0.39000000518222266]
[null,null,416,0.05,0.12,0.21000000000000002,0.27200000000000002,0.39,0.26600000000000001,null,416,1.2000006455657374E-2,0.32799999410586028,0.37800000138939865]
[null,null,417,0.05,0.12,0.21000000000000002,0.28000000000000003,0.39799999999999996,0.27,null,417,1.1999994975504597E-2,0.31499998651317024,0.36300000912190339]
[null,null,418,0.05,0.12,0.21800000000000003,0.28400000000000003,0.40200000000000002,0.27800000000000002,null,418,1.400000588559884E-2,0.30100000210845318,0.34599999876579351]
[null,null,419,0.04,0.12,0.22000000000000003,0.28999999999999998,0.41,0.28000000000000003,null,419,1.3000005175292616E-2,0.28799998698069318,0.32900000334453233]
[null,null,420,0.04,0.1225,0.22,0.28999999999999998,0.41749999999999998,0.28500000000000003,null,420,1.3000002156716695E-2,0.2739999914064073,0.31500000764743818]
[null,null,421,4.8000000000000001E-2,0.13,0.22400000000000003,0.3,0.42000000000000004,0.28999999999999998,null,421,1.300001023878387E-2,0.25899999972571358,0.2989999807819696]
[null,null,422,4.2000000000000003E-2,0.13,0.23000000000000004,0.3,0.42599999999999999,0.28999999999999998,null,422,1.2999996821705818E-2,0.24499999247024887,0.28399998992688308]
[null,null,423,0.04,0.13,0.23000000000000004,0.31,0.43200000000000005,0.3,null,423,1.5000009681395022E-2,0.2319999930301733,0.27000001167600057]
[null,null,424,4.3999999999999997E-2,0.13,0.23799999999999999,0.312,0.44000000000000006,0.3,null,424,1.4000007889832172E-2,0.22100000459013264,0.2590000038690709]
[null,null,425,0.04,0.13,0.24,0.32,0.44400000000000006,0.31,null,425,1.4000010329831832E-2,0.20799998985236084,0.24400000280033304]
[null,null,426,0.04,0.13500000000000001,0.24,0.32,0.45,0.31,null,426,1.399999532545184E-2,0.1940000128573445,0.22999999407209448]
[null,null,427,0.04,0.14000000000000001,0.246,0.32600000000000001,0.45600000000000007,0.316,null,427,1.400000341538285E-2,0.18199999094095928,0.21599998116107061]
[null,null,428,0.04,0.14000000000000001,0.25,0.33,0.46000000000000008,0.32,null,428,1.3000001427446235E-2,0.16999999466529842,0.1999999881285702]
[null,null,429,0.04,0.14000000000000001,0.25,0.33600000000000002,0.46999999999999992,0.32,null,429,1.2999999195106512E-2,0.15900000595606881,0.18900000112729365]
[null,null,430,0.04,0.14000000000000001,0.252,0.34,0.46999999999999992,0.33,null,430,1.3000002024433084E-2,0.14699999960348079,0.17699999505513311]
[null,null,431,0.04,0.14000000000000001,0.26,0.34,0.47799999999999992,0.33,null,431,1.4999998557614712E-2,0.13800000346669036,0.16599998744066591]
[null,null,432,0.04,0.14000000000000001,0.26,0.35,0.48,0.33600000000000002,null,432,1.4999996238477788E-2,0.13000000869761572,0.15699998733647674]
[null,null,433,0.04,0.14000000000000001,0.26,0.35,0.48749999999999999,0.34,null,433,1.5000010524218267E-2,0.11899999433545858,0.14599998279408763]
[null,null,434,0.04,0.14800000000000002,0.26400000000000001,0.35199999999999998,0.49000000000000005,0.34,null,434,1.5000012003317662E-2,0.11000001504438235,0.13599998551650189]
[null,null,435,0.04,0.15,0.27,0.36,0.49800000000000005,0.34400000000000003,null,435,1.5000004239746737E-2,0.10100001476940863,0.12599999958826935]
[null,null,436,0.04,0.15,0.27,0.36,0.5,0.35,null,436,1.5000003705516858E-2,9.3999997953204531E-2,0.11599998420725702]
[null,null,437,0.04,0.15,0.27,0.36599999999999999,0.502,0.35,null,437,1.300000758211544E-2,8.5000001069073711E-2,0.10700000126862813]
[null,null,438,0.04,0.15,0.27600000000000002,0.37,0.51,0.35599999999999998,null,438,1.4000008146647293E-2,7.9000006977217221E-2,0.10099998935074284]
[null,null,439,0.04,0.15,0.28000000000000003,0.37,0.51,0.36,null,439,1.3999995121263778E-2,7.0999994193698693E-2,9.3999996251294168E-2]
[null,null,440,0.04,0.15,0.28000000000000003,0.38,0.52,0.36,null,440,1.3000000456116882E-2,6.2000012186364105E-2,8.5000002089542184E-2]
[null,null,441,0.04,0.15,0.28000000000000003,0.38,0.52,0.36,null,441,1.3000007738728045E-2,5.6000007027889188E-2,7.8000006745877967E-2]
[null,null,442,0.04,0.15,0.28000000000000003,0.38,0.52,0.36800000000000005,null,442,1.3000011917291436E-2,5.0999993581122581E-2,7.4000007365125159E-2]
[null,null,443,0.04,0.158,0.28800000000000003,0.38200000000000001,0.52800000000000014,0.37,null,443,1.2999998170930924E-2,4.6000000413594977E-2,6.7999998374784945E-2]
[null,null,444,0.04,0.16,0.28999999999999998,0.38800000000000007,0.53,0.37,null,444,1.2999995663561682E-2,4.2000011450476112E-2,6.2000001854779357E-2]
[null,null,445,0.04,0.16,0.28999999999999998,0.39,0.53,0.37399999999999994,null,445,1.3000006233058404E-2,3.8000000745993877E-2,5.7000000197757E-2]
[null,null,446,0.04,0.16,0.28999999999999998,0.39,0.54,0.38,null,446,1.3999996898809829E-2,3.499999652840783E-2,5.3999993141657071E-2]
[null,null,447,0.04,0.16,0.28999999999999998,0.39,0.54,0.38,null,447,1.5000012153987028E-2,3.2000008289694619E-2,5.0000003403029208E-2]
[null,null,448,0.04,0.16,0.29799999999999999,0.39600000000000002,0.54200000000000004,0.38,null,448,1.5999996523695874E-2,2.9000010123701757E-2,4.599999452872823E-2]
[null,null,449,0.04,0.16,0.3,0.4,0.55000000000000004,0.38750000000000007,null,449,1.5000011530748855E-2,2.4999994414359468E-2,4.0999994264752398E-2]
[null,null,450,0.04,0.16,0.3,0.40200000000000002,0.55000000000000004,0.39,null,450,1.4999996855931771E-2,2.2000003718200663E-2,3.6999988007321516E-2]
[null,null,451,0.04,0.16,0.3,0.41,0.55000000000000004,0.39,null,451,1.500001282269809E-2,1.9000013662695728E-2,3.3999985332690136E-2]
[null,null,452,0.04,0.16,0.3,0.41,0.55800000000000005,0.39,null,452,1.4999998298143476E-2,1.6999999454117062E-2,3.3999989655246324E-2]
[null,null,453,0.04,0.16200000000000001,0.30599999999999999,0.41,0.56000000000000005,0.39799999999999996,null,453,1.5999997685106238E-2,1.600000933172737E-2,3.2000008755718734E-2]
[null,null,454,0.04,0.17,0.31,0.41200000000000003,0.56399999999999995,0.4,null,454,1.6000011302799242E-2,1.4000003213220643E-2,2.9999985079064723E-2]
[null,null,455,0.04,0.17,0.31,0.42000000000000004,0.56999999999999995,0.4,null,455,1.5999993508751528E-2,1.100001054050922E-2,2.6999991389141258E-2]
[null,null,456,0.04,0.17,0.312,0.42000000000000004,0.57599999999999996,0.40800000000000003,null,456,1.5999998568389528E-2,1.0000003837966358E-2,2.4999991595131058E-2]
[null,null,457,0.04,0.17,0.32,0.43,0.57999999999999996,0.41,null,457,1.6000009392621539E-2,9.0000091998972652E-3,2.3999999781760217E-2]
[null,null,458,0.04,0.17,0.32,0.43,0.59,0.41600000000000004,null,458,1.29999947853928E-2,4.9999996037532373E-3,2.0999992852332148E-2]
[null,null,459,0.04,0.17,0.32,0.435,0.59250000000000003,0.42,null,459,1.3000009500791814E-2,5.0000020540771932E-3,1.8999988857915647E-2]
[null,null,460,0.04,0.17,0.32600000000000001,0.44000000000000006,0.6,0.42199999999999999,null,460,1.4000010237490097E-2,3.9999972343589471E-3,1.7999995387604533E-2]
[null,null,461,0.04,0.18,0.33,0.44400000000000006,0.6,0.43,null,461,1.4999994697529748E-2,3.0000114871337443E-3,1.8000002036345834E-2]
[null,null,462,0.04,0.18,0.33200000000000002,0.45,0.60799999999999987,0.43200000000000005,null,462,1.3999995138572797E-2,4.0000108670950954E-3,1.6999993854564941E-2]
[null,null,463,0.04,0.18,0.34,0.45600000000000007,0.61599999999999999,0.44000000000000006,null,463,1.5999996464387808E-2,5.0000084754601385E-3,1.9000000287018735E-2]
[null,null,464,0.04,0.18,0.34,0.46000000000000008,0.622,0.44000000000000006,null,464,1.5999994027428317E-2,2.9999961998249478E-3,1.6999997276228609E-2]
[null,null,465,0.04,0.18,0.34,0.46600000000000003,0.63,0.45,null,465,1.5000011190413633E-2,1.0000063502173182E-3,1.5999996055252375E-2]
[null,null,466,0.04,0.186,0.34599999999999997,0.46999999999999992,0.63600000000000001,0.45,null,466,1.5000010344378784E-2,-5.9410780687413345E-9,1.5000000974305566E-2]
[null,null,467,0.04,0.19,0.35,0.46999999999999992,0.64,0.45600000000000007,null,467,1.300000451505556E-2,-2.7650231826381599E-9,1.4000001663592439E-2]
[null,null,468,0.04,0.19,0.35,0.47799999999999992,0.64200000000000002,0.46000000000000008,null,468,1.2999997783783118E-2,-1.0000019954062578E-3,1.2999986434178681E-2]
[null,null,469,0.04,0.19,0.35399999999999993,0.48,0.65,0.46200000000000002,null,469,1.3000008886811125E-2,-1.0000022467748729E-3,1.3000003646132498E-2]
[null,null,470,0.04,0.19,0.36,0.48749999999999999,0.65250000000000008,0.47,null,470,1.3000003581287604E-2,9.3405349236436175E-9,1.1999994186856697E-2]
[null,null,471,0.04,0.19,0.36,0.49000000000000005,0.66,0.46999999999999992,null,471,1.3000009111593405E-2,1.1194534629138664E-8,1.2000003898109863E-2]
[null,null,472,0.04,0.19,0.36599999999999999,0.49399999999999994,0.66799999999999993,0.47799999999999992,null,472,1.2999998436239234E-2,3.6438880385292194E-9,1.1999989576867914E-2]
[null,null,473,0.04,0.19800000000000001,0.37,0.5,0.67200000000000004,0.48,null,473,1.4000008471641651E-2,-2.4655676320040065E-9,1.1999987539838514E-2]
[null,null,474,0.04,0.2,0.37,0.5,0.68,0.48200000000000004,null,474,1.4000005910815818E-2,-2.0000031148403492E-3,1.1000005953504966E-2]
[null,null,475,0.04,0.2,0.37,0.50800000000000001,0.68,0.49000000000000005,null,475,1.4000003174529395E-2,-2.0000025553486827E-3,1.1000005368173457E-2]
[null,null,476,0.04,0.2,0.37,0.51,0.68,0.49000000000000005,null,476,1.3000008259719847E-2,-1.9999882525092751E-3,9.9999891729122548E-3]
[null,null,477,0.04,0.2,0.37,0.51,0.68799999999999994,0.49000000000000005,null,477,1.1999994947748158E-2,-2.0000002960851599E-3,8.9999895056722644E-3]
[null,null,478,0.04,0.2,0.37799999999999995,0.51,0.69,0.49000000000000005,null,478,1.3000009401593255E-2,-2.0000041377830659E-3,9.0000013468398248E-3]
[null,null,479,0.04,0.2,0.38,0.51,0.69,0.49399999999999994,null,479,1.4000008058834945E-2,-9.9998980931964229E-4,9.9999948227565728E-3]
[null,null,480,0.04,0.2,0.38,0.51800000000000002,0.69,0.5,null,480,1.2999996400032209E-2,-9.9999383467305573E-4,9.9999982091720473E-3]
[null,null,481,0.04,0.2,0.38,0.52,0.69399999999999995,0.5,null,481,1.3000000205209736E-2,-1.9999939635818968E-3,9.9999920062734671E-3]
[null,null,482,0.04,0.2,0.38,0.52,0.7,0.5,null,482,1.3000009464120207E-2,-2.0000014164761291E-3,9.0000016962171851E-3]
[null,null,483,0.04,0.2,0.38,0.52,0.7,0.5,null,483,1.2999996628393348E-2,-2.9999917608719978E-3,9.0000027186680452E-3]
[null,null,484,0.04,0.2,0.38,0.52,0.7,0.5,null,484,1.2000005157342154E-2,-3.0000014063317638E-3,7.9999994386924303E-3]
[null,null,485,3.2000000000000001E-2,0.2,0.38,0.52,0.7,0.5,null,485,1.2999996734257772E-2,-1.9999961274938336E-3,8.0000011100579346E-3]
[null,null,486,0.03,0.2,0.38,0.52,0.7,0.5,null,486,1.1999999071233912E-2,-1.9999999857065603E-3,8.9999989183394448E-3]
[null,null,487,0.03,0.2,0.38,0.52,0.7,0.5,null,487,1.100000368227096E-2,-2.9999925231014319E-3,6.9999900846954774E-3]
[null,null,488,0.03,0.2,0.38,0.52,0.7,0.5,null,488,1.1000006354470751E-2,-3.9999936025385541E-3,7.9999987259134174E-3]
[null,null,489,0.03,0.2,0.38,0.52400000000000002,0.71,0.51,null,489,1.1999999541218508E-2,-3.0000025399224712E-3,7.9999895442380911E-3]
[null,null,490,0.03,0.2,0.38400000000000006,0.53,0.71,0.51,null,490,1.2000000961016607E-2,-3.0000000957536958E-3,7.9999962238720031E-3]
[null,null,491,0.03,0.2,0.39,0.53,0.71,0.51,null,491,1.1000004478259332E-2,-2.9999936881401068E-3,7.9999905133963933E-3]
[null,null,492,0.03,0.2,0.39,0.53,0.71,0.51,null,492,1.1999999238523067E-2,-2.9999970368797309E-3,8.9999955564573041E-3]
[null,null,493,0.03,0.2,0.39,0.53,0.71,0.51,null,493,1.1000005194737421E-2,-3.0000007509466617E-3,8.0000030195314445E-3]
[null,null,494,0.03,0.2,0.39,0.53,0.71599999999999986,0.51,null,494,1.100000663996166E-2,-2.9999919478710339E-3,7.0000022255138385E-3]
[null,null,495,0.03,0.2,0.39,0.53800000000000003,0.72,0.51600000000000001,null,495,1.1000005245007813E-2,-2.9999982040715013E-3,6.9999985160547791E-3]
[null,null,496,0.03,0.21000000000000002,0.39,0.54,0.72,0.52,null,496,1.0999998461061384E-2,-2.999994901788967E-3,6.9999999112870942E-3]
[null,null,497,0.03,0.21000000000000002,0.39,0.54,0.72199999999999998,0.52,null,497,1.0999999666420218E-2,-2.9999994354335535E-3,6.9999975367054934E-3]
[null,null,498,0.03,0.21000000000000002,0.39600000000000002,0.54,0.73,0.52,null,498,1.0999996784237527E-2,-2.9999973355567654E-3,7.0000004198502788E-3]
[null,null,499,0.03,0.21000000000000002,0.4,0.54,0.73,0.52600000000000002,null,499,1.1000000685892519E-2,-3.9999999954830195E-3,8.0000000357732769E-3]
[null,null,500,0.03,0.21000000000000002,0.4,0.55000000000000004,0.73,0.53,null,500,1.1000008031431471E-2,-1.9999905317733338E-3,6.9999936643631369E-3]
[null,null,501,0.03,0.21000000000000002,0.4,0.55000000000000004,0.7380000000000001,0.53,null,501,1.1000006131347051E-2,-1.999994403771084E-3,7.999996529349844E-3]
[null,null,502,0.03,0.21000000000000002,0.4,0.55000000000000004,0.74,0.53,null,502,9.9999991139805289E-3,-2.9999986219103724E-3,7.9999927076388026E-3]
[null,null,503,0.03,0.21000000000000002,0.40400000000000003,0.55800000000000005,0.74,0.53800000000000003,null,503,1.1000008892314197E-2,-2.9999895047510515E-3,7.0000000964943812E-3]
[null,null,504,0.03,0.21,0.41,0.56000000000000005,0.74750000000000005,0.54,null,504,1.0000006646366535E-2,-2.9999905017568697E-3,7.0000003068150171E-3]
[null,null,505,0.03,0.21000000000000002,0.41,0.56000000000000005,0.75,0.54,null,505,9.9999987003473526E-3,-1.9999900527832414E-3,6.0000007617020436E-3]
[null,null,506,0.03,0.21000000000000002,0.41,0.56000000000000005,0.75,0.54,null,506,8.0000076923878866E-3,-3.9999997304772765E-3,5.000002128743939E-3]
[null,null,507,0.03,0.21000000000000002,0.41,0.56399999999999995,0.75,0.54600000000000004,null,507,8.0000031310394279E-3,-3.999996272650826E-3,4.9999964260424058E-3]
[null,null,508,0.03,0.21000000000000002,0.41,0.56999999999999995,0.75,0.55000000000000004,null,508,9.0000072132391286E-3,-3.0000030788497993E-3,5.0000040008175602E-3]
[null,null,509,0.03,0.21000000000000002,0.41,0.56999999999999995,0.752,0.55000000000000004,null,509,9.0000056941072319E-3,-3.9999940709270539E-3,4.9999952161047696E-3]
[null,null,510,0.03,0.21000000000000002,0.41,0.56999999999999995,0.76,0.55000000000000004,null,510,7.9999970566632418E-3,-4.9999971509404103E-3,6.0000016228734104E-3]
[null,null,511,0.03,0.21000000000000002,0.41,0.56999999999999995,0.76,0.55000000000000004,null,511,7.0000042490127937E-3,-3.9999961037683468E-3,4.9999955991411917E-3]
[null,null,512,0.03,0.21000000000000002,0.41,0.56999999999999995,0.75800000000000001,0.55000000000000004,null,512,7.0000063161944695E-3,-4.0000003908006211E-3,5.0000025886233514E-3]
[null,null,513,0.03,0.21000000000000002,0.41,0.56999999999999995,0.75,0.55000000000000004,null,513,6.9999988614255805E-3,-3.9999937146902587E-3,4.9999988505606899E-3]
[null,null,514,0.03,0.21000000000000002,0.41,0.56200000000000006,0.75,0.54400000000000004,null,514,7.000001891465206E-3,-3.999993790889448E-3,4.9999980995700036E-3]
[null,null,515,0.03,0.21000000000000002,0.41,0.56000000000000005,0.75,0.54,null,515,6.0000033409469897E-3,-3.9999917521976267E-3,2.9999991546761431E-3]
[null,null,516,0.03,0.21000000000000002,0.40400000000000003,0.56000000000000005,0.74199999999999999,0.54,null,516,6.0000059318346573E-3,-4.9999915056891837E-3,2.9999904249885211E-3]
[null,null,517,0.03,0.21000000000000002,0.4,0.55000000000000004,0.73799999999999999,0.53400000000000003,null,517,6.0000079970896382E-3,-4.9999926623104374E-3,3.9999999372979378E-3]
[null,null,518,0.03,0.20600000000000002,0.4,0.55000000000000004,0.73,0.53,null,518,6.0000004550532539E-3,-4.9999970851170982E-3,4.0000013643114903E-3]
[null,null,519,0.03,0.2,0.39200000000000007,0.54,0.72199999999999986,0.52400000000000002,null,519,3.9999988672372311E-3,-5.9999959792175327E-3,3.0000030159643837E-3]
[null,null,520,0.03,0.2,0.39,0.53400000000000003,0.71199999999999997,0.51800000000000002,null,520,4.0000041774054876E-3,-5.9999916121590158E-3,1.999997058714835E-3]
[null,null,521,0.03,0.19800000000000001,0.38,0.52600000000000002,0.70199999999999996,0.51,null,521,3.9999974013776377E-3,-6.9999933364411505E-3,2.9999961847171838E-3]
[null,null,522,2.7999999999999997E-2,0.19,0.37600000000000006,0.51800000000000002,0.69,0.5,null,522,3.9999991399846321E-3,-4.9999944499011031E-3,2.9999921084125983E-3]
[null,null,523,0.02,0.19,0.36799999999999999,0.50800000000000001,0.67800000000000005,0.49000000000000005,null,523,3.0000011022504533E-3,-4.9999979863703074E-3,3.0000039922579783E-3]
[null,null,524,0.02,0.184,0.36,0.496,0.66600000000000015,0.48,null,524,3.9999965271096463E-3,-4.000000172058274E-3,2.9999960406984286E-3]
[null,null,525,0.02,0.18,0.35200000000000004,0.48599999999999993,0.65,0.46999999999999992,null,525,4.0000035687933339E-3,-5.0000012186653016E-3,3.0000022969165034E-3]
[null,null,526,0.02,0.17799999999999999,0.34599999999999997,0.47599999999999998,0.6359999999999999,0.46000000000000008,null,526,4.0000019405216705E-3,-5.0000012859690007E-3,3.0000035306212737E-3]
[null,null,527,0.02,0.17,0.33600000000000002,0.46399999999999997,0.62,0.44600000000000001,null,527,2.9999961420385593E-3,-7.0000031171203025E-3,2.0000035732708928E-3]
[null,null,528,0.02,0.17,0.32800000000000001,0.45,0.60399999999999998,0.434,null,528,3.9999987797421782E-3,-5.9999915744039598E-3,2.9999943029492306E-3]
[null,null,529,0.02,0.16,0.318,0.438,0.58799999999999997,0.42400000000000004,null,529,4.0000009822131963E-3,-5.9999981600716863E-3,3.0000017909195473E-3]
[null,null,530,0.02,0.16,0.308,0.42599999999999999,0.56999999999999995,0.41,null,530,2.999999325275865E-3,-7.0000001312159974E-3,9.9999131227015807E-4]
[null,null,531,0.02,0.15,0.29799999999999999,0.41,0.55200000000000005,0.39600000000000007,null,531,2.0000065405282111E-3,-5.9999897326139199E-3,1.9999992951487654E-3]
[null,null,532,0.02,0.14799999999999999,0.28599999999999998,0.39600000000000007,0.53400000000000003,0.38400000000000001,null,532,1.9999985203794854E-3,-7.0000022245319555E-3,9.9999642004134498E-4]
[null,null,533,0.02,0.14000000000000001,0.27800000000000002,0.38199999999999995,0.51400000000000001,0.36799999999999999,null,533,3.0000055523677766E-3,-6.0000024238106939E-3,2.0000022131230893E-3]
[null,null,534,0.02,0.13600000000000001,0.26600000000000001,0.36599999999999994,0.496,0.35399999999999998,null,534,5.0000068761056719E-3,-4.9999905989174115E-3,4.0000035016209239E-3]
[null,null,535,0.02,0.13,0.25600000000000001,0.35200000000000004,0.47599999999999998,0.33800000000000002,null,535,3.0000052507750674E-3,-6.9999959645402118E-3,2.999993626394859E-3]
[null,null,536,0.02,0.126,0.24399999999999999,0.33800000000000002,0.45600000000000007,0.32600000000000001,null,536,2.0000037715140334E-3,-6.9999985506090639E-3,9.9999654368367399E-4]
[null,null,537,0.02,0.12,0.23399999999999999,0.32400000000000001,0.43600000000000005,0.312,null,537,1.9999968417765343E-3,-7.0000003978436132E-3,9.9999587778869074E-4]
[null,null,538,0.02,0.11199999999999999,0.22400000000000003,0.308,0.41799999999999998,0.29599999999999999,null,538,1.0000084860603276E-3,-7.9999909636432522E-3,9.9999767294764452E-4]
[null,null,539,0.02,0.11000000000000001,0.21200000000000002,0.29399999999999998,0.4,0.28200000000000003,null,539,1.0000033481279078E-3,-6.99999770377247E-3,7.923245809449142E-10]
[null,null,540,0.02,0.10200000000000001,0.20200000000000001,0.28000000000000003,0.38,0.26800000000000002,null,540,-1.1241029843067629E-9,-6.9999949119155403E-3,1.000000987669409E-3]
[null,null,541,0.02,0.1,0.192,0.26400000000000001,0.36199999999999999,0.25600000000000001,null,541,1.0000078965012107E-3,-7.0000027083331386E-3,1.9999932425880662E-3]
[null,null,542,0.02,9.1999999999999998E-2,0.182,0.25,0.34400000000000003,0.24199999999999999,null,542,1.0000088445869387E-3,-6.9999896020602245E-3,9.9999060326622438E-4]
[null,null,543,0.02,8.8333333333333319E-2,0.17166666666666666,0.23666666666666666,0.32500000000000001,0.22666666666666668,null,543,-9.9999971445324798E-4,-7.999999534829565E-3,-5.1344099787770103E-9]
[null,null,544,0.02,0.08,0.16200000000000001,0.22200000000000003,0.30599999999999999,0.21400000000000002,null,544,-1.0000010451018462E-3,-8.9999985872645499E-3,-1.0000040107421889E-3]
[null,null,545,0.02,0.08,0.152,0.21200000000000002,0.28999999999999998,0.20200000000000001,null,545,7.2539248635594689E-9,-7.9999898067757685E-3,-1.0047589128758805E-8]
[null,null,546,0.02,7.2000000000000008E-2,0.14400000000000002,0.19800000000000001,0.27400000000000002,0.188,null,546,2.954312607050813E-9,-8.0000017328624769E-3,-3.8768004102102127E-9]
[null,null,547,0.02,7.0000000000000007E-2,0.13600000000000001,0.186,0.25800000000000001,0.17799999999999999,null,547,2.8143147118298018E-9,-7.999998003989808E-3,2.7768966084917857E-9]
[null,null,548,0.02,6.6000000000000003E-2,0.128,0.17600000000000002,0.24399999999999999,0.16800000000000001,null,548,-9.9999712447648714E-4,-7.9999919960487918E-3,1.5565044583082388E-9]
[null,null,549,0.02,0.06,0.12,0.16600000000000001,0.23199999999999998,0.158,null,549,-1.9999926164972551E-3,-7.999993346962395E-3,-6.3749890609476889E-9]
[null,null,550,0.02,0.06,0.11199999999999999,0.156,0.21800000000000003,0.14799999999999999,null,550,-1.9999999496020243E-3,-7.9999928194798304E-3,9.9998981103778008E-4]
[null,null,551,0.02,5.3999999999999992E-2,0.10600000000000001,0.14599999999999999,0.20600000000000002,0.14000000000000001,null,551,-2.999998779480012E-3,-8.9999957862495986E-3,-8.0335633804995421E-10]
[null,null,552,0.02,0.05,0.1,0.13800000000000001,0.19400000000000001,0.13,null,552,-2.9999925400579913E-3,-8.9999978055998273E-3,-1.0000053038754422E-3]
[null,null,553,0.02,0.05,0.09,0.13,0.182,0.122,null,553,-2.0000022247136512E-3,-8.9999975821955912E-3,-2.000006214739232E-3]
[null,null,554,0.02,4.4000000000000004E-2,0.09,0.12,0.17200000000000001,0.11399999999999999,null,554,-1.99999673662557E-3,-8.999992497511192E-3,-1.0000024037331526E-3]
[null,null,555,0.02,0.04,0.08,0.11199999999999999,0.16,0.10800000000000001,null,555,-1.9999939973673123E-3,-8.9999927464220319E-3,-9.9999803872870795E-4]
[null,null,556,0.01,0.04,7.8E-2,0.10600000000000001,0.15,0.1,null,556,-2.9999981897487413E-3,-9.9999948038320876E-3,-1.000009174685899E-3]
[null,null,557,0.01,0.04,7.0000000000000007E-2,0.1,0.14400000000000002,9.4E-2,null,557,-3.9999962769476718E-3,-9.9999939539200892E-3,-2.0000034531869187E-3]
[null,null,558,0.01,3.2000000000000001E-2,7.0000000000000007E-2,9.4E-2,0.13600000000000001,0.09,null,558,-3.9999950119778138E-3,-9.9999996155144422E-3,-1.000005963718003E-3]
[null,null,559,0.01,0.03,6.2E-2,0.09,0.128,8.2000000000000003E-2,null,559,-2.9999984524056098E-3,-8.9999979896759185E-3,-1.00000298964684E-3]
[null,null,560,0.01,0.03,0.06,0.08,0.12,7.5999999999999998E-2,null,560,-3.9999992437635898E-3,-9.9999956999609219E-3,-2.0000060237476223E-3]
[null,null,561,0.01,0.03,5.3999999999999992E-2,7.8E-2,0.11000000000000001,7.0000000000000007E-2,null,561,-4.0000013101526288E-3,-9.9999946611790558E-3,-2.0000027602866347E-3]
[null,null,562,0.01,0.03,0.05,7.0000000000000007E-2,0.10600000000000001,6.6000000000000003E-2,null,562,-2.9999968415298228E-3,-9.9999916942959E-3,-2.0000020372004587E-3]
[null,null,563,0.01,2.1666666666666667E-2,4.9999999999999996E-2,7.0000000000000007E-2,9.9999999999999992E-2,0.06,null,563,-2.9999969930961518E-3,-8.9999922051143388E-3,-9.9999799630325591E-4]
[null,null,564,0.01,0.02,4.6000000000000006E-2,0.06,9.4E-2,0.06,null,564,-3.9999923460433892E-3,-9.9999982116657175E-3,-2.0000074815695445E-3]
[null,null,565,0.01,0.02,0.04,0.06,0.09,5.5999999999999994E-2,null,565,-4.999998675298066E-3,-1.0999994356817521E-2,-2.0000033273927052E-3]
[null,null,566,0.01,0.02,0.04,5.7999999999999996E-2,8.2000000000000003E-2,0.05,null,566,-4.0000002466920939E-3,-9.9999900514678771E-3,-9.9999795820769448E-4]
[null,null,567,0.01,0.02,0.04,0.05,0.08,0.05,null,567,-3.9999984201299424E-3,-1.0999992052175932E-2,-2.0000041098710616E-3]
[null,null,568,0.01,0.02,3.4000000000000002E-2,0.05,7.2000000000000008E-2,0.04,null,568,-1.9999958429541137E-3,-9.9999915886185824E-3,-1.0000060969645817E-3]
[null,null,569,0.01,1.5999999999999997E-2,0.03,4.2000000000000003E-2,7.0000000000000007E-2,0.04,null,569,-9.9999277484535964E-4,-8.9999959057666615E-3,-7.1402654830410306E-9]
[null,null,570,0.01,0.01,0.03,0.04,6.2E-2,0.03,null,570,-9.9999960306308699E-4,-8.9999933503635537E-3,-4.0138470446676733E-9]
[null,null,571,0.01,0.01,0.03,3.7999999999999999E-2,0.06,0.03,null,571,-1.0000013538295355E-3,-8.9999952058780319E-3,1.4973173690507879E-9]
[null,null,572,0.01,0.01,2.6000000000000002E-2,0.03,5.3999999999999992E-2,0.03,null,572,-2.0000013939238601E-3,-9.9999998425627495E-3,-1.000005490482913E-3]
[null,null,573,0.01,0.01,0.02,0.03,0.05,0.02,null,573,-1.9999929027441146E-3,-9.9999965080021149E-3,-4.5073122317829117E-10]
[null,null,574,0.01,0.01,0.02,0.03,0.05,0.02,null,574,-2.00000147984912E-3,-9.9999975982068019E-3,-1.0000033339605252E-3]
[null,null,575,0.01,0.01,0.02,2.6000000000000002E-2,4.2000000000000003E-2,0.02,null,575,-9.9999757961000135E-4,-1.0999993680534946E-2,-1.0000080516944405E-3]
[null,null,576,0.01,0.01,0.02,0.02,0.04,1.6666666666666666E-2,null,576,-1.0000008801976379E-3,-1.0999999223476007E-2,-7.5595619711960049E-9]
[null,null,577,0.01,0.01,1.7999999999999999E-2,0.02,0.04,0.01,null,577,2.1887409315524131E-9,-9.9999987834453862E-3,-1.000002657410376E-3]
[null,null,578,0.01,0.01,0.01,0.02,3.4000000000000002E-2,0.01,null,578,3.8683860559274308E-9,-8.9999982873509455E-3,-6.8921572667773878E-9]
[null,null,579,0.01,0.01,0.01,0.02,0.03,0.01,null,579,4.048404812773132E-9,-9.999999423017698E-3,5.8809590704200776E-10]
[null,null,580,0.01,0.01,0.01,1.4000000000000002E-2,0.03,0.01,null,580,9.9999912349096887E-4,-8.9999969201205714E-3,9.9999247437067978E-4]
[null,null,581,0.01,0.01,0.01,0.01,0.03,4.0000000000000001E-3,null,581,1.0000010019685437E-3,-9.9999962837812335E-3,9.9999340347920081E-4]
[null,null,582,0.01,0.01,0.01,0.01,0.03,6.0000000000000001E-3,null,582,-9.9999400445368453E-4,-1.0000000166836576E-2,1.1795618076043679E-9]
[null,null,583,0.01,8.0000000000000002E-3,0.01,0.01,0.03,8.0000000000000002E-3,null,583,-1.9999971321408988E-3,-9.9999974423854564E-3,-1.000003598670713E-3]
[null,null,584,0.01,0,0.01,0.01,0.02,0,null,584,-1.9999929546322751E-3,-9.9999923602493348E-3,-6.1760106334629583E-9]
[null,null,585,0.01,0,0.01,0.01,0.02,0,null,585,-1.9999956543067729E-3,-1.0000000055004161E-2,2.3983162678042902E-10]
[null,null,586,0.01,0,8.3333333333333332E-3,0.01,0.02,0,null,586,-2.9999989825715973E-3,-9.9999998944942017E-3,-9.999985235073991E-4]
[null,null,587,0.01,0,4.0000000000000001E-3,0.01,0.02,0,null,587,-3.9999939509326524E-3,-9.9999926558916822E-3,-1.0000055977113995E-3]
[null,null,588,0.01,0,0,0.01,0.02,0,null,588,-3.9999980355076986E-3,-1.0999996385993438E-2,-9.9999951534796537E-4]
[null,null,589,0.01,0,0,0.01,0.02,0,null,589,-4.0000001209425234E-3,-1.1000000215988686E-2,-2.0000003809507848E-3]
[null,null,590,0.01,0,0,0.01,0.02,0,null,590,-3.9999966818092397E-3,-9.9999973437454853E-3,-1.0000074890264762E-3]
[null,null,591,0.01,0,0,2E-3,0.02,0,null,591,-2.9999955042498416E-3,-1.0999991848144342E-2,-1.0000083059294364E-3]
[null,null,592,0.01,0,0,0,1.2E-2,0,null,592,-1.9999957120791084E-3,-9.9999959987744722E-3,-9.9999881662660335E-4]
[null,null,593,0.01,0,0,0,0.01,0,null,593,-3.9999938893511416E-3,-9.9999958507325532E-3,-1.0000041750764573E-3]
[null,null,594,0.01,0,0,0,0.01,0,null,594,-4.9999982037644483E-3,-1.1000000369345011E-2,-2.0000080107319042E-3]
[null,null,595,0.01,0,0,0,0.01,0,null,595,-5.9999950970939103E-3,-1.0999997967205665E-2,-3.000002407438529E-3]
[null,null,596,0.01,0,0,0,0.01,0,null,596,-6.0000003908550273E-3,-1.0999995207477081E-2,-2.0000071716710886E-3]
[null,null,597,0.01,0,0,0,0.01,-6.0000000000000001E-3,null,597,-3.9999957835553032E-3,-1.1000000730664037E-2,-2.000004801432087E-3]
[null,null,598,0.01,0,0,0,0.01,-0.01,null,598,-3.9999950873190124E-3,-1.0999993986408265E-2,-3.0000056312283578E-3]
[null,null,599,0.01,0,0,-4.0000000000000001E-3,6.0000000000000001E-3,-0.01,null,599,-3.9999942755304177E-3,-1.1999996032440259E-2,-2.0000020192857751E-3]
[null,null,600,0.01,0,0,-2E-3,0,-0.01,null,600,-3.9999977525740221E-3,-1.1999999049387018E-2,-2.0000070293498297E-3]
[null,null,601,0.01,0,0,0,2E-3,-0.01,null,601,-6.000000092677843E-3,-1.2000000485575925E-2,-3.0000043034530775E-3]
[null,null,602,0.01,0,0,0,0.01,-0.01,null,602,-6.9999961269832447E-3,-1.0999999917012308E-2,-3.0000078769509119E-3]
[null,null,603,0.01,0,0,0,0,-0.01,null,603,-5.9999938382122517E-3,-1.1999998098040933E-2,-3.0000020732762235E-3]
[null,null,604,0.01,0,0,-0.01,0,-0.01,null,604,-4.9999973321632335E-3,-1.1999992660186609E-2,-2.0000000911830091E-3]
[null,null,605,0.01,0,0,-0.01,0,-0.01,null,605,-4.9999932804694475E-3,-1.1999992476395724E-2,-2.000003310952795E-3]
[null,null,606,0.01,0,-8.0000000000000002E-3,-0.01,0,-0.01,null,606,-3.9999963527683619E-3,-9.9999921584000336E-3,-2.0000013248427581E-3]
[null,null,607,0.01,0,-0.01,-0.01,0,-0.01,null,607,-4.99999902065313E-3,-9.9999998685681209E-3,-2.0000016042927699E-3]
[null,null,608,0.01,0,-0.01,-0.01,0,-0.01,null,608,-5.9999929909190577E-3,-1.0999994443999217E-2,-3.0000021659673751E-3]
[null,null,609,0.01,-8.0000000000000002E-3,-0.01,-0.01,0,-0.01,null,609,-6.9999989872846363E-3,-1.0999996895075371E-2,-2.0000058746498794E-3]
[null,null,610,0.01,-0.01,-0.01,-0.01,0,-0.01,null,610,-6.9999959960622277E-3,-1.1999991696453311E-2,-1.9999983456117122E-3]
[null,null,611,0.01,-0.01,-0.01,-0.01,0,-0.01,null,611,-6.9999980997322783E-3,-1.2999996815468347E-2,-3.0000011457058818E-3]
[null,null,612,0.01,-0.01,-0.01,-0.01,0,-0.01,null,612,-7.0000006022676239E-3,-1.1999991957845122E-2,-3.0000037316727669E-3]
[null,null,613,0.01,-0.01,-0.01,-0.01,0,-0.01,null,613,-5.9999945216741082E-3,-1.0999994658046451E-2,-2.0000017014812459E-3]
[null,null,614,0.01,-0.01,-0.01,-0.01,0,-0.01,null,614,-5.9999944706693523E-3,-1.1999994834301907E-2,-2.0000064742389297E-3]
[null,null,615,0.01,-0.01,-0.01,-0.01,0,-0.01,null,615,-7.9999996190726549E-3,-1.2999995060531329E-2,-4.0000051179914474E-3]
[null,null,616,0.01,-0.01,-0.01,-0.01,0,-0.01,null,616,-7.9999986711052837E-3,-1.2999993689368118E-2,-4.0000075358714113E-3]
[null,null,617,0.01,-0.01,-0.01,-0.01,0,-0.01,null,617,-8.9999941968158526E-3,-1.1999996960832324E-2,-4.0000062270111464E-3]
[null,null,618,8.0000000000000002E-3,-0.01,-0.01,-0.01,0,-0.01,null,618,-9.9999970907423338E-3,-1.2999997362237474E-2,-4.000000612009438E-3]
[null,null,619,0,-0.01,-0.01,-0.01,0,-0.01,null,619,-9.9999935926465486E-3,-1.2999993394225915E-2,-5.0000071895261178E-3]
[null,null,620,0,-0.01,-0.01,-0.01,0,-0.01,null,620,-8.9999941818154072E-3,-1.299999227353762E-2,-5.0000059782456894E-3]
[null,null,621,0,-0.01,-0.01,-0.01,0,-0.01,null,621,-8.9999951225964644E-3,-1.2999997261301752E-2,-5.0000063453437028E-3]
[null,null,622,0,-0.01,-0.01,-0.01,0,-0.01,null,622,-8.999998508675118E-3,-1.2999998414732672E-2,-4.9999996577864223E-3]
[null,null,623,2E-3,-0.01,-0.01,-0.01,0,-0.01,null,623,-8.9999977279830168E-3,-1.2999999440099696E-2,-4.0000027205040669E-3]
[null,null,624,4.0000000000000001E-3,-0.01,-0.01,-0.01,0,-0.01,null,624,-8.9999975728038903E-3,-1.1999993226545479E-2,-3.9999999290661597E-3]
[null,null,625,4.0000000000000001E-3,-0.01,-0.01,-0.01,0,-0.01,null,625,-9.9999940639695084E-3,-1.1999995177784424E-2,-4.0000052483321839E-3]
[null,null,626,0,-0.01,-0.01,-0.01,0,-0.01,null,626,-9.9999973156736019E-3,-1.1999998157424479E-2,-5.0000006769222866E-3]
[null,null,627,0,-0.01,-0.01,-0.01,0,-0.01,null,627,-9.9999941860849095E-3,-1.1999999910359967E-2,-4.0000052687555205E-3]
[null,null,628,0,-0.01,-0.01,-8.0000000000000002E-3,0,-0.01,null,628,-1.0000001007180057E-2,-1.1999997818798061E-2,-4.9999996521893283E-3]
[null,null,629,0,-0.01,-0.01,-6.0000000000000001E-3,0,-0.01,null,629,-9.9999957237039902E-3,-1.2999998637493073E-2,-5.00000442357788E-3]
[null,null,630,0,-0.01,-0.01,-6.0000000000000001E-3,0,0,null,630,-1.099999658296915E-2,-1.2999995674435641E-2,-6.0000055839083185E-3]
[null,null,631,0,-0.01,-0.01,-3.3333333333333335E-3,0,0,null,631,-1.1999996357092972E-2,-1.2999997288477854E-2,-6.0000013735671508E-3]
[null,null,632,0,-0.01,-0.01,0,0,0,null,632,-1.1000001017002936E-2,-1.2999992473770034E-2,-5.0000035058130263E-3]
[null,null,633,0,-0.01,-0.01,0,0,0,null,633,-1.2000000436419148E-2,-1.2999995407106368E-2,-6.000006178064201E-3]
[null,null,634,0,-0.01,-0.01,0,0,0,null,634,-1.1999998943295564E-2,-1.4000000327680959E-2,-6.0000080524642892E-3]
[null,null,635,0,-0.01,-0.01,0,0,0,null,635,-1.1999996718561376E-2,-1.3999994018523405E-2,-6.0000060217436663E-3]
[null,null,636,0,-0.01,-0.01,0,0,0,null,636,-1.1999998959628541E-2,-1.2999996340787435E-2,-6.0000001575900453E-3]
[null,null,637,0,-0.01,-0.01,0,0,0,null,637,-1.1999996236142264E-2,-1.2999993287552724E-2,-6.0000049094841267E-3]
[null,null,638,0,-0.01,-0.01,0,0,0,null,638,-1.2999995915836143E-2,-1.2999994153358252E-2,-5.9999997423727004E-3]
[null,null,639,0,-0.01,-0.01,0,0,0,null,639,-1.1999993552415295E-2,-1.2999996871698829E-2,-6.0000018757622019E-3]
[null,null,640,0,-0.01,-0.01,0,0,0,null,640,-1.1999998588774451E-2,-1.1999994019317667E-2,-5.0000008793819797E-3]
[null,null,641,0,-0.01,-0.01,0,0,0,null,641,-1.1999995262520068E-2,-1.2999997229764635E-2,-5.0000045336790148E-3]
[null,null,642,0,-0.01,-0.01,0,0,0,null,642,-1.1999998291640002E-2,-1.1999997396737702E-2,-4.9999999425325448E-3]
[null,null,643,0,-0.01,-0.01,0,0,0,null,643,-1.1000000859918736E-2,-1.199999881411889E-2,-5.0000005355560449E-3]
[null,null,644,0,-0.01,-0.01,0,0,0,null,644,-1.1999994291400591E-2,-1.1999992497164534E-2,-5.0000018655377999E-3]
[null,null,645,0,-0.01,-0.01,0,0,0,null,645,-1.299999392552393E-2,-1.1999996383656559E-2,-5.9999995274247122E-3]
[null,null,646,0,-0.01,-0.01,0,0,0,null,646,-1.1999997183579116E-2,-1.1999992839622923E-2,-6.000001190405644E-3]
[null,null,647,0,-0.01,-0.01,0,0,0,null,647,-1.19999939050595E-2,-1.199999462901234E-2,-5.0000052073549267E-3]
[null,null,648,0,-0.01,-0.01,0,0,0,null,648,-1.0999997106164242E-2,-1.1999995540439146E-2,-5.0000023425597374E-3]
[null,null,649,0,-0.01,-0.01,-4.0000000000000001E-3,0,0,null,649,-1.0000000442618832E-2,-1.0999999744120944E-2,-5.000005989135612E-3]
[null,null,650,0,-0.01,-0.01,0,0,0,null,650,-1.0999998078525065E-2,-1.099999761673876E-2,-5.9999991273834621E-3]
[null,null,651,0,-0.01,-0.01,0,0,0,null,651,-1.0999997045589155E-2,-1.1999997382787722E-2,-5.0000015338527194E-3]
[null,null,652,0,-0.01,-0.01,0,0,0,null,652,-9.9999944116646589E-3,-1.1999992871878097E-2,-5.000000977181094E-3]
[null,null,653,0,-0.01,-0.01,0,0,0,null,653,-1.0999993505955062E-2,-1.0999995763130795E-2,-6.0000002063367915E-3]
[null,null,654,0,-0.01,-0.01,-3.3333333333333335E-3,0,-3.3333333333333335E-3,null,654,-7.9999975529874354E-3,-9.9999987077255045E-3,-4.0000034472908938E-3]
[null,null,655,0,-0.01,-0.01,-0.01,-8.0000000000000002E-3,-0.01,null,655,-4.999993837420183E-3,-8.9999947355632031E-3,-3.0000020232729876E-3]
[null,null,656,0,-0.01,-0.01,-0.01,-0.01,-0.01,null,656,-5.9999988095469636E-3,-9.9999947652592135E-3,-3.0000068932887688E-3]
[null,null,657,0,-0.01,-0.01,-0.01,-0.01,-0.01,null,657,-9.0000006049972617E-3,-1.0999995521911847E-2,-4.000006801884037E-3]
[null,null,658,0,-0.01,-0.01,-0.01,0,-3.3333333333333335E-3,null,658,-9.9999968152355845E-3,-1.0999995460027131E-2,-4.0000002733820966E-3]
[null,null,659,0,-0.01,-0.01,-2E-3,0,0,null,659,-1.0999998826019687E-2,-1.0999998265813144E-2,-5.0000065289109476E-3]
[null,null,660,0,-0.01,-0.01,0,0,0,null,660,-9.9999976876505026E-3,-9.999997968675638E-3,-5.0000038997263154E-3]
[null,null,661,0,-0.01,-0.01,0,0,0,null,661,-8.9999963550547735E-3,-9.999999133050835E-3,-5.0000004341345366E-3]
[null,null,662,0,-0.01,-0.01,0,0,0,null,662,-9.9999933581059325E-3,-9.9999955763571454E-3,-4.0000037731994526E-3]
[null,null,663,0,-0.01,-0.01,0,0,0,null,663,-9.9999952090461669E-3,-9.9999956253581223E-3,-4.0000000901532374E-3]
[null,null,664,0,-0.01,-0.01,0,0,0,null,664,-9.9999962165349052E-3,-9.999993813175399E-3,-5.0000043200438878E-3]
[null,null,665,0,-0.01,-0.01,0,0,0,null,665,-8.9999976648941216E-3,-8.9999973096484363E-3,-4.0000049553546666E-3]
[null,null,666,0,-0.01,-0.01,0,0,0,null,666,-8.9999938229806745E-3,-8.9999966159499557E-3,-4.0000024670474189E-3]
[null,null,667,0,-0.01,-0.01,0,0,0,null,667,-8.9999954308456268E-3,-7.9999960900126715E-3,-4.0000075063226902E-3]
[null,null,668,0,-0.01,-0.01,0,0,0,null,668,-8.9999990361204069E-3,-7.9999972779150868E-3,-3.9999999260482613E-3]
[null,null,669,0,-0.01,-0.01,0,0,0,null,669,-7.9999984511640448E-3,-7.999992044439309E-3,-4.0000065771065556E-3]
[null,null,670,0,-0.01,-0.01,0,0,0,null,670,-6.9999946510309885E-3,-7.9999947952685713E-3,-3.0000021663643371E-3]
[null,null,671,0,-0.01,-0.01,0,0,0,null,671,-7.0000008894385637E-3,-7.9999928204151829E-3,-3.0000025543474671E-3]
[null,null,672,0,-0.01,-0.01,0,0,0,null,672,-6.9999976783480383E-3,-6.9999970994639362E-3,-3.0000011600915255E-3]
[null,null,673,0,-0.01,-0.01,0,0,0,null,673,-6.9999937653335079E-3,-5.9999956859172112E-3,-3.0000069902721624E-3]
[null,null,674,0,-0.01,-0.01,0,0,0,null,674,-7.9999989405105873E-3,-6.9999928548161641E-3,-4.0000016297924625E-3]
[null,null,675,0,-0.01,-0.01,0,0,0,null,675,-7.9999976581197896E-3,-6.9999990374202039E-3,-4.0000072660891246E-3]
[null,null,676,0,-0.01,-0.01,0,0,0,null,676,-5.999994738290923E-3,-5.9999971856757265E-3,-3.0000073234785832E-3]
[null,null,677,0,-0.01,-0.01,0,0,0,null,677,-5.9999969149255108E-3,-5.9999998707055916E-3,-2.9999990169148807E-3]
[null,null,678,0,-0.01,-0.01,0,0,0,null,678,-4.9999963414790946E-3,-4.9999946859176012E-3,-2.0000065610775719E-3]
[null,null,679,0,-0.01,-0.01,0,0,0,null,679,-4.9999955381739222E-3,-4.9999923353027144E-3,-2.0000026023566549E-3]
[null,null,680,0,-0.01,-0.01,0,0,0,null,680,-4.9999987766078044E-3,-4.999998959894357E-3,-3.0000005043931098E-3]
[null,null,681,0,-0.01,-0.01,0,0,0,null,681,-5.0000004641203924E-3,-4.999994900078731E-3,-2.000003241007603E-3]
[null,null,682,0,-0.01,-0.01,0,0,0,null,682,-4.9999939142338565E-3,-3.999995204941223E-3,-2.0000069686017842E-3]
[null,null,683,0,-0.01,-0.01,0,0,0,null,683,-3.9999972810561835E-3,-3.9999969308580473E-3,-2.0000060567425364E-3]
[null,null,684,0,-0.01,-0.01,0,0,0,null,684,-2.9999948324879594E-3,-3.9999931642097555E-3,-1.0000055088509527E-3]
[null,null,685,0,-0.01,-0.01,-0.01,0,0,null,685,-2.9999994845186853E-3,-3.9999927703112392E-3,-2.0000061803834984E-3]
[null,null,686,0,-0.01,-0.01,-0.01,0,0,null,686,-2.9999983848842185E-3,-3.9999973680298496E-3,-2.0000019149467828E-3]
[null,null,687,0,-0.01,-0.01,-0.01,0,0,null,687,-3.9999937864403576E-3,-3.99999660778339E-3,-2.0000024836396985E-3]
[null,null,688,0,-0.01,-0.01,-4.0000000000000001E-3,0,0,null,688,-1.9999952579986477E-3,-2.9999976222783737E-3,-1.0000035969507902E-3]
[null,null,689,0,-0.01,-0.01,0,0,0,null,689,-1.999998954180647E-3,-2.9999984779669302E-3,-1.000005179331272E-3]
[null,null,690,0,-0.01,-0.01,0,0,0,null,690,-1.9999943621990118E-3,-2.9999959059261588E-3,-1.0000049431176869E-3]
[null,null,691,0,-0.01,-0.01,-6.0000000000000001E-3,0,0,null,691,-1.9999961305245118E-3,-2.9999929505683653E-3,-1.0000073618515719E-3]
[null,null,692,0,-0.01,-0.01,-1.6666666666666668E-3,0,0,null,692,-1.9999988474743435E-3,-1.9999946212266705E-3,-1.0000014048738414E-3]
[null,null,693,0,-0.01,-0.01,0,0,0,null,693,-1.9999966188567753E-3,-1.9999965168604854E-3,8.5439565492007041E-10]
[null,null,694,0,-0.01,-0.01,0,0,0,null,694,-1.9999966175911071E-3,-9.9999809007881441E-4,-2.0124588263198406E-9]
[null,null,695,0,-0.01,-0.01,0,0,0,null,695,-9.9999418225937137E-4,-9.9999591271112374E-4,-1.9765265743543203E-9]
[null,null,696,0,-0.01,-0.01,0,0,0,null,696,5.5926596548294683E-9,-9.9999887475406973E-4,-4.6875091204434671E-9]
[null,null,697,0,-0.01,-0.01,-6.0000000000000001E-3,0,0,null,697,5.5176477692375769E-9,-9.9999424660855186E-4,-4.8202863957291786E-9]
[null,null,698,0,-0.01,-0.01,-5.0000000000000001E-3,-1.6666666666666668E-3,0,null,698,2.453112032951843E-9,-9.9999621242605717E-4,-4.2948249123764271E-9]
[null,null,699,0,-0.01,-0.01,0,0,0,null,699,2.8254721201603772E-9,3.522117890744636E-9,2.4444348281638106E-10]
[null,null,700,0,-0.01,-0.01,0,0,0,null,700,0,0,0]
[null,null,701,0,-0.01,-0.01,0,0,0,null,701,-7.5029350787847449E-10,7.0118986259665173E-9,9.999983626701979E-4]
[null,null,702,0,-0.01,-0.01,0,0,0,null,702,6.8583004553257609E-10,4.8329112881800862E-9,9.9999426112698693E-4]
[null,null,703,0,-0.01,-0.01,0,0,0,null,703,9.9999958676794815E-4,1.0000058834259695E-3,9.999937418296613E-4]
[null,null,704,0,-0.01,-0.01,0,0,0,null,704,1.3068228443824381E-10,1.0000050455494288E-3,-2.5889966386027918E-10]
[null,null,705,0,-0.01,-0.01,0,0,0,null,705,2.5452473323417379E-9,1.0000000830420758E-3,9.9999952128941062E-4]
[null,null,706,0,-0.01,-0.01,-5.0000000000000001E-3,-1.6666666666666668E-3,0,null,706,2.0000064407849835E-3,1.0000074437194542E-3,1.9999950315530875E-3]
[null,null,707,0,-0.01,-0.01,-0.01,-0.01,-8.0000000000000002E-3,null,707,4.0000037324882179E-3,3.0000073080539008E-3,2.999995844711504E-3]
[null,null,708,0,-0.01,-0.01,-0.01,-4.0000000000000001E-3,0,null,708,3.0000042262176979E-3,3.0000031535323355E-3,2.9999979019380424E-3]
[null,null,709,0,-0.01,-0.01,-0.01,-5.0000000000000001E-3,0,null,709,3.0000032809014907E-3,2.0000001837842327E-3,2.0000004189943688E-3]
[null,null,710,0,-0.01,-0.01,-0.01,-0.01,-8.0000000000000002E-3,null,710,3.0000011884605826E-3,2.0000067693741845E-3,1.9999928057746891E-3]
[null,null,711,0,-0.01,-0.01,-0.01,-0.01,-4.0000000000000001E-3,null,711,3.0000024211016621E-3,2.0000063883293534E-3,1.9999981035175272E-3]
[null,null,712,0,-0.01,-0.01,-8.3333333333333332E-3,-0.01,0,null,712,3.0000037974331206E-3,3.0000039663417299E-3,1.9999943418143283E-3]
[null,null,713,0,-0.01,-0.01,-0.01,-0.01,0,null,713,4.00000498590182E-3,3.0000003318609103E-3,2.9999997862053471E-3]
[null,null,714,0,-0.01,-0.01,-0.01,-0.01,0,null,714,4.0000048418087214E-3,3.0000029286563852E-3,1.9999979884910216E-3]
[null,null,715,0,-0.01,-0.01,-0.01,-0.01,0,null,715,3.0000045689361349E-3,3.0000064206551326E-3,1.9999991829027473E-3]
[null,null,716,0,-0.01,-0.01,-6.0000000000000001E-3,-0.01,0,null,716,3.000003129622765E-3,4.0000034768772497E-3,1.9999996156585334E-3]
[null,null,717,0,-0.01,-0.01,0,-0.01,0,null,717,4.0000029272159732E-3,4.0000073852124599E-3,2.9999940616893331E-3]
[null,null,718,0,-0.01,-0.01,-0.01,-0.01,0,null,718,4.000003955875242E-3,3.0000070400395991E-3,2.9999986357278734E-3]
[null,null,719,0,-0.01,-0.01,-0.01,-0.01,0,null,719,4.0000017510013267E-3,3.0000031932563209E-3,1.9999991654805413E-3]
[null,null,720,0,-0.01,-0.01,-0.01,-0.01,0,null,720,4.0000014643820289E-3,4.0000004083843447E-3,1.999993281684171E-3]
[null,null,721,0,-0.01,-0.01,0,-0.01,0,null,721,4.0000066136540932E-3,5.0000009336834267E-3,1.999994557958247E-3]
[null,null,722,0,-0.01,-0.01,0,-0.01,0,null,722,3.9999991546014052E-3,4.000003164571813E-3,1.9999948792290521E-3]
[null,null,723,-0.01,-0.01,-0.01,0,-0.01,0,null,723,4.0000020116627635E-3,4.0000023521995802E-3,2.999996555121405E-3]
[null,null,724,-0.01,-0.01,-0.01,0,-0.01,0,null,724,3.9999998912265411E-3,4.0000028254563958E-3,2.9999941256576949E-3]
[null,null,725,-0.01,-0.01,-0.01,-4.0000000000000001E-3,-0.01,0,null,725,4.0000052311890549E-3,4.0000013394568277E-3,2.9999938300077564E-3]
[null,null,726,-0.01,-0.01,-0.01,-0.01,-0.01,0,null,726,6.0000035815915391E-3,6.0000076233820117E-3,3.9999996477389534E-3]
[null,null,727,-0.01,-0.01,-0.01,-0.01,-0.01,0,null,727,5.0000042688030898E-3,6.0000044191784114E-3,4.0000000820721512E-3]
[null,null,728,-0.01,-0.01,-0.01,-0.01,-0.01,0,null,728,4.9999994624371838E-3,5.000003567402253E-3,3.9999952555882547E-3]
[null,null,729,-8.3333333333333332E-3,-0.01,-0.01,-0.01,-0.01,0,null,729,4.9999993752033872E-3,5.000001613760869E-3,3.9999949370444383E-3]
[null,null,730,0,-0.01,-0.01,-0.01,-0.01,-8.0000000000000002E-3,null,730,5.9999995716143624E-3,6.0000056935764429E-3,3.9999977491296801E-3]
[null,null,731,0,-0.01,-0.01,-0.01,-0.01,-0.01,null,731,6.0000021251956706E-3,6.0000049000185646E-3,3.9999940727276223E-3]
[null,null,732,0,-0.01,-0.01,-0.01,-0.01,-0.01,null,732,6.0000054303973663E-3,6.0000045496408187E-3,3.9999953414285722E-3]
[null,null,733,0,-0.01,-0.01,-0.01,-0.01,-0.01,null,733,6.0000054750860045E-3,7.0000012322799648E-3,4.0000002119805686E-3]
[null,null,734,-0.01,-0.01,-0.01,-0.01,-0.01,-0.01,null,734,6.0000048313230241E-3,7.0000001153842743E-3,3.9999930720648544E-3]
[null,null,735,-0.01,-0.01,-0.01,-0.01,-0.01,-0.01,null,735,6.0000057252232765E-3,6.0000015863348683E-3,4.0000000669459211E-3]
[null,null,736,-0.01,-0.01,-0.01,-0.01,-0.01,-0.01,null,736,6.0000030473009308E-3,6.0000000176696662E-3,3.9999929925066333E-3]
[null,null,737,-0.01,-0.01,-0.01,-0.01,-0.01,0,null,737,6.0000017241150297E-3,6.0000035249157977E-3,4.000000906324238E-3]
[null,null,738,-0.01,-0.01,-0.01,-0.01,-0.01,-3.3333333333333335E-3,null,738,6.0000045216610474E-3,6.0000073432806764E-3,4.9999928938138094E-3]
[null,null,739,-0.01,-0.01,-0.01,-0.01,-0.01,-8.0000000000000002E-3,null,739,6.0000036083781225E-3,6.0000010044809777E-3,4.9999991127961697E-3]
[null,null,740,-0.01,-0.01,-0.01,-0.01,-0.01,0,null,740,6.0000058952145406E-3,7.0000058110590803E-3,4.9999946839180895E-3]
[null,null,741,-0.01,-0.01,-0.01,-6.0000000000000001E-3,-0.01,0,null,741,5.0000009068373458E-3,7.0000071106621356E-3,3.9999956611949349E-3]
[null,null,742,-0.01,-0.01,-0.01,0,-0.01,0,null,742,5.9999994012375525E-3,6.0000060537170634E-3,3.9999988090768483E-3]
[null,null,743,-0.01,-0.01,-0.01,0,-0.01,0,null,743,6.0000054252394089E-3,7.0000066310167714E-3,5.0000008609189274E-3]
[null,null,744,-0.01,-0.01,-0.01,0,-0.01,0,null,744,5.0000012341141868E-3,7.0000009463711804E-3,3.999995980727606E-3]
[null,null,745,-0.01,-0.01,-0.01,0,-0.01,0,null,745,6.0000014246073367E-3,7.0000032907415657E-3,3.9999947162679232E-3]
[null,null,746,-0.01,-0.01,-0.01,0,-0.01,0,null,746,6.0000002188903417E-3,7.0000049780851508E-3,4.9999946169321276E-3]
[null,null,747,-0.01,-0.01,-0.01,0,-0.01,0,null,747,5.0000065010575995E-3,7.0000040316882742E-3,5.0000000852282213E-3]
[null,null,748,-0.01,-0.01,-0.01,0,-0.01,0,null,748,5.0000044530947099E-3,7.0000014794115353E-3,4.9999942012976667E-3]
[null,null,749,-0.01,-0.01,-0.01,0,-0.01,0,null,749,6.0000003760522745E-3,8.0000016952815681E-3,4.9999939206874164E-3]
[null,null,750,-0.01,-0.01,-0.01,0,-0.01,0,null,750,6.0000007041385549E-3,7.0000031771081158E-3,4.9999932337821441E-3]