{"text_format":"1","workbook":"xlsx","n_sheets":5,"sheets":["解析センター","補正ほうれん草","元ほうれん草","補正トマト","元トマト"],"not_rendered":{"charts":4,"images":0,"macros":1,"external_links":0,"defined_names":3,"comments":0,"pivot_tables":0},"unopened":[],"bounds":{"document_bytes":16777216,"sheet_cells":100000,"rows_first":2000,"rows_last":500,"rows_between":2000,"halvings":0,"cell_chars":16384,"cell_head_chars":4096},"cells_cut":0,"cells_raw":0,"read":"whole","date_system":"1900"}

{"sheet":"解析センター","index":0,"n_rows":99,"n_cols":10,"rows_kept":99,"cut":false,"hidden":false,"merged":[]}
["実験日","2031年6月31日"]
["実験者","面堂玖菜","困田文太"]
["課題","生体関連物質の光吸収"]
[]
[null,null,"D2輝線波長"]
[null,null,656.8,"←ここに光源の656 nm付近の輝線の測定値を入力する",null,null,null,null,null,"新規シートを作成しマクロ「データ読み込み」を利用して、元のデータの波長較正、波長の規格化、光強度の平準化を行う"]
[]
[null,"ほうれん草からの抽出物の吸収スペクトル"]
[null,"770 nmの吸光度が0となるように補正"]
[]
[null,"全分画のスペクトルを重ね書き"]
[]
[]
[]
[]
[]
[]
[]
[]
[]
[]
[]
[]
[]
[]
[]
[]
[]
[]
[]
[]
[]
[]
[null,"分画ごとの各波長の吸光度の変化"]
[null,null,"各波長の吸光度を抽出"]
[null,null,null,null,null,"波長/nm"]
[null,null,350,424,455,477,579,616,645,662]
[null,"分画",{"$f":"C37&\" nm\"","v":"350 nm"},{"$f":"D37&\" nm\"","v":"424 nm"},{"$f":"E37&\" nm\"","v":"455 nm"},"477 nm","579 nm","616 nm","645 nm","662 nm"]
[null,1,{"$f":"VLOOKUP(C$37,ほうれん草,$B39+1,FALSE)","v":6.4000000000000001E-2},0.39400000000000007,0.53099999999999992,0.49500000000000005,3.400000000000003E-2,2.0000000000000018E-2,5.0000000000000044E-3,3.0000000000000027E-3]
[null,2,5.0000000000000001E-3,5.7000000000000002E-2,7.6999999999999999E-2,7.0000000000000007E-2,1E-3,3.0000000000000001E-3,4.0000000000000001E-3,7.0000000000000001E-3]
[null,3,6.9999999999999993E-2,0.127,1.4999999999999999E-2,1.4999999999999999E-2,5.0000000000000001E-3,0.02,2.3E-2,0.11600000000000001]
[null,4,0.26900000000000002,0.84399999999999997,3.3999999999999996E-2,1.5000000000000001E-2,8.2000000000000003E-2,0.151,0.17099999999999999,0.83099999999999996]
[null,5,0.32600000000000001,1.018,0.13899999999999998,2.5000000000000001E-2,0.10099999999999999,0.183,0.24299999999999999,0.99]
[null,6,0.155,0.39,0.497,8.0999999999999989E-2,4.4999999999999998E-2,7.0999999999999994E-2,0.22600000000000001,0.26900000000000002]
[null,7,0.10299999999999999,0.252,0.57499999999999996,0.13799999999999998,2.8000000000000004E-2,3.7999999999999999E-2,0.19999999999999998,7.9999999999999988E-2]
[null,8,7.6999999999999999E-2,0.26800000000000002,0.439,0.254,1.9999999999999997E-2,2.0999999999999998E-2,8.8000000000000009E-2,3.2000000000000001E-2]
[null,9,2.6000000000000002E-2,0.22600000000000001,0.308,0.25900000000000001,6.0000000000000001E-3,7.0000000000000001E-3,2.7999999999999997E-2,1.2E-2]
[null,10,5.0000000000000001E-3,0.114,0.14899999999999999,0.13400000000000001,1E-3,4.0000000000000001E-3,1.0999999999999999E-2,8.0000000000000002E-3]
[null,11,-9.0000000000000011E-3,3.3000000000000002E-2,4.4999999999999998E-2,3.9E-2,-2E-3,1E-3,6.9999999999999993E-3,6.9999999999999993E-3]
[null,12,-1.2E-2,1.0999999999999999E-2,1.7000000000000001E-2,1.4999999999999999E-2,-5.0000000000000001E-3,-1E-3,3.0000000000000001E-3,4.0000000000000001E-3]
[null,13,-1.3999999999999999E-2,1.2E-2,1.7000000000000001E-2,1.7000000000000001E-2,-6.0000000000000001E-3,-2E-3,2E-3,3.0000000000000001E-3]
[null,14,-8.0000000000000002E-3,3.3000000000000002E-2,3.5000000000000003E-2,3.9E-2,-3.0000000000000001E-3,0,2.9999999999999992E-3,2.9999999999999992E-3]
[null,15,5.0000000000000001E-3,6.2000000000000006E-2,6.2000000000000006E-2,6.7999999999999991E-2,1.9999999999999992E-3,1.9999999999999992E-3,3.0000000000000001E-3,3.0000000000000001E-3]
[]
[]
[]
[]
[]
[]
[null,"トマトからの抽出物の吸収スペクトル"]
[null,"770 nmの吸光度が0となるように補正"]
[null,"溶離液はヘキサン？"]
[null,"全分画のスペクトルを重ね書き"]
[]
[]
[]
[]
[]
[]
[]
[]
[]
[]
[]
[]
[]
[]
[]
[]
[]
[]
[]
[]
[]
[]
[]
[null,"分画ごとの各波長の吸光度の変化"]
[null,null,"各波長の吸光度を抽出"]
[null,null,null,null,null,"波長/nm"]
[null,null,359,445,469,488,499]
[null,"分画",{"$f":"C90&\" nm\"","v":"359 nm"},{"$f":"D90&\" nm\"","v":"445 nm"},"469 nm","488 nm","499 nm"]
[null,1,{"$f":"VLOOKUP(C$90,トマト,$B92+1,FALSE)","v":4.0999999999999995E-2},0.16899999999999998,0.182,0.123,0.10199999999999999]
[null,2,0.16699999999999998,0.73499999999999999,0.99299999999999988,0.63100000000000001,0.82199999999999995]
[null,3,8.5999999999999993E-2,0.38400000000000001,0.56000000000000005,0.33800000000000002,0.48799999999999999]
[null,4,2.1000000000000001E-2,5.6000000000000001E-2,7.5000000000000011E-2,4.5999999999999999E-2,6.3E-2]
[null,5,2.0999999999999998E-2,2.3E-2,2.1999999999999999E-2,1.6E-2,1.7000000000000001E-2]
[null,6,1.6E-2,3.1E-2,2.7000000000000003E-2,1.7000000000000001E-2,1.2999999999999999E-2]
[null,7,-8.0000000000000002E-3,0.01,1.8000000000000002E-2,6.0000000000000001E-3,1.2999999999999999E-2]
[null,8,1.4E-2,0.03,2.4E-2,1.2999999999999999E-2,9.0000000000000011E-3]

{"sheet":"補正ほうれん草","index":1,"n_rows":504,"n_cols":16,"rows_kept":504,"cut":false,"hidden":false,"merged":[]}
[]
["770 nm吸光度",{"$f":"元ほうれん草!B474","v":0.28899999999999998},{"$f":"元ほうれん草!C474","v":-3.0000000000000001E-3},{"$f":"元ほうれん草!D474","v":1E-3},{"$f":"元ほうれん草!E474","v":2E-3},{"$f":"元ほうれん草!F474","v":4.0000000000000001E-3},{"$f":"元ほうれん草!G474","v":7.0000000000000001E-3},{"$f":"元ほうれん草!H474","v":6.0000000000000001E-3},{"$f":"元ほうれん草!I474","v":0.01},{"$f":"元ほうれん草!J474","v":-6.0000000000000001E-3},{"$f":"元ほうれん草!K474","v":-5.0000000000000001E-3},{"$f":"元ほうれん草!L474","v":2E-3},{"$f":"元ほうれん草!M474","v":0},{"$f":"元ほうれん草!N474","v":-1E-3},{"$f":"元ほうれん草!O474","v":6.0000000000000001E-3},{"$f":"元ほうれん草!P474","v":7.0000000000000001E-3}]
["波長/nm",{"$f":"元ほうれん草!B3","v":"E:\\生化学実験\\sample1.txt"},{"$f":"元ほうれん草!C3","v":"E:\\生化学実験\\sample2.txt"},{"$f":"元ほうれん草!D3","v":"E:\\生化学実験\\sample3.txt"},{"$f":"元ほうれん草!E3","v":"E:\\生化学実験\\sample4.txt"},{"$f":"元ほうれん草!F3","v":"E:\\生化学実験\\sample5.txt"},{"$f":"元ほうれん草!G3","v":"E:\\生化学実験\\sample6.txt"},{"$f":"元ほうれん草!H3","v":"E:\\生化学実験\\sample7.txt"},{"$f":"元ほうれん草!I3","v":"E:\\生化学実験\\sample8.txt"},{"$f":"元ほうれん草!J3","v":"E:\\生化学実験\\sample9.txt"},{"$f":"元ほうれん草!K3","v":"E:\\生化学実験\\sample10.txt"},{"$f":"元ほうれん草!L3","v":"E:\\生化学実験\\sample11.txt"},{"$f":"元ほうれん草!M3","v":"E:\\生化学実験\\sample12.txt"},{"$f":"元ほうれん草!N3","v":"E:\\生化学実験\\sample13.txt"},{"$f":"元ほうれん草!O3","v":"E:\\生化学実験\\sample14.txt"},{"$f":"元ほうれん草!P3","v":"E:\\生化学実験\\sample15.txt"}]
[300,{"$f":"元ほうれん草!B4-B$2","v":-8.299999999999999E-2},{"$f":"元ほうれん草!C4-C$2","v":-9.0000000000000011E-3},{"$f":"元ほうれん草!D4-D$2","v":2.0999999999999998E-2},{"$f":"元ほうれん草!E4-E$2","v":9.9999999999999992E-2},{"$f":"元ほうれん草!F4-F$2","v":0.113},{"$f":"元ほうれん草!G4-G$2","v":7.0999999999999994E-2},{"$f":"元ほうれん草!H4-H$2","v":5.5E-2},{"$f":"元ほうれん草!I4-I$2","v":5.2999999999999999E-2},{"$f":"元ほうれん草!J4-J$2","v":2.3E-2},{"$f":"元ほうれん草!K4-K$2","v":5.0000000000000001E-3},{"$f":"元ほうれん草!L4-L$2","v":-1.2999999999999999E-2},{"$f":"元ほうれん草!M4-M$2","v":-0.01},{"$f":"元ほうれん草!N4-N$2","v":-1.3999999999999999E-2},{"$f":"元ほうれん草!O4-O$2","v":-1.3000000000000001E-2},{"$f":"元ほうれん草!P4-P$2","v":1E-3}]
[301,{"$f":"元ほうれん草!B5-B$2","v":-0.13599999999999998},{"$f":"元ほうれん草!C5-C$2","v":-1.4999999999999999E-2},{"$f":"元ほうれん草!D5-D$2","v":3.0000000000000001E-3},{"$f":"元ほうれん草!E5-E$2","v":9.8000000000000004E-2},{"$f":"元ほうれん草!F5-F$2","v":0.11599999999999999},{"$f":"元ほうれん草!G5-G$2","v":5.7000000000000002E-2},{"$f":"元ほうれん草!H5-H$2","v":5.3999999999999999E-2},{"$f":"元ほうれん草!I5-I$2","v":1.7000000000000001E-2},{"$f":"元ほうれん草!J5-J$2","v":1.4999999999999999E-2},{"$f":"元ほうれん草!K5-K$2","v":-9.0000000000000011E-3},{"$f":"元ほうれん草!L5-L$2","v":-2.4E-2},{"$f":"元ほうれん草!M5-M$2","v":-1.2999999999999999E-2},{"$f":"元ほうれん草!N5-N$2","v":-1.3000000000000001E-2},{"$f":"元ほうれん草!O5-O$2","v":-1.4999999999999999E-2},{"$f":"元ほうれん草!P5-P$2","v":-1.3000000000000001E-2}]
[302,{"$f":"元ほうれん草!B6-B$2","v":-0.10699999999999998},{"$f":"元ほうれん草!C6-C$2","v":-3.0000000000000001E-3},{"$f":"元ほうれん草!D6-D$2","v":0},{"$f":"元ほうれん草!E6-E$2","v":0.129},{"$f":"元ほうれん草!F6-F$2","v":0.13100000000000001},{"$f":"元ほうれん草!G6-G$2","v":6.699999999999999E-2},{"$f":"元ほうれん草!H6-H$2","v":5.9000000000000004E-2},{"$f":"元ほうれん草!I6-I$2","v":3.2000000000000001E-2},{"$f":"元ほうれん草!J6-J$2","v":2.8999999999999998E-2},{"$f":"元ほうれん草!K6-K$2","v":-7.0000000000000001E-3},{"$f":"元ほうれん草!L6-L$2","v":-1.4E-2},{"$f":"元ほうれん草!M6-M$2","v":-2.1000000000000001E-2},{"$f":"元ほうれん草!N6-N$2","v":1E-3},{"$f":"元ほうれん草!O6-O$2","v":-7.0000000000000001E-3},{"$f":"元ほうれん草!P6-P$2","v":-1.2E-2}]
[303,{"$f":"元ほうれん草!B7-B$2","v":-5.5999999999999966E-2},{"$f":"元ほうれん草!C7-C$2","v":-4.0000000000000001E-3},{"$f":"元ほうれん草!D7-D$2","v":2.0999999999999998E-2},{"$f":"元ほうれん草!E7-E$2","v":0.13300000000000001},{"$f":"元ほうれん草!F7-F$2","v":0.126},{"$f":"元ほうれん草!G7-G$2","v":7.3999999999999996E-2},{"$f":"元ほうれん草!H7-H$2","v":5.2000000000000005E-2},{"$f":"元ほうれん草!I7-I$2","v":4.8000000000000001E-2},{"$f":"元ほうれん草!J7-J$2","v":2.7000000000000003E-2},{"$f":"元ほうれん草!K7-K$2","v":1.9E-2},{"$f":"元ほうれん草!L7-L$2","v":-0.01},{"$f":"元ほうれん草!M7-M$2","v":-1.9E-2},{"$f":"元ほうれん草!N7-N$2","v":-5.0000000000000001E-3},{"$f":"元ほうれん草!O7-O$2","v":-1.4E-2},{"$f":"元ほうれん草!P7-P$2","v":-1.3000000000000001E-2}]
[304,{"$f":"元ほうれん草!B8-B$2","v":-2.7999999999999969E-2},{"$f":"元ほうれん草!C8-C$2","v":-5.9999999999999993E-3},{"$f":"元ほうれん草!D8-D$2","v":0.03},{"$f":"元ほうれん草!E8-E$2","v":0.109},{"$f":"元ほうれん草!F8-F$2","v":0.11399999999999999},{"$f":"元ほうれん草!G8-G$2","v":6.9999999999999993E-2},{"$f":"元ほうれん草!H8-H$2","v":4.4999999999999998E-2},{"$f":"元ほうれん草!I8-I$2","v":5.2999999999999999E-2},{"$f":"元ほうれん草!J8-J$2","v":3.1E-2},{"$f":"元ほうれん草!K8-K$2","v":3.6999999999999998E-2},{"$f":"元ほうれん草!L8-L$2","v":6.0000000000000001E-3},{"$f":"元ほうれん草!M8-M$2","v":-1.0999999999999999E-2},{"$f":"元ほうれん草!N8-N$2","v":1.2E-2},{"$f":"元ほうれん草!O8-O$2","v":-2.1999999999999999E-2},{"$f":"元ほうれん草!P8-P$2","v":-6.0000000000000001E-3}]
[305,{"$f":"元ほうれん草!B9-B$2","v":-5.5999999999999966E-2},{"$f":"元ほうれん草!C9-C$2","v":-1.4000000000000002E-2},{"$f":"元ほうれん草!D9-D$2","v":3.4000000000000002E-2},{"$f":"元ほうれん草!E9-E$2","v":0.108},{"$f":"元ほうれん草!F9-F$2","v":0.106},{"$f":"元ほうれん草!G9-G$2","v":6.7999999999999991E-2},{"$f":"元ほうれん草!H9-H$2","v":3.2000000000000001E-2},{"$f":"元ほうれん草!I9-I$2","v":5.7000000000000002E-2},{"$f":"元ほうれん草!J9-J$2","v":4.5999999999999999E-2},{"$f":"元ほうれん草!K9-K$2","v":3.6999999999999998E-2},{"$f":"元ほうれん草!L9-L$2","v":1.8000000000000002E-2},{"$f":"元ほうれん草!M9-M$2","v":-6.0000000000000001E-3},{"$f":"元ほうれん草!N9-N$2","v":1.3999999999999999E-2},{"$f":"元ほうれん草!O9-O$2","v":-0.02},{"$f":"元ほうれん草!P9-P$2","v":5.9999999999999993E-3}]
[306,{"$f":"元ほうれん草!B10-B$2","v":-5.5999999999999966E-2},{"$f":"元ほうれん草!C10-C$2","v":-3.2000000000000001E-2},{"$f":"元ほうれん草!D10-D$2","v":1.6999999999999998E-2},{"$f":"元ほうれん草!E10-E$2","v":0.123},{"$f":"元ほうれん草!F10-F$2","v":0.104},{"$f":"元ほうれん草!G10-G$2","v":6.3E-2},{"$f":"元ほうれん草!H10-H$2","v":1.4E-2},{"$f":"元ほうれん草!I10-I$2","v":4.1999999999999996E-2},{"$f":"元ほうれん草!J10-J$2","v":0.03},{"$f":"元ほうれん草!K10-K$2","v":1.9E-2},{"$f":"元ほうれん草!L10-L$2","v":3.0000000000000001E-3},{"$f":"元ほうれん草!M10-M$2","v":-1.7999999999999999E-2},{"$f":"元ほうれん草!N10-N$2","v":-1E-3},{"$f":"元ほうれん草!O10-O$2","v":-1.8000000000000002E-2},{"$f":"元ほうれん草!P10-P$2","v":-1.2E-2}]
[307,{"$f":"元ほうれん草!B11-B$2","v":-6.6999999999999976E-2},{"$f":"元ほうれん草!C11-C$2","v":-4.4999999999999998E-2},{"$f":"元ほうれん草!D11-D$2","v":-9.0000000000000011E-3},{"$f":"元ほうれん草!E11-E$2","v":0.121},{"$f":"元ほうれん草!F11-F$2","v":9.0999999999999998E-2},{"$f":"元ほうれん草!G11-G$2","v":0.05},{"$f":"元ほうれん草!H11-H$2","v":4.9999999999999992E-3},{"$f":"元ほうれん草!I11-I$2","v":1.1000000000000001E-2},{"$f":"元ほうれん草!J11-J$2","v":-2.9999999999999992E-3},{"$f":"元ほうれん草!K11-K$2","v":-9.0000000000000011E-3},{"$f":"元ほうれん草!L11-L$2","v":-0.04},{"$f":"元ほうれん草!M11-M$2","v":-2.8000000000000001E-2},{"$f":"元ほうれん草!N11-N$2","v":-2.3E-2},{"$f":"元ほうれん草!O11-O$2","v":-3.5999999999999997E-2},{"$f":"元ほうれん草!P11-P$2","v":-2.8000000000000001E-2}]
[308,{"$f":"元ほうれん草!B12-B$2","v":-9.099999999999997E-2},{"$f":"元ほうれん草!C12-C$2","v":-5.0999999999999997E-2},{"$f":"元ほうれん草!D12-D$2","v":-0.02},{"$f":"元ほうれん草!E12-E$2","v":8.8999999999999996E-2},{"$f":"元ほうれん草!F12-F$2","v":7.9000000000000001E-2},{"$f":"元ほうれん草!G12-G$2","v":5.1999999999999998E-2},{"$f":"元ほうれん草!H12-H$2","v":8.9999999999999993E-3},{"$f":"元ほうれん草!I12-I$2","v":9.9999999999999915E-4},{"$f":"元ほうれん草!J12-J$2","v":-2.0999999999999998E-2},{"$f":"元ほうれん草!K12-K$2","v":-3.2000000000000001E-2},{"$f":"元ほうれん草!L12-L$2","v":-6.4000000000000001E-2},{"$f":"元ほうれん草!M12-M$2","v":-3.5000000000000003E-2},{"$f":"元ほうれん草!N12-N$2","v":-3.4999999999999996E-2},{"$f":"元ほうれん草!O12-O$2","v":-3.5999999999999997E-2},{"$f":"元ほうれん草!P12-P$2","v":-0.03}]
[309,{"$f":"元ほうれん草!B13-B$2","v":-9.3999999999999972E-2},{"$f":"元ほうれん草!C13-C$2","v":-3.5999999999999997E-2},{"$f":"元ほうれん草!D13-D$2","v":-3.0000000000000001E-3},{"$f":"元ほうれん草!E13-E$2","v":8.3000000000000004E-2},{"$f":"元ほうれん草!F13-F$2","v":9.799999999999999E-2},{"$f":"元ほうれん草!G13-G$2","v":5.9000000000000004E-2},{"$f":"元ほうれん草!H13-H$2","v":2.1999999999999999E-2},{"$f":"元ほうれん草!I13-I$2","v":1.1000000000000001E-2},{"$f":"元ほうれん草!J13-J$2","v":-1.8000000000000002E-2},{"$f":"元ほうれん草!K13-K$2","v":-2.3E-2},{"$f":"元ほうれん草!L13-L$2","v":-5.2000000000000005E-2},{"$f":"元ほうれん草!M13-M$2","v":-2.4E-2},{"$f":"元ほうれん草!N13-N$2","v":-2.5999999999999999E-2},{"$f":"元ほうれん草!O13-O$2","v":-1.7000000000000001E-2},{"$f":"元ほうれん草!P13-P$2","v":-1.4999999999999999E-2}]
[310,{"$f":"元ほうれん草!B14-B$2","v":-6.4999999999999974E-2},{"$f":"元ほうれん草!C14-C$2","v":-2.9000000000000001E-2},{"$f":"元ほうれん草!D14-D$2","v":4.0000000000000001E-3},{"$f":"元ほうれん草!E14-E$2","v":9.4E-2},{"$f":"元ほうれん草!F14-F$2","v":0.11899999999999999},{"$f":"元ほうれん草!G14-G$2","v":6.2000000000000006E-2},{"$f":"元ほうれん草!H14-H$2","v":3.5000000000000003E-2},{"$f":"元ほうれん草!I14-I$2","v":1.1000000000000001E-2},{"$f":"元ほうれん草!J14-J$2","v":0.01},{"$f":"元ほうれん草!K14-K$2","v":-2E-3},{"$f":"元ほうれん草!L14-L$2","v":-2.0999999999999998E-2},{"$f":"元ほうれん草!M14-M$2","v":-1.4999999999999999E-2},{"$f":"元ほうれん草!N14-N$2","v":-1.7999999999999999E-2},{"$f":"元ほうれん草!O14-O$2","v":-1.4999999999999999E-2},{"$f":"元ほうれん草!P14-P$2","v":-4.0000000000000001E-3}]
[311,{"$f":"元ほうれん草!B15-B$2","v":-6.4999999999999974E-2},{"$f":"元ほうれん草!C15-C$2","v":-3.0000000000000002E-2},{"$f":"元ほうれん草!D15-D$2","v":6.0000000000000001E-3},{"$f":"元ほうれん草!E15-E$2","v":9.0999999999999998E-2},{"$f":"元ほうれん草!F15-F$2","v":0.11499999999999999},{"$f":"元ほうれん草!G15-G$2","v":7.4999999999999997E-2},{"$f":"元ほうれん草!H15-H$2","v":3.6000000000000004E-2},{"$f":"元ほうれん草!I15-I$2","v":1.9999999999999997E-2},{"$f":"元ほうれん草!J15-J$2","v":1.2E-2},{"$f":"元ほうれん草!K15-K$2","v":-7.0000000000000001E-3},{"$f":"元ほうれん草!L15-L$2","v":-1.6E-2},{"$f":"元ほうれん草!M15-M$2","v":-1.9E-2},{"$f":"元ほうれん草!N15-N$2","v":-2.5999999999999999E-2},{"$f":"元ほうれん草!O15-O$2","v":-1.8000000000000002E-2},{"$f":"元ほうれん草!P15-P$2","v":-6.0000000000000001E-3}]
[312,{"$f":"元ほうれん草!B16-B$2","v":-5.5999999999999966E-2},{"$f":"元ほうれん草!C16-C$2","v":-1.9E-2},{"$f":"元ほうれん草!D16-D$2","v":2.3E-2},{"$f":"元ほうれん草!E16-E$2","v":0.108},{"$f":"元ほうれん草!F16-F$2","v":0.13600000000000001},{"$f":"元ほうれん草!G16-G$2","v":8.6999999999999994E-2},{"$f":"元ほうれん草!H16-H$2","v":0.05},{"$f":"元ほうれん草!I16-I$2","v":5.0999999999999997E-2},{"$f":"元ほうれん草!J16-J$2","v":1.7000000000000001E-2},{"$f":"元ほうれん草!K16-K$2","v":-1.2999999999999998E-2},{"$f":"元ほうれん草!L16-L$2","v":-1.2E-2},{"$f":"元ほうれん草!M16-M$2","v":-1.7000000000000001E-2},{"$f":"元ほうれん草!N16-N$2","v":-2.3E-2},{"$f":"元ほうれん草!O16-O$2","v":-5.0000000000000001E-3},{"$f":"元ほうれん草!P16-P$2","v":-7.0000000000000001E-3}]
[313,{"$f":"元ほうれん草!B17-B$2","v":-2.899999999999997E-2},{"$f":"元ほうれん草!C17-C$2","v":-1.9E-2},{"$f":"元ほうれん草!D17-D$2","v":2.3E-2},{"$f":"元ほうれん草!E17-E$2","v":0.11899999999999999},{"$f":"元ほうれん草!F17-F$2","v":0.127},{"$f":"元ほうれん草!G17-G$2","v":8.299999999999999E-2},{"$f":"元ほうれん草!H17-H$2","v":4.5999999999999999E-2},{"$f":"元ほうれん草!I17-I$2","v":5.2999999999999999E-2},{"$f":"元ほうれん草!J17-J$2","v":6.0000000000000001E-3},{"$f":"元ほうれん草!K17-K$2","v":-1.9E-2},{"$f":"元ほうれん草!L17-L$2","v":-1.6E-2},{"$f":"元ほうれん草!M17-M$2","v":-2.4E-2},{"$f":"元ほうれん草!N17-N$2","v":-2.5999999999999999E-2},{"$f":"元ほうれん草!O17-O$2","v":-1.2E-2},{"$f":"元ほうれん草!P17-P$2","v":-1.6E-2}]
[314,{"$f":"元ほうれん草!B18-B$2","v":-3.3999999999999975E-2},{"$f":"元ほうれん草!C18-C$2","v":-1.6E-2},{"$f":"元ほうれん草!D18-D$2","v":9.0000000000000011E-3},{"$f":"元ほうれん草!E18-E$2","v":0.122},{"$f":"元ほうれん草!F18-F$2","v":0.14099999999999999},{"$f":"元ほうれん草!G18-G$2","v":7.8999999999999987E-2},{"$f":"元ほうれん草!H18-H$2","v":3.9E-2},{"$f":"元ほうれん草!I18-I$2","v":5.6000000000000001E-2},{"$f":"元ほうれん草!J18-J$2","v":8.0000000000000002E-3},{"$f":"元ほうれん草!K18-K$2","v":-7.0000000000000001E-3},{"$f":"元ほうれん草!L18-L$2","v":-1.6E-2},{"$f":"元ほうれん草!M18-M$2","v":-0.02},{"$f":"元ほうれん草!N18-N$2","v":-2.3E-2},{"$f":"元ほうれん草!O18-O$2","v":-2.3E-2},{"$f":"元ほうれん草!P18-P$2","v":-1.3000000000000001E-2}]
[315,{"$f":"元ほうれん草!B19-B$2","v":-5.099999999999999E-2},{"$f":"元ほうれん草!C19-C$2","v":-3.0000000000000001E-3},{"$f":"元ほうれん草!D19-D$2","v":1.9E-2},{"$f":"元ほうれん草!E19-E$2","v":0.128},{"$f":"元ほうれん草!F19-F$2","v":0.154},{"$f":"元ほうれん草!G19-G$2","v":8.6999999999999994E-2},{"$f":"元ほうれん草!H19-H$2","v":4.4000000000000004E-2},{"$f":"元ほうれん草!I19-I$2","v":6.4000000000000001E-2},{"$f":"元ほうれん草!J19-J$2","v":0.02},{"$f":"元ほうれん草!K19-K$2","v":1.6E-2},{"$f":"元ほうれん草!L19-L$2","v":1E-3},{"$f":"元ほうれん草!M19-M$2","v":-7.0000000000000001E-3},{"$f":"元ほうれん草!N19-N$2","v":-9.9999999999999985E-3},{"$f":"元ほうれん草!O19-O$2","v":-1.0999999999999999E-2},{"$f":"元ほうれん草!P19-P$2","v":-4.0000000000000001E-3}]
[316,{"$f":"元ほうれん草!B20-B$2","v":-5.7999999999999968E-2},{"$f":"元ほうれん草!C20-C$2","v":-5.9999999999999993E-3},{"$f":"元ほうれん草!D20-D$2","v":2.8999999999999998E-2},{"$f":"元ほうれん草!E20-E$2","v":0.13700000000000001},{"$f":"元ほうれん草!F20-F$2","v":0.17399999999999999},{"$f":"元ほうれん草!G20-G$2","v":9.4E-2},{"$f":"元ほうれん草!H20-H$2","v":6.1000000000000006E-2},{"$f":"元ほうれん草!I20-I$2","v":6.0000000000000005E-2},{"$f":"元ほうれん草!J20-J$2","v":3.1E-2},{"$f":"元ほうれん草!K20-K$2","v":1.7000000000000001E-2},{"$f":"元ほうれん草!L20-L$2","v":1E-3},{"$f":"元ほうれん草!M20-M$2","v":-4.0000000000000001E-3},{"$f":"元ほうれん草!N20-N$2","v":-9.0000000000000011E-3},{"$f":"元ほうれん草!O20-O$2","v":2E-3},{"$f":"元ほうれん草!P20-P$2","v":-7.0000000000000001E-3}]
[317,{"$f":"元ほうれん草!B21-B$2","v":-4.5999999999999985E-2},{"$f":"元ほうれん草!C21-C$2","v":-3.5999999999999997E-2},{"$f":"元ほうれん草!D21-D$2","v":1.9E-2},{"$f":"元ほうれん草!E21-E$2","v":0.13200000000000001},{"$f":"元ほうれん草!F21-F$2","v":0.17199999999999999},{"$f":"元ほうれん草!G21-G$2","v":8.4999999999999992E-2},{"$f":"元ほうれん草!H21-H$2","v":6.0000000000000005E-2},{"$f":"元ほうれん草!I21-I$2","v":5.1999999999999998E-2},{"$f":"元ほうれん草!J21-J$2","v":2.0999999999999998E-2},{"$f":"元ほうれん草!K21-K$2","v":-3.9999999999999992E-3},{"$f":"元ほうれん草!L21-L$2","v":-2.0999999999999998E-2},{"$f":"元ほうれん草!M21-M$2","v":-1.4999999999999999E-2},{"$f":"元ほうれん草!N21-N$2","v":-2.4999999999999998E-2},{"$f":"元ほうれん草!O21-O$2","v":-1.3000000000000001E-2},{"$f":"元ほうれん草!P21-P$2","v":-1.0999999999999999E-2}]
[318,{"$f":"元ほうれん草!B22-B$2","v":-1.799999999999996E-2},{"$f":"元ほうれん草!C22-C$2","v":-4.7999999999999994E-2},{"$f":"元ほうれん草!D22-D$2","v":9.9999999999999985E-3},{"$f":"元ほうれん草!E22-E$2","v":0.13200000000000001},{"$f":"元ほうれん草!F22-F$2","v":0.16899999999999998},{"$f":"元ほうれん草!G22-G$2","v":8.199999999999999E-2},{"$f":"元ほうれん草!H22-H$2","v":5.6000000000000001E-2},{"$f":"元ほうれん草!I22-I$2","v":5.0999999999999997E-2},{"$f":"元ほうれん草!J22-J$2","v":0.01},{"$f":"元ほうれん草!K22-K$2","v":-8.0000000000000002E-3},{"$f":"元ほうれん草!L22-L$2","v":-1.7000000000000001E-2},{"$f":"元ほうれん草!M22-M$2","v":-1.2E-2},{"$f":"元ほうれん草!N22-N$2","v":-2.4E-2},{"$f":"元ほうれん草!O22-O$2","v":-2.5000000000000001E-2},{"$f":"元ほうれん草!P22-P$2","v":-7.0000000000000001E-3}]
[319,{"$f":"元ほうれん草!B23-B$2","v":1.0000000000000009E-3},{"$f":"元ほうれん草!C23-C$2","v":-5.0999999999999997E-2},{"$f":"元ほうれん草!D23-D$2","v":-8.0000000000000002E-3},{"$f":"元ほうれん草!E23-E$2","v":0.15},{"$f":"元ほうれん草!F23-F$2","v":0.16500000000000001},{"$f":"元ほうれん草!G23-G$2","v":9.2999999999999999E-2},{"$f":"元ほうれん草!H23-H$2","v":6.7999999999999991E-2},{"$f":"元ほうれん草!I23-I$2","v":4.1999999999999996E-2},{"$f":"元ほうれん草!J23-J$2","v":1.4E-2},{"$f":"元ほうれん草!K23-K$2","v":1E-3},{"$f":"元ほうれん草!L23-L$2","v":-2E-3},{"$f":"元ほうれん草!M23-M$2","v":-4.0000000000000001E-3},{"$f":"元ほうれん草!N23-N$2","v":-1.4999999999999999E-2},{"$f":"元ほうれん草!O23-O$2","v":-1.4999999999999999E-2},{"$f":"元ほうれん草!P23-P$2","v":1E-3}]
[320,{"$f":"元ほうれん草!B24-B$2","v":-5.0000000000000044E-3},{"$f":"元ほうれん草!C24-C$2","v":-8.4999999999999992E-2},{"$f":"元ほうれん草!D24-D$2","v":-4.9000000000000002E-2},{"$f":"元ほうれん草!E24-E$2","v":0.157},{"$f":"元ほうれん草!F24-F$2","v":0.17899999999999999},{"$f":"元ほうれん草!G24-G$2","v":0.09},{"$f":"元ほうれん草!H24-H$2","v":6.5999999999999989E-2},{"$f":"元ほうれん草!I24-I$2","v":3.4999999999999996E-2},{"$f":"元ほうれん草!J24-J$2","v":1.3000000000000001E-2},{"$f":"元ほうれん草!K24-K$2","v":4.0000000000000001E-3},{"$f":"元ほうれん草!L24-L$2","v":-7.0000000000000001E-3},{"$f":"元ほうれん草!M24-M$2","v":-5.0000000000000001E-3},{"$f":"元ほうれん草!N24-N$2","v":-0.02},{"$f":"元ほうれん草!O24-O$2","v":-1.2E-2},{"$f":"元ほうれん草!P24-P$2","v":-2E-3}]
[321,{"$f":"元ほうれん草!B25-B$2","v":-1.3999999999999957E-2},{"$f":"元ほうれん草!C25-C$2","v":-0.13300000000000001},{"$f":"元ほうれん草!D25-D$2","v":-7.9000000000000001E-2},{"$f":"元ほうれん草!E25-E$2","v":0.14799999999999999},{"$f":"元ほうれん草!F25-F$2","v":0.192},{"$f":"元ほうれん草!G25-G$2","v":9.1999999999999998E-2},{"$f":"元ほうれん草!H25-H$2","v":6.4000000000000001E-2},{"$f":"元ほうれん草!I25-I$2","v":3.4999999999999996E-2},{"$f":"元ほうれん草!J25-J$2","v":3.0000000000000001E-3},{"$f":"元ほうれん草!K25-K$2","v":-5.9999999999999993E-3},{"$f":"元ほうれん草!L25-L$2","v":-1.9000000000000003E-2},{"$f":"元ほうれん草!M25-M$2","v":-1.0999999999999999E-2},{"$f":"元ほうれん草!N25-N$2","v":-2.0999999999999998E-2},{"$f":"元ほうれん草!O25-O$2","v":-1.3000000000000001E-2},{"$f":"元ほうれん草!P25-P$2","v":-9.0000000000000011E-3}]
[322,{"$f":"元ほうれん草!B26-B$2","v":-1.4999999999999958E-2},{"$f":"元ほうれん草!C26-C$2","v":-0.16200000000000001},{"$f":"元ほうれん草!D26-D$2","v":-9.7000000000000003E-2},{"$f":"元ほうれん草!E26-E$2","v":0.157},{"$f":"元ほうれん草!F26-F$2","v":0.22600000000000001},{"$f":"元ほうれん草!G26-G$2","v":9.8999999999999991E-2},{"$f":"元ほうれん草!H26-H$2","v":7.0999999999999994E-2},{"$f":"元ほうれん草!I26-I$2","v":3.5999999999999997E-2},{"$f":"元ほうれん草!J26-J$2","v":2E-3},{"$f":"元ほうれん草!K26-K$2","v":-1.2E-2},{"$f":"元ほうれん草!L26-L$2","v":-2.1999999999999999E-2},{"$f":"元ほうれん草!M26-M$2","v":-1.9E-2},{"$f":"元ほうれん草!N26-N$2","v":-1.6999999999999998E-2},{"$f":"元ほうれん草!O26-O$2","v":-1.7000000000000001E-2},{"$f":"元ほうれん草!P26-P$2","v":-5.0000000000000001E-3}]
[323,{"$f":"元ほうれん草!B27-B$2","v":2.0000000000000018E-3},{"$f":"元ほうれん草!C27-C$2","v":-0.16},{"$f":"元ほうれん草!D27-D$2","v":-9.4E-2},{"$f":"元ほうれん草!E27-E$2","v":0.17899999999999999},{"$f":"元ほうれん草!F27-F$2","v":0.26},{"$f":"元ほうれん草!G27-G$2","v":0.11299999999999999},{"$f":"元ほうれん草!H27-H$2","v":7.8E-2},{"$f":"元ほうれん草!I27-I$2","v":4.0999999999999995E-2},{"$f":"元ほうれん草!J27-J$2","v":7.0000000000000001E-3},{"$f":"元ほうれん草!K27-K$2","v":-9.0000000000000011E-3},{"$f":"元ほうれん草!L27-L$2","v":-2.3E-2},{"$f":"元ほうれん草!M27-M$2","v":-0.02},{"$f":"元ほうれん草!N27-N$2","v":-1.4999999999999999E-2},{"$f":"元ほうれん草!O27-O$2","v":-1.8000000000000002E-2},{"$f":"元ほうれん草!P27-P$2","v":1.9999999999999992E-3}]
[324,{"$f":"元ほうれん草!B28-B$2","v":1.6000000000000014E-2},{"$f":"元ほうれん草!C28-C$2","v":-0.14399999999999999},{"$f":"元ほうれん草!D28-D$2","v":-8.1000000000000003E-2},{"$f":"元ほうれん草!E28-E$2","v":0.2},{"$f":"元ほうれん草!F28-F$2","v":0.27799999999999997},{"$f":"元ほうれん草!G28-G$2","v":0.124},{"$f":"元ほうれん草!H28-H$2","v":8.5999999999999993E-2},{"$f":"元ほうれん草!I28-I$2","v":5.0999999999999997E-2},{"$f":"元ほうれん草!J28-J$2","v":1.0999999999999999E-2},{"$f":"元ほうれん草!K28-K$2","v":-3.9999999999999992E-3},{"$f":"元ほうれん草!L28-L$2","v":-1.9999999999999997E-2},{"$f":"元ほうれん草!M28-M$2","v":-1.9E-2},{"$f":"元ほうれん草!N28-N$2","v":-1.6E-2},{"$f":"元ほうれん草!O28-O$2","v":-1.4999999999999999E-2},{"$f":"元ほうれん草!P28-P$2","v":8.0000000000000002E-3}]
[325,{"$f":"元ほうれん草!B29-B$2","v":2.5000000000000022E-2},{"$f":"元ほうれん草!C29-C$2","v":-0.121},{"$f":"元ほうれん草!D29-D$2","v":-6.2E-2},{"$f":"元ほうれん草!E29-E$2","v":0.215},{"$f":"元ほうれん草!F29-F$2","v":0.29299999999999998},{"$f":"元ほうれん草!G29-G$2","v":0.13300000000000001},{"$f":"元ほうれん草!H29-H$2","v":9.5000000000000001E-2},{"$f":"元ほうれん草!I29-I$2","v":6.0999999999999992E-2},{"$f":"元ほうれん草!J29-J$2","v":1.4999999999999999E-2},{"$f":"元ほうれん草!K29-K$2","v":-1E-3},{"$f":"元ほうれん草!L29-L$2","v":-1.7000000000000001E-2},{"$f":"元ほうれん草!M29-M$2","v":-1.6E-2},{"$f":"元ほうれん草!N29-N$2","v":-1.2E-2},{"$f":"元ほうれん草!O29-O$2","v":-1.2E-2},{"$f":"元ほうれん草!P29-P$2","v":1.2E-2}]
[326,{"$f":"元ほうれん草!B30-B$2","v":3.2000000000000028E-2},{"$f":"元ほうれん草!C30-C$2","v":-9.8000000000000004E-2},{"$f":"元ほうれん草!D30-D$2","v":-0.04},{"$f":"元ほうれん草!E30-E$2","v":0.22800000000000001},{"$f":"元ほうれん草!F30-F$2","v":0.30399999999999999},{"$f":"元ほうれん草!G30-G$2","v":0.13999999999999999},{"$f":"元ほうれん草!H30-H$2","v":0.10199999999999999},{"$f":"元ほうれん草!I30-I$2","v":6.7000000000000004E-2},{"$f":"元ほうれん草!J30-J$2","v":1.9E-2},{"$f":"元ほうれん草!K30-K$2","v":1E-3},{"$f":"元ほうれん草!L30-L$2","v":-1.4999999999999999E-2},{"$f":"元ほうれん草!M30-M$2","v":-1.4E-2},{"$f":"元ほうれん草!N30-N$2","v":-1.0999999999999999E-2},{"$f":"元ほうれん草!O30-O$2","v":-9.0000000000000011E-3},{"$f":"元ほうれん草!P30-P$2","v":1.2E-2}]
[327,{"$f":"元ほうれん草!B31-B$2","v":3.7000000000000033E-2},{"$f":"元ほうれん草!C31-C$2","v":-7.9000000000000001E-2},{"$f":"元ほうれん草!D31-D$2","v":-2.5000000000000001E-2},{"$f":"元ほうれん草!E31-E$2","v":0.23599999999999999},{"$f":"元ほうれん草!F31-F$2","v":0.311},{"$f":"元ほうれん草!G31-G$2","v":0.14599999999999999},{"$f":"元ほうれん草!H31-H$2","v":0.105},{"$f":"元ほうれん草!I31-I$2","v":7.1000000000000008E-2},{"$f":"元ほうれん草!J31-J$2","v":2.1999999999999999E-2},{"$f":"元ほうれん草!K31-K$2","v":3.0000000000000001E-3},{"$f":"元ほうれん草!L31-L$2","v":-1.4E-2},{"$f":"元ほうれん草!M31-M$2","v":-1.2E-2},{"$f":"元ほうれん草!N31-N$2","v":-1.0999999999999999E-2},{"$f":"元ほうれん草!O31-O$2","v":-8.0000000000000002E-3},{"$f":"元ほうれん草!P31-P$2","v":1.3000000000000001E-2}]
[328,{"$f":"元ほうれん草!B32-B$2","v":4.4000000000000039E-2},{"$f":"元ほうれん草!C32-C$2","v":-6.3E-2},{"$f":"元ほうれん草!D32-D$2","v":-1.0999999999999999E-2},{"$f":"元ほうれん草!E32-E$2","v":0.245},{"$f":"元ほうれん草!F32-F$2","v":0.318},{"$f":"元ほうれん草!G32-G$2","v":0.152},{"$f":"元ほうれん草!H32-H$2","v":0.108},{"$f":"元ほうれん草!I32-I$2","v":7.5000000000000011E-2},{"$f":"元ほうれん草!J32-J$2","v":2.6000000000000002E-2},{"$f":"元ほうれん草!K32-K$2","v":5.0000000000000001E-3},{"$f":"元ほうれん草!L32-L$2","v":-1.2E-2},{"$f":"元ほうれん草!M32-M$2","v":-8.9999999999999993E-3},{"$f":"元ほうれん草!N32-N$2","v":-1.0999999999999999E-2},{"$f":"元ほうれん草!O32-O$2","v":-6.0000000000000001E-3},{"$f":"元ほうれん草!P32-P$2","v":1.4000000000000002E-2}]
[329,{"$f":"元ほうれん草!B33-B$2","v":4.8000000000000043E-2},{"$f":"元ほうれん草!C33-C$2","v":-4.8999999999999995E-2},{"$f":"元ほうれん草!D33-D$2","v":2E-3},{"$f":"元ほうれん草!E33-E$2","v":0.251},{"$f":"元ほうれん草!F33-F$2","v":0.32300000000000001},{"$f":"元ほうれん草!G33-G$2","v":0.156},{"$f":"元ほうれん草!H33-H$2","v":0.11299999999999999},{"$f":"元ほうれん草!I33-I$2","v":7.9000000000000001E-2},{"$f":"元ほうれん草!J33-J$2","v":2.7000000000000003E-2},{"$f":"元ほうれん草!K33-K$2","v":6.0000000000000001E-3},{"$f":"元ほうれん草!L33-L$2","v":-1.0999999999999999E-2},{"$f":"元ほうれん草!M33-M$2","v":-8.0000000000000002E-3},{"$f":"元ほうれん草!N33-N$2","v":-1.2E-2},{"$f":"元ほうれん草!O33-O$2","v":-5.0000000000000001E-3},{"$f":"元ほうれん草!P33-P$2","v":1.3000000000000001E-2}]
[330,{"$f":"元ほうれん草!B34-B$2","v":5.1000000000000045E-2},{"$f":"元ほうれん草!C34-C$2","v":-3.9E-2},{"$f":"元ほうれん草!D34-D$2","v":9.9999999999999985E-3},{"$f":"元ほうれん草!E34-E$2","v":0.255},{"$f":"元ほうれん草!F34-F$2","v":0.32400000000000001},{"$f":"元ほうれん草!G34-G$2","v":0.16},{"$f":"元ほうれん草!H34-H$2","v":0.11399999999999999},{"$f":"元ほうれん草!I34-I$2","v":8.1000000000000003E-2},{"$f":"元ほうれん草!J34-J$2","v":2.8999999999999998E-2},{"$f":"元ほうれん草!K34-K$2","v":7.0000000000000001E-3},{"$f":"元ほうれん草!L34-L$2","v":-1.0999999999999999E-2},{"$f":"元ほうれん草!M34-M$2","v":-7.0000000000000001E-3},{"$f":"元ほうれん草!N34-N$2","v":-1.2E-2},{"$f":"元ほうれん草!O34-O$2","v":-4.0000000000000001E-3},{"$f":"元ほうれん草!P34-P$2","v":1.2E-2}]
[331,{"$f":"元ほうれん草!B35-B$2","v":5.4000000000000048E-2},{"$f":"元ほうれん草!C35-C$2","v":-2.9000000000000001E-2},{"$f":"元ほうれん草!D35-D$2","v":1.7999999999999999E-2},{"$f":"元ほうれん草!E35-E$2","v":0.25800000000000001},{"$f":"元ほうれん草!F35-F$2","v":0.32400000000000001},{"$f":"元ほうれん草!G35-G$2","v":0.16300000000000001},{"$f":"元ほうれん草!H35-H$2","v":0.11699999999999999},{"$f":"元ほうれん草!I35-I$2","v":8.2000000000000003E-2},{"$f":"元ほうれん草!J35-J$2","v":0.03},{"$f":"元ほうれん草!K35-K$2","v":7.0000000000000001E-3},{"$f":"元ほうれん草!L35-L$2","v":-0.01},{"$f":"元ほうれん草!M35-M$2","v":-7.0000000000000001E-3},{"$f":"元ほうれん草!N35-N$2","v":-1.2E-2},{"$f":"元ほうれん草!O35-O$2","v":-4.0000000000000001E-3},{"$f":"元ほうれん草!P35-P$2","v":1.2E-2}]
[332,{"$f":"元ほうれん草!B36-B$2","v":5.5999999999999994E-2},{"$f":"元ほうれん草!C36-C$2","v":-2.1000000000000001E-2},{"$f":"元ほうれん草!D36-D$2","v":2.4999999999999998E-2},{"$f":"元ほうれん草!E36-E$2","v":0.25900000000000001},{"$f":"元ほうれん草!F36-F$2","v":0.32500000000000001},{"$f":"元ほうれん草!G36-G$2","v":0.16499999999999998},{"$f":"元ほうれん草!H36-H$2","v":0.11899999999999999},{"$f":"元ほうれん草!I36-I$2","v":8.5000000000000006E-2},{"$f":"元ほうれん草!J36-J$2","v":0.03},{"$f":"元ほうれん草!K36-K$2","v":8.0000000000000002E-3},{"$f":"元ほうれん草!L36-L$2","v":-0.01},{"$f":"元ほうれん草!M36-M$2","v":-5.0000000000000001E-3},{"$f":"元ほうれん草!N36-N$2","v":-1.2E-2},{"$f":"元ほうれん草!O36-O$2","v":-4.0000000000000001E-3},{"$f":"元ほうれん草!P36-P$2","v":1.0999999999999999E-2}]
[333,{"$f":"元ほうれん草!B37-B$2","v":5.4999999999999993E-2},{"$f":"元ほうれん草!C37-C$2","v":-1.4999999999999999E-2},{"$f":"元ほうれん草!D37-D$2","v":3.1E-2},{"$f":"元ほうれん草!E37-E$2","v":0.25800000000000001},{"$f":"元ほうれん草!F37-F$2","v":0.32400000000000001},{"$f":"元ほうれん草!G37-G$2","v":0.16599999999999998},{"$f":"元ほうれん草!H37-H$2","v":0.11899999999999999},{"$f":"元ほうれん草!I37-I$2","v":8.7000000000000008E-2},{"$f":"元ほうれん草!J37-J$2","v":3.1E-2},{"$f":"元ほうれん草!K37-K$2","v":8.0000000000000002E-3},{"$f":"元ほうれん草!L37-L$2","v":-0.01},{"$f":"元ほうれん草!M37-M$2","v":-5.0000000000000001E-3},{"$f":"元ほうれん草!N37-N$2","v":-1.2E-2},{"$f":"元ほうれん草!O37-O$2","v":-4.0000000000000001E-3},{"$f":"元ほうれん草!P37-P$2","v":9.0000000000000011E-3}]
[334,{"$f":"元ほうれん草!B38-B$2","v":5.4999999999999993E-2},{"$f":"元ほうれん草!C38-C$2","v":-1.0999999999999999E-2},{"$f":"元ほうれん草!D38-D$2","v":3.4999999999999996E-2},{"$f":"元ほうれん草!E38-E$2","v":0.25700000000000001},{"$f":"元ほうれん草!F38-F$2","v":0.32100000000000001},{"$f":"元ほうれん草!G38-G$2","v":0.16599999999999998},{"$f":"元ほうれん草!H38-H$2","v":0.11899999999999999},{"$f":"元ほうれん草!I38-I$2","v":8.7000000000000008E-2},{"$f":"元ほうれん草!J38-J$2","v":3.2000000000000001E-2},{"$f":"元ほうれん草!K38-K$2","v":7.0000000000000001E-3},{"$f":"元ほうれん草!L38-L$2","v":-0.01},{"$f":"元ほうれん草!M38-M$2","v":-6.0000000000000001E-3},{"$f":"元ほうれん草!N38-N$2","v":-1.3999999999999999E-2},{"$f":"元ほうれん草!O38-O$2","v":-4.0000000000000001E-3},{"$f":"元ほうれん草!P38-P$2","v":8.0000000000000002E-3}]
[335,{"$f":"元ほうれん草!B39-B$2","v":5.7999999999999996E-2},{"$f":"元ほうれん草!C39-C$2","v":-8.0000000000000002E-3},{"$f":"元ほうれん草!D39-D$2","v":3.9E-2},{"$f":"元ほうれん草!E39-E$2","v":0.25600000000000001},{"$f":"元ほうれん草!F39-F$2","v":0.31900000000000001},{"$f":"元ほうれん草!G39-G$2","v":0.16599999999999998},{"$f":"元ほうれん草!H39-H$2","v":0.11899999999999999},{"$f":"元ほうれん草!I39-I$2","v":8.6000000000000007E-2},{"$f":"元ほうれん草!J39-J$2","v":3.2000000000000001E-2},{"$f":"元ほうれん草!K39-K$2","v":9.0000000000000011E-3},{"$f":"元ほうれん草!L39-L$2","v":-9.0000000000000011E-3},{"$f":"元ほうれん草!M39-M$2","v":-7.0000000000000001E-3},{"$f":"元ほうれん草!N39-N$2","v":-1.3999999999999999E-2},{"$f":"元ほうれん草!O39-O$2","v":-4.0000000000000001E-3},{"$f":"元ほうれん草!P39-P$2","v":8.0000000000000002E-3}]
[336,{"$f":"元ほうれん草!B40-B$2","v":6.2E-2},{"$f":"元ほうれん草!C40-C$2","v":-4.0000000000000001E-3},{"$f":"元ほうれん草!D40-D$2","v":4.1999999999999996E-2},{"$f":"元ほうれん草!E40-E$2","v":0.255},{"$f":"元ほうれん草!F40-F$2","v":0.316},{"$f":"元ほうれん草!G40-G$2","v":0.16599999999999998},{"$f":"元ほうれん草!H40-H$2","v":0.12},{"$f":"元ほうれん草!I40-I$2","v":8.7000000000000008E-2},{"$f":"元ほうれん草!J40-J$2","v":3.3000000000000002E-2},{"$f":"元ほうれん草!K40-K$2","v":9.0000000000000011E-3},{"$f":"元ほうれん草!L40-L$2","v":-8.0000000000000002E-3},{"$f":"元ほうれん草!M40-M$2","v":-7.0000000000000001E-3},{"$f":"元ほうれん草!N40-N$2","v":-1.3000000000000001E-2},{"$f":"元ほうれん草!O40-O$2","v":-4.0000000000000001E-3},{"$f":"元ほうれん草!P40-P$2","v":8.0000000000000002E-3}]
[337,{"$f":"元ほうれん草!B41-B$2","v":6.0999999999999999E-2},{"$f":"元ほうれん草!C41-C$2","v":-3.0000000000000001E-3},{"$f":"元ほうれん草!D41-D$2","v":4.3999999999999997E-2},{"$f":"元ほうれん草!E41-E$2","v":0.253},{"$f":"元ほうれん草!F41-F$2","v":0.314},{"$f":"元ほうれん草!G41-G$2","v":0.16499999999999998},{"$f":"元ほうれん草!H41-H$2","v":0.121},{"$f":"元ほうれん草!I41-I$2","v":8.8000000000000009E-2},{"$f":"元ほうれん草!J41-J$2","v":3.2000000000000001E-2},{"$f":"元ほうれん草!K41-K$2","v":8.0000000000000002E-3},{"$f":"元ほうれん草!L41-L$2","v":-8.0000000000000002E-3},{"$f":"元ほうれん草!M41-M$2","v":-8.0000000000000002E-3},{"$f":"元ほうれん草!N41-N$2","v":-1.3999999999999999E-2},{"$f":"元ほうれん草!O41-O$2","v":-5.0000000000000001E-3},{"$f":"元ほうれん草!P41-P$2","v":5.9999999999999993E-3}]
[338,{"$f":"元ほうれん草!B42-B$2","v":6.0999999999999999E-2},{"$f":"元ほうれん草!C42-C$2","v":-1E-3},{"$f":"元ほうれん草!D42-D$2","v":4.5999999999999999E-2},{"$f":"元ほうれん草!E42-E$2","v":0.25},{"$f":"元ほうれん草!F42-F$2","v":0.311},{"$f":"元ほうれん草!G42-G$2","v":0.16400000000000001},{"$f":"元ほうれん草!H42-H$2","v":0.11899999999999999},{"$f":"元ほうれん草!I42-I$2","v":8.6000000000000007E-2},{"$f":"元ほうれん草!J42-J$2","v":0.03},{"$f":"元ほうれん草!K42-K$2","v":6.0000000000000001E-3},{"$f":"元ほうれん草!L42-L$2","v":-0.01},{"$f":"元ほうれん草!M42-M$2","v":-8.9999999999999993E-3},{"$f":"元ほうれん草!N42-N$2","v":-1.3999999999999999E-2},{"$f":"元ほうれん草!O42-O$2","v":-6.0000000000000001E-3},{"$f":"元ほうれん草!P42-P$2","v":5.0000000000000001E-3}]
[339,{"$f":"元ほうれん草!B43-B$2","v":6.3E-2},{"$f":"元ほうれん草!C43-C$2","v":1E-3},{"$f":"元ほうれん草!D43-D$2","v":4.9000000000000002E-2},{"$f":"元ほうれん草!E43-E$2","v":0.249},{"$f":"元ほうれん草!F43-F$2","v":0.308},{"$f":"元ほうれん草!G43-G$2","v":0.16499999999999998},{"$f":"元ほうれん草!H43-H$2","v":0.11899999999999999},{"$f":"元ほうれん草!I43-I$2","v":8.6000000000000007E-2},{"$f":"元ほうれん草!J43-J$2","v":0.03},{"$f":"元ほうれん草!K43-K$2","v":7.0000000000000001E-3},{"$f":"元ほうれん草!L43-L$2","v":-9.0000000000000011E-3},{"$f":"元ほうれん草!M43-M$2","v":-8.9999999999999993E-3},{"$f":"元ほうれん草!N43-N$2","v":-1.3999999999999999E-2},{"$f":"元ほうれん草!O43-O$2","v":-5.0000000000000001E-3},{"$f":"元ほうれん草!P43-P$2","v":5.0000000000000001E-3}]
[340,{"$f":"元ほうれん草!B44-B$2","v":6.5000000000000002E-2},{"$f":"元ほうれん草!C44-C$2","v":3.0000000000000001E-3},{"$f":"元ほうれん草!D44-D$2","v":5.0999999999999997E-2},{"$f":"元ほうれん草!E44-E$2","v":0.249},{"$f":"元ほうれん草!F44-F$2","v":0.30499999999999999},{"$f":"元ほうれん草!G44-G$2","v":0.16400000000000001},{"$f":"元ほうれん草!H44-H$2","v":0.11899999999999999},{"$f":"元ほうれん草!I44-I$2","v":8.6000000000000007E-2},{"$f":"元ほうれん草!J44-J$2","v":3.1E-2},{"$f":"元ほうれん草!K44-K$2","v":8.0000000000000002E-3},{"$f":"元ほうれん草!L44-L$2","v":-9.0000000000000011E-3},{"$f":"元ほうれん草!M44-M$2","v":-8.9999999999999993E-3},{"$f":"元ほうれん草!N44-N$2","v":-1.3999999999999999E-2},{"$f":"元ほうれん草!O44-O$2","v":-5.0000000000000001E-3},{"$f":"元ほうれん草!P44-P$2","v":5.0000000000000001E-3}]
[341,{"$f":"元ほうれん草!B45-B$2","v":6.5000000000000002E-2},{"$f":"元ほうれん草!C45-C$2","v":3.0000000000000001E-3},{"$f":"元ほうれん草!D45-D$2","v":5.1999999999999998E-2},{"$f":"元ほうれん草!E45-E$2","v":0.248},{"$f":"元ほうれん草!F45-F$2","v":0.30299999999999999},{"$f":"元ほうれん草!G45-G$2","v":0.16300000000000001},{"$f":"元ほうれん草!H45-H$2","v":0.11699999999999999},{"$f":"元ほうれん草!I45-I$2","v":8.6000000000000007E-2},{"$f":"元ほうれん草!J45-J$2","v":3.1E-2},{"$f":"元ほうれん草!K45-K$2","v":8.0000000000000002E-3},{"$f":"元ほうれん草!L45-L$2","v":-9.0000000000000011E-3},{"$f":"元ほうれん草!M45-M$2","v":-0.01},{"$f":"元ほうれん草!N45-N$2","v":-1.3999999999999999E-2},{"$f":"元ほうれん草!O45-O$2","v":-5.0000000000000001E-3},{"$f":"元ほうれん草!P45-P$2","v":5.0000000000000001E-3}]
[342,{"$f":"元ほうれん草!B46-B$2","v":6.4000000000000001E-2},{"$f":"元ほうれん草!C46-C$2","v":3.0000000000000001E-3},{"$f":"元ほうれん草!D46-D$2","v":5.3999999999999999E-2},{"$f":"元ほうれん草!E46-E$2","v":0.246},{"$f":"元ほうれん草!F46-F$2","v":0.30299999999999999},{"$f":"元ほうれん草!G46-G$2","v":0.161},{"$f":"元ほうれん草!H46-H$2","v":0.11599999999999999},{"$f":"元ほうれん草!I46-I$2","v":8.5000000000000006E-2},{"$f":"元ほうれん草!J46-J$2","v":2.8999999999999998E-2},{"$f":"元ほうれん草!K46-K$2","v":7.0000000000000001E-3},{"$f":"元ほうれん草!L46-L$2","v":-9.0000000000000011E-3},{"$f":"元ほうれん草!M46-M$2","v":-0.01},{"$f":"元ほうれん草!N46-N$2","v":-1.4999999999999999E-2},{"$f":"元ほうれん草!O46-O$2","v":-6.0000000000000001E-3},{"$f":"元ほうれん草!P46-P$2","v":3.9999999999999992E-3}]
[343,{"$f":"元ほうれん草!B47-B$2","v":6.4000000000000001E-2},{"$f":"元ほうれん草!C47-C$2","v":4.0000000000000001E-3},{"$f":"元ほうれん草!D47-D$2","v":5.5E-2},{"$f":"元ほうれん草!E47-E$2","v":0.247},{"$f":"元ほうれん草!F47-F$2","v":0.30399999999999999},{"$f":"元ほうれん草!G47-G$2","v":0.16},{"$f":"元ほうれん草!H47-H$2","v":0.11399999999999999},{"$f":"元ほうれん草!I47-I$2","v":8.3000000000000004E-2},{"$f":"元ほうれん草!J47-J$2","v":2.8999999999999998E-2},{"$f":"元ほうれん草!K47-K$2","v":6.0000000000000001E-3},{"$f":"元ほうれん草!L47-L$2","v":-9.0000000000000011E-3},{"$f":"元ほうれん草!M47-M$2","v":-1.0999999999999999E-2},{"$f":"元ほうれん草!N47-N$2","v":-1.4999999999999999E-2},{"$f":"元ほうれん草!O47-O$2","v":-7.0000000000000001E-3},{"$f":"元ほうれん草!P47-P$2","v":3.9999999999999992E-3}]
[344,{"$f":"元ほうれん草!B48-B$2","v":6.5000000000000002E-2},{"$f":"元ほうれん草!C48-C$2","v":5.0000000000000001E-3},{"$f":"元ほうれん草!D48-D$2","v":5.7000000000000002E-2},{"$f":"元ほうれん草!E48-E$2","v":0.247},{"$f":"元ほうれん草!F48-F$2","v":0.30399999999999999},{"$f":"元ほうれん草!G48-G$2","v":0.159},{"$f":"元ほうれん草!H48-H$2","v":0.11199999999999999},{"$f":"元ほうれん草!I48-I$2","v":8.2000000000000003E-2},{"$f":"元ほうれん草!J48-J$2","v":2.7999999999999997E-2},{"$f":"元ほうれん草!K48-K$2","v":6.0000000000000001E-3},{"$f":"元ほうれん草!L48-L$2","v":-9.0000000000000011E-3},{"$f":"元ほうれん草!M48-M$2","v":-1.2E-2},{"$f":"元ほうれん草!N48-N$2","v":-1.4999999999999999E-2},{"$f":"元ほうれん草!O48-O$2","v":-7.0000000000000001E-3},{"$f":"元ほうれん草!P48-P$2","v":3.9999999999999992E-3}]
[345,{"$f":"元ほうれん草!B49-B$2","v":6.5000000000000002E-2},{"$f":"元ほうれん草!C49-C$2","v":4.0000000000000001E-3},{"$f":"元ほうれん草!D49-D$2","v":5.7999999999999996E-2},{"$f":"元ほうれん草!E49-E$2","v":0.248},{"$f":"元ほうれん草!F49-F$2","v":0.30499999999999999},{"$f":"元ほうれん草!G49-G$2","v":0.157},{"$f":"元ほうれん草!H49-H$2","v":0.11},{"$f":"元ほうれん草!I49-I$2","v":8.1000000000000003E-2},{"$f":"元ほうれん草!J49-J$2","v":2.7000000000000003E-2},{"$f":"元ほうれん草!K49-K$2","v":5.0000000000000001E-3},{"$f":"元ほうれん草!L49-L$2","v":-9.0000000000000011E-3},{"$f":"元ほうれん草!M49-M$2","v":-1.2E-2},{"$f":"元ほうれん草!N49-N$2","v":-1.4999999999999999E-2},{"$f":"元ほうれん草!O49-O$2","v":-8.0000000000000002E-3},{"$f":"元ほうれん草!P49-P$2","v":3.9999999999999992E-3}]
[346,{"$f":"元ほうれん草!B50-B$2","v":6.5000000000000002E-2},{"$f":"元ほうれん草!C50-C$2","v":4.0000000000000001E-3},{"$f":"元ほうれん草!D50-D$2","v":0.06},{"$f":"元ほうれん草!E50-E$2","v":0.251},{"$f":"元ほうれん草!F50-F$2","v":0.308},{"$f":"元ほうれん草!G50-G$2","v":0.155},{"$f":"元ほうれん草!H50-H$2","v":0.108},{"$f":"元ほうれん草!I50-I$2","v":0.08},{"$f":"元ほうれん草!J50-J$2","v":2.7000000000000003E-2},{"$f":"元ほうれん草!K50-K$2","v":5.0000000000000001E-3},{"$f":"元ほうれん草!L50-L$2","v":-9.0000000000000011E-3},{"$f":"元ほうれん草!M50-M$2","v":-1.2E-2},{"$f":"元ほうれん草!N50-N$2","v":-1.4999999999999999E-2},{"$f":"元ほうれん草!O50-O$2","v":-8.0000000000000002E-3},{"$f":"元ほうれん草!P50-P$2","v":3.9999999999999992E-3}]
[347,{"$f":"元ほうれん草!B51-B$2","v":6.4000000000000001E-2},{"$f":"元ほうれん草!C51-C$2","v":5.0000000000000001E-3},{"$f":"元ほうれん草!D51-D$2","v":6.3E-2},{"$f":"元ほうれん草!E51-E$2","v":0.254},{"$f":"元ほうれん草!F51-F$2","v":0.311},{"$f":"元ほうれん草!G51-G$2","v":0.155},{"$f":"元ほうれん草!H51-H$2","v":0.107},{"$f":"元ほうれん草!I51-I$2","v":7.9000000000000001E-2},{"$f":"元ほうれん草!J51-J$2","v":2.7000000000000003E-2},{"$f":"元ほうれん草!K51-K$2","v":5.0000000000000001E-3},{"$f":"元ほうれん草!L51-L$2","v":-9.0000000000000011E-3},{"$f":"元ほうれん草!M51-M$2","v":-1.2999999999999999E-2},{"$f":"元ほうれん草!N51-N$2","v":-1.4999999999999999E-2},{"$f":"元ほうれん草!O51-O$2","v":-7.0000000000000001E-3},{"$f":"元ほうれん草!P51-P$2","v":5.0000000000000001E-3}]
[348,{"$f":"元ほうれん草!B52-B$2","v":6.4000000000000001E-2},{"$f":"元ほうれん草!C52-C$2","v":5.0000000000000001E-3},{"$f":"元ほうれん草!D52-D$2","v":6.5000000000000002E-2},{"$f":"元ほうれん草!E52-E$2","v":0.25900000000000001},{"$f":"元ほうれん草!F52-F$2","v":0.314},{"$f":"元ほうれん草!G52-G$2","v":0.154},{"$f":"元ほうれん草!H52-H$2","v":0.105},{"$f":"元ほうれん草!I52-I$2","v":7.8E-2},{"$f":"元ほうれん草!J52-J$2","v":2.7000000000000003E-2},{"$f":"元ほうれん草!K52-K$2","v":5.0000000000000001E-3},{"$f":"元ほうれん草!L52-L$2","v":-9.0000000000000011E-3},{"$f":"元ほうれん草!M52-M$2","v":-1.2999999999999999E-2},{"$f":"元ほうれん草!N52-N$2","v":-1.4999999999999999E-2},{"$f":"元ほうれん草!O52-O$2","v":-8.0000000000000002E-3},{"$f":"元ほうれん草!P52-P$2","v":5.0000000000000001E-3}]
[349,{"$f":"元ほうれん草!B53-B$2","v":6.4000000000000001E-2},{"$f":"元ほうれん草!C53-C$2","v":5.0000000000000001E-3},{"$f":"元ほうれん草!D53-D$2","v":6.7000000000000004E-2},{"$f":"元ほうれん草!E53-E$2","v":0.26300000000000001},{"$f":"元ほうれん草!F53-F$2","v":0.31900000000000001},{"$f":"元ほうれん草!G53-G$2","v":0.154},{"$f":"元ほうれん草!H53-H$2","v":0.104},{"$f":"元ほうれん草!I53-I$2","v":7.6999999999999999E-2},{"$f":"元ほうれん草!J53-J$2","v":2.7000000000000003E-2},{"$f":"元ほうれん草!K53-K$2","v":5.0000000000000001E-3},{"$f":"元ほうれん草!L53-L$2","v":-9.0000000000000011E-3},{"$f":"元ほうれん草!M53-M$2","v":-1.2999999999999999E-2},{"$f":"元ほうれん草!N53-N$2","v":-1.4999999999999999E-2},{"$f":"元ほうれん草!O53-O$2","v":-8.0000000000000002E-3},{"$f":"元ほうれん草!P53-P$2","v":5.0000000000000001E-3}]
[350,{"$f":"元ほうれん草!B54-B$2","v":6.4000000000000001E-2},{"$f":"元ほうれん草!C54-C$2","v":5.0000000000000001E-3},{"$f":"元ほうれん草!D54-D$2","v":6.9999999999999993E-2},{"$f":"元ほうれん草!E54-E$2","v":0.26900000000000002},{"$f":"元ほうれん草!F54-F$2","v":0.32600000000000001},{"$f":"元ほうれん草!G54-G$2","v":0.155},{"$f":"元ほうれん草!H54-H$2","v":0.10299999999999999},{"$f":"元ほうれん草!I54-I$2","v":7.6999999999999999E-2},{"$f":"元ほうれん草!J54-J$2","v":2.6000000000000002E-2},{"$f":"元ほうれん草!K54-K$2","v":5.0000000000000001E-3},{"$f":"元ほうれん草!L54-L$2","v":-9.0000000000000011E-3},{"$f":"元ほうれん草!M54-M$2","v":-1.2E-2},{"$f":"元ほうれん草!N54-N$2","v":-1.3999999999999999E-2},{"$f":"元ほうれん草!O54-O$2","v":-8.0000000000000002E-3},{"$f":"元ほうれん草!P54-P$2","v":5.0000000000000001E-3}]
[351,{"$f":"元ほうれん草!B55-B$2","v":6.5000000000000002E-2},{"$f":"元ほうれん草!C55-C$2","v":6.0000000000000001E-3},{"$f":"元ほうれん草!D55-D$2","v":7.1999999999999995E-2},{"$f":"元ほうれん草!E55-E$2","v":0.27600000000000002},{"$f":"元ほうれん草!F55-F$2","v":0.33500000000000002},{"$f":"元ほうれん草!G55-G$2","v":0.156},{"$f":"元ほうれん草!H55-H$2","v":0.10199999999999999},{"$f":"元ほうれん草!I55-I$2","v":7.5999999999999998E-2},{"$f":"元ほうれん草!J55-J$2","v":2.6000000000000002E-2},{"$f":"元ほうれん草!K55-K$2","v":5.0000000000000001E-3},{"$f":"元ほうれん草!L55-L$2","v":-8.0000000000000002E-3},{"$f":"元ほうれん草!M55-M$2","v":-1.2999999999999999E-2},{"$f":"元ほうれん草!N55-N$2","v":-1.3000000000000001E-2},{"$f":"元ほうれん草!O55-O$2","v":-7.0000000000000001E-3},{"$f":"元ほうれん草!P55-P$2","v":5.9999999999999993E-3}]
[352,{"$f":"元ほうれん草!B56-B$2","v":6.5000000000000002E-2},{"$f":"元ほうれん草!C56-C$2","v":5.0000000000000001E-3},{"$f":"元ほうれん草!D56-D$2","v":7.2999999999999995E-2},{"$f":"元ほうれん草!E56-E$2","v":0.28099999999999997},{"$f":"元ほうれん草!F56-F$2","v":0.34199999999999997},{"$f":"元ほうれん草!G56-G$2","v":0.156},{"$f":"元ほうれん草!H56-H$2","v":0.10199999999999999},{"$f":"元ほうれん草!I56-I$2","v":7.5999999999999998E-2},{"$f":"元ほうれん草!J56-J$2","v":2.5000000000000001E-2},{"$f":"元ほうれん草!K56-K$2","v":5.0000000000000001E-3},{"$f":"元ほうれん草!L56-L$2","v":-9.0000000000000011E-3},{"$f":"元ほうれん草!M56-M$2","v":-1.4E-2},{"$f":"元ほうれん草!N56-N$2","v":-1.3999999999999999E-2},{"$f":"元ほうれん草!O56-O$2","v":-7.0000000000000001E-3},{"$f":"元ほうれん草!P56-P$2","v":5.9999999999999993E-3}]
[353,{"$f":"元ほうれん草!B57-B$2","v":6.5000000000000002E-2},{"$f":"元ほうれん草!C57-C$2","v":5.0000000000000001E-3},{"$f":"元ほうれん草!D57-D$2","v":7.4999999999999997E-2},{"$f":"元ほうれん草!E57-E$2","v":0.28799999999999998},{"$f":"元ほうれん草!F57-F$2","v":0.34899999999999998},{"$f":"元ほうれん草!G57-G$2","v":0.157},{"$f":"元ほうれん草!H57-H$2","v":0.10099999999999999},{"$f":"元ほうれん草!I57-I$2","v":7.5999999999999998E-2},{"$f":"元ほうれん草!J57-J$2","v":2.5000000000000001E-2},{"$f":"元ほうれん草!K57-K$2","v":5.0000000000000001E-3},{"$f":"元ほうれん草!L57-L$2","v":-9.0000000000000011E-3},{"$f":"元ほうれん草!M57-M$2","v":-1.4E-2},{"$f":"元ほうれん草!N57-N$2","v":-1.4999999999999999E-2},{"$f":"元ほうれん草!O57-O$2","v":-7.0000000000000001E-3},{"$f":"元ほうれん草!P57-P$2","v":5.9999999999999993E-3}]
[354,{"$f":"元ほうれん草!B58-B$2","v":6.5000000000000002E-2},{"$f":"元ほうれん草!C58-C$2","v":5.0000000000000001E-3},{"$f":"元ほうれん草!D58-D$2","v":7.9000000000000001E-2},{"$f":"元ほうれん草!E58-E$2","v":0.29599999999999999},{"$f":"元ほうれん草!F58-F$2","v":0.35899999999999999},{"$f":"元ほうれん草!G58-G$2","v":0.159},{"$f":"元ほうれん草!H58-H$2","v":0.10099999999999999},{"$f":"元ほうれん草!I58-I$2","v":7.5999999999999998E-2},{"$f":"元ほうれん草!J58-J$2","v":2.6000000000000002E-2},{"$f":"元ほうれん草!K58-K$2","v":5.0000000000000001E-3},{"$f":"元ほうれん草!L58-L$2","v":-9.0000000000000011E-3},{"$f":"元ほうれん草!M58-M$2","v":-1.4E-2},{"$f":"元ほうれん草!N58-N$2","v":-1.3999999999999999E-2},{"$f":"元ほうれん草!O58-O$2","v":-7.0000000000000001E-3},{"$f":"元ほうれん草!P58-P$2","v":5.9999999999999993E-3}]
[355,{"$f":"元ほうれん草!B59-B$2","v":6.5000000000000002E-2},{"$f":"元ほうれん草!C59-C$2","v":5.0000000000000001E-3},{"$f":"元ほうれん草!D59-D$2","v":8.1000000000000003E-2},{"$f":"元ほうれん草!E59-E$2","v":0.30299999999999999},{"$f":"元ほうれん草!F59-F$2","v":0.36699999999999999},{"$f":"元ほうれん草!G59-G$2","v":0.161},{"$f":"元ほうれん草!H59-H$2","v":0.10199999999999999},{"$f":"元ほうれん草!I59-I$2","v":7.6999999999999999E-2},{"$f":"元ほうれん草!J59-J$2","v":2.7000000000000003E-2},{"$f":"元ほうれん草!K59-K$2","v":6.0000000000000001E-3},{"$f":"元ほうれん草!L59-L$2","v":-8.0000000000000002E-3},{"$f":"元ほうれん草!M59-M$2","v":-1.2999999999999999E-2},{"$f":"元ほうれん草!N59-N$2","v":-1.3999999999999999E-2},{"$f":"元ほうれん草!O59-O$2","v":-7.0000000000000001E-3},{"$f":"元ほうれん草!P59-P$2","v":7.0000000000000001E-3}]
[356,{"$f":"元ほうれん草!B60-B$2","v":6.5000000000000002E-2},{"$f":"元ほうれん草!C60-C$2","v":6.0000000000000001E-3},{"$f":"元ほうれん草!D60-D$2","v":8.4000000000000005E-2},{"$f":"元ほうれん草!E60-E$2","v":0.309},{"$f":"元ほうれん草!F60-F$2","v":0.375},{"$f":"元ほうれん草!G60-G$2","v":0.16300000000000001},{"$f":"元ほうれん草!H60-H$2","v":0.10199999999999999},{"$f":"元ほうれん草!I60-I$2","v":7.6999999999999999E-2},{"$f":"元ほうれん草!J60-J$2","v":2.7000000000000003E-2},{"$f":"元ほうれん草!K60-K$2","v":6.0000000000000001E-3},{"$f":"元ほうれん草!L60-L$2","v":-8.0000000000000002E-3},{"$f":"元ほうれん草!M60-M$2","v":-1.2999999999999999E-2},{"$f":"元ほうれん草!N60-N$2","v":-1.3999999999999999E-2},{"$f":"元ほうれん草!O60-O$2","v":-7.0000000000000001E-3},{"$f":"元ほうれん草!P60-P$2","v":5.9999999999999993E-3}]
[357,{"$f":"元ほうれん草!B61-B$2","v":6.6000000000000003E-2},{"$f":"元ほうれん草!C61-C$2","v":6.0000000000000001E-3},{"$f":"元ほうれん草!D61-D$2","v":8.5999999999999993E-2},{"$f":"元ほうれん草!E61-E$2","v":0.317},{"$f":"元ほうれん草!F61-F$2","v":0.38300000000000001},{"$f":"元ほうれん草!G61-G$2","v":0.16599999999999998},{"$f":"元ほうれん草!H61-H$2","v":0.10199999999999999},{"$f":"元ほうれん草!I61-I$2","v":7.8E-2},{"$f":"元ほうれん草!J61-J$2","v":2.7999999999999997E-2},{"$f":"元ほうれん草!K61-K$2","v":7.0000000000000001E-3},{"$f":"元ほうれん草!L61-L$2","v":-8.0000000000000002E-3},{"$f":"元ほうれん草!M61-M$2","v":-1.4E-2},{"$f":"元ほうれん草!N61-N$2","v":-1.3999999999999999E-2},{"$f":"元ほうれん草!O61-O$2","v":-6.0000000000000001E-3},{"$f":"元ほうれん草!P61-P$2","v":7.0000000000000001E-3}]
[358,{"$f":"元ほうれん草!B62-B$2","v":6.7000000000000004E-2},{"$f":"元ほうれん草!C62-C$2","v":7.0000000000000001E-3},{"$f":"元ほうれん草!D62-D$2","v":8.8999999999999996E-2},{"$f":"元ほうれん草!E62-E$2","v":0.32500000000000001},{"$f":"元ほうれん草!F62-F$2","v":0.39100000000000001},{"$f":"元ほうれん草!G62-G$2","v":0.16699999999999998},{"$f":"元ほうれん草!H62-H$2","v":0.10299999999999999},{"$f":"元ほうれん草!I62-I$2","v":7.8E-2},{"$f":"元ほうれん草!J62-J$2","v":2.7999999999999997E-2},{"$f":"元ほうれん草!K62-K$2","v":7.0000000000000001E-3},{"$f":"元ほうれん草!L62-L$2","v":-8.0000000000000002E-3},{"$f":"元ほうれん草!M62-M$2","v":-1.4E-2},{"$f":"元ほうれん草!N62-N$2","v":-1.3999999999999999E-2},{"$f":"元ほうれん草!O62-O$2","v":-6.0000000000000001E-3},{"$f":"元ほうれん草!P62-P$2","v":7.0000000000000001E-3}]
[359,{"$f":"元ほうれん草!B63-B$2","v":6.8000000000000005E-2},{"$f":"元ほうれん草!C63-C$2","v":7.0000000000000001E-3},{"$f":"元ほうれん草!D63-D$2","v":9.1999999999999998E-2},{"$f":"元ほうれん草!E63-E$2","v":0.33200000000000002},{"$f":"元ほうれん草!F63-F$2","v":0.4},{"$f":"元ほうれん草!G63-G$2","v":0.16899999999999998},{"$f":"元ほうれん草!H63-H$2","v":0.10299999999999999},{"$f":"元ほうれん草!I63-I$2","v":7.9000000000000001E-2},{"$f":"元ほうれん草!J63-J$2","v":2.8999999999999998E-2},{"$f":"元ほうれん草!K63-K$2","v":8.0000000000000002E-3},{"$f":"元ほうれん草!L63-L$2","v":-7.0000000000000001E-3},{"$f":"元ほうれん草!M63-M$2","v":-1.2999999999999999E-2},{"$f":"元ほうれん草!N63-N$2","v":-1.3000000000000001E-2},{"$f":"元ほうれん草!O63-O$2","v":-5.0000000000000001E-3},{"$f":"元ほうれん草!P63-P$2","v":7.0000000000000001E-3}]
[360,{"$f":"元ほうれん草!B64-B$2","v":6.9000000000000006E-2},{"$f":"元ほうれん草!C64-C$2","v":7.0000000000000001E-3},{"$f":"元ほうれん草!D64-D$2","v":9.5000000000000001E-2},{"$f":"元ほうれん草!E64-E$2","v":0.33900000000000002},{"$f":"元ほうれん草!F64-F$2","v":0.40799999999999997},{"$f":"元ほうれん草!G64-G$2","v":0.16999999999999998},{"$f":"元ほうれん草!H64-H$2","v":0.10299999999999999},{"$f":"元ほうれん草!I64-I$2","v":7.9000000000000001E-2},{"$f":"元ほうれん草!J64-J$2","v":0.03},{"$f":"元ほうれん草!K64-K$2","v":8.0000000000000002E-3},{"$f":"元ほうれん草!L64-L$2","v":-7.0000000000000001E-3},{"$f":"元ほうれん草!M64-M$2","v":-1.2999999999999999E-2},{"$f":"元ほうれん草!N64-N$2","v":-1.3000000000000001E-2},{"$f":"元ほうれん草!O64-O$2","v":-5.0000000000000001E-3},{"$f":"元ほうれん草!P64-P$2","v":7.0000000000000001E-3}]
[361,{"$f":"元ほうれん草!B65-B$2","v":7.1000000000000008E-2},{"$f":"元ほうれん草!C65-C$2","v":7.0000000000000001E-3},{"$f":"元ほうれん草!D65-D$2","v":9.9000000000000005E-2},{"$f":"元ほうれん草!E65-E$2","v":0.34599999999999997},{"$f":"元ほうれん草!F65-F$2","v":0.41599999999999998},{"$f":"元ほうれん草!G65-G$2","v":0.17199999999999999},{"$f":"元ほうれん草!H65-H$2","v":0.10299999999999999},{"$f":"元ほうれん草!I65-I$2","v":7.9000000000000001E-2},{"$f":"元ほうれん草!J65-J$2","v":3.2000000000000001E-2},{"$f":"元ほうれん草!K65-K$2","v":9.0000000000000011E-3},{"$f":"元ほうれん草!L65-L$2","v":-7.0000000000000001E-3},{"$f":"元ほうれん草!M65-M$2","v":-1.2999999999999999E-2},{"$f":"元ほうれん草!N65-N$2","v":-1.3000000000000001E-2},{"$f":"元ほうれん草!O65-O$2","v":-5.0000000000000001E-3},{"$f":"元ほうれん草!P65-P$2","v":9.0000000000000011E-3}]
[362,{"$f":"元ほうれん草!B66-B$2","v":7.2000000000000008E-2},{"$f":"元ほうれん草!C66-C$2","v":8.0000000000000002E-3},{"$f":"元ほうれん草!D66-D$2","v":0.10199999999999999},{"$f":"元ほうれん草!E66-E$2","v":0.35399999999999998},{"$f":"元ほうれん草!F66-F$2","v":0.42599999999999999},{"$f":"元ほうれん草!G66-G$2","v":0.17399999999999999},{"$f":"元ほうれん草!H66-H$2","v":0.10299999999999999},{"$f":"元ほうれん草!I66-I$2","v":0.08},{"$f":"元ほうれん草!J66-J$2","v":3.3000000000000002E-2},{"$f":"元ほうれん草!K66-K$2","v":9.0000000000000011E-3},{"$f":"元ほうれん草!L66-L$2","v":-7.0000000000000001E-3},{"$f":"元ほうれん草!M66-M$2","v":-1.2999999999999999E-2},{"$f":"元ほうれん草!N66-N$2","v":-1.3000000000000001E-2},{"$f":"元ほうれん草!O66-O$2","v":-4.0000000000000001E-3},{"$f":"元ほうれん草!P66-P$2","v":9.0000000000000011E-3}]
[363,{"$f":"元ほうれん草!B67-B$2","v":7.2000000000000008E-2},{"$f":"元ほうれん草!C67-C$2","v":8.0000000000000002E-3},{"$f":"元ほうれん草!D67-D$2","v":0.105},{"$f":"元ほうれん草!E67-E$2","v":0.36199999999999999},{"$f":"元ほうれん草!F67-F$2","v":0.434},{"$f":"元ほうれん草!G67-G$2","v":0.17399999999999999},{"$f":"元ほうれん草!H67-H$2","v":0.10299999999999999},{"$f":"元ほうれん草!I67-I$2","v":8.1000000000000003E-2},{"$f":"元ほうれん草!J67-J$2","v":3.4000000000000002E-2},{"$f":"元ほうれん草!K67-K$2","v":0.01},{"$f":"元ほうれん草!L67-L$2","v":-6.0000000000000001E-3},{"$f":"元ほうれん草!M67-M$2","v":-1.2999999999999999E-2},{"$f":"元ほうれん草!N67-N$2","v":-1.3000000000000001E-2},{"$f":"元ほうれん草!O67-O$2","v":-4.0000000000000001E-3},{"$f":"元ほうれん草!P67-P$2","v":1.0000000000000002E-2}]
[364,{"$f":"元ほうれん草!B68-B$2","v":7.5000000000000011E-2},{"$f":"元ほうれん草!C68-C$2","v":8.0000000000000002E-3},{"$f":"元ほうれん草!D68-D$2","v":0.108},{"$f":"元ほうれん草!E68-E$2","v":0.37},{"$f":"元ほうれん草!F68-F$2","v":0.443},{"$f":"元ほうれん草!G68-G$2","v":0.17599999999999999},{"$f":"元ほうれん草!H68-H$2","v":0.10299999999999999},{"$f":"元ほうれん草!I68-I$2","v":8.2000000000000003E-2},{"$f":"元ほうれん草!J68-J$2","v":3.5000000000000003E-2},{"$f":"元ほうれん草!K68-K$2","v":1.0999999999999999E-2},{"$f":"元ほうれん草!L68-L$2","v":-6.0000000000000001E-3},{"$f":"元ほうれん草!M68-M$2","v":-1.2E-2},{"$f":"元ほうれん草!N68-N$2","v":-1.2E-2},{"$f":"元ほうれん草!O68-O$2","v":-4.0000000000000001E-3},{"$f":"元ほうれん草!P68-P$2","v":1.0999999999999999E-2}]
[365,{"$f":"元ほうれん草!B69-B$2","v":7.7000000000000013E-2},{"$f":"元ほうれん草!C69-C$2","v":8.0000000000000002E-3},{"$f":"元ほうれん草!D69-D$2","v":0.111},{"$f":"元ほうれん草!E69-E$2","v":0.378},{"$f":"元ほうれん草!F69-F$2","v":0.45200000000000001},{"$f":"元ほうれん草!G69-G$2","v":0.17699999999999999},{"$f":"元ほうれん草!H69-H$2","v":0.10199999999999999},{"$f":"元ほうれん草!I69-I$2","v":8.3000000000000004E-2},{"$f":"元ほうれん草!J69-J$2","v":3.5999999999999997E-2},{"$f":"元ほうれん草!K69-K$2","v":1.2E-2},{"$f":"元ほうれん草!L69-L$2","v":-6.0000000000000001E-3},{"$f":"元ほうれん草!M69-M$2","v":-1.2E-2},{"$f":"元ほうれん草!N69-N$2","v":-1.0999999999999999E-2},{"$f":"元ほうれん草!O69-O$2","v":-3.0000000000000001E-3},{"$f":"元ほうれん草!P69-P$2","v":1.0999999999999999E-2}]
[366,{"$f":"元ほうれん草!B70-B$2","v":7.9000000000000015E-2},{"$f":"元ほうれん草!C70-C$2","v":9.0000000000000011E-3},{"$f":"元ほうれん草!D70-D$2","v":0.115},{"$f":"元ほうれん草!E70-E$2","v":0.38700000000000001},{"$f":"元ほうれん草!F70-F$2","v":0.46300000000000002},{"$f":"元ほうれん草!G70-G$2","v":0.17899999999999999},{"$f":"元ほうれん草!H70-H$2","v":0.10199999999999999},{"$f":"元ほうれん草!I70-I$2","v":8.3000000000000004E-2},{"$f":"元ほうれん草!J70-J$2","v":3.7999999999999999E-2},{"$f":"元ほうれん草!K70-K$2","v":1.3000000000000001E-2},{"$f":"元ほうれん草!L70-L$2","v":-5.0000000000000001E-3},{"$f":"元ほうれん草!M70-M$2","v":-1.2E-2},{"$f":"元ほうれん草!N70-N$2","v":-1.0999999999999999E-2},{"$f":"元ほうれん草!O70-O$2","v":-3.0000000000000001E-3},{"$f":"元ほうれん草!P70-P$2","v":1.2E-2}]
[367,{"$f":"元ほうれん草!B71-B$2","v":8.0000000000000016E-2},{"$f":"元ほうれん草!C71-C$2","v":9.0000000000000011E-3},{"$f":"元ほうれん草!D71-D$2","v":0.11699999999999999},{"$f":"元ほうれん草!E71-E$2","v":0.39600000000000002},{"$f":"元ほうれん草!F71-F$2","v":0.47299999999999998},{"$f":"元ほうれん草!G71-G$2","v":0.18},{"$f":"元ほうれん草!H71-H$2","v":0.10099999999999999},{"$f":"元ほうれん草!I71-I$2","v":8.4000000000000005E-2},{"$f":"元ほうれん草!J71-J$2","v":3.9E-2},{"$f":"元ほうれん草!K71-K$2","v":1.3000000000000001E-2},{"$f":"元ほうれん草!L71-L$2","v":-6.0000000000000001E-3},{"$f":"元ほうれん草!M71-M$2","v":-1.2E-2},{"$f":"元ほうれん草!N71-N$2","v":-1.2E-2},{"$f":"元ほうれん草!O71-O$2","v":-3.0000000000000001E-3},{"$f":"元ほうれん草!P71-P$2","v":1.2E-2}]
[368,{"$f":"元ほうれん草!B72-B$2","v":8.1000000000000016E-2},{"$f":"元ほうれん草!C72-C$2","v":0.01},{"$f":"元ほうれん草!D72-D$2","v":0.11899999999999999},{"$f":"元ほうれん草!E72-E$2","v":0.40499999999999997},{"$f":"元ほうれん草!F72-F$2","v":0.48099999999999998},{"$f":"元ほうれん草!G72-G$2","v":0.18099999999999999},{"$f":"元ほうれん草!H72-H$2","v":9.9999999999999992E-2},{"$f":"元ほうれん草!I72-I$2","v":8.5000000000000006E-2},{"$f":"元ほうれん草!J72-J$2","v":0.04},{"$f":"元ほうれん草!K72-K$2","v":1.3999999999999999E-2},{"$f":"元ほうれん草!L72-L$2","v":-6.0000000000000001E-3},{"$f":"元ほうれん草!M72-M$2","v":-1.2E-2},{"$f":"元ほうれん草!N72-N$2","v":-1.2E-2},{"$f":"元ほうれん草!O72-O$2","v":-3.0000000000000001E-3},{"$f":"元ほうれん草!P72-P$2","v":1.2E-2}]
[369,{"$f":"元ほうれん草!B73-B$2","v":8.3000000000000018E-2},{"$f":"元ほうれん草!C73-C$2","v":0.01},{"$f":"元ほうれん草!D73-D$2","v":0.122},{"$f":"元ほうれん草!E73-E$2","v":0.41399999999999998},{"$f":"元ほうれん草!F73-F$2","v":0.49},{"$f":"元ほうれん草!G73-G$2","v":0.182},{"$f":"元ほうれん草!H73-H$2","v":9.9999999999999992E-2},{"$f":"元ほうれん草!I73-I$2","v":8.5000000000000006E-2},{"$f":"元ほうれん草!J73-J$2","v":4.1000000000000002E-2},{"$f":"元ほうれん草!K73-K$2","v":1.4999999999999999E-2},{"$f":"元ほうれん草!L73-L$2","v":-5.0000000000000001E-3},{"$f":"元ほうれん草!M73-M$2","v":-1.2E-2},{"$f":"元ほうれん草!N73-N$2","v":-1.0999999999999999E-2},{"$f":"元ほうれん草!O73-O$2","v":-2E-3},{"$f":"元ほうれん草!P73-P$2","v":1.2E-2}]
[370,{"$f":"元ほうれん草!B74-B$2","v":8.6000000000000021E-2},{"$f":"元ほうれん草!C74-C$2","v":0.01},{"$f":"元ほうれん草!D74-D$2","v":0.125},{"$f":"元ほうれん草!E74-E$2","v":0.42299999999999999},{"$f":"元ほうれん草!F74-F$2","v":0.501},{"$f":"元ほうれん草!G74-G$2","v":0.183},{"$f":"元ほうれん草!H74-H$2","v":9.9999999999999992E-2},{"$f":"元ほうれん草!I74-I$2","v":8.6000000000000007E-2},{"$f":"元ほうれん草!J74-J$2","v":4.3999999999999997E-2},{"$f":"元ほうれん草!K74-K$2","v":1.6E-2},{"$f":"元ほうれん草!L74-L$2","v":-4.0000000000000001E-3},{"$f":"元ほうれん草!M74-M$2","v":-1.0999999999999999E-2},{"$f":"元ほうれん草!N74-N$2","v":-9.9999999999999985E-3},{"$f":"元ほうれん草!O74-O$2","v":-2E-3},{"$f":"元ほうれん草!P74-P$2","v":1.4000000000000002E-2}]
[371,{"$f":"元ほうれん草!B75-B$2","v":8.9000000000000024E-2},{"$f":"元ほうれん草!C75-C$2","v":0.01},{"$f":"元ほうれん草!D75-D$2","v":0.127},{"$f":"元ほうれん草!E75-E$2","v":0.432},{"$f":"元ほうれん草!F75-F$2","v":0.51300000000000001},{"$f":"元ほうれん草!G75-G$2","v":0.185},{"$f":"元ほうれん草!H75-H$2","v":9.9999999999999992E-2},{"$f":"元ほうれん草!I75-I$2","v":8.8000000000000009E-2},{"$f":"元ほうれん草!J75-J$2","v":4.4999999999999998E-2},{"$f":"元ほうれん草!K75-K$2","v":1.7000000000000001E-2},{"$f":"元ほうれん草!L75-L$2","v":-4.0000000000000001E-3},{"$f":"元ほうれん草!M75-M$2","v":-1.0999999999999999E-2},{"$f":"元ほうれん草!N75-N$2","v":-9.9999999999999985E-3},{"$f":"元ほうれん草!O75-O$2","v":-2E-3},{"$f":"元ほうれん草!P75-P$2","v":1.4000000000000002E-2}]
[372,{"$f":"元ほうれん草!B76-B$2","v":9.1000000000000025E-2},{"$f":"元ほうれん草!C76-C$2","v":1.0999999999999999E-2},{"$f":"元ほうれん草!D76-D$2","v":0.129},{"$f":"元ほうれん草!E76-E$2","v":0.441},{"$f":"元ほうれん草!F76-F$2","v":0.52300000000000002},{"$f":"元ほうれん草!G76-G$2","v":0.187},{"$f":"元ほうれん草!H76-H$2","v":0.10099999999999999},{"$f":"元ほうれん草!I76-I$2","v":8.900000000000001E-2},{"$f":"元ほうれん草!J76-J$2","v":4.7E-2},{"$f":"元ほうれん草!K76-K$2","v":1.7000000000000001E-2},{"$f":"元ほうれん草!L76-L$2","v":-3.0000000000000001E-3},{"$f":"元ほうれん草!M76-M$2","v":-1.0999999999999999E-2},{"$f":"元ほうれん草!N76-N$2","v":-9.9999999999999985E-3},{"$f":"元ほうれん草!O76-O$2","v":-1E-3},{"$f":"元ほうれん草!P76-P$2","v":1.4000000000000002E-2}]
[373,{"$f":"元ほうれん草!B77-B$2","v":9.5000000000000029E-2},{"$f":"元ほうれん草!C77-C$2","v":1.3000000000000001E-2},{"$f":"元ほうれん草!D77-D$2","v":0.13200000000000001},{"$f":"元ほうれん草!E77-E$2","v":0.44900000000000001},{"$f":"元ほうれん草!F77-F$2","v":0.53200000000000003},{"$f":"元ほうれん草!G77-G$2","v":0.189},{"$f":"元ほうれん草!H77-H$2","v":0.10099999999999999},{"$f":"元ほうれん草!I77-I$2","v":9.0000000000000011E-2},{"$f":"元ほうれん草!J77-J$2","v":4.8999999999999995E-2},{"$f":"元ほうれん草!K77-K$2","v":1.9E-2},{"$f":"元ほうれん草!L77-L$2","v":-2E-3},{"$f":"元ほうれん草!M77-M$2","v":-0.01},{"$f":"元ほうれん草!N77-N$2","v":-9.0000000000000011E-3},{"$f":"元ほうれん草!O77-O$2","v":-1E-3},{"$f":"元ほうれん草!P77-P$2","v":1.4999999999999999E-2}]
[374,{"$f":"元ほうれん草!B78-B$2","v":9.8000000000000032E-2},{"$f":"元ほうれん草!C78-C$2","v":1.3000000000000001E-2},{"$f":"元ほうれん草!D78-D$2","v":0.13400000000000001},{"$f":"元ほうれん草!E78-E$2","v":0.45600000000000002},{"$f":"元ほうれん草!F78-F$2","v":0.54},{"$f":"元ほうれん草!G78-G$2","v":0.192},{"$f":"元ほうれん草!H78-H$2","v":0.10099999999999999},{"$f":"元ほうれん草!I78-I$2","v":9.1999999999999998E-2},{"$f":"元ほうれん草!J78-J$2","v":5.0999999999999997E-2},{"$f":"元ほうれん草!K78-K$2","v":0.02},{"$f":"元ほうれん草!L78-L$2","v":-2E-3},{"$f":"元ほうれん草!M78-M$2","v":-0.01},{"$f":"元ほうれん草!N78-N$2","v":-9.0000000000000011E-3},{"$f":"元ほうれん草!O78-O$2","v":0},{"$f":"元ほうれん草!P78-P$2","v":1.4999999999999999E-2}]
[375,{"$f":"元ほうれん草!B79-B$2","v":0.10100000000000003},{"$f":"元ほうれん草!C79-C$2","v":1.3999999999999999E-2},{"$f":"元ほうれん草!D79-D$2","v":0.13600000000000001},{"$f":"元ほうれん草!E79-E$2","v":0.46200000000000002},{"$f":"元ほうれん草!F79-F$2","v":0.54700000000000004},{"$f":"元ほうれん草!G79-G$2","v":0.19400000000000001},{"$f":"元ほうれん草!H79-H$2","v":0.10199999999999999},{"$f":"元ほうれん草!I79-I$2","v":9.2999999999999999E-2},{"$f":"元ほうれん草!J79-J$2","v":5.2999999999999999E-2},{"$f":"元ほうれん草!K79-K$2","v":2.1000000000000001E-2},{"$f":"元ほうれん草!L79-L$2","v":-2E-3},{"$f":"元ほうれん草!M79-M$2","v":-0.01},{"$f":"元ほうれん草!N79-N$2","v":-9.0000000000000011E-3},{"$f":"元ほうれん草!O79-O$2","v":0},{"$f":"元ほうれん草!P79-P$2","v":1.6E-2}]
[376,{"$f":"元ほうれん草!B80-B$2","v":0.10300000000000004},{"$f":"元ほうれん草!C80-C$2","v":1.3999999999999999E-2},{"$f":"元ほうれん草!D80-D$2","v":0.13700000000000001},{"$f":"元ほうれん草!E80-E$2","v":0.46600000000000003},{"$f":"元ほうれん草!F80-F$2","v":0.55200000000000005},{"$f":"元ほうれん草!G80-G$2","v":0.19400000000000001},{"$f":"元ほうれん草!H80-H$2","v":0.10199999999999999},{"$f":"元ほうれん草!I80-I$2","v":9.2999999999999999E-2},{"$f":"元ほうれん草!J80-J$2","v":5.2999999999999999E-2},{"$f":"元ほうれん草!K80-K$2","v":2.2000000000000002E-2},{"$f":"元ほうれん草!L80-L$2","v":-2E-3},{"$f":"元ほうれん草!M80-M$2","v":-0.01},{"$f":"元ほうれん草!N80-N$2","v":-9.0000000000000011E-3},{"$f":"元ほうれん草!O80-O$2","v":0},{"$f":"元ほうれん草!P80-P$2","v":1.6E-2}]
[377,{"$f":"元ほうれん草!B81-B$2","v":0.10700000000000004},{"$f":"元ほうれん草!C81-C$2","v":1.3999999999999999E-2},{"$f":"元ほうれん草!D81-D$2","v":0.13800000000000001},{"$f":"元ほうれん草!E81-E$2","v":0.46799999999999997},{"$f":"元ほうれん草!F81-F$2","v":0.55500000000000005},{"$f":"元ほうれん草!G81-G$2","v":0.19400000000000001},{"$f":"元ほうれん草!H81-H$2","v":0.10199999999999999},{"$f":"元ほうれん草!I81-I$2","v":9.5000000000000001E-2},{"$f":"元ほうれん草!J81-J$2","v":5.5E-2},{"$f":"元ほうれん草!K81-K$2","v":2.2000000000000002E-2},{"$f":"元ほうれん草!L81-L$2","v":-1E-3},{"$f":"元ほうれん草!M81-M$2","v":-8.9999999999999993E-3},{"$f":"元ほうれん草!N81-N$2","v":-9.0000000000000011E-3},{"$f":"元ほうれん草!O81-O$2","v":0},{"$f":"元ほうれん草!P81-P$2","v":1.7000000000000001E-2}]
[378,{"$f":"元ほうれん草!B82-B$2","v":0.11100000000000004},{"$f":"元ほうれん草!C82-C$2","v":1.4999999999999999E-2},{"$f":"元ほうれん草!D82-D$2","v":0.13999999999999999},{"$f":"元ほうれん草!E82-E$2","v":0.47},{"$f":"元ほうれん草!F82-F$2","v":0.55999999999999994},{"$f":"元ほうれん草!G82-G$2","v":0.19400000000000001},{"$f":"元ほうれん草!H82-H$2","v":0.10299999999999999},{"$f":"元ほうれん草!I82-I$2","v":9.6000000000000002E-2},{"$f":"元ほうれん草!J82-J$2","v":5.6999999999999995E-2},{"$f":"元ほうれん草!K82-K$2","v":2.4E-2},{"$f":"元ほうれん草!L82-L$2","v":-1E-3},{"$f":"元ほうれん草!M82-M$2","v":-8.9999999999999993E-3},{"$f":"元ほうれん草!N82-N$2","v":-8.0000000000000002E-3},{"$f":"元ほうれん草!O82-O$2","v":1E-3},{"$f":"元ほうれん草!P82-P$2","v":1.8000000000000002E-2}]
[379,{"$f":"元ほうれん草!B83-B$2","v":0.11500000000000005},{"$f":"元ほうれん草!C83-C$2","v":1.7000000000000001E-2},{"$f":"元ほうれん草!D83-D$2","v":0.14299999999999999},{"$f":"元ほうれん草!E83-E$2","v":0.47299999999999998},{"$f":"元ほうれん草!F83-F$2","v":0.56299999999999994},{"$f":"元ほうれん草!G83-G$2","v":0.19400000000000001},{"$f":"元ほうれん草!H83-H$2","v":0.10199999999999999},{"$f":"元ほうれん草!I83-I$2","v":9.8000000000000004E-2},{"$f":"元ほうれん草!J83-J$2","v":0.06},{"$f":"元ほうれん草!K83-K$2","v":2.5000000000000001E-2},{"$f":"元ほうれん草!L83-L$2","v":0},{"$f":"元ほうれん草!M83-M$2","v":-8.0000000000000002E-3},{"$f":"元ほうれん草!N83-N$2","v":-7.0000000000000001E-3},{"$f":"元ほうれん草!O83-O$2","v":2.9999999999999992E-3},{"$f":"元ほうれん草!P83-P$2","v":1.9E-2}]
[380,{"$f":"元ほうれん草!B84-B$2","v":0.11799999999999999},{"$f":"元ほうれん草!C84-C$2","v":1.7000000000000001E-2},{"$f":"元ほうれん草!D84-D$2","v":0.14499999999999999},{"$f":"元ほうれん草!E84-E$2","v":0.47399999999999998},{"$f":"元ほうれん草!F84-F$2","v":0.56299999999999994},{"$f":"元ほうれん草!G84-G$2","v":0.19400000000000001},{"$f":"元ほうれん草!H84-H$2","v":0.10099999999999999},{"$f":"元ほうれん草!I84-I$2","v":9.9000000000000005E-2},{"$f":"元ほうれん草!J84-J$2","v":6.0999999999999999E-2},{"$f":"元ほうれん草!K84-K$2","v":2.5000000000000001E-2},{"$f":"元ほうれん草!L84-L$2","v":0},{"$f":"元ほうれん草!M84-M$2","v":-8.9999999999999993E-3},{"$f":"元ほうれん草!N84-N$2","v":-7.0000000000000001E-3},{"$f":"元ほうれん草!O84-O$2","v":2.9999999999999992E-3},{"$f":"元ほうれん草!P84-P$2","v":1.9E-2}]
[381,{"$f":"元ほうれん草!B85-B$2","v":0.121},{"$f":"元ほうれん草!C85-C$2","v":1.6E-2},{"$f":"元ほうれん草!D85-D$2","v":0.14599999999999999},{"$f":"元ほうれん草!E85-E$2","v":0.47399999999999998},{"$f":"元ほうれん草!F85-F$2","v":0.56199999999999994},{"$f":"元ほうれん草!G85-G$2","v":0.192},{"$f":"元ほうれん草!H85-H$2","v":9.9999999999999992E-2},{"$f":"元ほうれん草!I85-I$2","v":9.9000000000000005E-2},{"$f":"元ほうれん草!J85-J$2","v":6.2E-2},{"$f":"元ほうれん草!K85-K$2","v":2.6000000000000002E-2},{"$f":"元ほうれん草!L85-L$2","v":0},{"$f":"元ほうれん草!M85-M$2","v":-8.9999999999999993E-3},{"$f":"元ほうれん草!N85-N$2","v":-7.0000000000000001E-3},{"$f":"元ほうれん草!O85-O$2","v":2.9999999999999992E-3},{"$f":"元ほうれん草!P85-P$2","v":1.9E-2}]
[382,{"$f":"元ほうれん草!B86-B$2","v":0.125},{"$f":"元ほうれん草!C86-C$2","v":1.7000000000000001E-2},{"$f":"元ほうれん草!D86-D$2","v":0.14799999999999999},{"$f":"元ほうれん草!E86-E$2","v":0.47599999999999998},{"$f":"元ほうれん草!F86-F$2","v":0.56099999999999994},{"$f":"元ほうれん草!G86-G$2","v":0.19},{"$f":"元ほうれん草!H86-H$2","v":9.8999999999999991E-2},{"$f":"元ほうれん草!I86-I$2","v":0.1},{"$f":"元ほうれん草!J86-J$2","v":6.4000000000000001E-2},{"$f":"元ほうれん草!K86-K$2","v":2.7E-2},{"$f":"元ほうれん草!L86-L$2","v":0},{"$f":"元ほうれん草!M86-M$2","v":-8.9999999999999993E-3},{"$f":"元ほうれん草!N86-N$2","v":-7.0000000000000001E-3},{"$f":"元ほうれん草!O86-O$2","v":4.0000000000000001E-3},{"$f":"元ほうれん草!P86-P$2","v":0.02}]
[383,{"$f":"元ほうれん草!B87-B$2","v":0.13},{"$f":"元ほうれん草!C87-C$2","v":1.9E-2},{"$f":"元ほうれん草!D87-D$2","v":0.152},{"$f":"元ほうれん草!E87-E$2","v":0.47799999999999998},{"$f":"元ほうれん草!F87-F$2","v":0.56199999999999994},{"$f":"元ほうれん草!G87-G$2","v":0.189},{"$f":"元ほうれん草!H87-H$2","v":9.799999999999999E-2},{"$f":"元ほうれん草!I87-I$2","v":0.10200000000000001},{"$f":"元ほうれん草!J87-J$2","v":6.7000000000000004E-2},{"$f":"元ほうれん草!K87-K$2","v":2.9000000000000001E-2},{"$f":"元ほうれん草!L87-L$2","v":1E-3},{"$f":"元ほうれん草!M87-M$2","v":-7.0000000000000001E-3},{"$f":"元ほうれん草!N87-N$2","v":-6.0000000000000001E-3},{"$f":"元ほうれん草!O87-O$2","v":4.9999999999999992E-3},{"$f":"元ほうれん草!P87-P$2","v":2.2000000000000002E-2}]
[384,{"$f":"元ほうれん草!B88-B$2","v":0.13500000000000001},{"$f":"元ほうれん草!C88-C$2","v":0.02},{"$f":"元ほうれん草!D88-D$2","v":0.155},{"$f":"元ほうれん草!E88-E$2","v":0.47799999999999998},{"$f":"元ほうれん草!F88-F$2","v":0.56099999999999994},{"$f":"元ほうれん草!G88-G$2","v":0.186},{"$f":"元ほうれん草!H88-H$2","v":9.5999999999999988E-2},{"$f":"元ほうれん草!I88-I$2","v":0.10400000000000001},{"$f":"元ほうれん草!J88-J$2","v":7.0000000000000007E-2},{"$f":"元ほうれん草!K88-K$2","v":3.2000000000000001E-2},{"$f":"元ほうれん草!L88-L$2","v":2E-3},{"$f":"元ほうれん草!M88-M$2","v":-6.0000000000000001E-3},{"$f":"元ほうれん草!N88-N$2","v":-5.0000000000000001E-3},{"$f":"元ほうれん草!O88-O$2","v":6.0000000000000001E-3},{"$f":"元ほうれん草!P88-P$2","v":2.4E-2}]
[385,{"$f":"元ほうれん草!B89-B$2","v":0.14000000000000001},{"$f":"元ほうれん草!C89-C$2","v":2.0999999999999998E-2},{"$f":"元ほうれん草!D89-D$2","v":0.159},{"$f":"元ほうれん草!E89-E$2","v":0.47699999999999998},{"$f":"元ほうれん草!F89-F$2","v":0.55899999999999994},{"$f":"元ほうれん草!G89-G$2","v":0.183},{"$f":"元ほうれん草!H89-H$2","v":9.2999999999999999E-2},{"$f":"元ほうれん草!I89-I$2","v":0.10600000000000001},{"$f":"元ほうれん草!J89-J$2","v":7.400000000000001E-2},{"$f":"元ほうれん草!K89-K$2","v":3.4000000000000002E-2},{"$f":"元ほうれん草!L89-L$2","v":3.0000000000000001E-3},{"$f":"元ほうれん草!M89-M$2","v":-5.0000000000000001E-3},{"$f":"元ほうれん草!N89-N$2","v":-4.0000000000000001E-3},{"$f":"元ほうれん草!O89-O$2","v":6.9999999999999993E-3},{"$f":"元ほうれん草!P89-P$2","v":2.6000000000000002E-2}]
[386,{"$f":"元ほうれん草!B90-B$2","v":0.14500000000000002},{"$f":"元ほうれん草!C90-C$2","v":2.0999999999999998E-2},{"$f":"元ほうれん草!D90-D$2","v":0.16200000000000001},{"$f":"元ほうれん草!E90-E$2","v":0.47499999999999998},{"$f":"元ほうれん草!F90-F$2","v":0.55700000000000005},{"$f":"元ほうれん草!G90-G$2","v":0.18},{"$f":"元ほうれん草!H90-H$2","v":9.0999999999999998E-2},{"$f":"元ほうれん草!I90-I$2","v":0.10700000000000001},{"$f":"元ほうれん草!J90-J$2","v":7.6000000000000012E-2},{"$f":"元ほうれん草!K90-K$2","v":3.4999999999999996E-2},{"$f":"元ほうれん草!L90-L$2","v":4.0000000000000001E-3},{"$f":"元ほうれん草!M90-M$2","v":-6.0000000000000001E-3},{"$f":"元ほうれん草!N90-N$2","v":-4.0000000000000001E-3},{"$f":"元ほうれん草!O90-O$2","v":8.0000000000000002E-3},{"$f":"元ほうれん草!P90-P$2","v":2.7000000000000003E-2}]
[387,{"$f":"元ほうれん草!B91-B$2","v":0.14900000000000002},{"$f":"元ほうれん草!C91-C$2","v":2.1999999999999999E-2},{"$f":"元ほうれん草!D91-D$2","v":0.16600000000000001},{"$f":"元ほうれん草!E91-E$2","v":0.47299999999999998},{"$f":"元ほうれん草!F91-F$2","v":0.55400000000000005},{"$f":"元ほうれん草!G91-G$2","v":0.17599999999999999},{"$f":"元ほうれん草!H91-H$2","v":8.8999999999999996E-2},{"$f":"元ほうれん草!I91-I$2","v":0.108},{"$f":"元ほうれん草!J91-J$2","v":7.9000000000000001E-2},{"$f":"元ほうれん草!K91-K$2","v":3.5999999999999997E-2},{"$f":"元ほうれん草!L91-L$2","v":4.0000000000000001E-3},{"$f":"元ほうれん草!M91-M$2","v":-6.0000000000000001E-3},{"$f":"元ほうれん草!N91-N$2","v":-4.0000000000000001E-3},{"$f":"元ほうれん草!O91-O$2","v":8.9999999999999993E-3},{"$f":"元ほうれん草!P91-P$2","v":2.8000000000000004E-2}]
[388,{"$f":"元ほうれん草!B92-B$2","v":0.15300000000000002},{"$f":"元ほうれん草!C92-C$2","v":2.3E-2},{"$f":"元ほうれん草!D92-D$2","v":0.16900000000000001},{"$f":"元ほうれん草!E92-E$2","v":0.47099999999999997},{"$f":"元ほうれん草!F92-F$2","v":0.55000000000000004},{"$f":"元ほうれん草!G92-G$2","v":0.17299999999999999},{"$f":"元ほうれん草!H92-H$2","v":8.6999999999999994E-2},{"$f":"元ほうれん草!I92-I$2","v":0.11},{"$f":"元ほうれん草!J92-J$2","v":8.1000000000000003E-2},{"$f":"元ほうれん草!K92-K$2","v":3.7999999999999999E-2},{"$f":"元ほうれん草!L92-L$2","v":5.0000000000000001E-3},{"$f":"元ほうれん草!M92-M$2","v":-6.0000000000000001E-3},{"$f":"元ほうれん草!N92-N$2","v":-4.0000000000000001E-3},{"$f":"元ほうれん草!O92-O$2","v":8.9999999999999993E-3},{"$f":"元ほうれん草!P92-P$2","v":0.03}]
[389,{"$f":"元ほうれん草!B93-B$2","v":0.15800000000000003},{"$f":"元ほうれん草!C93-C$2","v":2.4E-2},{"$f":"元ほうれん草!D93-D$2","v":0.17299999999999999},{"$f":"元ほうれん草!E93-E$2","v":0.47},{"$f":"元ほうれん草!F93-F$2","v":0.54900000000000004},{"$f":"元ほうれん草!G93-G$2","v":0.17099999999999999},{"$f":"元ほうれん草!H93-H$2","v":8.4999999999999992E-2},{"$f":"元ほうれん草!I93-I$2","v":0.111},{"$f":"元ほうれん草!J93-J$2","v":8.5000000000000006E-2},{"$f":"元ほうれん草!K93-K$2","v":0.04},{"$f":"元ほうれん草!L93-L$2","v":5.0000000000000001E-3},{"$f":"元ほうれん草!M93-M$2","v":-5.0000000000000001E-3},{"$f":"元ほうれん草!N93-N$2","v":-4.0000000000000001E-3},{"$f":"元ほうれん草!O93-O$2","v":0.01},{"$f":"元ほうれん草!P93-P$2","v":3.1E-2}]
[390,{"$f":"元ほうれん草!B94-B$2","v":0.16400000000000003},{"$f":"元ほうれん草!C94-C$2","v":2.4E-2},{"$f":"元ほうれん草!D94-D$2","v":0.17699999999999999},{"$f":"元ほうれん草!E94-E$2","v":0.47},{"$f":"元ほうれん草!F94-F$2","v":0.54800000000000004},{"$f":"元ほうれん草!G94-G$2","v":0.16799999999999998},{"$f":"元ほうれん草!H94-H$2","v":8.3999999999999991E-2},{"$f":"元ほうれん草!I94-I$2","v":0.113},{"$f":"元ほうれん草!J94-J$2","v":8.900000000000001E-2},{"$f":"元ほうれん草!K94-K$2","v":4.1999999999999996E-2},{"$f":"元ほうれん草!L94-L$2","v":6.0000000000000001E-3},{"$f":"元ほうれん草!M94-M$2","v":-5.0000000000000001E-3},{"$f":"元ほうれん草!N94-N$2","v":-3.0000000000000001E-3},{"$f":"元ほうれん草!O94-O$2","v":1.1000000000000001E-2},{"$f":"元ほうれん草!P94-P$2","v":3.2000000000000001E-2}]
[391,{"$f":"元ほうれん草!B95-B$2","v":0.17100000000000004},{"$f":"元ほうれん草!C95-C$2","v":2.5999999999999999E-2},{"$f":"元ほうれん草!D95-D$2","v":0.18099999999999999},{"$f":"元ほうれん草!E95-E$2","v":0.47099999999999997},{"$f":"元ほうれん草!F95-F$2","v":0.55000000000000004},{"$f":"元ほうれん草!G95-G$2","v":0.16799999999999998},{"$f":"元ほうれん草!H95-H$2","v":8.3999999999999991E-2},{"$f":"元ほうれん草!I95-I$2","v":0.11600000000000001},{"$f":"元ほうれん草!J95-J$2","v":9.1999999999999998E-2},{"$f":"元ほうれん草!K95-K$2","v":4.3999999999999997E-2},{"$f":"元ほうれん草!L95-L$2","v":6.9999999999999993E-3},{"$f":"元ほうれん草!M95-M$2","v":-4.0000000000000001E-3},{"$f":"元ほうれん草!N95-N$2","v":-2E-3},{"$f":"元ほうれん草!O95-O$2","v":1.1999999999999999E-2},{"$f":"元ほうれん草!P95-P$2","v":3.3000000000000002E-2}]
[392,{"$f":"元ほうれん草!B96-B$2","v":0.17600000000000005},{"$f":"元ほうれん草!C96-C$2","v":2.7E-2},{"$f":"元ほうれん草!D96-D$2","v":0.185},{"$f":"元ほうれん草!E96-E$2","v":0.47399999999999998},{"$f":"元ほうれん草!F96-F$2","v":0.55300000000000005},{"$f":"元ほうれん草!G96-G$2","v":0.16799999999999998},{"$f":"元ほうれん草!H96-H$2","v":8.299999999999999E-2},{"$f":"元ほうれん草!I96-I$2","v":0.11800000000000001},{"$f":"元ほうれん草!J96-J$2","v":9.5000000000000001E-2},{"$f":"元ほうれん草!K96-K$2","v":4.5999999999999999E-2},{"$f":"元ほうれん草!L96-L$2","v":6.9999999999999993E-3},{"$f":"元ほうれん草!M96-M$2","v":-4.0000000000000001E-3},{"$f":"元ほうれん草!N96-N$2","v":-1E-3},{"$f":"元ほうれん草!O96-O$2","v":1.2999999999999999E-2},{"$f":"元ほうれん草!P96-P$2","v":3.4000000000000002E-2}]
[393,{"$f":"元ほうれん草!B97-B$2","v":0.18099999999999999},{"$f":"元ほうれん草!C97-C$2","v":2.7E-2},{"$f":"元ほうれん草!D97-D$2","v":0.189},{"$f":"元ほうれん草!E97-E$2","v":0.47899999999999998},{"$f":"元ほうれん草!F97-F$2","v":0.55600000000000005},{"$f":"元ほうれん草!G97-G$2","v":0.16799999999999998},{"$f":"元ほうれん草!H97-H$2","v":8.299999999999999E-2},{"$f":"元ほうれん草!I97-I$2","v":0.12000000000000001},{"$f":"元ほうれん草!J97-J$2","v":9.7000000000000003E-2},{"$f":"元ほうれん草!K97-K$2","v":4.7E-2},{"$f":"元ほうれん草!L97-L$2","v":6.9999999999999993E-3},{"$f":"元ほうれん草!M97-M$2","v":-4.0000000000000001E-3},{"$f":"元ほうれん草!N97-N$2","v":-2E-3},{"$f":"元ほうれん草!O97-O$2","v":1.2999999999999999E-2},{"$f":"元ほうれん草!P97-P$2","v":3.3000000000000002E-2}]
[394,{"$f":"元ほうれん草!B98-B$2","v":0.186},{"$f":"元ほうれん草!C98-C$2","v":2.8000000000000001E-2},{"$f":"元ほうれん草!D98-D$2","v":0.192},{"$f":"元ほうれん草!E98-E$2","v":0.48599999999999999},{"$f":"元ほうれん草!F98-F$2","v":0.56299999999999994},{"$f":"元ほうれん草!G98-G$2","v":0.16899999999999998},{"$f":"元ほうれん草!H98-H$2","v":8.3999999999999991E-2},{"$f":"元ほうれん草!I98-I$2","v":0.12200000000000001},{"$f":"元ほうれん草!J98-J$2","v":0.1},{"$f":"元ほうれん草!K98-K$2","v":4.8999999999999995E-2},{"$f":"元ほうれん草!L98-L$2","v":8.0000000000000002E-3},{"$f":"元ほうれん草!M98-M$2","v":-3.0000000000000001E-3},{"$f":"元ほうれん草!N98-N$2","v":-2E-3},{"$f":"元ほうれん草!O98-O$2","v":1.2999999999999999E-2},{"$f":"元ほうれん草!P98-P$2","v":3.4000000000000002E-2}]
[395,{"$f":"元ほうれん草!B99-B$2","v":0.191},{"$f":"元ほうれん草!C99-C$2","v":0.03},{"$f":"元ほうれん草!D99-D$2","v":0.19400000000000001},{"$f":"元ほうれん草!E99-E$2","v":0.495},{"$f":"元ほうれん草!F99-F$2","v":0.57499999999999996},{"$f":"元ほうれん草!G99-G$2","v":0.17299999999999999},{"$f":"元ほうれん草!H99-H$2","v":8.5999999999999993E-2},{"$f":"元ほうれん草!I99-I$2","v":0.12400000000000001},{"$f":"元ほうれん草!J99-J$2","v":0.10300000000000001},{"$f":"元ほうれん草!K99-K$2","v":5.0999999999999997E-2},{"$f":"元ほうれん草!L99-L$2","v":8.9999999999999993E-3},{"$f":"元ほうれん草!M99-M$2","v":-3.0000000000000001E-3},{"$f":"元ほうれん草!N99-N$2","v":0},{"$f":"元ほうれん草!O99-O$2","v":1.4E-2},{"$f":"元ほうれん草!P99-P$2","v":3.5000000000000003E-2}]
[396,{"$f":"元ほうれん草!B100-B$2","v":0.19900000000000001},{"$f":"元ほうれん草!C100-C$2","v":3.1E-2},{"$f":"元ほうれん草!D100-D$2","v":0.19600000000000001},{"$f":"元ほうれん草!E100-E$2","v":0.50900000000000001},{"$f":"元ほうれん草!F100-F$2","v":0.59099999999999997},{"$f":"元ほうれん草!G100-G$2","v":0.17599999999999999},{"$f":"元ほうれん草!H100-H$2","v":8.7999999999999995E-2},{"$f":"元ほうれん草!I100-I$2","v":0.127},{"$f":"元ほうれん草!J100-J$2","v":0.10700000000000001},{"$f":"元ほうれん草!K100-K$2","v":5.1999999999999998E-2},{"$f":"元ほうれん草!L100-L$2","v":0.01},{"$f":"元ほうれん草!M100-M$2","v":-2E-3},{"$f":"元ほうれん草!N100-N$2","v":-1E-3},{"$f":"元ほうれん草!O100-O$2","v":1.4E-2},{"$f":"元ほうれん草!P100-P$2","v":3.5000000000000003E-2}]
[397,{"$f":"元ほうれん草!B101-B$2","v":0.20500000000000002},{"$f":"元ほうれん草!C101-C$2","v":3.3000000000000002E-2},{"$f":"元ほうれん草!D101-D$2","v":0.19900000000000001},{"$f":"元ほうれん草!E101-E$2","v":0.52600000000000002},{"$f":"元ほうれん草!F101-F$2","v":0.61099999999999999},{"$f":"元ほうれん草!G101-G$2","v":0.182},{"$f":"元ほうれん草!H101-H$2","v":9.0999999999999998E-2},{"$f":"元ほうれん草!I101-I$2","v":0.13},{"$f":"元ほうれん草!J101-J$2","v":0.11},{"$f":"元ほうれん草!K101-K$2","v":5.3999999999999999E-2},{"$f":"元ほうれん草!L101-L$2","v":0.01},{"$f":"元ほうれん草!M101-M$2","v":-2E-3},{"$f":"元ほうれん草!N101-N$2","v":-1E-3},{"$f":"元ほうれん草!O101-O$2","v":1.4E-2},{"$f":"元ほうれん草!P101-P$2","v":3.5000000000000003E-2}]
[398,{"$f":"元ほうれん草!B102-B$2","v":0.20900000000000002},{"$f":"元ほうれん草!C102-C$2","v":3.5000000000000003E-2},{"$f":"元ほうれん草!D102-D$2","v":0.20299999999999999},{"$f":"元ほうれん草!E102-E$2","v":0.54600000000000004},{"$f":"元ほうれん草!F102-F$2","v":0.63400000000000001},{"$f":"元ほうれん草!G102-G$2","v":0.19},{"$f":"元ほうれん草!H102-H$2","v":9.4E-2},{"$f":"元ほうれん草!I102-I$2","v":0.13299999999999998},{"$f":"元ほうれん草!J102-J$2","v":0.112},{"$f":"元ほうれん草!K102-K$2","v":5.5E-2},{"$f":"元ほうれん草!L102-L$2","v":1.0999999999999999E-2},{"$f":"元ほうれん草!M102-M$2","v":-1E-3},{"$f":"元ほうれん草!N102-N$2","v":0},{"$f":"元ほうれん草!O102-O$2","v":1.5000000000000001E-2},{"$f":"元ほうれん草!P102-P$2","v":3.5999999999999997E-2}]
[399,{"$f":"元ほうれん草!B103-B$2","v":0.21200000000000002},{"$f":"元ほうれん草!C103-C$2","v":3.6000000000000004E-2},{"$f":"元ほうれん草!D103-D$2","v":0.20599999999999999},{"$f":"元ほうれん草!E103-E$2","v":0.56399999999999995},{"$f":"元ほうれん草!F103-F$2","v":0.65700000000000003},{"$f":"元ほうれん草!G103-G$2","v":0.19600000000000001},{"$f":"元ほうれん草!H103-H$2","v":9.5999999999999988E-2},{"$f":"元ほうれん草!I103-I$2","v":0.13599999999999998},{"$f":"元ほうれん草!J103-J$2","v":0.114},{"$f":"元ほうれん草!K103-K$2","v":5.6999999999999995E-2},{"$f":"元ほうれん草!L103-L$2","v":1.0999999999999999E-2},{"$f":"元ほうれん草!M103-M$2","v":0},{"$f":"元ほうれん草!N103-N$2","v":1E-3},{"$f":"元ほうれん草!O103-O$2","v":1.6E-2},{"$f":"元ほうれん草!P103-P$2","v":3.6999999999999998E-2}]
[400,{"$f":"元ほうれん草!B104-B$2","v":0.21600000000000003},{"$f":"元ほうれん草!C104-C$2","v":3.6000000000000004E-2},{"$f":"元ほうれん草!D104-D$2","v":0.20799999999999999},{"$f":"元ほうれん草!E104-E$2","v":0.58299999999999996},{"$f":"元ほうれん草!F104-F$2","v":0.68100000000000005},{"$f":"元ほうれん草!G104-G$2","v":0.20299999999999999},{"$f":"元ほうれん草!H104-H$2","v":9.8999999999999991E-2},{"$f":"元ほうれん草!I104-I$2","v":0.13899999999999998},{"$f":"元ほうれん草!J104-J$2","v":0.11700000000000001},{"$f":"元ほうれん草!K104-K$2","v":5.7999999999999996E-2},{"$f":"元ほうれん草!L104-L$2","v":1.0999999999999999E-2},{"$f":"元ほうれん草!M104-M$2","v":-1E-3},{"$f":"元ほうれん草!N104-N$2","v":1E-3},{"$f":"元ほうれん草!O104-O$2","v":1.6E-2},{"$f":"元ほうれん草!P104-P$2","v":3.7999999999999999E-2}]
[401,{"$f":"元ほうれん草!B105-B$2","v":0.22300000000000003},{"$f":"元ほうれん草!C105-C$2","v":3.6000000000000004E-2},{"$f":"元ほうれん草!D105-D$2","v":0.21199999999999999},{"$f":"元ほうれん草!E105-E$2","v":0.60699999999999998},{"$f":"元ほうれん草!F105-F$2","v":0.70899999999999996},{"$f":"元ほうれん草!G105-G$2","v":0.21099999999999999},{"$f":"元ほうれん草!H105-H$2","v":0.10199999999999999},{"$f":"元ほうれん草!I105-I$2","v":0.14099999999999999},{"$f":"元ほうれん草!J105-J$2","v":0.12100000000000001},{"$f":"元ほうれん草!K105-K$2","v":0.06},{"$f":"元ほうれん草!L105-L$2","v":1.2E-2},{"$f":"元ほうれん草!M105-M$2","v":-1E-3},{"$f":"元ほうれん草!N105-N$2","v":2E-3},{"$f":"元ほうれん草!O105-O$2","v":1.7000000000000001E-2},{"$f":"元ほうれん草!P105-P$2","v":3.7999999999999999E-2}]
[402,{"$f":"元ほうれん草!B106-B$2","v":0.22900000000000004},{"$f":"元ほうれん草!C106-C$2","v":3.7000000000000005E-2},{"$f":"元ほうれん草!D106-D$2","v":0.216},{"$f":"元ほうれん草!E106-E$2","v":0.63100000000000001},{"$f":"元ほうれん草!F106-F$2","v":0.73599999999999999},{"$f":"元ほうれん草!G106-G$2","v":0.219},{"$f":"元ほうれん草!H106-H$2","v":0.106},{"$f":"元ほうれん草!I106-I$2","v":0.14399999999999999},{"$f":"元ほうれん草!J106-J$2","v":0.12300000000000001},{"$f":"元ほうれん草!K106-K$2","v":6.0999999999999999E-2},{"$f":"元ほうれん草!L106-L$2","v":1.2999999999999999E-2},{"$f":"元ほうれん草!M106-M$2","v":1E-3},{"$f":"元ほうれん草!N106-N$2","v":2E-3},{"$f":"元ほうれん草!O106-O$2","v":1.7000000000000001E-2},{"$f":"元ほうれん草!P106-P$2","v":3.9E-2}]
[403,{"$f":"元ほうれん草!B107-B$2","v":0.23400000000000004},{"$f":"元ほうれん草!C107-C$2","v":3.8000000000000006E-2},{"$f":"元ほうれん草!D107-D$2","v":0.22},{"$f":"元ほうれん草!E107-E$2","v":0.65200000000000002},{"$f":"元ほうれん草!F107-F$2","v":0.76300000000000001},{"$f":"元ほうれん草!G107-G$2","v":0.22700000000000001},{"$f":"元ほうれん草!H107-H$2","v":0.11},{"$f":"元ほうれん草!I107-I$2","v":0.14899999999999999},{"$f":"元ほうれん草!J107-J$2","v":0.127},{"$f":"元ほうれん草!K107-K$2","v":6.3E-2},{"$f":"元ほうれん草!L107-L$2","v":1.4E-2},{"$f":"元ほうれん草!M107-M$2","v":1E-3},{"$f":"元ほうれん草!N107-N$2","v":2E-3},{"$f":"元ほうれん草!O107-O$2","v":1.8000000000000002E-2},{"$f":"元ほうれん草!P107-P$2","v":4.1000000000000002E-2}]
[404,{"$f":"元ほうれん草!B108-B$2","v":0.23800000000000004},{"$f":"元ほうれん草!C108-C$2","v":3.9E-2},{"$f":"元ほうれん草!D108-D$2","v":0.22500000000000001},{"$f":"元ほうれん草!E108-E$2","v":0.67},{"$f":"元ほうれん草!F108-F$2","v":0.78300000000000003},{"$f":"元ほうれん草!G108-G$2","v":0.23299999999999998},{"$f":"元ほうれん草!H108-H$2","v":0.11299999999999999},{"$f":"元ほうれん草!I108-I$2","v":0.153},{"$f":"元ほうれん草!J108-J$2","v":0.13200000000000001},{"$f":"元ほうれん草!K108-K$2","v":6.5000000000000002E-2},{"$f":"元ほうれん草!L108-L$2","v":1.5000000000000001E-2},{"$f":"元ほうれん草!M108-M$2","v":2E-3},{"$f":"元ほうれん草!N108-N$2","v":3.0000000000000001E-3},{"$f":"元ほうれん草!O108-O$2","v":1.9999999999999997E-2},{"$f":"元ほうれん草!P108-P$2","v":4.3000000000000003E-2}]
[405,{"$f":"元ほうれん草!B109-B$2","v":0.24200000000000005},{"$f":"元ほうれん草!C109-C$2","v":0.04},{"$f":"元ほうれん草!D109-D$2","v":0.22800000000000001},{"$f":"元ほうれん草!E109-E$2","v":0.68599999999999994},{"$f":"元ほうれん草!F109-F$2","v":0.8},{"$f":"元ほうれん草!G109-G$2","v":0.23899999999999999},{"$f":"元ほうれん草!H109-H$2","v":0.11599999999999999},{"$f":"元ほうれん草!I109-I$2","v":0.156},{"$f":"元ほうれん草!J109-J$2","v":0.13500000000000001},{"$f":"元ほうれん草!K109-K$2","v":6.7000000000000004E-2},{"$f":"元ほうれん草!L109-L$2","v":1.5000000000000001E-2},{"$f":"元ほうれん草!M109-M$2","v":1E-3},{"$f":"元ほうれん草!N109-N$2","v":3.0000000000000001E-3},{"$f":"元ほうれん草!O109-O$2","v":2.0999999999999998E-2},{"$f":"元ほうれん草!P109-P$2","v":4.4999999999999998E-2}]
[406,{"$f":"元ほうれん草!B110-B$2","v":0.24700000000000005},{"$f":"元ほうれん草!C110-C$2","v":4.2000000000000003E-2},{"$f":"元ほうれん草!D110-D$2","v":0.23200000000000001},{"$f":"元ほうれん草!E110-E$2","v":0.7},{"$f":"元ほうれん草!F110-F$2","v":0.81699999999999995},{"$f":"元ほうれん草!G110-G$2","v":0.24399999999999999},{"$f":"元ほうれん草!H110-H$2","v":0.11899999999999999},{"$f":"元ほうれん草!I110-I$2","v":0.161},{"$f":"元ほうれん草!J110-J$2","v":0.14000000000000001},{"$f":"元ほうれん草!K110-K$2","v":7.0000000000000007E-2},{"$f":"元ほうれん草!L110-L$2","v":1.6E-2},{"$f":"元ほうれん草!M110-M$2","v":2E-3},{"$f":"元ほうれん草!N110-N$2","v":4.0000000000000001E-3},{"$f":"元ほうれん草!O110-O$2","v":2.3E-2},{"$f":"元ほうれん草!P110-P$2","v":4.8000000000000001E-2}]
[407,{"$f":"元ほうれん草!B111-B$2","v":0.25600000000000006},{"$f":"元ほうれん草!C111-C$2","v":4.3000000000000003E-2},{"$f":"元ほうれん草!D111-D$2","v":0.23599999999999999},{"$f":"元ほうれん草!E111-E$2","v":0.71299999999999997},{"$f":"元ほうれん草!F111-F$2","v":0.83099999999999996},{"$f":"元ほうれん草!G111-G$2","v":0.248},{"$f":"元ほうれん草!H111-H$2","v":0.122},{"$f":"元ほうれん草!I111-I$2","v":0.16599999999999998},{"$f":"元ほうれん草!J111-J$2","v":0.14600000000000002},{"$f":"元ほうれん草!K111-K$2","v":7.3000000000000009E-2},{"$f":"元ほうれん草!L111-L$2","v":1.8000000000000002E-2},{"$f":"元ほうれん草!M111-M$2","v":3.0000000000000001E-3},{"$f":"元ほうれん草!N111-N$2","v":5.0000000000000001E-3},{"$f":"元ほうれん草!O111-O$2","v":2.5000000000000001E-2},{"$f":"元ほうれん草!P111-P$2","v":5.1000000000000004E-2}]
[408,{"$f":"元ほうれん草!B112-B$2","v":0.26400000000000007},{"$f":"元ほうれん草!C112-C$2","v":4.5000000000000005E-2},{"$f":"元ほうれん草!D112-D$2","v":0.24},{"$f":"元ほうれん草!E112-E$2","v":0.72199999999999998},{"$f":"元ほうれん草!F112-F$2","v":0.84399999999999997},{"$f":"元ほうれん草!G112-G$2","v":0.253},{"$f":"元ほうれん草!H112-H$2","v":0.126},{"$f":"元ほうれん草!I112-I$2","v":0.17199999999999999},{"$f":"元ほうれん草!J112-J$2","v":0.152},{"$f":"元ほうれん草!K112-K$2","v":7.5999999999999998E-2},{"$f":"元ほうれん草!L112-L$2","v":1.8000000000000002E-2},{"$f":"元ほうれん草!M112-M$2","v":3.0000000000000001E-3},{"$f":"元ほうれん草!N112-N$2","v":7.0000000000000001E-3},{"$f":"元ほうれん草!O112-O$2","v":2.6000000000000002E-2},{"$f":"元ほうれん草!P112-P$2","v":5.3999999999999999E-2}]
[409,{"$f":"元ほうれん草!B113-B$2","v":0.27200000000000008},{"$f":"元ほうれん草!C113-C$2","v":4.5999999999999999E-2},{"$f":"元ほうれん草!D113-D$2","v":0.24},{"$f":"元ほうれん草!E113-E$2","v":0.72799999999999998},{"$f":"元ほうれん草!F113-F$2","v":0.85099999999999998},{"$f":"元ほうれん草!G113-G$2","v":0.25800000000000001},{"$f":"元ほうれん草!H113-H$2","v":0.13100000000000001},{"$f":"元ほうれん草!I113-I$2","v":0.17799999999999999},{"$f":"元ほうれん草!J113-J$2","v":0.158},{"$f":"元ほうれん草!K113-K$2","v":7.9000000000000001E-2},{"$f":"元ほうれん草!L113-L$2","v":1.9000000000000003E-2},{"$f":"元ほうれん草!M113-M$2","v":3.0000000000000001E-3},{"$f":"元ほうれん草!N113-N$2","v":8.0000000000000002E-3},{"$f":"元ほうれん草!O113-O$2","v":2.8000000000000004E-2},{"$f":"元ほうれん草!P113-P$2","v":5.5E-2}]
[410,{"$f":"元ほうれん草!B114-B$2","v":0.27799999999999997},{"$f":"元ほうれん草!C114-C$2","v":4.7E-2},{"$f":"元ほうれん草!D114-D$2","v":0.24},{"$f":"元ほうれん草!E114-E$2","v":0.73},{"$f":"元ほうれん草!F114-F$2","v":0.85299999999999998},{"$f":"元ほうれん草!G114-G$2","v":0.26100000000000001},{"$f":"元ほうれん草!H114-H$2","v":0.13599999999999998},{"$f":"元ほうれん草!I114-I$2","v":0.184},{"$f":"元ほうれん草!J114-J$2","v":0.16400000000000001},{"$f":"元ほうれん草!K114-K$2","v":8.2000000000000003E-2},{"$f":"元ほうれん草!L114-L$2","v":1.9999999999999997E-2},{"$f":"元ほうれん草!M114-M$2","v":4.0000000000000001E-3},{"$f":"元ほうれん草!N114-N$2","v":9.0000000000000011E-3},{"$f":"元ほうれん草!O114-O$2","v":2.9000000000000005E-2},{"$f":"元ほうれん草!P114-P$2","v":5.7000000000000002E-2}]
[411,{"$f":"元ほうれん草!B115-B$2","v":0.28499999999999998},{"$f":"元ほうれん草!C115-C$2","v":4.8000000000000001E-2},{"$f":"元ほうれん草!D115-D$2","v":0.23899999999999999},{"$f":"元ほうれん草!E115-E$2","v":0.73},{"$f":"元ほうれん草!F115-F$2","v":0.85299999999999998},{"$f":"元ほうれん草!G115-G$2","v":0.26500000000000001},{"$f":"元ほうれん草!H115-H$2","v":0.13899999999999998},{"$f":"元ほうれん草!I115-I$2","v":0.19},{"$f":"元ほうれん草!J115-J$2","v":0.17},{"$f":"元ほうれん草!K115-K$2","v":8.7000000000000008E-2},{"$f":"元ほうれん草!L115-L$2","v":2.1999999999999999E-2},{"$f":"元ほうれん草!M115-M$2","v":5.0000000000000001E-3},{"$f":"元ほうれん草!N115-N$2","v":9.9999999999999985E-3},{"$f":"元ほうれん草!O115-O$2","v":3.1E-2},{"$f":"元ほうれん草!P115-P$2","v":6.0000000000000005E-2}]
[412,{"$f":"元ほうれん草!B116-B$2","v":0.29499999999999998},{"$f":"元ほうれん草!C116-C$2","v":4.9000000000000002E-2},{"$f":"元ほうれん草!D116-D$2","v":0.23499999999999999},{"$f":"元ほうれん草!E116-E$2","v":0.72699999999999998},{"$f":"元ほうれん草!F116-F$2","v":0.85},{"$f":"元ほうれん草!G116-G$2","v":0.26700000000000002},{"$f":"元ほうれん草!H116-H$2","v":0.14399999999999999},{"$f":"元ほうれん草!I116-I$2","v":0.19699999999999998},{"$f":"元ほうれん草!J116-J$2","v":0.17700000000000002},{"$f":"元ほうれん草!K116-K$2","v":9.0999999999999998E-2},{"$f":"元ほうれん草!L116-L$2","v":2.4E-2},{"$f":"元ほうれん草!M116-M$2","v":6.0000000000000001E-3},{"$f":"元ほうれん草!N116-N$2","v":1.0999999999999999E-2},{"$f":"元ほうれん草!O116-O$2","v":3.3000000000000002E-2},{"$f":"元ほうれん草!P116-P$2","v":6.3E-2}]
[413,{"$f":"元ほうれん草!B117-B$2","v":0.30499999999999999},{"$f":"元ほうれん草!C117-C$2","v":0.05},{"$f":"元ほうれん草!D117-D$2","v":0.22800000000000001},{"$f":"元ほうれん草!E117-E$2","v":0.72299999999999998},{"$f":"元ほうれん草!F117-F$2","v":0.84599999999999997},{"$f":"元ほうれん草!G117-G$2","v":0.27},{"$f":"元ほうれん草!H117-H$2","v":0.15},{"$f":"元ほうれん草!I117-I$2","v":0.20399999999999999},{"$f":"元ほうれん草!J117-J$2","v":0.183},{"$f":"元ほうれん草!K117-K$2","v":9.4E-2},{"$f":"元ほうれん草!L117-L$2","v":2.5000000000000001E-2},{"$f":"元ほうれん草!M117-M$2","v":7.0000000000000001E-3},{"$f":"元ほうれん草!N117-N$2","v":1.2E-2},{"$f":"元ほうれん草!O117-O$2","v":3.4000000000000002E-2},{"$f":"元ほうれん草!P117-P$2","v":6.3999999999999987E-2}]
[414,{"$f":"元ほうれん草!B118-B$2","v":0.317},{"$f":"元ほうれん草!C118-C$2","v":5.1000000000000004E-2},{"$f":"元ほうれん草!D118-D$2","v":0.221},{"$f":"元ほうれん草!E118-E$2","v":0.71699999999999997},{"$f":"元ほうれん草!F118-F$2","v":0.84199999999999997},{"$f":"元ほうれん草!G118-G$2","v":0.27400000000000002},{"$f":"元ほうれん草!H118-H$2","v":0.156},{"$f":"元ほうれん草!I118-I$2","v":0.21},{"$f":"元ほうれん草!J118-J$2","v":0.19},{"$f":"元ほうれん草!K118-K$2","v":9.7000000000000003E-2},{"$f":"元ほうれん草!L118-L$2","v":2.6000000000000002E-2},{"$f":"元ほうれん草!M118-M$2","v":7.0000000000000001E-3},{"$f":"元ほうれん草!N118-N$2","v":1.2E-2},{"$f":"元ほうれん草!O118-O$2","v":3.5000000000000003E-2},{"$f":"元ほうれん草!P118-P$2","v":6.4999999999999988E-2}]
[415,{"$f":"元ほうれん草!B119-B$2","v":0.32700000000000001},{"$f":"元ほうれん草!C119-C$2","v":5.2000000000000005E-2},{"$f":"元ほうれん草!D119-D$2","v":0.21199999999999999},{"$f":"元ほうれん草!E119-E$2","v":0.71399999999999997},{"$f":"元ほうれん草!F119-F$2","v":0.83899999999999997},{"$f":"元ほうれん草!G119-G$2","v":0.27799999999999997},{"$f":"元ほうれん草!H119-H$2","v":0.16200000000000001},{"$f":"元ほうれん草!I119-I$2","v":0.217},{"$f":"元ほうれん草!J119-J$2","v":0.19600000000000001},{"$f":"元ほうれん草!K119-K$2","v":0.1},{"$f":"元ほうれん草!L119-L$2","v":2.7000000000000003E-2},{"$f":"元ほうれん草!M119-M$2","v":8.0000000000000002E-3},{"$f":"元ほうれん草!N119-N$2","v":1.2E-2},{"$f":"元ほうれん草!O119-O$2","v":3.5000000000000003E-2},{"$f":"元ほうれん草!P119-P$2","v":6.5999999999999989E-2}]
[416,{"$f":"元ほうれん草!B120-B$2","v":0.33600000000000002},{"$f":"元ほうれん草!C120-C$2","v":5.3000000000000005E-2},{"$f":"元ほうれん草!D120-D$2","v":0.20299999999999999},{"$f":"元ほうれん草!E120-E$2","v":0.71099999999999997},{"$f":"元ほうれん草!F120-F$2","v":0.83899999999999997},{"$f":"元ほうれん草!G120-G$2","v":0.28399999999999997},{"$f":"元ほうれん草!H120-H$2","v":0.16899999999999998},{"$f":"元ほうれん草!I120-I$2","v":0.223},{"$f":"元ほうれん草!J120-J$2","v":0.20200000000000001},{"$f":"元ほうれん草!K120-K$2","v":0.10300000000000001},{"$f":"元ほうれん草!L120-L$2","v":2.7999999999999997E-2},{"$f":"元ほうれん草!M120-M$2","v":8.9999999999999993E-3},{"$f":"元ほうれん草!N120-N$2","v":1.3000000000000001E-2},{"$f":"元ほうれん草!O120-O$2","v":3.5000000000000003E-2},{"$f":"元ほうれん草!P120-P$2","v":6.5999999999999989E-2}]
[417,{"$f":"元ほうれん草!B121-B$2","v":0.34700000000000003},{"$f":"元ほうれん草!C121-C$2","v":5.3999999999999999E-2},{"$f":"元ほうれん草!D121-D$2","v":0.19400000000000001},{"$f":"元ほうれん草!E121-E$2","v":0.71099999999999997},{"$f":"元ほうれん草!F121-F$2","v":0.84099999999999997},{"$f":"元ほうれん草!G121-G$2","v":0.28899999999999998},{"$f":"元ほうれん草!H121-H$2","v":0.17799999999999999},{"$f":"元ほうれん草!I121-I$2","v":0.22999999999999998},{"$f":"元ほうれん草!J121-J$2","v":0.20700000000000002},{"$f":"元ほうれん草!K121-K$2","v":0.10600000000000001},{"$f":"元ほうれん草!L121-L$2","v":0.03},{"$f":"元ほうれん草!M121-M$2","v":0.01},{"$f":"元ほうれん草!N121-N$2","v":1.3999999999999999E-2},{"$f":"元ほうれん草!O121-O$2","v":3.6000000000000004E-2},{"$f":"元ほうれん草!P121-P$2","v":6.5999999999999989E-2}]
[418,{"$f":"元ほうれん草!B122-B$2","v":0.35700000000000004},{"$f":"元ほうれん草!C122-C$2","v":5.6000000000000001E-2},{"$f":"元ほうれん草!D122-D$2","v":0.184},{"$f":"元ほうれん草!E122-E$2","v":0.71499999999999997},{"$f":"元ほうれん草!F122-F$2","v":0.84799999999999998},{"$f":"元ほうれん草!G122-G$2","v":0.29799999999999999},{"$f":"元ほうれん草!H122-H$2","v":0.188},{"$f":"元ほうれん草!I122-I$2","v":0.23599999999999999},{"$f":"元ほうれん草!J122-J$2","v":0.21099999999999999},{"$f":"元ほうれん草!K122-K$2","v":0.108},{"$f":"元ほうれん草!L122-L$2","v":3.1E-2},{"$f":"元ほうれん草!M122-M$2","v":1.0999999999999999E-2},{"$f":"元ほうれん草!N122-N$2","v":1.3999999999999999E-2},{"$f":"元ほうれん草!O122-O$2","v":3.6000000000000004E-2},{"$f":"元ほうれん草!P122-P$2","v":6.5999999999999989E-2}]
[419,{"$f":"元ほうれん草!B123-B$2","v":0.36600000000000005},{"$f":"元ほうれん草!C123-C$2","v":5.6000000000000001E-2},{"$f":"元ほうれん草!D123-D$2","v":0.17199999999999999},{"$f":"元ほうれん草!E123-E$2","v":0.72399999999999998},{"$f":"元ほうれん草!F123-F$2","v":0.86199999999999999},{"$f":"元ほうれん草!G123-G$2","v":0.309},{"$f":"元ほうれん草!H123-H$2","v":0.19700000000000001},{"$f":"元ほうれん草!I123-I$2","v":0.24199999999999999},{"$f":"元ほうれん草!J123-J$2","v":0.215},{"$f":"元ほうれん草!K123-K$2","v":0.109},{"$f":"元ほうれん草!L123-L$2","v":3.1E-2},{"$f":"元ほうれん草!M123-M$2","v":0.01},{"$f":"元ほうれん草!N123-N$2","v":1.3999999999999999E-2},{"$f":"元ほうれん草!O123-O$2","v":3.6000000000000004E-2},{"$f":"元ほうれん草!P123-P$2","v":6.4999999999999988E-2}]
[420,{"$f":"元ほうれん草!B124-B$2","v":0.37600000000000006},{"$f":"元ほうれん草!C124-C$2","v":5.7000000000000002E-2},{"$f":"元ほうれん草!D124-D$2","v":0.16200000000000001},{"$f":"元ほうれん草!E124-E$2","v":0.73899999999999999},{"$f":"元ほうれん草!F124-F$2","v":0.88300000000000001},{"$f":"元ほうれん草!G124-G$2","v":0.32300000000000001},{"$f":"元ほうれん草!H124-H$2","v":0.20899999999999999},{"$f":"元ほうれん草!I124-I$2","v":0.249},{"$f":"元ほうれん草!J124-J$2","v":0.218},{"$f":"元ほうれん草!K124-K$2","v":0.111},{"$f":"元ほうれん草!L124-L$2","v":3.2000000000000001E-2},{"$f":"元ほうれん草!M124-M$2","v":0.01},{"$f":"元ほうれん草!N124-N$2","v":1.3999999999999999E-2},{"$f":"元ほうれん草!O124-O$2","v":3.6000000000000004E-2},{"$f":"元ほうれん草!P124-P$2","v":6.3999999999999987E-2}]
[421,{"$f":"元ほうれん草!B125-B$2","v":0.38100000000000006},{"$f":"元ほうれん草!C125-C$2","v":5.7000000000000002E-2},{"$f":"元ほうれん草!D125-D$2","v":0.153},{"$f":"元ほうれん草!E125-E$2","v":0.75800000000000001},{"$f":"元ほうれん草!F125-F$2","v":0.90900000000000003},{"$f":"元ほうれん草!G125-G$2","v":0.33699999999999997},{"$f":"元ほうれん草!H125-H$2","v":0.22},{"$f":"元ほうれん草!I125-I$2","v":0.254},{"$f":"元ほうれん草!J125-J$2","v":0.221},{"$f":"元ほうれん草!K125-K$2","v":0.112},{"$f":"元ほうれん草!L125-L$2","v":3.2000000000000001E-2},{"$f":"元ほうれん草!M125-M$2","v":1.0999999999999999E-2},{"$f":"元ほうれん草!N125-N$2","v":1.3999999999999999E-2},{"$f":"元ほうれん草!O125-O$2","v":3.6000000000000004E-2},{"$f":"元ほうれん草!P125-P$2","v":6.3999999999999987E-2}]
[422,{"$f":"元ほうれん草!B126-B$2","v":0.38400000000000006},{"$f":"元ほうれん草!C126-C$2","v":5.7000000000000002E-2},{"$f":"元ほうれん草!D126-D$2","v":0.14399999999999999},{"$f":"元ほうれん草!E126-E$2","v":0.77900000000000003},{"$f":"元ほうれん草!F126-F$2","v":0.93799999999999994},{"$f":"元ほうれん草!G126-G$2","v":0.35099999999999998},{"$f":"元ほうれん草!H126-H$2","v":0.22899999999999998},{"$f":"元ほうれん草!I126-I$2","v":0.25800000000000001},{"$f":"元ほうれん草!J126-J$2","v":0.223},{"$f":"元ほうれん草!K126-K$2","v":0.113},{"$f":"元ほうれん草!L126-L$2","v":3.2000000000000001E-2},{"$f":"元ほうれん草!M126-M$2","v":1.0999999999999999E-2},{"$f":"元ほうれん草!N126-N$2","v":1.3000000000000001E-2},{"$f":"元ほうれん草!O126-O$2","v":3.5000000000000003E-2},{"$f":"元ほうれん草!P126-P$2","v":6.3E-2}]
[423,{"$f":"元ほうれん草!B127-B$2","v":0.38800000000000007},{"$f":"元ほうれん草!C127-C$2","v":5.7000000000000002E-2},{"$f":"元ほうれん草!D127-D$2","v":0.13400000000000001},{"$f":"元ほうれん草!E127-E$2","v":0.80700000000000005},{"$f":"元ほうれん草!F127-F$2","v":0.97499999999999998},{"$f":"元ほうれん草!G127-G$2","v":0.37},{"$f":"元ほうれん草!H127-H$2","v":0.24},{"$f":"元ほうれん草!I127-I$2","v":0.26200000000000001},{"$f":"元ほうれん草!J127-J$2","v":0.224},{"$f":"元ほうれん草!K127-K$2","v":0.113},{"$f":"元ほうれん草!L127-L$2","v":3.2000000000000001E-2},{"$f":"元ほうれん草!M127-M$2","v":1.0999999999999999E-2},{"$f":"元ほうれん草!N127-N$2","v":1.2E-2},{"$f":"元ほうれん草!O127-O$2","v":3.3000000000000002E-2},{"$f":"元ほうれん草!P127-P$2","v":6.2000000000000006E-2}]
[424,{"$f":"元ほうれん草!B128-B$2","v":0.39400000000000007},{"$f":"元ほうれん草!C128-C$2","v":5.7000000000000002E-2},{"$f":"元ほうれん草!D128-D$2","v":0.127},{"$f":"元ほうれん草!E128-E$2","v":0.84399999999999997},{"$f":"元ほうれん草!F128-F$2","v":1.018},{"$f":"元ほうれん草!G128-G$2","v":0.39},{"$f":"元ほうれん草!H128-H$2","v":0.252},{"$f":"元ほうれん草!I128-I$2","v":0.26800000000000002},{"$f":"元ほうれん草!J128-J$2","v":0.22600000000000001},{"$f":"元ほうれん草!K128-K$2","v":0.114},{"$f":"元ほうれん草!L128-L$2","v":3.3000000000000002E-2},{"$f":"元ほうれん草!M128-M$2","v":1.0999999999999999E-2},{"$f":"元ほうれん草!N128-N$2","v":1.2E-2},{"$f":"元ほうれん草!O128-O$2","v":3.3000000000000002E-2},{"$f":"元ほうれん草!P128-P$2","v":6.2000000000000006E-2}]
[425,{"$f":"元ほうれん草!B129-B$2","v":0.39800000000000008},{"$f":"元ほうれん草!C129-C$2","v":5.9000000000000004E-2},{"$f":"元ほうれん草!D129-D$2","v":0.12},{"$f":"元ほうれん草!E129-E$2","v":0.88200000000000001},{"$f":"元ほうれん草!F129-F$2","v":1.0620000000000001},{"$f":"元ほうれん草!G129-G$2","v":0.41},{"$f":"元ほうれん草!H129-H$2","v":0.26400000000000001},{"$f":"元ほうれん草!I129-I$2","v":0.27299999999999996},{"$f":"元ほうれん草!J129-J$2","v":0.22700000000000001},{"$f":"元ほうれん草!K129-K$2","v":0.115},{"$f":"元ほうれん草!L129-L$2","v":3.3999999999999996E-2},{"$f":"元ほうれん草!M129-M$2","v":1.2E-2},{"$f":"元ほうれん草!N129-N$2","v":1.3000000000000001E-2},{"$f":"元ほうれん草!O129-O$2","v":3.4000000000000002E-2},{"$f":"元ほうれん草!P129-P$2","v":6.3E-2}]
[426,{"$f":"元ほうれん草!B130-B$2","v":0.40299999999999997},{"$f":"元ほうれん草!C130-C$2","v":6.0000000000000005E-2},{"$f":"元ほうれん草!D130-D$2","v":0.114},{"$f":"元ほうれん草!E130-E$2","v":0.91700000000000004},{"$f":"元ほうれん草!F130-F$2","v":1.105},{"$f":"元ほうれん草!G130-G$2","v":0.42899999999999999},{"$f":"元ほうれん草!H130-H$2","v":0.27400000000000002},{"$f":"元ほうれん草!I130-I$2","v":0.27699999999999997},{"$f":"元ほうれん草!J130-J$2","v":0.22900000000000001},{"$f":"元ほうれん草!K130-K$2","v":0.11700000000000001},{"$f":"元ほうれん草!L130-L$2","v":3.3999999999999996E-2},{"$f":"元ほうれん草!M130-M$2","v":1.2E-2},{"$f":"元ほうれん草!N130-N$2","v":1.4999999999999999E-2},{"$f":"元ほうれん草!O130-O$2","v":3.5000000000000003E-2},{"$f":"元ほうれん草!P130-P$2","v":6.3999999999999987E-2}]
[427,{"$f":"元ほうれん草!B131-B$2","v":0.40699999999999997},{"$f":"元ほうれん草!C131-C$2","v":5.9000000000000004E-2},{"$f":"元ほうれん草!D131-D$2","v":0.109},{"$f":"元ほうれん草!E131-E$2","v":0.94799999999999995},{"$f":"元ほうれん草!F131-F$2","v":1.139},{"$f":"元ほうれん草!G131-G$2","v":0.44600000000000001},{"$f":"元ほうれん草!H131-H$2","v":0.28199999999999997},{"$f":"元ほうれん草!I131-I$2","v":0.27999999999999997},{"$f":"元ほうれん草!J131-J$2","v":0.23200000000000001},{"$f":"元ほうれん草!K131-K$2","v":0.11800000000000001},{"$f":"元ほうれん草!L131-L$2","v":3.3999999999999996E-2},{"$f":"元ほうれん草!M131-M$2","v":1.2999999999999999E-2},{"$f":"元ほうれん草!N131-N$2","v":1.4999999999999999E-2},{"$f":"元ほうれん草!O131-O$2","v":3.6000000000000004E-2},{"$f":"元ほうれん草!P131-P$2","v":6.3999999999999987E-2}]
[428,{"$f":"元ほうれん草!B132-B$2","v":0.41},{"$f":"元ほうれん草!C132-C$2","v":5.8000000000000003E-2},{"$f":"元ほうれん草!D132-D$2","v":0.10299999999999999},{"$f":"元ほうれん草!E132-E$2","v":0.97399999999999998},{"$f":"元ほうれん草!F132-F$2","v":1.171},{"$f":"元ほうれん草!G132-G$2","v":0.45900000000000002},{"$f":"元ほうれん草!H132-H$2","v":0.28899999999999998},{"$f":"元ほうれん草!I132-I$2","v":0.28399999999999997},{"$f":"元ほうれん草!J132-J$2","v":0.23400000000000001},{"$f":"元ほうれん草!K132-K$2","v":0.11800000000000001},{"$f":"元ほうれん草!L132-L$2","v":3.3999999999999996E-2},{"$f":"元ほうれん草!M132-M$2","v":1.0999999999999999E-2},{"$f":"元ほうれん草!N132-N$2","v":1.3999999999999999E-2},{"$f":"元ほうれん草!O132-O$2","v":3.5000000000000003E-2},{"$f":"元ほうれん草!P132-P$2","v":6.4999999999999988E-2}]
[429,{"$f":"元ほうれん草!B133-B$2","v":0.41299999999999998},{"$f":"元ほうれん草!C133-C$2","v":5.8000000000000003E-2},{"$f":"元ほうれん草!D133-D$2","v":9.9000000000000005E-2},{"$f":"元ほうれん草!E133-E$2","v":0.99899999999999989},{"$f":"元ほうれん草!F133-F$2","v":1.204},{"$f":"元ほうれん草!G133-G$2","v":0.47},{"$f":"元ほうれん草!H133-H$2","v":0.29599999999999999},{"$f":"元ほうれん草!I133-I$2","v":0.28799999999999998},{"$f":"元ほうれん草!J133-J$2","v":0.23700000000000002},{"$f":"元ほうれん草!K133-K$2","v":0.11900000000000001},{"$f":"元ほうれん草!L133-L$2","v":3.4999999999999996E-2},{"$f":"元ほうれん草!M133-M$2","v":1.0999999999999999E-2},{"$f":"元ほうれん草!N133-N$2","v":1.4999999999999999E-2},{"$f":"元ほうれん草!O133-O$2","v":3.6999999999999998E-2},{"$f":"元ほうれん草!P133-P$2","v":6.7999999999999991E-2}]
[430,{"$f":"元ほうれん草!B134-B$2","v":0.41399999999999998},{"$f":"元ほうれん草!C134-C$2","v":5.9000000000000004E-2},{"$f":"元ほうれん草!D134-D$2","v":9.6000000000000002E-2},{"$f":"元ほうれん草!E134-E$2","v":1.012},{"$f":"元ほうれん草!F134-F$2","v":1.2190000000000001},{"$f":"元ほうれん草!G134-G$2","v":0.47599999999999998},{"$f":"元ほうれん草!H134-H$2","v":0.30099999999999999},{"$f":"元ほうれん草!I134-I$2","v":0.29199999999999998},{"$f":"元ほうれん草!J134-J$2","v":0.24099999999999999},{"$f":"元ほうれん草!K134-K$2","v":0.12100000000000001},{"$f":"元ほうれん草!L134-L$2","v":3.5999999999999997E-2},{"$f":"元ほうれん草!M134-M$2","v":1.2E-2},{"$f":"元ほうれん草!N134-N$2","v":1.4999999999999999E-2},{"$f":"元ほうれん草!O134-O$2","v":3.9E-2},{"$f":"元ほうれん草!P134-P$2","v":7.0999999999999994E-2}]
[431,{"$f":"元ほうれん草!B135-B$2","v":0.41699999999999998},{"$f":"元ほうれん草!C135-C$2","v":6.0000000000000005E-2},{"$f":"元ほうれん草!D135-D$2","v":9.2999999999999999E-2},{"$f":"元ほうれん草!E135-E$2","v":1.0069999999999999},{"$f":"元ほうれん草!F135-F$2","v":1.2110000000000001},{"$f":"元ほうれん草!G135-G$2","v":0.47699999999999998},{"$f":"元ほうれん草!H135-H$2","v":0.30399999999999999},{"$f":"元ほうれん草!I135-I$2","v":0.29599999999999999},{"$f":"元ほうれん草!J135-J$2","v":0.24399999999999999},{"$f":"元ほうれん草!K135-K$2","v":0.12200000000000001},{"$f":"元ほうれん草!L135-L$2","v":3.5999999999999997E-2},{"$f":"元ほうれん草!M135-M$2","v":1.2999999999999999E-2},{"$f":"元ほうれん草!N135-N$2","v":1.6E-2},{"$f":"元ほうれん草!O135-O$2","v":4.1000000000000002E-2},{"$f":"元ほうれん草!P135-P$2","v":7.3999999999999996E-2}]
[432,{"$f":"元ほうれん草!B136-B$2","v":0.41799999999999998},{"$f":"元ほうれん草!C136-C$2","v":5.9000000000000004E-2},{"$f":"元ほうれん草!D136-D$2","v":0.09},{"$f":"元ほうれん草!E136-E$2","v":0.99},{"$f":"元ほうれん草!F136-F$2","v":1.1839999999999999},{"$f":"元ほうれん草!G136-G$2","v":0.47199999999999998},{"$f":"元ほうれん草!H136-H$2","v":0.30399999999999999},{"$f":"元ほうれん草!I136-I$2","v":0.3},{"$f":"元ほうれん草!J136-J$2","v":0.249},{"$f":"元ほうれん草!K136-K$2","v":0.125},{"$f":"元ほうれん草!L136-L$2","v":3.6999999999999998E-2},{"$f":"元ほうれん草!M136-M$2","v":1.4E-2},{"$f":"元ほうれん草!N136-N$2","v":1.9E-2},{"$f":"元ほうれん草!O136-O$2","v":4.4000000000000004E-2},{"$f":"元ほうれん草!P136-P$2","v":7.6999999999999999E-2}]
[433,{"$f":"元ほうれん草!B137-B$2","v":0.41699999999999998},{"$f":"元ほうれん草!C137-C$2","v":5.9000000000000004E-2},{"$f":"元ほうれん草!D137-D$2","v":8.4999999999999992E-2},{"$f":"元ほうれん草!E137-E$2","v":0.95899999999999996},{"$f":"元ほうれん草!F137-F$2","v":1.145},{"$f":"元ほうれん草!G137-G$2","v":0.46299999999999997},{"$f":"元ほうれん草!H137-H$2","v":0.30299999999999999},{"$f":"元ほうれん草!I137-I$2","v":0.30399999999999999},{"$f":"元ほうれん草!J137-J$2","v":0.254},{"$f":"元ほうれん草!K137-K$2","v":0.128},{"$f":"元ほうれん草!L137-L$2","v":3.7999999999999999E-2},{"$f":"元ほうれん草!M137-M$2","v":1.2999999999999999E-2},{"$f":"元ほうれん草!N137-N$2","v":0.02},{"$f":"元ほうれん草!O137-O$2","v":4.5999999999999999E-2},{"$f":"元ほうれん草!P137-P$2","v":8.0999999999999989E-2}]
[434,{"$f":"元ほうれん草!B138-B$2","v":0.42},{"$f":"元ほうれん草!C138-C$2","v":6.0000000000000005E-2},{"$f":"元ほうれん草!D138-D$2","v":0.08},{"$f":"元ほうれん草!E138-E$2","v":0.91800000000000004},{"$f":"元ほうれん草!F138-F$2","v":1.099},{"$f":"元ほうれん草!G138-G$2","v":0.45100000000000001},{"$f":"元ほうれん草!H138-H$2","v":0.30199999999999999},{"$f":"元ほうれん草!I138-I$2","v":0.309},{"$f":"元ほうれん草!J138-J$2","v":0.26},{"$f":"元ほうれん草!K138-K$2","v":0.13100000000000001},{"$f":"元ほうれん草!L138-L$2","v":3.9E-2},{"$f":"元ほうれん草!M138-M$2","v":1.2999999999999999E-2},{"$f":"元ほうれん草!N138-N$2","v":0.02},{"$f":"元ほうれん草!O138-O$2","v":4.7E-2},{"$f":"元ほうれん草!P138-P$2","v":8.3999999999999991E-2}]
[435,{"$f":"元ほうれん草!B139-B$2","v":0.42399999999999999},{"$f":"元ほうれん草!C139-C$2","v":6.2E-2},{"$f":"元ほうれん草!D139-D$2","v":7.4999999999999997E-2},{"$f":"元ほうれん草!E139-E$2","v":0.86499999999999999},{"$f":"元ほうれん草!F139-F$2","v":1.04},{"$f":"元ほうれん草!G139-G$2","v":0.436},{"$f":"元ほうれん草!H139-H$2","v":0.30199999999999999},{"$f":"元ほうれん草!I139-I$2","v":0.314},{"$f":"元ほうれん草!J139-J$2","v":0.26700000000000002},{"$f":"元ほうれん草!K139-K$2","v":0.13500000000000001},{"$f":"元ほうれん草!L139-L$2","v":0.04},{"$f":"元ほうれん草!M139-M$2","v":1.4999999999999999E-2},{"$f":"元ほうれん草!N139-N$2","v":2.2000000000000002E-2},{"$f":"元ほうれん草!O139-O$2","v":0.05},{"$f":"元ほうれん草!P139-P$2","v":8.7999999999999995E-2}]
[436,{"$f":"元ほうれん草!B140-B$2","v":0.42899999999999999},{"$f":"元ほうれん草!C140-C$2","v":6.4000000000000001E-2},{"$f":"元ほうれん草!D140-D$2","v":7.0999999999999994E-2},{"$f":"元ほうれん草!E140-E$2","v":0.79500000000000004},{"$f":"元ほうれん草!F140-F$2","v":0.96099999999999997},{"$f":"元ほうれん草!G140-G$2","v":0.41699999999999998},{"$f":"元ほうれん草!H140-H$2","v":0.30099999999999999},{"$f":"元ほうれん草!I140-I$2","v":0.32100000000000001},{"$f":"元ほうれん草!J140-J$2","v":0.27300000000000002},{"$f":"元ほうれん草!K140-K$2","v":0.13900000000000001},{"$f":"元ほうれん草!L140-L$2","v":4.0999999999999995E-2},{"$f":"元ほうれん草!M140-M$2","v":1.6E-2},{"$f":"元ほうれん草!N140-N$2","v":2.3E-2},{"$f":"元ほうれん草!O140-O$2","v":5.2999999999999999E-2},{"$f":"元ほうれん草!P140-P$2","v":9.1999999999999998E-2}]
[437,{"$f":"元ほうれん草!B141-B$2","v":0.435},{"$f":"元ほうれん草!C141-C$2","v":6.4000000000000001E-2},{"$f":"元ほうれん草!D141-D$2","v":6.4000000000000001E-2},{"$f":"元ほうれん草!E141-E$2","v":0.71499999999999997},{"$f":"元ほうれん草!F141-F$2","v":0.86499999999999999},{"$f":"元ほうれん草!G141-G$2","v":0.39500000000000002},{"$f":"元ほうれん草!H141-H$2","v":0.30099999999999999},{"$f":"元ほうれん草!I141-I$2","v":0.32600000000000001},{"$f":"元ほうれん草!J141-J$2","v":0.28000000000000003},{"$f":"元ほうれん草!K141-K$2","v":0.14200000000000002},{"$f":"元ほうれん草!L141-L$2","v":4.1999999999999996E-2},{"$f":"元ほうれん草!M141-M$2","v":1.7000000000000001E-2},{"$f":"元ほうれん草!N141-N$2","v":2.3E-2},{"$f":"元ほうれん草!O141-O$2","v":5.3999999999999999E-2},{"$f":"元ほうれん草!P141-P$2","v":9.4E-2}]
[438,{"$f":"元ほうれん草!B142-B$2","v":0.443},{"$f":"元ほうれん草!C142-C$2","v":6.5000000000000002E-2},{"$f":"元ほうれん草!D142-D$2","v":5.7999999999999996E-2},{"$f":"元ほうれん草!E142-E$2","v":0.629},{"$f":"元ほうれん草!F142-F$2","v":0.76400000000000001},{"$f":"元ほうれん草!G142-G$2","v":0.371},{"$f":"元ほうれん草!H142-H$2","v":0.3},{"$f":"元ほうれん草!I142-I$2","v":0.33200000000000002},{"$f":"元ほうれん草!J142-J$2","v":0.28799999999999998},{"$f":"元ほうれん草!K142-K$2","v":0.14599999999999999},{"$f":"元ほうれん草!L142-L$2","v":4.2999999999999997E-2},{"$f":"元ほうれん草!M142-M$2","v":1.7999999999999999E-2},{"$f":"元ほうれん草!N142-N$2","v":2.4E-2},{"$f":"元ほうれん草!O142-O$2","v":5.5E-2},{"$f":"元ほうれん草!P142-P$2","v":9.4999999999999987E-2}]
[439,{"$f":"元ほうれん草!B143-B$2","v":0.45500000000000002},{"$f":"元ほうれん草!C143-C$2","v":6.7000000000000004E-2},{"$f":"元ほうれん草!D143-D$2","v":5.1999999999999998E-2},{"$f":"元ほうれん草!E143-E$2","v":0.54500000000000004},{"$f":"元ほうれん草!F143-F$2","v":0.66600000000000004},{"$f":"元ほうれん草!G143-G$2","v":0.35299999999999998},{"$f":"元ほうれん草!H143-H$2","v":0.30299999999999999},{"$f":"元ほうれん草!I143-I$2","v":0.33899999999999997},{"$f":"元ほうれん草!J143-J$2","v":0.29599999999999999},{"$f":"元ほうれん草!K143-K$2","v":0.151},{"$f":"元ほうれん草!L143-L$2","v":4.3999999999999997E-2},{"$f":"元ほうれん草!M143-M$2","v":1.7999999999999999E-2},{"$f":"元ほうれん草!N143-N$2","v":2.5000000000000001E-2},{"$f":"元ほうれん草!O143-O$2","v":5.7000000000000002E-2},{"$f":"元ほうれん草!P143-P$2","v":9.5999999999999988E-2}]
[440,{"$f":"元ほうれん草!B144-B$2","v":0.46800000000000003},{"$f":"元ほうれん草!C144-C$2","v":6.9000000000000006E-2},{"$f":"元ほうれん草!D144-D$2","v":4.8000000000000001E-2},{"$f":"元ほうれん草!E144-E$2","v":0.47},{"$f":"元ほうれん草!F144-F$2","v":0.58099999999999996},{"$f":"元ほうれん草!G144-G$2","v":0.33899999999999997},{"$f":"元ほうれん草!H144-H$2","v":0.309},{"$f":"元ほうれん草!I144-I$2","v":0.34499999999999997},{"$f":"元ほうれん草!J144-J$2","v":0.30199999999999999},{"$f":"元ほうれん草!K144-K$2","v":0.154},{"$f":"元ほうれん草!L144-L$2","v":4.5999999999999999E-2},{"$f":"元ほうれん草!M144-M$2","v":1.9E-2},{"$f":"元ほうれん草!N144-N$2","v":2.6000000000000002E-2},{"$f":"元ほうれん草!O144-O$2","v":5.8000000000000003E-2},{"$f":"元ほうれん草!P144-P$2","v":9.799999999999999E-2}]
[441,{"$f":"元ほうれん草!B145-B$2","v":0.47900000000000004},{"$f":"元ほうれん草!C145-C$2","v":7.0000000000000007E-2},{"$f":"元ほうれん草!D145-D$2","v":4.1999999999999996E-2},{"$f":"元ほうれん草!E145-E$2","v":0.40100000000000002},{"$f":"元ほうれん草!F145-F$2","v":0.502},{"$f":"元ほうれん草!G145-G$2","v":0.32800000000000001},{"$f":"元ほうれん草!H145-H$2","v":0.315},{"$f":"元ほうれん草!I145-I$2","v":0.35099999999999998},{"$f":"元ほうれん草!J145-J$2","v":0.308},{"$f":"元ほうれん草!K145-K$2","v":0.156},{"$f":"元ほうれん草!L145-L$2","v":4.7E-2},{"$f":"元ほうれん草!M145-M$2","v":1.9E-2},{"$f":"元ほうれん草!N145-N$2","v":2.5000000000000001E-2},{"$f":"元ほうれん草!O145-O$2","v":5.7000000000000002E-2},{"$f":"元ほうれん草!P145-P$2","v":9.6999999999999989E-2}]
[442,{"$f":"元ほうれん草!B146-B$2","v":0.49100000000000005},{"$f":"元ほうれん草!C146-C$2","v":7.1000000000000008E-2},{"$f":"元ほうれん草!D146-D$2","v":3.6999999999999998E-2},{"$f":"元ほうれん草!E146-E$2","v":0.33200000000000002},{"$f":"元ほうれん草!F146-F$2","v":0.42499999999999999},{"$f":"元ほうれん草!G146-G$2","v":0.32},{"$f":"元ほうれん草!H146-H$2","v":0.32500000000000001},{"$f":"元ほうれん草!I146-I$2","v":0.35799999999999998},{"$f":"元ほうれん草!J146-J$2","v":0.313},{"$f":"元ほうれん草!K146-K$2","v":0.158},{"$f":"元ほうれん草!L146-L$2","v":4.7E-2},{"$f":"元ほうれん草!M146-M$2","v":1.7999999999999999E-2},{"$f":"元ほうれん草!N146-N$2","v":2.4E-2},{"$f":"元ほうれん草!O146-O$2","v":5.7000000000000002E-2},{"$f":"元ほうれん草!P146-P$2","v":9.4999999999999987E-2}]
[443,{"$f":"元ほうれん草!B147-B$2","v":0.504},{"$f":"元ほうれん草!C147-C$2","v":7.3000000000000009E-2},{"$f":"元ほうれん草!D147-D$2","v":3.4000000000000002E-2},{"$f":"元ほうれん草!E147-E$2","v":0.27500000000000002},{"$f":"元ほうれん草!F147-F$2","v":0.36},{"$f":"元ほうれん草!G147-G$2","v":0.31900000000000001},{"$f":"元ほうれん草!H147-H$2","v":0.33899999999999997},{"$f":"元ほうれん草!I147-I$2","v":0.36699999999999999},{"$f":"元ほうれん草!J147-J$2","v":0.32},{"$f":"元ほうれん草!K147-K$2","v":0.16200000000000001},{"$f":"元ほうれん草!L147-L$2","v":4.8000000000000001E-2},{"$f":"元ほうれん草!M147-M$2","v":1.9E-2},{"$f":"元ほうれん草!N147-N$2","v":2.5000000000000001E-2},{"$f":"元ほうれん草!O147-O$2","v":5.6000000000000001E-2},{"$f":"元ほうれん草!P147-P$2","v":9.4999999999999987E-2}]
[444,{"$f":"元ほうれん草!B148-B$2","v":0.51300000000000012},{"$f":"元ほうれん草!C148-C$2","v":7.3999999999999996E-2},{"$f":"元ほうれん草!D148-D$2","v":3.1E-2},{"$f":"元ほうれん草!E148-E$2","v":0.22500000000000001},{"$f":"元ほうれん草!F148-F$2","v":0.30599999999999999},{"$f":"元ほうれん草!G148-G$2","v":0.32200000000000001},{"$f":"元ほうれん草!H148-H$2","v":0.35599999999999998},{"$f":"元ほうれん草!I148-I$2","v":0.378},{"$f":"元ほうれん草!J148-J$2","v":0.32400000000000001},{"$f":"元ほうれん草!K148-K$2","v":0.16400000000000001},{"$f":"元ほうれん草!L148-L$2","v":4.8999999999999995E-2},{"$f":"元ほうれん草!M148-M$2","v":1.9E-2},{"$f":"元ほうれん草!N148-N$2","v":2.4E-2},{"$f":"元ほうれん草!O148-O$2","v":5.5E-2},{"$f":"元ほうれん草!P148-P$2","v":9.2999999999999999E-2}]
[445,{"$f":"元ほうれん草!B149-B$2","v":0.52100000000000013},{"$f":"元ほうれん草!C149-C$2","v":7.4999999999999997E-2},{"$f":"元ほうれん草!D149-D$2","v":2.8000000000000001E-2},{"$f":"元ほうれん草!E149-E$2","v":0.182},{"$f":"元ほうれん草!F149-F$2","v":0.26100000000000001},{"$f":"元ほうれん草!G149-G$2","v":0.33},{"$f":"元ほうれん草!H149-H$2","v":0.376},{"$f":"元ほうれん草!I149-I$2","v":0.38800000000000001},{"$f":"元ほうれん草!J149-J$2","v":0.32600000000000001},{"$f":"元ほうれん草!K149-K$2","v":0.16500000000000001},{"$f":"元ほうれん草!L149-L$2","v":4.8999999999999995E-2},{"$f":"元ほうれん草!M149-M$2","v":0.02},{"$f":"元ほうれん草!N149-N$2","v":2.3E-2},{"$f":"元ほうれん草!O149-O$2","v":5.2999999999999999E-2},{"$f":"元ほうれん草!P149-P$2","v":0.09}]
[446,{"$f":"元ほうれん草!B150-B$2","v":0.52699999999999991},{"$f":"元ほうれん草!C150-C$2","v":7.4999999999999997E-2},{"$f":"元ほうれん草!D150-D$2","v":2.5999999999999999E-2},{"$f":"元ほうれん草!E150-E$2","v":0.14799999999999999},{"$f":"元ほうれん草!F150-F$2","v":0.22600000000000001},{"$f":"元ほうれん草!G150-G$2","v":0.34399999999999997},{"$f":"元ほうれん草!H150-H$2","v":0.39800000000000002},{"$f":"元ほうれん草!I150-I$2","v":0.39699999999999996},{"$f":"元ほうれん草!J150-J$2","v":0.32900000000000001},{"$f":"元ほうれん草!K150-K$2","v":0.16500000000000001},{"$f":"元ほうれん草!L150-L$2","v":4.9999999999999996E-2},{"$f":"元ほうれん草!M150-M$2","v":0.02},{"$f":"元ほうれん草!N150-N$2","v":2.3E-2},{"$f":"元ほうれん草!O150-O$2","v":5.1000000000000004E-2},{"$f":"元ほうれん草!P150-P$2","v":8.6999999999999994E-2}]
[447,{"$f":"元ほうれん草!B151-B$2","v":0.53400000000000003},{"$f":"元ほうれん草!C151-C$2","v":7.6999999999999999E-2},{"$f":"元ほうれん草!D151-D$2","v":2.4E-2},{"$f":"元ほうれん草!E151-E$2","v":0.121},{"$f":"元ほうれん草!F151-F$2","v":0.19999999999999998},{"$f":"元ほうれん草!G151-G$2","v":0.36199999999999999},{"$f":"元ほうれん草!H151-H$2","v":0.42299999999999999},{"$f":"元ほうれん草!I151-I$2","v":0.40499999999999997},{"$f":"元ほうれん草!J151-J$2","v":0.33100000000000002},{"$f":"元ほうれん草!K151-K$2","v":0.16600000000000001},{"$f":"元ほうれん草!L151-L$2","v":4.8999999999999995E-2},{"$f":"元ほうれん草!M151-M$2","v":0.02},{"$f":"元ほうれん草!N151-N$2","v":2.3E-2},{"$f":"元ほうれん草!O151-O$2","v":4.9000000000000002E-2},{"$f":"元ほうれん草!P151-P$2","v":8.4999999999999992E-2}]
[448,{"$f":"元ほうれん草!B152-B$2","v":0.53800000000000003},{"$f":"元ほうれん草!C152-C$2","v":7.6999999999999999E-2},{"$f":"元ほうれん草!D152-D$2","v":2.3E-2},{"$f":"元ほうれん草!E152-E$2","v":0.10099999999999999},{"$f":"元ほうれん草!F152-F$2","v":0.182},{"$f":"元ほうれん草!G152-G$2","v":0.379},{"$f":"元ほうれん草!H152-H$2","v":0.44700000000000001},{"$f":"元ほうれん草!I152-I$2","v":0.41399999999999998},{"$f":"元ほうれん草!J152-J$2","v":0.33100000000000002},{"$f":"元ほうれん草!K152-K$2","v":0.16500000000000001},{"$f":"元ほうれん草!L152-L$2","v":4.8999999999999995E-2},{"$f":"元ほうれん草!M152-M$2","v":1.9E-2},{"$f":"元ほうれん草!N152-N$2","v":2.1000000000000001E-2},{"$f":"元ほうれん草!O152-O$2","v":4.7E-2},{"$f":"元ほうれん草!P152-P$2","v":8.0999999999999989E-2}]
[449,{"$f":"元ほうれん草!B153-B$2","v":0.54099999999999993},{"$f":"元ほうれん草!C153-C$2","v":7.8E-2},{"$f":"元ほうれん草!D153-D$2","v":2.0999999999999998E-2},{"$f":"元ほうれん草!E153-E$2","v":8.3999999999999991E-2},{"$f":"元ほうれん草!F153-F$2","v":0.16899999999999998},{"$f":"元ほうれん草!G153-G$2","v":0.39999999999999997},{"$f":"元ほうれん草!H153-H$2","v":0.47099999999999997},{"$f":"元ほうれん草!I153-I$2","v":0.42199999999999999},{"$f":"元ほうれん草!J153-J$2","v":0.33100000000000002},{"$f":"元ほうれん草!K153-K$2","v":0.16400000000000001},{"$f":"元ほうれん草!L153-L$2","v":4.8999999999999995E-2},{"$f":"元ほうれん草!M153-M$2","v":1.9E-2},{"$f":"元ほうれん草!N153-N$2","v":0.02},{"$f":"元ほうれん草!O153-O$2","v":4.4999999999999998E-2},{"$f":"元ほうれん草!P153-P$2","v":7.8999999999999987E-2}]
[450,{"$f":"元ほうれん草!B154-B$2","v":0.54299999999999993},{"$f":"元ほうれん草!C154-C$2","v":7.9000000000000001E-2},{"$f":"元ほうれん草!D154-D$2","v":1.9E-2},{"$f":"元ほうれん草!E154-E$2","v":7.0999999999999994E-2},{"$f":"元ほうれん草!F154-F$2","v":0.159},{"$f":"元ほうれん草!G154-G$2","v":0.42299999999999999},{"$f":"元ほうれん草!H154-H$2","v":0.497},{"$f":"元ほうれん草!I154-I$2","v":0.42899999999999999},{"$f":"元ほうれん草!J154-J$2","v":0.33},{"$f":"元ほうれん草!K154-K$2","v":0.16200000000000001},{"$f":"元ほうれん草!L154-L$2","v":4.8999999999999995E-2},{"$f":"元ほうれん草!M154-M$2","v":1.9E-2},{"$f":"元ほうれん草!N154-N$2","v":0.02},{"$f":"元ほうれん草!O154-O$2","v":4.3000000000000003E-2},{"$f":"元ほうれん草!P154-P$2","v":7.5999999999999998E-2}]
[451,{"$f":"元ほうれん草!B155-B$2","v":0.54299999999999993},{"$f":"元ほうれん草!C155-C$2","v":7.9000000000000001E-2},{"$f":"元ほうれん草!D155-D$2","v":1.9E-2},{"$f":"元ほうれん草!E155-E$2","v":0.06},{"$f":"元ほうれん草!F155-F$2","v":0.153},{"$f":"元ほうれん草!G155-G$2","v":0.44500000000000001},{"$f":"元ほうれん草!H155-H$2","v":0.52100000000000002},{"$f":"元ほうれん草!I155-I$2","v":0.436},{"$f":"元ほうれん草!J155-J$2","v":0.32700000000000001},{"$f":"元ほうれん草!K155-K$2","v":0.161},{"$f":"元ほうれん草!L155-L$2","v":4.8999999999999995E-2},{"$f":"元ほうれん草!M155-M$2","v":1.9E-2},{"$f":"元ほうれん草!N155-N$2","v":1.9E-2},{"$f":"元ほうれん草!O155-O$2","v":4.2000000000000003E-2},{"$f":"元ほうれん草!P155-P$2","v":7.2999999999999995E-2}]
[452,{"$f":"元ほうれん草!B156-B$2","v":0.54200000000000004},{"$f":"元ほうれん草!C156-C$2","v":7.8E-2},{"$f":"元ほうれん草!D156-D$2","v":1.6999999999999998E-2},{"$f":"元ほうれん草!E156-E$2","v":4.9999999999999996E-2},{"$f":"元ほうれん草!F156-F$2","v":0.14699999999999999},{"$f":"元ほうれん草!G156-G$2","v":0.46299999999999997},{"$f":"元ほうれん草!H156-H$2","v":0.54100000000000004},{"$f":"元ほうれん草!I156-I$2","v":0.44},{"$f":"元ほうれん草!J156-J$2","v":0.32300000000000001},{"$f":"元ほうれん草!K156-K$2","v":0.157},{"$f":"元ほうれん草!L156-L$2","v":4.7E-2},{"$f":"元ほうれん草!M156-M$2","v":1.7999999999999999E-2},{"$f":"元ほうれん草!N156-N$2","v":1.8000000000000002E-2},{"$f":"元ほうれん草!O156-O$2","v":0.04},{"$f":"元ほうれん草!P156-P$2","v":6.8999999999999992E-2}]
[453,{"$f":"元ほうれん草!B157-B$2","v":0.53899999999999992},{"$f":"元ほうれん草!C157-C$2","v":7.8E-2},{"$f":"元ほうれん草!D157-D$2","v":1.6999999999999998E-2},{"$f":"元ほうれん草!E157-E$2","v":4.3999999999999997E-2},{"$f":"元ほうれん草!F157-F$2","v":0.14299999999999999},{"$f":"元ほうれん草!G157-G$2","v":0.48},{"$f":"元ほうれん草!H157-H$2","v":0.55699999999999994},{"$f":"元ほうれん草!I157-I$2","v":0.442},{"$f":"元ほうれん草!J157-J$2","v":0.31900000000000001},{"$f":"元ほうれん草!K157-K$2","v":0.155},{"$f":"元ほうれん草!L157-L$2","v":4.5999999999999999E-2},{"$f":"元ほうれん草!M157-M$2","v":1.7000000000000001E-2},{"$f":"元ほうれん草!N157-N$2","v":1.7000000000000001E-2},{"$f":"元ほうれん草!O157-O$2","v":3.7999999999999999E-2},{"$f":"元ほうれん草!P157-P$2","v":6.699999999999999E-2}]
[454,{"$f":"元ほうれん草!B158-B$2","v":0.53499999999999992},{"$f":"元ほうれん草!C158-C$2","v":7.6999999999999999E-2},{"$f":"元ほうれん草!D158-D$2","v":1.4999999999999999E-2},{"$f":"元ほうれん草!E158-E$2","v":3.7999999999999999E-2},{"$f":"元ほうれん草!F158-F$2","v":0.14099999999999999},{"$f":"元ほうれん草!G158-G$2","v":0.49099999999999999},{"$f":"元ほうれん草!H158-H$2","v":0.56899999999999995},{"$f":"元ほうれん草!I158-I$2","v":0.441},{"$f":"元ほうれん草!J158-J$2","v":0.314},{"$f":"元ほうれん草!K158-K$2","v":0.152},{"$f":"元ほうれん草!L158-L$2","v":4.5999999999999999E-2},{"$f":"元ほうれん草!M158-M$2","v":1.7000000000000001E-2},{"$f":"元ほうれん草!N158-N$2","v":1.7000000000000001E-2},{"$f":"元ほうれん草!O158-O$2","v":3.6000000000000004E-2},{"$f":"元ほうれん草!P158-P$2","v":6.3999999999999987E-2}]
[455,{"$f":"元ほうれん草!B159-B$2","v":0.53099999999999992},{"$f":"元ほうれん草!C159-C$2","v":7.6999999999999999E-2},{"$f":"元ほうれん草!D159-D$2","v":1.4999999999999999E-2},{"$f":"元ほうれん草!E159-E$2","v":3.3999999999999996E-2},{"$f":"元ほうれん草!F159-F$2","v":0.13899999999999998},{"$f":"元ほうれん草!G159-G$2","v":0.497},{"$f":"元ほうれん草!H159-H$2","v":0.57499999999999996},{"$f":"元ほうれん草!I159-I$2","v":0.439},{"$f":"元ほうれん草!J159-J$2","v":0.308},{"$f":"元ほうれん草!K159-K$2","v":0.14899999999999999},{"$f":"元ほうれん草!L159-L$2","v":4.4999999999999998E-2},{"$f":"元ほうれん草!M159-M$2","v":1.7000000000000001E-2},{"$f":"元ほうれん草!N159-N$2","v":1.7000000000000001E-2},{"$f":"元ほうれん草!O159-O$2","v":3.5000000000000003E-2},{"$f":"元ほうれん草!P159-P$2","v":6.2000000000000006E-2}]
[456,{"$f":"元ほうれん草!B160-B$2","v":0.52499999999999991},{"$f":"元ほうれん草!C160-C$2","v":7.6999999999999999E-2},{"$f":"元ほうれん草!D160-D$2","v":1.4999999999999999E-2},{"$f":"元ほうれん草!E160-E$2","v":3.1E-2},{"$f":"元ほうれん草!F160-F$2","v":0.13600000000000001},{"$f":"元ほうれん草!G160-G$2","v":0.497},{"$f":"元ほうれん草!H160-H$2","v":0.57299999999999995},{"$f":"元ほうれん草!I160-I$2","v":0.433},{"$f":"元ほうれん草!J160-J$2","v":0.30199999999999999},{"$f":"元ほうれん草!K160-K$2","v":0.14599999999999999},{"$f":"元ほうれん草!L160-L$2","v":4.2999999999999997E-2},{"$f":"元ほうれん草!M160-M$2","v":1.6E-2},{"$f":"元ほうれん草!N160-N$2","v":1.6E-2},{"$f":"元ほうれん草!O160-O$2","v":3.4000000000000002E-2},{"$f":"元ほうれん草!P160-P$2","v":6.2000000000000006E-2}]
[457,{"$f":"元ほうれん草!B161-B$2","v":0.51700000000000013},{"$f":"元ほうれん草!C161-C$2","v":7.5999999999999998E-2},{"$f":"元ほうれん草!D161-D$2","v":1.3999999999999999E-2},{"$f":"元ほうれん草!E161-E$2","v":2.7999999999999997E-2},{"$f":"元ほうれん草!F161-F$2","v":0.13200000000000001},{"$f":"元ほうれん草!G161-G$2","v":0.49199999999999999},{"$f":"元ほうれん草!H161-H$2","v":0.56799999999999995},{"$f":"元ほうれん草!I161-I$2","v":0.42599999999999999},{"$f":"元ほうれん草!J161-J$2","v":0.29699999999999999},{"$f":"元ほうれん草!K161-K$2","v":0.14200000000000002},{"$f":"元ほうれん草!L161-L$2","v":4.1999999999999996E-2},{"$f":"元ほうれん草!M161-M$2","v":1.4999999999999999E-2},{"$f":"元ほうれん草!N161-N$2","v":1.4999999999999999E-2},{"$f":"元ほうれん草!O161-O$2","v":3.4000000000000002E-2},{"$f":"元ほうれん草!P161-P$2","v":6.1000000000000006E-2}]
[458,{"$f":"元ほうれん草!B162-B$2","v":0.51},{"$f":"元ほうれん草!C162-C$2","v":7.3999999999999996E-2},{"$f":"元ほうれん草!D162-D$2","v":1.3999999999999999E-2},{"$f":"元ほうれん草!E162-E$2","v":2.6000000000000002E-2},{"$f":"元ほうれん草!F162-F$2","v":0.127},{"$f":"元ほうれん草!G162-G$2","v":0.48199999999999998},{"$f":"元ほうれん草!H162-H$2","v":0.55799999999999994},{"$f":"元ほうれん草!I162-I$2","v":0.41799999999999998},{"$f":"元ほうれん草!J162-J$2","v":0.28999999999999998},{"$f":"元ほうれん草!K162-K$2","v":0.13900000000000001},{"$f":"元ほうれん草!L162-L$2","v":0.04},{"$f":"元ほうれん草!M162-M$2","v":1.4E-2},{"$f":"元ほうれん草!N162-N$2","v":1.4999999999999999E-2},{"$f":"元ほうれん草!O162-O$2","v":3.4000000000000002E-2},{"$f":"元ほうれん草!P162-P$2","v":6.0000000000000005E-2}]
[459,{"$f":"元ほうれん草!B163-B$2","v":0.50600000000000001},{"$f":"元ほうれん草!C163-C$2","v":7.2000000000000008E-2},{"$f":"元ほうれん草!D163-D$2","v":1.3999999999999999E-2},{"$f":"元ほうれん草!E163-E$2","v":2.4E-2},{"$f":"元ほうれん草!F163-F$2","v":0.123},{"$f":"元ほうれん草!G163-G$2","v":0.46799999999999997},{"$f":"元ほうれん草!H163-H$2","v":0.54200000000000004},{"$f":"元ほうれん草!I163-I$2","v":0.41},{"$f":"元ほうれん草!J163-J$2","v":0.28400000000000003},{"$f":"元ほうれん草!K163-K$2","v":0.13700000000000001},{"$f":"元ほうれん草!L163-L$2","v":0.04},{"$f":"元ほうれん草!M163-M$2","v":1.4999999999999999E-2},{"$f":"元ほうれん草!N163-N$2","v":1.4999999999999999E-2},{"$f":"元ほうれん草!O163-O$2","v":3.5000000000000003E-2},{"$f":"元ほうれん草!P163-P$2","v":6.1000000000000006E-2}]
[460,{"$f":"元ほうれん草!B164-B$2","v":0.49900000000000005},{"$f":"元ほうれん草!C164-C$2","v":7.1000000000000008E-2},{"$f":"元ほうれん草!D164-D$2","v":1.3999999999999999E-2},{"$f":"元ほうれん草!E164-E$2","v":2.1999999999999999E-2},{"$f":"元ほうれん草!F164-F$2","v":0.11699999999999999},{"$f":"元ほうれん草!G164-G$2","v":0.45},{"$f":"元ほうれん草!H164-H$2","v":0.52200000000000002},{"$f":"元ほうれん草!I164-I$2","v":0.39899999999999997},{"$f":"元ほうれん草!J164-J$2","v":0.27900000000000003},{"$f":"元ほうれん草!K164-K$2","v":0.13400000000000001},{"$f":"元ほうれん草!L164-L$2","v":0.04},{"$f":"元ほうれん草!M164-M$2","v":1.4999999999999999E-2},{"$f":"元ほうれん草!N164-N$2","v":1.4999999999999999E-2},{"$f":"元ほうれん草!O164-O$2","v":3.6000000000000004E-2},{"$f":"元ほうれん草!P164-P$2","v":6.3E-2}]
[461,{"$f":"元ほうれん草!B165-B$2","v":0.49000000000000005},{"$f":"元ほうれん草!C165-C$2","v":7.1000000000000008E-2},{"$f":"元ほうれん草!D165-D$2","v":1.3999999999999999E-2},{"$f":"元ほうれん草!E165-E$2","v":2.0999999999999998E-2},{"$f":"元ほうれん草!F165-F$2","v":0.111},{"$f":"元ほうれん草!G165-G$2","v":0.42899999999999999},{"$f":"元ほうれん草!H165-H$2","v":0.5},{"$f":"元ほうれん草!I165-I$2","v":0.38900000000000001},{"$f":"元ほうれん草!J165-J$2","v":0.27400000000000002},{"$f":"元ほうれん草!K165-K$2","v":0.13200000000000001},{"$f":"元ほうれん草!L165-L$2","v":3.9E-2},{"$f":"元ほうれん草!M165-M$2","v":1.4E-2},{"$f":"元ほうれん草!N165-N$2","v":1.6E-2},{"$f":"元ほうれん草!O165-O$2","v":3.6999999999999998E-2},{"$f":"元ほうれん草!P165-P$2","v":6.5999999999999989E-2}]
[462,{"$f":"元ほうれん草!B166-B$2","v":0.47900000000000004},{"$f":"元ほうれん草!C166-C$2","v":6.8000000000000005E-2},{"$f":"元ほうれん草!D166-D$2","v":1.3000000000000001E-2},{"$f":"元ほうれん草!E166-E$2","v":1.9000000000000003E-2},{"$f":"元ほうれん草!F166-F$2","v":0.10299999999999999},{"$f":"元ほうれん草!G166-G$2","v":0.40299999999999997},{"$f":"元ほうれん草!H166-H$2","v":0.47199999999999998},{"$f":"元ほうれん草!I166-I$2","v":0.376},{"$f":"元ほうれん草!J166-J$2","v":0.27},{"$f":"元ほうれん草!K166-K$2","v":0.13},{"$f":"元ほうれん草!L166-L$2","v":3.6999999999999998E-2},{"$f":"元ほうれん草!M166-M$2","v":1.2999999999999999E-2},{"$f":"元ほうれん草!N166-N$2","v":1.6E-2},{"$f":"元ほうれん草!O166-O$2","v":3.7999999999999999E-2},{"$f":"元ほうれん草!P166-P$2","v":6.8999999999999992E-2}]
[463,{"$f":"元ほうれん草!B167-B$2","v":0.46900000000000003},{"$f":"元ほうれん草!C167-C$2","v":6.7000000000000004E-2},{"$f":"元ほうれん草!D167-D$2","v":1.2E-2},{"$f":"元ほうれん草!E167-E$2","v":1.8000000000000002E-2},{"$f":"元ほうれん草!F167-F$2","v":9.6000000000000002E-2},{"$f":"元ほうれん草!G167-G$2","v":0.375},{"$f":"元ほうれん草!H167-H$2","v":0.443},{"$f":"元ほうれん草!I167-I$2","v":0.36499999999999999},{"$f":"元ほうれん草!J167-J$2","v":0.26800000000000002},{"$f":"元ほうれん草!K167-K$2","v":0.129},{"$f":"元ほうれん草!L167-L$2","v":3.6999999999999998E-2},{"$f":"元ほうれん草!M167-M$2","v":1.2999999999999999E-2},{"$f":"元ほうれん草!N167-N$2","v":1.7000000000000001E-2},{"$f":"元ほうれん草!O167-O$2","v":0.04},{"$f":"元ほうれん草!P167-P$2","v":7.1999999999999995E-2}]
[464,{"$f":"元ほうれん草!B168-B$2","v":0.46400000000000002},{"$f":"元ほうれん草!C168-C$2","v":6.7000000000000004E-2},{"$f":"元ほうれん草!D168-D$2","v":1.3000000000000001E-2},{"$f":"元ほうれん草!E168-E$2","v":1.8000000000000002E-2},{"$f":"元ほうれん草!F168-F$2","v":0.09},{"$f":"元ほうれん草!G168-G$2","v":0.34799999999999998},{"$f":"元ほうれん草!H168-H$2","v":0.41499999999999998},{"$f":"元ほうれん草!I168-I$2","v":0.35499999999999998},{"$f":"元ほうれん草!J168-J$2","v":0.26900000000000002},{"$f":"元ほうれん草!K168-K$2","v":0.13100000000000001},{"$f":"元ほうれん草!L168-L$2","v":3.7999999999999999E-2},{"$f":"元ほうれん草!M168-M$2","v":1.4999999999999999E-2},{"$f":"元ほうれん草!N168-N$2","v":1.9E-2},{"$f":"元ほうれん草!O168-O$2","v":4.4000000000000004E-2},{"$f":"元ほうれん草!P168-P$2","v":7.8E-2}]
[465,{"$f":"元ほうれん草!B169-B$2","v":0.45900000000000002},{"$f":"元ほうれん草!C169-C$2","v":6.8000000000000005E-2},{"$f":"元ほうれん草!D169-D$2","v":1.3999999999999999E-2},{"$f":"元ほうれん草!E169-E$2","v":1.9000000000000003E-2},{"$f":"元ほうれん草!F169-F$2","v":8.3999999999999991E-2},{"$f":"元ほうれん草!G169-G$2","v":0.32600000000000001},{"$f":"元ほうれん草!H169-H$2","v":0.39200000000000002},{"$f":"元ほうれん草!I169-I$2","v":0.34699999999999998},{"$f":"元ほうれん草!J169-J$2","v":0.26900000000000002},{"$f":"元ほうれん草!K169-K$2","v":0.13300000000000001},{"$f":"元ほうれん草!L169-L$2","v":3.7999999999999999E-2},{"$f":"元ほうれん草!M169-M$2","v":1.4999999999999999E-2},{"$f":"元ほうれん草!N169-N$2","v":0.02},{"$f":"元ほうれん草!O169-O$2","v":4.7E-2},{"$f":"元ほうれん草!P169-P$2","v":8.199999999999999E-2}]
[466,{"$f":"元ほうれん草!B170-B$2","v":0.45400000000000001},{"$f":"元ほうれん草!C170-C$2","v":6.7000000000000004E-2},{"$f":"元ほうれん草!D170-D$2","v":1.3999999999999999E-2},{"$f":"元ほうれん草!E170-E$2","v":1.8000000000000002E-2},{"$f":"元ほうれん草!F170-F$2","v":7.6999999999999999E-2},{"$f":"元ほうれん草!G170-G$2","v":0.30099999999999999},{"$f":"元ほうれん草!H170-H$2","v":0.36799999999999999},{"$f":"元ほうれん草!I170-I$2","v":0.33999999999999997},{"$f":"元ほうれん草!J170-J$2","v":0.26900000000000002},{"$f":"元ほうれん草!K170-K$2","v":0.13300000000000001},{"$f":"元ほうれん草!L170-L$2","v":3.7999999999999999E-2},{"$f":"元ほうれん草!M170-M$2","v":1.4999999999999999E-2},{"$f":"元ほうれん草!N170-N$2","v":2.1000000000000001E-2},{"$f":"元ほうれん草!O170-O$2","v":4.9000000000000002E-2},{"$f":"元ほうれん草!P170-P$2","v":8.4999999999999992E-2}]
[467,{"$f":"元ほうれん草!B171-B$2","v":0.45500000000000002},{"$f":"元ほうれん草!C171-C$2","v":6.6000000000000003E-2},{"$f":"元ほうれん草!D171-D$2","v":1.3999999999999999E-2},{"$f":"元ほうれん草!E171-E$2","v":1.8000000000000002E-2},{"$f":"元ほうれん草!F171-F$2","v":6.9999999999999993E-2},{"$f":"元ほうれん草!G171-G$2","v":0.27200000000000002},{"$f":"元ほうれん草!H171-H$2","v":0.33999999999999997},{"$f":"元ほうれん草!I171-I$2","v":0.33300000000000002},{"$f":"元ほうれん草!J171-J$2","v":0.27200000000000002},{"$f":"元ほうれん草!K171-K$2","v":0.13500000000000001},{"$f":"元ほうれん草!L171-L$2","v":3.7999999999999999E-2},{"$f":"元ほうれん草!M171-M$2","v":1.4999999999999999E-2},{"$f":"元ほうれん草!N171-N$2","v":2.1000000000000001E-2},{"$f":"元ほうれん草!O171-O$2","v":5.1000000000000004E-2},{"$f":"元ほうれん草!P171-P$2","v":8.8999999999999996E-2}]
[468,{"$f":"元ほうれん草!B172-B$2","v":0.45700000000000002},{"$f":"元ほうれん草!C172-C$2","v":6.7000000000000004E-2},{"$f":"元ほうれん草!D172-D$2","v":1.3000000000000001E-2},{"$f":"元ほうれん草!E172-E$2","v":1.7000000000000001E-2},{"$f":"元ほうれん草!F172-F$2","v":6.5000000000000002E-2},{"$f":"元ほうれん草!G172-G$2","v":0.247},{"$f":"元ほうれん草!H172-H$2","v":0.314},{"$f":"元ほうれん草!I172-I$2","v":0.32500000000000001},{"$f":"元ほうれん草!J172-J$2","v":0.27400000000000002},{"$f":"元ほうれん草!K172-K$2","v":0.13700000000000001},{"$f":"元ほうれん草!L172-L$2","v":0.04},{"$f":"元ほうれん草!M172-M$2","v":1.6E-2},{"$f":"元ほうれん草!N172-N$2","v":2.3E-2},{"$f":"元ほうれん草!O172-O$2","v":5.3999999999999999E-2},{"$f":"元ほうれん草!P172-P$2","v":9.1999999999999998E-2}]
[469,{"$f":"元ほうれん草!B173-B$2","v":0.46100000000000002},{"$f":"元ほうれん草!C173-C$2","v":6.8000000000000005E-2},{"$f":"元ほうれん草!D173-D$2","v":1.3000000000000001E-2},{"$f":"元ほうれん草!E173-E$2","v":1.7000000000000001E-2},{"$f":"元ほうれん草!F173-F$2","v":5.8999999999999997E-2},{"$f":"元ほうれん草!G173-G$2","v":0.223},{"$f":"元ほうれん草!H173-H$2","v":0.28899999999999998},{"$f":"元ほうれん草!I173-I$2","v":0.318},{"$f":"元ほうれん草!J173-J$2","v":0.27600000000000002},{"$f":"元ほうれん草!K173-K$2","v":0.13900000000000001},{"$f":"元ほうれん草!L173-L$2","v":4.1999999999999996E-2},{"$f":"元ほうれん草!M173-M$2","v":1.7000000000000001E-2},{"$f":"元ほうれん草!N173-N$2","v":2.4E-2},{"$f":"元ほうれん草!O173-O$2","v":5.5E-2},{"$f":"元ほうれん草!P173-P$2","v":9.4999999999999987E-2}]
[470,{"$f":"元ほうれん草!B174-B$2","v":0.46600000000000003},{"$f":"元ほうれん草!C174-C$2","v":6.8000000000000005E-2},{"$f":"元ほうれん草!D174-D$2","v":1.3000000000000001E-2},{"$f":"元ほうれん草!E174-E$2","v":1.6E-2},{"$f":"元ほうれん草!F174-F$2","v":5.3000000000000005E-2},{"$f":"元ほうれん草!G174-G$2","v":0.19899999999999998},{"$f":"元ほうれん草!H174-H$2","v":0.26500000000000001},{"$f":"元ほうれん草!I174-I$2","v":0.311},{"$f":"元ほうれん草!J174-J$2","v":0.27700000000000002},{"$f":"元ほうれん草!K174-K$2","v":0.14100000000000001},{"$f":"元ほうれん草!L174-L$2","v":4.1999999999999996E-2},{"$f":"元ほうれん草!M174-M$2","v":1.7999999999999999E-2},{"$f":"元ほうれん草!N174-N$2","v":2.5000000000000001E-2},{"$f":"元ほうれん草!O174-O$2","v":5.5E-2},{"$f":"元ほうれん草!P174-P$2","v":9.4999999999999987E-2}]
[471,{"$f":"元ほうれん草!B175-B$2","v":0.47200000000000003},{"$f":"元ほうれん草!C175-C$2","v":6.9000000000000006E-2},{"$f":"元ほうれん草!D175-D$2","v":1.3999999999999999E-2},{"$f":"元ほうれん草!E175-E$2","v":1.6E-2},{"$f":"元ほうれん草!F175-F$2","v":4.7E-2},{"$f":"元ほうれん草!G175-G$2","v":0.17699999999999999},{"$f":"元ほうれん草!H175-H$2","v":0.24099999999999999},{"$f":"元ほうれん草!I175-I$2","v":0.30399999999999999},{"$f":"元ほうれん草!J175-J$2","v":0.27900000000000003},{"$f":"元ほうれん草!K175-K$2","v":0.14200000000000002},{"$f":"元ほうれん草!L175-L$2","v":4.1999999999999996E-2},{"$f":"元ほうれん草!M175-M$2","v":1.7999999999999999E-2},{"$f":"元ほうれん草!N175-N$2","v":2.4E-2},{"$f":"元ほうれん草!O175-O$2","v":5.5E-2},{"$f":"元ほうれん草!P175-P$2","v":9.4E-2}]
[472,{"$f":"元ほうれん草!B176-B$2","v":0.48000000000000004},{"$f":"元ほうれん草!C176-C$2","v":6.8000000000000005E-2},{"$f":"元ほうれん草!D176-D$2","v":1.3999999999999999E-2},{"$f":"元ほうれん草!E176-E$2","v":1.6E-2},{"$f":"元ほうれん草!F176-F$2","v":4.1999999999999996E-2},{"$f":"元ほうれん草!G176-G$2","v":0.156},{"$f":"元ほうれん草!H176-H$2","v":0.22},{"$f":"元ほうれん草!I176-I$2","v":0.29699999999999999},{"$f":"元ほうれん草!J176-J$2","v":0.27900000000000003},{"$f":"元ほうれん草!K176-K$2","v":0.14300000000000002},{"$f":"元ほうれん草!L176-L$2","v":4.1999999999999996E-2},{"$f":"元ほうれん草!M176-M$2","v":1.7999999999999999E-2},{"$f":"元ほうれん草!N176-N$2","v":2.3E-2},{"$f":"元ほうれん草!O176-O$2","v":5.3999999999999999E-2},{"$f":"元ほうれん草!P176-P$2","v":9.1999999999999998E-2}]
[473,{"$f":"元ほうれん草!B177-B$2","v":0.48700000000000004},{"$f":"元ほうれん草!C177-C$2","v":7.0000000000000007E-2},{"$f":"元ほうれん草!D177-D$2","v":1.4999999999999999E-2},{"$f":"元ほうれん草!E177-E$2","v":1.6E-2},{"$f":"元ほうれん草!F177-F$2","v":3.8000000000000006E-2},{"$f":"元ほうれん草!G177-G$2","v":0.13799999999999998},{"$f":"元ほうれん草!H177-H$2","v":0.19999999999999998},{"$f":"元ほうれん草!I177-I$2","v":0.28999999999999998},{"$f":"元ほうれん草!J177-J$2","v":0.27800000000000002},{"$f":"元ほうれん草!K177-K$2","v":0.14300000000000002},{"$f":"元ほうれん草!L177-L$2","v":4.2999999999999997E-2},{"$f":"元ほうれん草!M177-M$2","v":1.7999999999999999E-2},{"$f":"元ほうれん草!N177-N$2","v":2.3E-2},{"$f":"元ほうれん草!O177-O$2","v":5.2000000000000005E-2},{"$f":"元ほうれん草!P177-P$2","v":8.7999999999999995E-2}]
[474,{"$f":"元ほうれん草!B178-B$2","v":0.48800000000000004},{"$f":"元ほうれん草!C178-C$2","v":7.0000000000000007E-2},{"$f":"元ほうれん草!D178-D$2","v":1.3999999999999999E-2},{"$f":"元ほうれん草!E178-E$2","v":1.5000000000000001E-2},{"$f":"元ほうれん草!F178-F$2","v":3.4000000000000002E-2},{"$f":"元ほうれん草!G178-G$2","v":0.11899999999999999},{"$f":"元ほうれん草!H178-H$2","v":0.18099999999999999},{"$f":"元ほうれん草!I178-I$2","v":0.28199999999999997},{"$f":"元ほうれん草!J178-J$2","v":0.27500000000000002},{"$f":"元ほうれん草!K178-K$2","v":0.14100000000000001},{"$f":"元ほうれん草!L178-L$2","v":4.1999999999999996E-2},{"$f":"元ほうれん草!M178-M$2","v":1.7000000000000001E-2},{"$f":"元ほうれん草!N178-N$2","v":2.1000000000000001E-2},{"$f":"元ほうれん草!O178-O$2","v":4.9000000000000002E-2},{"$f":"元ほうれん草!P178-P$2","v":8.3999999999999991E-2}]
[475,{"$f":"元ほうれん草!B179-B$2","v":0.49000000000000005},{"$f":"元ほうれん草!C179-C$2","v":6.9000000000000006E-2},{"$f":"元ほうれん草!D179-D$2","v":1.3999999999999999E-2},{"$f":"元ほうれん草!E179-E$2","v":1.5000000000000001E-2},{"$f":"元ほうれん草!F179-F$2","v":3.0000000000000002E-2},{"$f":"元ほうれん草!G179-G$2","v":0.10299999999999999},{"$f":"元ほうれん草!H179-H$2","v":0.16500000000000001},{"$f":"元ほうれん草!I179-I$2","v":0.27199999999999996},{"$f":"元ほうれん草!J179-J$2","v":0.27},{"$f":"元ほうれん草!K179-K$2","v":0.13900000000000001},{"$f":"元ほうれん草!L179-L$2","v":0.04},{"$f":"元ほうれん草!M179-M$2","v":1.4999999999999999E-2},{"$f":"元ほうれん草!N179-N$2","v":0.02},{"$f":"元ほうれん草!O179-O$2","v":4.5999999999999999E-2},{"$f":"元ほうれん草!P179-P$2","v":7.8E-2}]
[476,{"$f":"元ほうれん草!B180-B$2","v":0.49400000000000005},{"$f":"元ほうれん草!C180-C$2","v":6.9000000000000006E-2},{"$f":"元ほうれん草!D180-D$2","v":1.3999999999999999E-2},{"$f":"元ほうれん草!E180-E$2","v":1.5000000000000001E-2},{"$f":"元ほうれん草!F180-F$2","v":2.8000000000000001E-2},{"$f":"元ほうれん草!G180-G$2","v":9.0999999999999998E-2},{"$f":"元ほうれん草!H180-H$2","v":0.151},{"$f":"元ほうれん草!I180-I$2","v":0.26300000000000001},{"$f":"元ほうれん草!J180-J$2","v":0.26500000000000001},{"$f":"元ほうれん草!K180-K$2","v":0.13700000000000001},{"$f":"元ほうれん草!L180-L$2","v":3.9E-2},{"$f":"元ほうれん草!M180-M$2","v":1.4999999999999999E-2},{"$f":"元ほうれん草!N180-N$2","v":1.8000000000000002E-2},{"$f":"元ほうれん草!O180-O$2","v":4.2000000000000003E-2},{"$f":"元ほうれん草!P180-P$2","v":7.2999999999999995E-2}]
[477,{"$f":"元ほうれん草!B181-B$2","v":0.49500000000000005},{"$f":"元ほうれん草!C181-C$2","v":7.0000000000000007E-2},{"$f":"元ほうれん草!D181-D$2","v":1.4999999999999999E-2},{"$f":"元ほうれん草!E181-E$2","v":1.5000000000000001E-2},{"$f":"元ほうれん草!F181-F$2","v":2.5000000000000001E-2},{"$f":"元ほうれん草!G181-G$2","v":8.0999999999999989E-2},{"$f":"元ほうれん草!H181-H$2","v":0.13799999999999998},{"$f":"元ほうれん草!I181-I$2","v":0.254},{"$f":"元ほうれん草!J181-J$2","v":0.25900000000000001},{"$f":"元ほうれん草!K181-K$2","v":0.13400000000000001},{"$f":"元ほうれん草!L181-L$2","v":3.9E-2},{"$f":"元ほうれん草!M181-M$2","v":1.4999999999999999E-2},{"$f":"元ほうれん草!N181-N$2","v":1.7000000000000001E-2},{"$f":"元ほうれん草!O181-O$2","v":3.9E-2},{"$f":"元ほうれん草!P181-P$2","v":6.7999999999999991E-2}]
[478,{"$f":"元ほうれん草!B182-B$2","v":0.49300000000000005},{"$f":"元ほうれん草!C182-C$2","v":7.1000000000000008E-2},{"$f":"元ほうれん草!D182-D$2","v":1.4999999999999999E-2},{"$f":"元ほうれん草!E182-E$2","v":1.5000000000000001E-2},{"$f":"元ほうれん草!F182-F$2","v":2.3E-2},{"$f":"元ほうれん草!G182-G$2","v":6.9999999999999993E-2},{"$f":"元ほうれん草!H182-H$2","v":0.125},{"$f":"元ほうれん草!I182-I$2","v":0.24299999999999999},{"$f":"元ほうれん草!J182-J$2","v":0.25},{"$f":"元ほうれん草!K182-K$2","v":0.13},{"$f":"元ほうれん草!L182-L$2","v":3.7999999999999999E-2},{"$f":"元ほうれん草!M182-M$2","v":1.2999999999999999E-2},{"$f":"元ほうれん草!N182-N$2","v":1.4999999999999999E-2},{"$f":"元ほうれん草!O182-O$2","v":3.4000000000000002E-2},{"$f":"元ほうれん草!P182-P$2","v":6.1000000000000006E-2}]
[479,{"$f":"元ほうれん草!B183-B$2","v":0.49200000000000005},{"$f":"元ほうれん草!C183-C$2","v":7.1000000000000008E-2},{"$f":"元ほうれん草!D183-D$2","v":1.3999999999999999E-2},{"$f":"元ほうれん草!E183-E$2","v":1.6E-2},{"$f":"元ほうれん草!F183-F$2","v":2.1000000000000001E-2},{"$f":"元ほうれん草!G183-G$2","v":6.0000000000000005E-2},{"$f":"元ほうれん草!H183-H$2","v":0.11199999999999999},{"$f":"元ほうれん草!I183-I$2","v":0.23199999999999998},{"$f":"元ほうれん草!J183-J$2","v":0.24000000000000002},{"$f":"元ほうれん草!K183-K$2","v":0.126},{"$f":"元ほうれん草!L183-L$2","v":3.5999999999999997E-2},{"$f":"元ほうれん草!M183-M$2","v":1.2999999999999999E-2},{"$f":"元ほうれん草!N183-N$2","v":1.3000000000000001E-2},{"$f":"元ほうれん草!O183-O$2","v":0.03},{"$f":"元ほうれん草!P183-P$2","v":5.5E-2}]
[480,{"$f":"元ほうれん草!B184-B$2","v":0.48800000000000004},{"$f":"元ほうれん草!C184-C$2","v":7.0000000000000007E-2},{"$f":"元ほうれん草!D184-D$2","v":1.3999999999999999E-2},{"$f":"元ほうれん草!E184-E$2","v":1.7000000000000001E-2},{"$f":"元ほうれん草!F184-F$2","v":1.9E-2},{"$f":"元ほうれん草!G184-G$2","v":5.2999999999999999E-2},{"$f":"元ほうれん草!H184-H$2","v":0.10199999999999999},{"$f":"元ほうれん草!I184-I$2","v":0.22},{"$f":"元ほうれん草!J184-J$2","v":0.22800000000000001},{"$f":"元ほうれん草!K184-K$2","v":0.12000000000000001},{"$f":"元ほうれん草!L184-L$2","v":3.3999999999999996E-2},{"$f":"元ほうれん草!M184-M$2","v":1.0999999999999999E-2},{"$f":"元ほうれん草!N184-N$2","v":1.0999999999999999E-2},{"$f":"元ほうれん草!O184-O$2","v":2.6000000000000002E-2},{"$f":"元ほうれん草!P184-P$2","v":4.8000000000000001E-2}]
[481,{"$f":"元ほうれん草!B185-B$2","v":0.48200000000000004},{"$f":"元ほうれん草!C185-C$2","v":6.8000000000000005E-2},{"$f":"元ほうれん草!D185-D$2","v":1.3000000000000001E-2},{"$f":"元ほうれん草!E185-E$2","v":1.6E-2},{"$f":"元ほうれん草!F185-F$2","v":1.7999999999999999E-2},{"$f":"元ほうれん草!G185-G$2","v":4.4999999999999998E-2},{"$f":"元ほうれん草!H185-H$2","v":9.1999999999999998E-2},{"$f":"元ほうれん草!I185-I$2","v":0.20699999999999999},{"$f":"元ほうれん草!J185-J$2","v":0.217},{"$f":"元ほうれん草!K185-K$2","v":0.113},{"$f":"元ほうれん草!L185-L$2","v":3.1E-2},{"$f":"元ほうれん草!M185-M$2","v":0.01},{"$f":"元ほうれん草!N185-N$2","v":8.0000000000000002E-3},{"$f":"元ほうれん草!O185-O$2","v":2.0999999999999998E-2},{"$f":"元ほうれん草!P185-P$2","v":4.2000000000000003E-2}]
[482,{"$f":"元ほうれん草!B186-B$2","v":0.47600000000000003},{"$f":"元ほうれん草!C186-C$2","v":6.8000000000000005E-2},{"$f":"元ほうれん草!D186-D$2","v":1.3000000000000001E-2},{"$f":"元ほうれん草!E186-E$2","v":1.7000000000000001E-2},{"$f":"元ほうれん草!F186-F$2","v":1.7999999999999999E-2},{"$f":"元ほうれん草!G186-G$2","v":3.9E-2},{"$f":"元ほうれん草!H186-H$2","v":8.299999999999999E-2},{"$f":"元ほうれん草!I186-I$2","v":0.19499999999999998},{"$f":"元ほうれん草!J186-J$2","v":0.20400000000000001},{"$f":"元ほうれん草!K186-K$2","v":0.107},{"$f":"元ほうれん草!L186-L$2","v":0.03},{"$f":"元ほうれん草!M186-M$2","v":8.9999999999999993E-3},{"$f":"元ほうれん草!N186-N$2","v":7.0000000000000001E-3},{"$f":"元ほうれん草!O186-O$2","v":1.8000000000000002E-2},{"$f":"元ほうれん草!P186-P$2","v":3.6999999999999998E-2}]
[483,{"$f":"元ほうれん草!B187-B$2","v":0.46800000000000003},{"$f":"元ほうれん草!C187-C$2","v":6.6000000000000003E-2},{"$f":"元ほうれん草!D187-D$2","v":1.3000000000000001E-2},{"$f":"元ほうれん草!E187-E$2","v":1.7000000000000001E-2},{"$f":"元ほうれん草!F187-F$2","v":1.7000000000000001E-2},{"$f":"元ほうれん草!G187-G$2","v":3.4000000000000002E-2},{"$f":"元ほうれん草!H187-H$2","v":7.3999999999999996E-2},{"$f":"元ほうれん草!I187-I$2","v":0.18099999999999999},{"$f":"元ほうれん草!J187-J$2","v":0.191},{"$f":"元ほうれん草!K187-K$2","v":0.1},{"$f":"元ほうれん草!L187-L$2","v":2.7000000000000003E-2},{"$f":"元ほうれん草!M187-M$2","v":7.0000000000000001E-3},{"$f":"元ほうれん草!N187-N$2","v":5.0000000000000001E-3},{"$f":"元ほうれん草!O187-O$2","v":1.5000000000000001E-2},{"$f":"元ほうれん草!P187-P$2","v":3.2000000000000001E-2}]
[484,{"$f":"元ほうれん草!B188-B$2","v":0.46},{"$f":"元ほうれん草!C188-C$2","v":6.4000000000000001E-2},{"$f":"元ほうれん草!D188-D$2","v":1.3000000000000001E-2},{"$f":"元ほうれん草!E188-E$2","v":1.7000000000000001E-2},{"$f":"元ほうれん草!F188-F$2","v":1.6E-2},{"$f":"元ほうれん草!G188-G$2","v":2.8999999999999998E-2},{"$f":"元ほうれん草!H188-H$2","v":6.5999999999999989E-2},{"$f":"元ほうれん草!I188-I$2","v":0.16799999999999998},{"$f":"元ほうれん草!J188-J$2","v":0.17700000000000002},{"$f":"元ほうれん草!K188-K$2","v":9.2999999999999999E-2},{"$f":"元ほうれん草!L188-L$2","v":2.5000000000000001E-2},{"$f":"元ほうれん草!M188-M$2","v":6.0000000000000001E-3},{"$f":"元ほうれん草!N188-N$2","v":3.0000000000000001E-3},{"$f":"元ほうれん草!O188-O$2","v":1.1999999999999999E-2},{"$f":"元ほうれん草!P188-P$2","v":2.8000000000000004E-2}]
[485,{"$f":"元ほうれん草!B189-B$2","v":0.44900000000000001},{"$f":"元ほうれん草!C189-C$2","v":6.2E-2},{"$f":"元ほうれん草!D189-D$2","v":1.3000000000000001E-2},{"$f":"元ほうれん草!E189-E$2","v":1.7000000000000001E-2},{"$f":"元ほうれん草!F189-F$2","v":1.6E-2},{"$f":"元ほうれん草!G189-G$2","v":2.5000000000000001E-2},{"$f":"元ほうれん草!H189-H$2","v":5.9000000000000004E-2},{"$f":"元ほうれん草!I189-I$2","v":0.155},{"$f":"元ほうれん草!J189-J$2","v":0.16300000000000001},{"$f":"元ほうれん草!K189-K$2","v":8.5000000000000006E-2},{"$f":"元ほうれん草!L189-L$2","v":2.1999999999999999E-2},{"$f":"元ほうれん草!M189-M$2","v":4.0000000000000001E-3},{"$f":"元ほうれん草!N189-N$2","v":1E-3},{"$f":"元ほうれん草!O189-O$2","v":8.9999999999999993E-3},{"$f":"元ほうれん草!P189-P$2","v":2.4E-2}]
[486,{"$f":"元ほうれん草!B190-B$2","v":0.435},{"$f":"元ほうれん草!C190-C$2","v":6.0000000000000005E-2},{"$f":"元ほうれん草!D190-D$2","v":1.3000000000000001E-2},{"$f":"元ほうれん草!E190-E$2","v":1.7000000000000001E-2},{"$f":"元ほうれん草!F190-F$2","v":1.4999999999999999E-2},{"$f":"元ほうれん草!G190-G$2","v":2.2000000000000002E-2},{"$f":"元ほうれん草!H190-H$2","v":5.2000000000000005E-2},{"$f":"元ほうれん草!I190-I$2","v":0.14299999999999999},{"$f":"元ほうれん草!J190-J$2","v":0.14899999999999999},{"$f":"元ほうれん草!K190-K$2","v":7.6999999999999999E-2},{"$f":"元ほうれん草!L190-L$2","v":1.9999999999999997E-2},{"$f":"元ほうれん草!M190-M$2","v":2E-3},{"$f":"元ほうれん草!N190-N$2","v":1E-3},{"$f":"元ほうれん草!O190-O$2","v":6.0000000000000001E-3},{"$f":"元ほうれん草!P190-P$2","v":0.02}]
[487,{"$f":"元ほうれん草!B191-B$2","v":0.41899999999999998},{"$f":"元ほうれん草!C191-C$2","v":5.8000000000000003E-2},{"$f":"元ほうれん草!D191-D$2","v":1.3000000000000001E-2},{"$f":"元ほうれん草!E191-E$2","v":1.7000000000000001E-2},{"$f":"元ほうれん草!F191-F$2","v":1.4999999999999999E-2},{"$f":"元ほうれん草!G191-G$2","v":0.02},{"$f":"元ほうれん草!H191-H$2","v":4.7E-2},{"$f":"元ほうれん草!I191-I$2","v":0.13199999999999998},{"$f":"元ほうれん草!J191-J$2","v":0.13700000000000001},{"$f":"元ほうれん草!K191-K$2","v":7.1000000000000008E-2},{"$f":"元ほうれん草!L191-L$2","v":1.8000000000000002E-2},{"$f":"元ほうれん草!M191-M$2","v":2E-3},{"$f":"元ほうれん草!N191-N$2","v":0},{"$f":"元ほうれん草!O191-O$2","v":4.9999999999999992E-3},{"$f":"元ほうれん草!P191-P$2","v":1.7000000000000001E-2}]
[488,{"$f":"元ほうれん草!B192-B$2","v":0.40299999999999997},{"$f":"元ほうれん草!C192-C$2","v":5.6000000000000001E-2},{"$f":"元ほうれん草!D192-D$2","v":1.3999999999999999E-2},{"$f":"元ほうれん草!E192-E$2","v":1.9000000000000003E-2},{"$f":"元ほうれん草!F192-F$2","v":1.6E-2},{"$f":"元ほうれん草!G192-G$2","v":1.8000000000000002E-2},{"$f":"元ほうれん草!H192-H$2","v":4.2000000000000003E-2},{"$f":"元ほうれん草!I192-I$2","v":0.12100000000000001},{"$f":"元ほうれん草!J192-J$2","v":0.125},{"$f":"元ほうれん草!K192-K$2","v":6.5000000000000002E-2},{"$f":"元ほうれん草!L192-L$2","v":1.6E-2},{"$f":"元ほうれん草!M192-M$2","v":1E-3},{"$f":"元ほうれん草!N192-N$2","v":-2E-3},{"$f":"元ほうれん草!O192-O$2","v":4.0000000000000001E-3},{"$f":"元ほうれん草!P192-P$2","v":1.6E-2}]
[489,{"$f":"元ほうれん草!B193-B$2","v":0.38600000000000007},{"$f":"元ほうれん草!C193-C$2","v":5.3000000000000005E-2},{"$f":"元ほうれん草!D193-D$2","v":1.3999999999999999E-2},{"$f":"元ほうれん草!E193-E$2","v":1.9000000000000003E-2},{"$f":"元ほうれん草!F193-F$2","v":1.6E-2},{"$f":"元ほうれん草!G193-G$2","v":1.6E-2},{"$f":"元ほうれん草!H193-H$2","v":3.6999999999999998E-2},{"$f":"元ほうれん草!I193-I$2","v":0.109},{"$f":"元ほうれん草!J193-J$2","v":0.113},{"$f":"元ほうれん草!K193-K$2","v":5.8999999999999997E-2},{"$f":"元ほうれん草!L193-L$2","v":1.2999999999999999E-2},{"$f":"元ほうれん草!M193-M$2","v":0},{"$f":"元ほうれん草!N193-N$2","v":-3.0000000000000001E-3},{"$f":"元ほうれん草!O193-O$2","v":2E-3},{"$f":"元ほうれん草!P193-P$2","v":1.4000000000000002E-2}]
[490,{"$f":"元ほうれん草!B194-B$2","v":0.36900000000000005},{"$f":"元ほうれん草!C194-C$2","v":5.1000000000000004E-2},{"$f":"元ほうれん草!D194-D$2","v":1.4999999999999999E-2},{"$f":"元ほうれん草!E194-E$2","v":1.9000000000000003E-2},{"$f":"元ほうれん草!F194-F$2","v":1.7000000000000001E-2},{"$f":"元ほうれん草!G194-G$2","v":1.4999999999999999E-2},{"$f":"元ほうれん草!H194-H$2","v":3.4000000000000002E-2},{"$f":"元ほうれん草!I194-I$2","v":0.1},{"$f":"元ほうれん草!J194-J$2","v":0.10300000000000001},{"$f":"元ほうれん草!K194-K$2","v":5.2999999999999999E-2},{"$f":"元ほうれん草!L194-L$2","v":1.2E-2},{"$f":"元ほうれん草!M194-M$2","v":-1E-3},{"$f":"元ほうれん草!N194-N$2","v":-3.0000000000000001E-3},{"$f":"元ほうれん草!O194-O$2","v":1E-3},{"$f":"元ほうれん草!P194-P$2","v":1.3000000000000001E-2}]
[491,{"$f":"元ほうれん草!B195-B$2","v":0.35300000000000004},{"$f":"元ほうれん草!C195-C$2","v":4.7E-2},{"$f":"元ほうれん草!D195-D$2","v":1.4999999999999999E-2},{"$f":"元ほうれん草!E195-E$2","v":1.9999999999999997E-2},{"$f":"元ほうれん草!F195-F$2","v":1.7000000000000001E-2},{"$f":"元ほうれん草!G195-G$2","v":1.4000000000000002E-2},{"$f":"元ほうれん草!H195-H$2","v":0.03},{"$f":"元ほうれん草!I195-I$2","v":9.1999999999999998E-2},{"$f":"元ほうれん草!J195-J$2","v":9.2999999999999999E-2},{"$f":"元ほうれん草!K195-K$2","v":4.7999999999999994E-2},{"$f":"元ほうれん草!L195-L$2","v":0.01},{"$f":"元ほうれん草!M195-M$2","v":-2E-3},{"$f":"元ほうれん草!N195-N$2","v":-4.0000000000000001E-3},{"$f":"元ほうれん草!O195-O$2","v":0},{"$f":"元ほうれん草!P195-P$2","v":1.2E-2}]
[492,{"$f":"元ほうれん草!B196-B$2","v":0.33400000000000002},{"$f":"元ほうれん草!C196-C$2","v":4.5000000000000005E-2},{"$f":"元ほうれん草!D196-D$2","v":1.6E-2},{"$f":"元ほうれん草!E196-E$2","v":1.9999999999999997E-2},{"$f":"元ほうれん草!F196-F$2","v":1.7000000000000001E-2},{"$f":"元ほうれん草!G196-G$2","v":1.3000000000000001E-2},{"$f":"元ほうれん草!H196-H$2","v":2.6000000000000002E-2},{"$f":"元ほうれん草!I196-I$2","v":8.3000000000000004E-2},{"$f":"元ほうれん草!J196-J$2","v":8.3000000000000004E-2},{"$f":"元ほうれん草!K196-K$2","v":4.1999999999999996E-2},{"$f":"元ほうれん草!L196-L$2","v":8.9999999999999993E-3},{"$f":"元ほうれん草!M196-M$2","v":-3.0000000000000001E-3},{"$f":"元ほうれん草!N196-N$2","v":-5.0000000000000001E-3},{"$f":"元ほうれん草!O196-O$2","v":0},{"$f":"元ほうれん草!P196-P$2","v":1.0999999999999999E-2}]
[493,{"$f":"元ほうれん草!B197-B$2","v":0.314},{"$f":"元ほうれん草!C197-C$2","v":4.2000000000000003E-2},{"$f":"元ほうれん草!D197-D$2","v":1.6E-2},{"$f":"元ほうれん草!E197-E$2","v":1.9999999999999997E-2},{"$f":"元ほうれん草!F197-F$2","v":1.6E-2},{"$f":"元ほうれん草!G197-G$2","v":1.2E-2},{"$f":"元ほうれん草!H197-H$2","v":2.4E-2},{"$f":"元ほうれん草!I197-I$2","v":7.5000000000000011E-2},{"$f":"元ほうれん草!J197-J$2","v":7.3000000000000009E-2},{"$f":"元ほうれん草!K197-K$2","v":3.6999999999999998E-2},{"$f":"元ほうれん草!L197-L$2","v":6.9999999999999993E-3},{"$f":"元ほうれん草!M197-M$2","v":-3.0000000000000001E-3},{"$f":"元ほうれん草!N197-N$2","v":-6.0000000000000001E-3},{"$f":"元ほうれん草!O197-O$2","v":-1E-3},{"$f":"元ほうれん草!P197-P$2","v":9.0000000000000011E-3}]
[494,{"$f":"元ほうれん草!B198-B$2","v":0.29599999999999999},{"$f":"元ほうれん草!C198-C$2","v":0.04},{"$f":"元ほうれん草!D198-D$2","v":1.6999999999999998E-2},{"$f":"元ほうれん草!E198-E$2","v":1.9999999999999997E-2},{"$f":"元ほうれん草!F198-F$2","v":1.7000000000000001E-2},{"$f":"元ほうれん草!G198-G$2","v":1.0999999999999999E-2},{"$f":"元ほうれん草!H198-H$2","v":2.0999999999999998E-2},{"$f":"元ほうれん草!I198-I$2","v":6.8000000000000005E-2},{"$f":"元ほうれん草!J198-J$2","v":6.6000000000000003E-2},{"$f":"元ほうれん草!K198-K$2","v":3.4000000000000002E-2},{"$f":"元ほうれん草!L198-L$2","v":6.0000000000000001E-3},{"$f":"元ほうれん草!M198-M$2","v":-4.0000000000000001E-3},{"$f":"元ほうれん草!N198-N$2","v":-5.0000000000000001E-3},{"$f":"元ほうれん草!O198-O$2","v":-2E-3},{"$f":"元ほうれん草!P198-P$2","v":1.0000000000000002E-2}]
[495,{"$f":"元ほうれん草!B199-B$2","v":0.27699999999999997},{"$f":"元ほうれん草!C199-C$2","v":3.7000000000000005E-2},{"$f":"元ほうれん草!D199-D$2","v":1.9E-2},{"$f":"元ほうれん草!E199-E$2","v":1.9999999999999997E-2},{"$f":"元ほうれん草!F199-F$2","v":1.7000000000000001E-2},{"$f":"元ほうれん草!G199-G$2","v":1.0999999999999999E-2},{"$f":"元ほうれん草!H199-H$2","v":1.9000000000000003E-2},{"$f":"元ほうれん草!I199-I$2","v":6.1999999999999993E-2},{"$f":"元ほうれん草!J199-J$2","v":5.8999999999999997E-2},{"$f":"元ほうれん草!K199-K$2","v":3.1E-2},{"$f":"元ほうれん草!L199-L$2","v":5.0000000000000001E-3},{"$f":"元ほうれん草!M199-M$2","v":-4.0000000000000001E-3},{"$f":"元ほうれん草!N199-N$2","v":-6.0000000000000001E-3},{"$f":"元ほうれん草!O199-O$2","v":-2E-3},{"$f":"元ほうれん草!P199-P$2","v":9.0000000000000011E-3}]
[496,{"$f":"元ほうれん草!B200-B$2","v":0.25700000000000006},{"$f":"元ほうれん草!C200-C$2","v":3.3000000000000002E-2},{"$f":"元ほうれん草!D200-D$2","v":1.9E-2},{"$f":"元ほうれん草!E200-E$2","v":1.9000000000000003E-2},{"$f":"元ほうれん草!F200-F$2","v":1.7000000000000001E-2},{"$f":"元ほうれん草!G200-G$2","v":1.0000000000000002E-2},{"$f":"元ほうれん草!H200-H$2","v":1.6E-2},{"$f":"元ほうれん草!I200-I$2","v":5.6000000000000001E-2},{"$f":"元ほうれん草!J200-J$2","v":5.1999999999999998E-2},{"$f":"元ほうれん草!K200-K$2","v":2.6000000000000002E-2},{"$f":"元ほうれん草!L200-L$2","v":2E-3},{"$f":"元ほうれん草!M200-M$2","v":-4.0000000000000001E-3},{"$f":"元ほうれん草!N200-N$2","v":-7.0000000000000001E-3},{"$f":"元ほうれん草!O200-O$2","v":-3.0000000000000001E-3},{"$f":"元ほうれん草!P200-P$2","v":8.0000000000000002E-3}]
[497,{"$f":"元ほうれん草!B201-B$2","v":0.23800000000000004},{"$f":"元ほうれん草!C201-C$2","v":0.03},{"$f":"元ほうれん草!D201-D$2","v":0.02},{"$f":"元ほうれん草!E201-E$2","v":1.9000000000000003E-2},{"$f":"元ほうれん草!F201-F$2","v":1.7000000000000001E-2},{"$f":"元ほうれん草!G201-G$2","v":9.0000000000000011E-3},{"$f":"元ほうれん草!H201-H$2","v":1.5000000000000001E-2},{"$f":"元ほうれん草!I201-I$2","v":5.0999999999999997E-2},{"$f":"元ほうれん草!J201-J$2","v":4.5999999999999999E-2},{"$f":"元ほうれん草!K201-K$2","v":2.3E-2},{"$f":"元ほうれん草!L201-L$2","v":1E-3},{"$f":"元ほうれん草!M201-M$2","v":-5.0000000000000001E-3},{"$f":"元ほうれん草!N201-N$2","v":-7.0000000000000001E-3},{"$f":"元ほうれん草!O201-O$2","v":-3.0000000000000001E-3},{"$f":"元ほうれん草!P201-P$2","v":7.0000000000000001E-3}]
[498,{"$f":"元ほうれん草!B202-B$2","v":0.22100000000000003},{"$f":"元ほうれん草!C202-C$2","v":2.8000000000000001E-2},{"$f":"元ほうれん草!D202-D$2","v":2.0999999999999998E-2},{"$f":"元ほうれん草!E202-E$2","v":1.9999999999999997E-2},{"$f":"元ほうれん草!F202-F$2","v":1.7000000000000001E-2},{"$f":"元ほうれん草!G202-G$2","v":9.0000000000000011E-3},{"$f":"元ほうれん草!H202-H$2","v":1.4E-2},{"$f":"元ほうれん草!I202-I$2","v":4.7E-2},{"$f":"元ほうれん草!J202-J$2","v":4.1999999999999996E-2},{"$f":"元ほうれん草!K202-K$2","v":2.1000000000000001E-2},{"$f":"元ほうれん草!L202-L$2","v":1E-3},{"$f":"元ほうれん草!M202-M$2","v":-5.0000000000000001E-3},{"$f":"元ほうれん草!N202-N$2","v":-7.0000000000000001E-3},{"$f":"元ほうれん草!O202-O$2","v":-2E-3},{"$f":"元ほうれん草!P202-P$2","v":7.0000000000000001E-3}]
[499,{"$f":"元ほうれん草!B203-B$2","v":0.20400000000000001},{"$f":"元ほうれん草!C203-C$2","v":2.5999999999999999E-2},{"$f":"元ほうれん草!D203-D$2","v":2.0999999999999998E-2},{"$f":"元ほうれん草!E203-E$2","v":1.9999999999999997E-2},{"$f":"元ほうれん草!F203-F$2","v":1.7000000000000001E-2},{"$f":"元ほうれん草!G203-G$2","v":9.0000000000000011E-3},{"$f":"元ほうれん草!H203-H$2","v":1.1999999999999999E-2},{"$f":"元ほうれん草!I203-I$2","v":4.1999999999999996E-2},{"$f":"元ほうれん草!J203-J$2","v":3.6999999999999998E-2},{"$f":"元ほうれん草!K203-K$2","v":1.7999999999999999E-2},{"$f":"元ほうれん草!L203-L$2","v":1E-3},{"$f":"元ほうれん草!M203-M$2","v":-6.0000000000000001E-3},{"$f":"元ほうれん草!N203-N$2","v":-7.0000000000000001E-3},{"$f":"元ほうれん草!O203-O$2","v":-3.0000000000000001E-3},{"$f":"元ほうれん草!P203-P$2","v":7.0000000000000001E-3}]
[500,{"$f":"元ほうれん草!B204-B$2","v":0.188},{"$f":"元ほうれん草!C204-C$2","v":2.4E-2},{"$f":"元ほうれん草!D204-D$2","v":2.1999999999999999E-2},{"$f":"元ほうれん草!E204-E$2","v":2.0999999999999998E-2},{"$f":"元ほうれん草!F204-F$2","v":1.7000000000000001E-2},{"$f":"元ほうれん草!G204-G$2","v":8.0000000000000002E-3},{"$f":"元ほうれん草!H204-H$2","v":1.1000000000000001E-2},{"$f":"元ほうれん草!I204-I$2","v":3.9E-2},{"$f":"元ほうれん草!J204-J$2","v":3.3000000000000002E-2},{"$f":"元ほうれん草!K204-K$2","v":1.6E-2},{"$f":"元ほうれん草!L204-L$2","v":0},{"$f":"元ほうれん草!M204-M$2","v":-6.0000000000000001E-3},{"$f":"元ほうれん草!N204-N$2","v":-7.0000000000000001E-3},{"$f":"元ほうれん草!O204-O$2","v":-3.0000000000000001E-3},{"$f":"元ほうれん草!P204-P$2","v":5.9999999999999993E-3}]
[501,{"$f":"元ほうれん草!B205-B$2","v":0.17200000000000004},{"$f":"元ほうれん草!C205-C$2","v":2.0999999999999998E-2},{"$f":"元ほうれん草!D205-D$2","v":2.1999999999999999E-2},{"$f":"元ほうれん草!E205-E$2","v":2.0999999999999998E-2},{"$f":"元ほうれん草!F205-F$2","v":1.7000000000000001E-2},{"$f":"元ほうれん草!G205-G$2","v":9.0000000000000011E-3},{"$f":"元ほうれん草!H205-H$2","v":0.01},{"$f":"元ほうれん草!I205-I$2","v":3.5999999999999997E-2},{"$f":"元ほうれん草!J205-J$2","v":2.8999999999999998E-2},{"$f":"元ほうれん草!K205-K$2","v":1.4999999999999999E-2},{"$f":"元ほうれん草!L205-L$2","v":0},{"$f":"元ほうれん草!M205-M$2","v":-6.0000000000000001E-3},{"$f":"元ほうれん草!N205-N$2","v":-7.0000000000000001E-3},{"$f":"元ほうれん草!O205-O$2","v":-3.0000000000000001E-3},{"$f":"元ほうれん草!P205-P$2","v":7.0000000000000001E-3}]
[502,{"$f":"元ほうれん草!B206-B$2","v":0.15800000000000003},{"$f":"元ほうれん草!C206-C$2","v":1.9E-2},{"$f":"元ほうれん草!D206-D$2","v":2.1999999999999999E-2},{"$f":"元ほうれん草!E206-E$2","v":1.9999999999999997E-2},{"$f":"元ほうれん草!F206-F$2","v":1.7000000000000001E-2},{"$f":"元ほうれん草!G206-G$2","v":9.0000000000000011E-3},{"$f":"元ほうれん草!H206-H$2","v":8.9999999999999993E-3},{"$f":"元ほうれん草!I206-I$2","v":3.3999999999999996E-2},{"$f":"元ほうれん草!J206-J$2","v":2.6000000000000002E-2},{"$f":"元ほうれん草!K206-K$2","v":1.3000000000000001E-2},{"$f":"元ほうれん草!L206-L$2","v":-1E-3},{"$f":"元ほうれん草!M206-M$2","v":-7.0000000000000001E-3},{"$f":"元ほうれん草!N206-N$2","v":-8.0000000000000002E-3},{"$f":"元ほうれん草!O206-O$2","v":-3.0000000000000001E-3},{"$f":"元ほうれん草!P206-P$2","v":5.9999999999999993E-3}]
[503,{"$f":"元ほうれん草!B207-B$2","v":0.14500000000000002},{"$f":"元ほうれん草!C207-C$2","v":1.7000000000000001E-2},{"$f":"元ほうれん草!D207-D$2","v":2.1999999999999999E-2},{"$f":"元ほうれん草!E207-E$2","v":1.9999999999999997E-2},{"$f":"元ほうれん草!F207-F$2","v":1.7000000000000001E-2},{"$f":"元ほうれん草!G207-G$2","v":8.0000000000000002E-3},{"$f":"元ほうれん草!H207-H$2","v":8.0000000000000002E-3},{"$f":"元ほうれん草!I207-I$2","v":3.1E-2},{"$f":"元ほうれん草!J207-J$2","v":2.3E-2},{"$f":"元ほうれん草!K207-K$2","v":1.0999999999999999E-2},{"$f":"元ほうれん草!L207-L$2","v":-1E-3},{"$f":"元ほうれん草!M207-M$2","v":-7.0000000000000001E-3},{"$f":"元ほうれん草!N207-N$2","v":-8.0000000000000002E-3},{"$f":"元ほうれん草!O207-O$2","v":-3.0000000000000001E-3},{"$f":"元ほうれん草!P207-P$2","v":5.9999999999999993E-3}]
[504,{"$f":"元ほうれん草!B208-B$2","v":0.13200000000000001},{"$f":"元ほうれん草!C208-C$2","v":1.6E-2},{"$f":"元ほうれん草!D208-D$2","v":2.1999999999999999E-2},{"$f":"元ほうれん草!E208-E$2","v":1.9999999999999997E-2},{"$f":"元ほうれん草!F208-F$2","v":1.7000000000000001E-2},{"$f":"元ほうれん草!G208-G$2","v":8.0000000000000002E-3},{"$f":"元ほうれん草!H208-H$2","v":8.0000000000000002E-3},{"$f":"元ほうれん草!I208-I$2","v":0.03},{"$f":"元ほうれん草!J208-J$2","v":2.0999999999999998E-2},{"$f":"元ほうれん草!K208-K$2","v":1.0999999999999999E-2},{"$f":"元ほうれん草!L208-L$2","v":-1E-3},{"$f":"元ほうれん草!M208-M$2","v":-7.0000000000000001E-3},{"$f":"元ほうれん草!N208-N$2","v":-8.0000000000000002E-3},{"$f":"元ほうれん草!O208-O$2","v":-3.0000000000000001E-3},{"$f":"元ほうれん草!P208-P$2","v":5.9999999999999993E-3}]
[505,{"$f":"元ほうれん草!B209-B$2","v":0.11799999999999999},{"$f":"元ほうれん草!C209-C$2","v":1.4999999999999999E-2},{"$f":"元ほうれん草!D209-D$2","v":2.1999999999999999E-2},{"$f":"元ほうれん草!E209-E$2","v":2.0999999999999998E-2},{"$f":"元ほうれん草!F209-F$2","v":1.7000000000000001E-2},{"$f":"元ほうれん草!G209-G$2","v":9.0000000000000011E-3},{"$f":"元ほうれん草!H209-H$2","v":6.9999999999999993E-3},{"$f":"元ほうれん草!I209-I$2","v":2.8999999999999998E-2},{"$f":"元ほうれん草!J209-J$2","v":0.02},{"$f":"元ほうれん草!K209-K$2","v":0.01},{"$f":"元ほうれん草!L209-L$2","v":-2E-3},{"$f":"元ほうれん草!M209-M$2","v":-7.0000000000000001E-3},{"$f":"元ほうれん草!N209-N$2","v":-7.0000000000000001E-3},{"$f":"元ほうれん草!O209-O$2","v":-3.0000000000000001E-3},{"$f":"元ほうれん草!P209-P$2","v":5.9999999999999993E-3}]
[506,{"$f":"元ほうれん草!B210-B$2","v":0.10700000000000004},{"$f":"元ほうれん草!C210-C$2","v":1.3000000000000001E-2},{"$f":"元ほうれん草!D210-D$2","v":2.1999999999999999E-2},{"$f":"元ほうれん草!E210-E$2","v":1.9999999999999997E-2},{"$f":"元ほうれん草!F210-F$2","v":1.7000000000000001E-2},{"$f":"元ほうれん草!G210-G$2","v":8.0000000000000002E-3},{"$f":"元ほうれん草!H210-H$2","v":6.9999999999999993E-3},{"$f":"元ほうれん草!I210-I$2","v":2.6999999999999996E-2},{"$f":"元ほうれん草!J210-J$2","v":1.8000000000000002E-2},{"$f":"元ほうれん草!K210-K$2","v":8.0000000000000002E-3},{"$f":"元ほうれん草!L210-L$2","v":-2E-3},{"$f":"元ほうれん草!M210-M$2","v":-7.0000000000000001E-3},{"$f":"元ほうれん草!N210-N$2","v":-7.0000000000000001E-3},{"$f":"元ほうれん草!O210-O$2","v":-4.0000000000000001E-3},{"$f":"元ほうれん草!P210-P$2","v":5.9999999999999993E-3}]
[507,{"$f":"元ほうれん草!B211-B$2","v":9.9000000000000032E-2},{"$f":"元ほうれん草!C211-C$2","v":1.0999999999999999E-2},{"$f":"元ほうれん草!D211-D$2","v":2.0999999999999998E-2},{"$f":"元ほうれん草!E211-E$2","v":1.9999999999999997E-2},{"$f":"元ほうれん草!F211-F$2","v":1.7999999999999999E-2},{"$f":"元ほうれん草!G211-G$2","v":7.0000000000000001E-3},{"$f":"元ほうれん草!H211-H$2","v":6.9999999999999993E-3},{"$f":"元ほうれん草!I211-I$2","v":2.5000000000000001E-2},{"$f":"元ほうれん草!J211-J$2","v":1.6E-2},{"$f":"元ほうれん草!K211-K$2","v":7.0000000000000001E-3},{"$f":"元ほうれん草!L211-L$2","v":-3.0000000000000001E-3},{"$f":"元ほうれん草!M211-M$2","v":-8.0000000000000002E-3},{"$f":"元ほうれん草!N211-N$2","v":-8.0000000000000002E-3},{"$f":"元ほうれん草!O211-O$2","v":-5.0000000000000001E-3},{"$f":"元ほうれん草!P211-P$2","v":5.0000000000000001E-3}]
[508,{"$f":"元ほうれん草!B212-B$2","v":9.2000000000000026E-2},{"$f":"元ほうれん草!C212-C$2","v":0.01},{"$f":"元ほうれん草!D212-D$2","v":2.0999999999999998E-2},{"$f":"元ほうれん草!E212-E$2","v":2.0999999999999998E-2},{"$f":"元ほうれん草!F212-F$2","v":1.7999999999999999E-2},{"$f":"元ほうれん草!G212-G$2","v":8.0000000000000002E-3},{"$f":"元ほうれん草!H212-H$2","v":6.9999999999999993E-3},{"$f":"元ほうれん草!I212-I$2","v":2.4E-2},{"$f":"元ほうれん草!J212-J$2","v":1.4999999999999999E-2},{"$f":"元ほうれん草!K212-K$2","v":7.0000000000000001E-3},{"$f":"元ほうれん草!L212-L$2","v":-3.0000000000000001E-3},{"$f":"元ほうれん草!M212-M$2","v":-7.0000000000000001E-3},{"$f":"元ほうれん草!N212-N$2","v":-8.0000000000000002E-3},{"$f":"元ほうれん草!O212-O$2","v":-4.0000000000000001E-3},{"$f":"元ほうれん草!P212-P$2","v":5.0000000000000001E-3}]
[509,{"$f":"元ほうれん草!B213-B$2","v":8.7000000000000022E-2},{"$f":"元ほうれん草!C213-C$2","v":0.01},{"$f":"元ほうれん草!D213-D$2","v":2.0999999999999998E-2},{"$f":"元ほうれん草!E213-E$2","v":2.0999999999999998E-2},{"$f":"元ほうれん草!F213-F$2","v":1.7999999999999999E-2},{"$f":"元ほうれん草!G213-G$2","v":1.0000000000000002E-2},{"$f":"元ほうれん草!H213-H$2","v":8.0000000000000002E-3},{"$f":"元ほうれん草!I213-I$2","v":2.4E-2},{"$f":"元ほうれん草!J213-J$2","v":1.4E-2},{"$f":"元ほうれん草!K213-K$2","v":7.0000000000000001E-3},{"$f":"元ほうれん草!L213-L$2","v":-2E-3},{"$f":"元ほうれん草!M213-M$2","v":-5.0000000000000001E-3},{"$f":"元ほうれん草!N213-N$2","v":-7.0000000000000001E-3},{"$f":"元ほうれん草!O213-O$2","v":-3.0000000000000001E-3},{"$f":"元ほうれん草!P213-P$2","v":5.9999999999999993E-3}]
[510,{"$f":"元ほうれん草!B214-B$2","v":8.3000000000000018E-2},{"$f":"元ほうれん草!C214-C$2","v":9.0000000000000011E-3},{"$f":"元ほうれん草!D214-D$2","v":1.9E-2},{"$f":"元ほうれん草!E214-E$2","v":2.0999999999999998E-2},{"$f":"元ほうれん草!F214-F$2","v":1.7999999999999999E-2},{"$f":"元ほうれん草!G214-G$2","v":1.0000000000000002E-2},{"$f":"元ほうれん草!H214-H$2","v":6.9999999999999993E-3},{"$f":"元ほうれん草!I214-I$2","v":2.3E-2},{"$f":"元ほうれん草!J214-J$2","v":1.3000000000000001E-2},{"$f":"元ほうれん草!K214-K$2","v":6.0000000000000001E-3},{"$f":"元ほうれん草!L214-L$2","v":-3.0000000000000001E-3},{"$f":"元ほうれん草!M214-M$2","v":-6.0000000000000001E-3},{"$f":"元ほうれん草!N214-N$2","v":-8.0000000000000002E-3},{"$f":"元ほうれん草!O214-O$2","v":-4.0000000000000001E-3},{"$f":"元ほうれん草!P214-P$2","v":5.0000000000000001E-3}]
[511,{"$f":"元ほうれん草!B215-B$2","v":8.0000000000000016E-2},{"$f":"元ほうれん草!C215-C$2","v":8.0000000000000002E-3},{"$f":"元ほうれん草!D215-D$2","v":1.7999999999999999E-2},{"$f":"元ほうれん草!E215-E$2","v":2.0999999999999998E-2},{"$f":"元ほうれん草!F215-F$2","v":1.7999999999999999E-2},{"$f":"元ほうれん草!G215-G$2","v":9.0000000000000011E-3},{"$f":"元ほうれん草!H215-H$2","v":6.0000000000000001E-3},{"$f":"元ほうれん草!I215-I$2","v":2.0999999999999998E-2},{"$f":"元ほうれん草!J215-J$2","v":1.2E-2},{"$f":"元ほうれん草!K215-K$2","v":5.0000000000000001E-3},{"$f":"元ほうれん草!L215-L$2","v":-3.0000000000000001E-3},{"$f":"元ほうれん草!M215-M$2","v":-7.0000000000000001E-3},{"$f":"元ほうれん草!N215-N$2","v":-8.0000000000000002E-3},{"$f":"元ほうれん草!O215-O$2","v":-4.0000000000000001E-3},{"$f":"元ほうれん草!P215-P$2","v":5.0000000000000001E-3}]
[512,{"$f":"元ほうれん草!B216-B$2","v":7.8000000000000014E-2},{"$f":"元ほうれん草!C216-C$2","v":7.0000000000000001E-3},{"$f":"元ほうれん草!D216-D$2","v":1.6E-2},{"$f":"元ほうれん草!E216-E$2","v":2.0999999999999998E-2},{"$f":"元ほうれん草!F216-F$2","v":1.9E-2},{"$f":"元ほうれん草!G216-G$2","v":9.0000000000000011E-3},{"$f":"元ほうれん草!H216-H$2","v":6.0000000000000001E-3},{"$f":"元ほうれん草!I216-I$2","v":1.9999999999999997E-2},{"$f":"元ほうれん草!J216-J$2","v":1.0999999999999999E-2},{"$f":"元ほうれん草!K216-K$2","v":4.0000000000000001E-3},{"$f":"元ほうれん草!L216-L$2","v":-3.0000000000000001E-3},{"$f":"元ほうれん草!M216-M$2","v":-6.0000000000000001E-3},{"$f":"元ほうれん草!N216-N$2","v":-8.0000000000000002E-3},{"$f":"元ほうれん草!O216-O$2","v":-4.0000000000000001E-3},{"$f":"元ほうれん草!P216-P$2","v":5.0000000000000001E-3}]
[513,{"$f":"元ほうれん草!B217-B$2","v":7.400000000000001E-2},{"$f":"元ほうれん草!C217-C$2","v":7.0000000000000001E-3},{"$f":"元ほうれん草!D217-D$2","v":1.4999999999999999E-2},{"$f":"元ほうれん草!E217-E$2","v":2.1999999999999999E-2},{"$f":"元ほうれん草!F217-F$2","v":0.02},{"$f":"元ほうれん草!G217-G$2","v":1.0000000000000002E-2},{"$f":"元ほうれん草!H217-H$2","v":6.9999999999999993E-3},{"$f":"元ほうれん草!I217-I$2","v":1.9999999999999997E-2},{"$f":"元ほうれん草!J217-J$2","v":1.0999999999999999E-2},{"$f":"元ほうれん草!K217-K$2","v":4.0000000000000001E-3},{"$f":"元ほうれん草!L217-L$2","v":-3.0000000000000001E-3},{"$f":"元ほうれん草!M217-M$2","v":-6.0000000000000001E-3},{"$f":"元ほうれん草!N217-N$2","v":-8.0000000000000002E-3},{"$f":"元ほうれん草!O217-O$2","v":-4.0000000000000001E-3},{"$f":"元ほうれん草!P217-P$2","v":5.0000000000000001E-3}]
[514,{"$f":"元ほうれん草!B218-B$2","v":6.9000000000000006E-2},{"$f":"元ほうれん草!C218-C$2","v":7.0000000000000001E-3},{"$f":"元ほうれん草!D218-D$2","v":1.3000000000000001E-2},{"$f":"元ほうれん草!E218-E$2","v":2.1999999999999999E-2},{"$f":"元ほうれん草!F218-F$2","v":2.1000000000000001E-2},{"$f":"元ほうれん草!G218-G$2","v":1.0000000000000002E-2},{"$f":"元ほうれん草!H218-H$2","v":6.9999999999999993E-3},{"$f":"元ほうれん草!I218-I$2","v":1.9999999999999997E-2},{"$f":"元ほうれん草!J218-J$2","v":0.01},{"$f":"元ほうれん草!K218-K$2","v":4.0000000000000001E-3},{"$f":"元ほうれん草!L218-L$2","v":-2E-3},{"$f":"元ほうれん草!M218-M$2","v":-6.0000000000000001E-3},{"$f":"元ほうれん草!N218-N$2","v":-7.0000000000000001E-3},{"$f":"元ほうれん草!O218-O$2","v":-4.0000000000000001E-3},{"$f":"元ほうれん草!P218-P$2","v":5.0000000000000001E-3}]
[515,{"$f":"元ほうれん草!B219-B$2","v":6.6000000000000003E-2},{"$f":"元ほうれん草!C219-C$2","v":6.0000000000000001E-3},{"$f":"元ほうれん草!D219-D$2","v":1.2E-2},{"$f":"元ほうれん草!E219-E$2","v":2.3E-2},{"$f":"元ほうれん草!F219-F$2","v":2.1999999999999999E-2},{"$f":"元ほうれん草!G219-G$2","v":1.0999999999999999E-2},{"$f":"元ほうれん草!H219-H$2","v":6.9999999999999993E-3},{"$f":"元ほうれん草!I219-I$2","v":1.9000000000000003E-2},{"$f":"元ほうれん草!J219-J$2","v":0.01},{"$f":"元ほうれん草!K219-K$2","v":4.0000000000000001E-3},{"$f":"元ほうれん草!L219-L$2","v":-3.0000000000000001E-3},{"$f":"元ほうれん草!M219-M$2","v":-6.0000000000000001E-3},{"$f":"元ほうれん草!N219-N$2","v":-7.0000000000000001E-3},{"$f":"元ほうれん草!O219-O$2","v":-4.0000000000000001E-3},{"$f":"元ほうれん草!P219-P$2","v":5.0000000000000001E-3}]
[516,{"$f":"元ほうれん草!B220-B$2","v":6.3E-2},{"$f":"元ほうれん草!C220-C$2","v":6.0000000000000001E-3},{"$f":"元ほうれん草!D220-D$2","v":1.2E-2},{"$f":"元ほうれん草!E220-E$2","v":2.3E-2},{"$f":"元ほうれん草!F220-F$2","v":2.3E-2},{"$f":"元ほうれん草!G220-G$2","v":1.2E-2},{"$f":"元ほうれん草!H220-H$2","v":6.9999999999999993E-3},{"$f":"元ほうれん草!I220-I$2","v":1.9000000000000003E-2},{"$f":"元ほうれん草!J220-J$2","v":0.01},{"$f":"元ほうれん草!K220-K$2","v":4.0000000000000001E-3},{"$f":"元ほうれん草!L220-L$2","v":-3.0000000000000001E-3},{"$f":"元ほうれん草!M220-M$2","v":-6.0000000000000001E-3},{"$f":"元ほうれん草!N220-N$2","v":-7.0000000000000001E-3},{"$f":"元ほうれん草!O220-O$2","v":-4.0000000000000001E-3},{"$f":"元ほうれん草!P220-P$2","v":5.0000000000000001E-3}]
[517,{"$f":"元ほうれん草!B221-B$2","v":0.06},{"$f":"元ほうれん草!C221-C$2","v":5.0000000000000001E-3},{"$f":"元ほうれん草!D221-D$2","v":1.0999999999999999E-2},{"$f":"元ほうれん草!E221-E$2","v":2.4E-2},{"$f":"元ほうれん草!F221-F$2","v":2.4E-2},{"$f":"元ほうれん草!G221-G$2","v":1.2E-2},{"$f":"元ほうれん草!H221-H$2","v":8.0000000000000002E-3},{"$f":"元ほうれん草!I221-I$2","v":1.9000000000000003E-2},{"$f":"元ほうれん草!J221-J$2","v":0.01},{"$f":"元ほうれん草!K221-K$2","v":4.0000000000000001E-3},{"$f":"元ほうれん草!L221-L$2","v":-2E-3},{"$f":"元ほうれん草!M221-M$2","v":-6.0000000000000001E-3},{"$f":"元ほうれん草!N221-N$2","v":-7.0000000000000001E-3},{"$f":"元ほうれん草!O221-O$2","v":-4.0000000000000001E-3},{"$f":"元ほうれん草!P221-P$2","v":5.0000000000000001E-3}]
[518,{"$f":"元ほうれん草!B222-B$2","v":5.5999999999999994E-2},{"$f":"元ほうれん草!C222-C$2","v":3.0000000000000001E-3},{"$f":"元ほうれん草!D222-D$2","v":9.9999999999999985E-3},{"$f":"元ほうれん草!E222-E$2","v":2.5000000000000001E-2},{"$f":"元ほうれん草!F222-F$2","v":2.4E-2},{"$f":"元ほうれん草!G222-G$2","v":1.0999999999999999E-2},{"$f":"元ほうれん草!H222-H$2","v":6.9999999999999993E-3},{"$f":"元ほうれん草!I222-I$2","v":1.8000000000000002E-2},{"$f":"元ほうれん草!J222-J$2","v":9.0000000000000011E-3},{"$f":"元ほうれん草!K222-K$2","v":3.0000000000000001E-3},{"$f":"元ほうれん草!L222-L$2","v":-2E-3},{"$f":"元ほうれん草!M222-M$2","v":-7.0000000000000001E-3},{"$f":"元ほうれん草!N222-N$2","v":-8.0000000000000002E-3},{"$f":"元ほうれん草!O222-O$2","v":-4.0000000000000001E-3},{"$f":"元ほうれん草!P222-P$2","v":5.0000000000000001E-3}]
[519,{"$f":"元ほうれん草!B223-B$2","v":5.4000000000000048E-2},{"$f":"元ほうれん草!C223-C$2","v":4.0000000000000001E-3},{"$f":"元ほうれん草!D223-D$2","v":9.0000000000000011E-3},{"$f":"元ほうれん草!E223-E$2","v":2.7000000000000003E-2},{"$f":"元ほうれん草!F223-F$2","v":2.5999999999999999E-2},{"$f":"元ほうれん草!G223-G$2","v":1.2E-2},{"$f":"元ほうれん草!H223-H$2","v":8.0000000000000002E-3},{"$f":"元ほうれん草!I223-I$2","v":1.8000000000000002E-2},{"$f":"元ほうれん草!J223-J$2","v":8.0000000000000002E-3},{"$f":"元ほうれん草!K223-K$2","v":3.0000000000000001E-3},{"$f":"元ほうれん草!L223-L$2","v":-2E-3},{"$f":"元ほうれん草!M223-M$2","v":-6.0000000000000001E-3},{"$f":"元ほうれん草!N223-N$2","v":-7.0000000000000001E-3},{"$f":"元ほうれん草!O223-O$2","v":-4.0000000000000001E-3},{"$f":"元ほうれん草!P223-P$2","v":3.9999999999999992E-3}]
[520,{"$f":"元ほうれん草!B224-B$2","v":5.1000000000000045E-2},{"$f":"元ほうれん草!C224-C$2","v":4.0000000000000001E-3},{"$f":"元ほうれん草!D224-D$2","v":9.9999999999999985E-3},{"$f":"元ほうれん草!E224-E$2","v":2.8999999999999998E-2},{"$f":"元ほうれん草!F224-F$2","v":2.8000000000000001E-2},{"$f":"元ほうれん草!G224-G$2","v":1.3000000000000001E-2},{"$f":"元ほうれん草!H224-H$2","v":8.9999999999999993E-3},{"$f":"元ほうれん草!I224-I$2","v":1.8000000000000002E-2},{"$f":"元ほうれん草!J224-J$2","v":8.0000000000000002E-3},{"$f":"元ほうれん草!K224-K$2","v":4.0000000000000001E-3},{"$f":"元ほうれん草!L224-L$2","v":-2E-3},{"$f":"元ほうれん草!M224-M$2","v":-6.0000000000000001E-3},{"$f":"元ほうれん草!N224-N$2","v":-7.0000000000000001E-3},{"$f":"元ほうれん草!O224-O$2","v":-3.0000000000000001E-3},{"$f":"元ほうれん草!P224-P$2","v":5.0000000000000001E-3}]
[521,{"$f":"元ほうれん草!B225-B$2","v":4.9000000000000044E-2},{"$f":"元ほうれん草!C225-C$2","v":3.0000000000000001E-3},{"$f":"元ほうれん草!D225-D$2","v":9.9999999999999985E-3},{"$f":"元ほうれん草!E225-E$2","v":2.8999999999999998E-2},{"$f":"元ほうれん草!F225-F$2","v":3.0000000000000002E-2},{"$f":"元ほうれん草!G225-G$2","v":1.4000000000000002E-2},{"$f":"元ほうれん草!H225-H$2","v":8.9999999999999993E-3},{"$f":"元ほうれん草!I225-I$2","v":1.8000000000000002E-2},{"$f":"元ほうれん草!J225-J$2","v":8.0000000000000002E-3},{"$f":"元ほうれん草!K225-K$2","v":4.0000000000000001E-3},{"$f":"元ほうれん草!L225-L$2","v":-2E-3},{"$f":"元ほうれん草!M225-M$2","v":-5.0000000000000001E-3},{"$f":"元ほうれん草!N225-N$2","v":-7.0000000000000001E-3},{"$f":"元ほうれん草!O225-O$2","v":-3.0000000000000001E-3},{"$f":"元ほうれん草!P225-P$2","v":5.0000000000000001E-3}]
[522,{"$f":"元ほうれん草!B226-B$2","v":4.8000000000000043E-2},{"$f":"元ほうれん草!C226-C$2","v":3.0000000000000001E-3},{"$f":"元ほうれん草!D226-D$2","v":9.9999999999999985E-3},{"$f":"元ほうれん草!E226-E$2","v":0.03},{"$f":"元ほうれん草!F226-F$2","v":3.2000000000000001E-2},{"$f":"元ほうれん草!G226-G$2","v":1.4000000000000002E-2},{"$f":"元ほうれん草!H226-H$2","v":8.9999999999999993E-3},{"$f":"元ほうれん草!I226-I$2","v":1.8000000000000002E-2},{"$f":"元ほうれん草!J226-J$2","v":8.0000000000000002E-3},{"$f":"元ほうれん草!K226-K$2","v":4.0000000000000001E-3},{"$f":"元ほうれん草!L226-L$2","v":-1E-3},{"$f":"元ほうれん草!M226-M$2","v":-6.0000000000000001E-3},{"$f":"元ほうれん草!N226-N$2","v":-7.0000000000000001E-3},{"$f":"元ほうれん草!O226-O$2","v":-3.0000000000000001E-3},{"$f":"元ほうれん草!P226-P$2","v":5.0000000000000001E-3}]
[523,{"$f":"元ほうれん草!B227-B$2","v":4.7000000000000042E-2},{"$f":"元ほうれん草!C227-C$2","v":3.0000000000000001E-3},{"$f":"元ほうれん草!D227-D$2","v":9.9999999999999985E-3},{"$f":"元ほうれん草!E227-E$2","v":3.1E-2},{"$f":"元ほうれん草!F227-F$2","v":3.4000000000000002E-2},{"$f":"元ほうれん草!G227-G$2","v":1.4999999999999999E-2},{"$f":"元ほうれん草!H227-H$2","v":8.9999999999999993E-3},{"$f":"元ほうれん草!I227-I$2","v":1.9000000000000003E-2},{"$f":"元ほうれん草!J227-J$2","v":8.0000000000000002E-3},{"$f":"元ほうれん草!K227-K$2","v":4.0000000000000001E-3},{"$f":"元ほうれん草!L227-L$2","v":0},{"$f":"元ほうれん草!M227-M$2","v":-6.0000000000000001E-3},{"$f":"元ほうれん草!N227-N$2","v":-6.0000000000000001E-3},{"$f":"元ほうれん草!O227-O$2","v":-3.0000000000000001E-3},{"$f":"元ほうれん草!P227-P$2","v":5.0000000000000001E-3}]
[524,{"$f":"元ほうれん草!B228-B$2","v":4.4000000000000039E-2},{"$f":"元ほうれん草!C228-C$2","v":3.0000000000000001E-3},{"$f":"元ほうれん草!D228-D$2","v":9.9999999999999985E-3},{"$f":"元ほうれん草!E228-E$2","v":3.2000000000000001E-2},{"$f":"元ほうれん草!F228-F$2","v":3.4000000000000002E-2},{"$f":"元ほうれん草!G228-G$2","v":1.4999999999999999E-2},{"$f":"元ほうれん草!H228-H$2","v":8.9999999999999993E-3},{"$f":"元ほうれん草!I228-I$2","v":1.8000000000000002E-2},{"$f":"元ほうれん草!J228-J$2","v":7.0000000000000001E-3},{"$f":"元ほうれん草!K228-K$2","v":3.0000000000000001E-3},{"$f":"元ほうれん草!L228-L$2","v":-1E-3},{"$f":"元ほうれん草!M228-M$2","v":-6.0000000000000001E-3},{"$f":"元ほうれん草!N228-N$2","v":-6.0000000000000001E-3},{"$f":"元ほうれん草!O228-O$2","v":-3.0000000000000001E-3},{"$f":"元ほうれん草!P228-P$2","v":5.0000000000000001E-3}]
[525,{"$f":"元ほうれん草!B229-B$2","v":4.3000000000000038E-2},{"$f":"元ほうれん草!C229-C$2","v":3.0000000000000001E-3},{"$f":"元ほうれん草!D229-D$2","v":1.0999999999999999E-2},{"$f":"元ほうれん草!E229-E$2","v":3.3000000000000002E-2},{"$f":"元ほうれん草!F229-F$2","v":3.5000000000000003E-2},{"$f":"元ほうれん草!G229-G$2","v":1.6E-2},{"$f":"元ほうれん草!H229-H$2","v":0.01},{"$f":"元ほうれん草!I229-I$2","v":1.8000000000000002E-2},{"$f":"元ほうれん草!J229-J$2","v":7.0000000000000001E-3},{"$f":"元ほうれん草!K229-K$2","v":3.0000000000000001E-3},{"$f":"元ほうれん草!L229-L$2","v":-1E-3},{"$f":"元ほうれん草!M229-M$2","v":-6.0000000000000001E-3},{"$f":"元ほうれん草!N229-N$2","v":-7.0000000000000001E-3},{"$f":"元ほうれん草!O229-O$2","v":-4.0000000000000001E-3},{"$f":"元ほうれん草!P229-P$2","v":3.9999999999999992E-3}]
[526,{"$f":"元ほうれん草!B230-B$2","v":4.2000000000000037E-2},{"$f":"元ほうれん草!C230-C$2","v":3.0000000000000001E-3},{"$f":"元ほうれん草!D230-D$2","v":1.2E-2},{"$f":"元ほうれん草!E230-E$2","v":3.3999999999999996E-2},{"$f":"元ほうれん草!F230-F$2","v":3.7000000000000005E-2},{"$f":"元ほうれん草!G230-G$2","v":1.7000000000000001E-2},{"$f":"元ほうれん草!H230-H$2","v":1.1000000000000001E-2},{"$f":"元ほうれん草!I230-I$2","v":1.9000000000000003E-2},{"$f":"元ほうれん草!J230-J$2","v":7.0000000000000001E-3},{"$f":"元ほうれん草!K230-K$2","v":3.0000000000000001E-3},{"$f":"元ほうれん草!L230-L$2","v":-1E-3},{"$f":"元ほうれん草!M230-M$2","v":-6.0000000000000001E-3},{"$f":"元ほうれん草!N230-N$2","v":-6.0000000000000001E-3},{"$f":"元ほうれん草!O230-O$2","v":-3.0000000000000001E-3},{"$f":"元ほうれん草!P230-P$2","v":5.0000000000000001E-3}]
[527,{"$f":"元ほうれん草!B231-B$2","v":4.2000000000000037E-2},{"$f":"元ほうれん草!C231-C$2","v":3.0000000000000001E-3},{"$f":"元ほうれん草!D231-D$2","v":1.3000000000000001E-2},{"$f":"元ほうれん草!E231-E$2","v":3.5999999999999997E-2},{"$f":"元ほうれん草!F231-F$2","v":3.8000000000000006E-2},{"$f":"元ほうれん草!G231-G$2","v":1.9E-2},{"$f":"元ほうれん草!H231-H$2","v":1.1999999999999999E-2},{"$f":"元ほうれん草!I231-I$2","v":1.9000000000000003E-2},{"$f":"元ほうれん草!J231-J$2","v":8.0000000000000002E-3},{"$f":"元ほうれん草!K231-K$2","v":4.0000000000000001E-3},{"$f":"元ほうれん草!L231-L$2","v":-1E-3},{"$f":"元ほうれん草!M231-M$2","v":-5.0000000000000001E-3},{"$f":"元ほうれん草!N231-N$2","v":-5.0000000000000001E-3},{"$f":"元ほうれん草!O231-O$2","v":-2E-3},{"$f":"元ほうれん草!P231-P$2","v":5.0000000000000001E-3}]
[528,{"$f":"元ほうれん草!B232-B$2","v":4.1000000000000036E-2},{"$f":"元ほうれん草!C232-C$2","v":4.0000000000000001E-3},{"$f":"元ほうれん草!D232-D$2","v":1.4999999999999999E-2},{"$f":"元ほうれん草!E232-E$2","v":3.6999999999999998E-2},{"$f":"元ほうれん草!F232-F$2","v":3.8999999999999993E-2},{"$f":"元ほうれん草!G232-G$2","v":0.02},{"$f":"元ほうれん草!H232-H$2","v":1.2999999999999999E-2},{"$f":"元ほうれん草!I232-I$2","v":1.9000000000000003E-2},{"$f":"元ほうれん草!J232-J$2","v":8.0000000000000002E-3},{"$f":"元ほうれん草!K232-K$2","v":4.0000000000000001E-3},{"$f":"元ほうれん草!L232-L$2","v":0},{"$f":"元ほうれん草!M232-M$2","v":-5.0000000000000001E-3},{"$f":"元ほうれん草!N232-N$2","v":-5.0000000000000001E-3},{"$f":"元ほうれん草!O232-O$2","v":-2E-3},{"$f":"元ほうれん草!P232-P$2","v":5.0000000000000001E-3}]
[529,{"$f":"元ほうれん草!B233-B$2","v":4.1000000000000036E-2},{"$f":"元ほうれん草!C233-C$2","v":4.0000000000000001E-3},{"$f":"元ほうれん草!D233-D$2","v":1.6E-2},{"$f":"元ほうれん草!E233-E$2","v":3.7999999999999999E-2},{"$f":"元ほうれん草!F233-F$2","v":3.9999999999999994E-2},{"$f":"元ほうれん草!G233-G$2","v":0.02},{"$f":"元ほうれん草!H233-H$2","v":1.2999999999999999E-2},{"$f":"元ほうれん草!I233-I$2","v":1.9000000000000003E-2},{"$f":"元ほうれん草!J233-J$2","v":8.0000000000000002E-3},{"$f":"元ほうれん草!K233-K$2","v":4.0000000000000001E-3},{"$f":"元ほうれん草!L233-L$2","v":0},{"$f":"元ほうれん草!M233-M$2","v":-5.0000000000000001E-3},{"$f":"元ほうれん草!N233-N$2","v":-5.0000000000000001E-3},{"$f":"元ほうれん草!O233-O$2","v":-2E-3},{"$f":"元ほうれん草!P233-P$2","v":5.0000000000000001E-3}]
[530,{"$f":"元ほうれん草!B234-B$2","v":3.9000000000000035E-2},{"$f":"元ほうれん草!C234-C$2","v":4.0000000000000001E-3},{"$f":"元ほうれん草!D234-D$2","v":1.6999999999999998E-2},{"$f":"元ほうれん草!E234-E$2","v":3.7999999999999999E-2},{"$f":"元ほうれん草!F234-F$2","v":4.1999999999999996E-2},{"$f":"元ほうれん草!G234-G$2","v":2.1000000000000001E-2},{"$f":"元ほうれん草!H234-H$2","v":1.5000000000000001E-2},{"$f":"元ほうれん草!I234-I$2","v":1.9000000000000003E-2},{"$f":"元ほうれん草!J234-J$2","v":8.0000000000000002E-3},{"$f":"元ほうれん草!K234-K$2","v":4.0000000000000001E-3},{"$f":"元ほうれん草!L234-L$2","v":0},{"$f":"元ほうれん草!M234-M$2","v":-4.0000000000000001E-3},{"$f":"元ほうれん草!N234-N$2","v":-5.0000000000000001E-3},{"$f":"元ほうれん草!O234-O$2","v":-2E-3},{"$f":"元ほうれん草!P234-P$2","v":5.0000000000000001E-3}]
[531,{"$f":"元ほうれん草!B235-B$2","v":3.7000000000000033E-2},{"$f":"元ほうれん草!C235-C$2","v":4.0000000000000001E-3},{"$f":"元ほうれん草!D235-D$2","v":1.9E-2},{"$f":"元ほうれん草!E235-E$2","v":3.9E-2},{"$f":"元ほうれん草!F235-F$2","v":4.1999999999999996E-2},{"$f":"元ほうれん草!G235-G$2","v":2.2000000000000002E-2},{"$f":"元ほうれん草!H235-H$2","v":1.5000000000000001E-2},{"$f":"元ほうれん草!I235-I$2","v":1.9000000000000003E-2},{"$f":"元ほうれん草!J235-J$2","v":8.0000000000000002E-3},{"$f":"元ほうれん草!K235-K$2","v":4.0000000000000001E-3},{"$f":"元ほうれん草!L235-L$2","v":0},{"$f":"元ほうれん草!M235-M$2","v":-4.0000000000000001E-3},{"$f":"元ほうれん草!N235-N$2","v":-5.0000000000000001E-3},{"$f":"元ほうれん草!O235-O$2","v":-3.0000000000000001E-3},{"$f":"元ほうれん草!P235-P$2","v":5.0000000000000001E-3}]
[532,{"$f":"元ほうれん草!B236-B$2","v":3.8000000000000034E-2},{"$f":"元ほうれん草!C236-C$2","v":4.0000000000000001E-3},{"$f":"元ほうれん草!D236-D$2","v":2.0999999999999998E-2},{"$f":"元ほうれん草!E236-E$2","v":0.04},{"$f":"元ほうれん草!F236-F$2","v":4.2999999999999997E-2},{"$f":"元ほうれん草!G236-G$2","v":2.2000000000000002E-2},{"$f":"元ほうれん草!H236-H$2","v":1.6E-2},{"$f":"元ほうれん草!I236-I$2","v":1.9000000000000003E-2},{"$f":"元ほうれん草!J236-J$2","v":8.0000000000000002E-3},{"$f":"元ほうれん草!K236-K$2","v":4.0000000000000001E-3},{"$f":"元ほうれん草!L236-L$2","v":0},{"$f":"元ほうれん草!M236-M$2","v":-4.0000000000000001E-3},{"$f":"元ほうれん草!N236-N$2","v":-5.0000000000000001E-3},{"$f":"元ほうれん草!O236-O$2","v":-2E-3},{"$f":"元ほうれん草!P236-P$2","v":5.0000000000000001E-3}]
[533,{"$f":"元ほうれん草!B237-B$2","v":3.8000000000000034E-2},{"$f":"元ほうれん草!C237-C$2","v":4.0000000000000001E-3},{"$f":"元ほうれん草!D237-D$2","v":2.0999999999999998E-2},{"$f":"元ほうれん草!E237-E$2","v":3.9E-2},{"$f":"元ほうれん草!F237-F$2","v":4.3999999999999997E-2},{"$f":"元ほうれん草!G237-G$2","v":2.3E-2},{"$f":"元ほうれん草!H237-H$2","v":1.5000000000000001E-2},{"$f":"元ほうれん草!I237-I$2","v":1.9000000000000003E-2},{"$f":"元ほうれん草!J237-J$2","v":8.0000000000000002E-3},{"$f":"元ほうれん草!K237-K$2","v":4.0000000000000001E-3},{"$f":"元ほうれん草!L237-L$2","v":0},{"$f":"元ほうれん草!M237-M$2","v":-4.0000000000000001E-3},{"$f":"元ほうれん草!N237-N$2","v":-5.0000000000000001E-3},{"$f":"元ほうれん草!O237-O$2","v":-2E-3},{"$f":"元ほうれん草!P237-P$2","v":5.0000000000000001E-3}]
[534,{"$f":"元ほうれん草!B238-B$2","v":3.8000000000000034E-2},{"$f":"元ほうれん草!C238-C$2","v":3.0000000000000001E-3},{"$f":"元ほうれん草!D238-D$2","v":2.1999999999999999E-2},{"$f":"元ほうれん草!E238-E$2","v":3.9E-2},{"$f":"元ほうれん草!F238-F$2","v":4.2999999999999997E-2},{"$f":"元ほうれん草!G238-G$2","v":2.3E-2},{"$f":"元ほうれん草!H238-H$2","v":1.6E-2},{"$f":"元ほうれん草!I238-I$2","v":1.9000000000000003E-2},{"$f":"元ほうれん草!J238-J$2","v":8.0000000000000002E-3},{"$f":"元ほうれん草!K238-K$2","v":4.0000000000000001E-3},{"$f":"元ほうれん草!L238-L$2","v":-1E-3},{"$f":"元ほうれん草!M238-M$2","v":-4.0000000000000001E-3},{"$f":"元ほうれん草!N238-N$2","v":-5.0000000000000001E-3},{"$f":"元ほうれん草!O238-O$2","v":-2E-3},{"$f":"元ほうれん草!P238-P$2","v":3.9999999999999992E-3}]
[535,{"$f":"元ほうれん草!B239-B$2","v":3.7000000000000033E-2},{"$f":"元ほうれん草!C239-C$2","v":3.0000000000000001E-3},{"$f":"元ほうれん草!D239-D$2","v":2.1999999999999999E-2},{"$f":"元ほうれん草!E239-E$2","v":0.04},{"$f":"元ほうれん草!F239-F$2","v":4.2999999999999997E-2},{"$f":"元ほうれん草!G239-G$2","v":2.3E-2},{"$f":"元ほうれん草!H239-H$2","v":1.6E-2},{"$f":"元ほうれん草!I239-I$2","v":1.9000000000000003E-2},{"$f":"元ほうれん草!J239-J$2","v":9.0000000000000011E-3},{"$f":"元ほうれん草!K239-K$2","v":3.0000000000000001E-3},{"$f":"元ほうれん草!L239-L$2","v":0},{"$f":"元ほうれん草!M239-M$2","v":-4.0000000000000001E-3},{"$f":"元ほうれん草!N239-N$2","v":-5.0000000000000001E-3},{"$f":"元ほうれん草!O239-O$2","v":-3.0000000000000001E-3},{"$f":"元ほうれん草!P239-P$2","v":3.9999999999999992E-3}]
[536,{"$f":"元ほうれん草!B240-B$2","v":3.6000000000000032E-2},{"$f":"元ほうれん草!C240-C$2","v":3.0000000000000001E-3},{"$f":"元ほうれん草!D240-D$2","v":0.02},{"$f":"元ほうれん草!E240-E$2","v":3.9E-2},{"$f":"元ほうれん草!F240-F$2","v":4.2999999999999997E-2},{"$f":"元ほうれん草!G240-G$2","v":2.4E-2},{"$f":"元ほうれん草!H240-H$2","v":1.8000000000000002E-2},{"$f":"元ほうれん草!I240-I$2","v":1.9000000000000003E-2},{"$f":"元ほうれん草!J240-J$2","v":8.0000000000000002E-3},{"$f":"元ほうれん草!K240-K$2","v":4.0000000000000001E-3},{"$f":"元ほうれん草!L240-L$2","v":0},{"$f":"元ほうれん草!M240-M$2","v":-5.0000000000000001E-3},{"$f":"元ほうれん草!N240-N$2","v":-6.0000000000000001E-3},{"$f":"元ほうれん草!O240-O$2","v":-3.0000000000000001E-3},{"$f":"元ほうれん草!P240-P$2","v":5.0000000000000001E-3}]
[537,{"$f":"元ほうれん草!B241-B$2","v":3.7000000000000033E-2},{"$f":"元ほうれん草!C241-C$2","v":2E-3},{"$f":"元ほうれん草!D241-D$2","v":1.9E-2},{"$f":"元ほうれん草!E241-E$2","v":3.7999999999999999E-2},{"$f":"元ほうれん草!F241-F$2","v":4.2999999999999997E-2},{"$f":"元ほうれん草!G241-G$2","v":2.5000000000000001E-2},{"$f":"元ほうれん草!H241-H$2","v":1.8000000000000002E-2},{"$f":"元ほうれん草!I241-I$2","v":1.9000000000000003E-2},{"$f":"元ほうれん草!J241-J$2","v":8.0000000000000002E-3},{"$f":"元ほうれん草!K241-K$2","v":4.0000000000000001E-3},{"$f":"元ほうれん草!L241-L$2","v":0},{"$f":"元ほうれん草!M241-M$2","v":-5.0000000000000001E-3},{"$f":"元ほうれん草!N241-N$2","v":-5.0000000000000001E-3},{"$f":"元ほうれん草!O241-O$2","v":-3.0000000000000001E-3},{"$f":"元ほうれん草!P241-P$2","v":5.0000000000000001E-3}]
[538,{"$f":"元ほうれん草!B242-B$2","v":3.7000000000000033E-2},{"$f":"元ほうれん草!C242-C$2","v":3.0000000000000001E-3},{"$f":"元ほうれん草!D242-D$2","v":1.6999999999999998E-2},{"$f":"元ほうれん草!E242-E$2","v":3.7999999999999999E-2},{"$f":"元ほうれん草!F242-F$2","v":4.2999999999999997E-2},{"$f":"元ほうれん草!G242-G$2","v":2.5000000000000001E-2},{"$f":"元ほうれん草!H242-H$2","v":1.8000000000000002E-2},{"$f":"元ほうれん草!I242-I$2","v":1.9999999999999997E-2},{"$f":"元ほうれん草!J242-J$2","v":8.0000000000000002E-3},{"$f":"元ほうれん草!K242-K$2","v":4.0000000000000001E-3},{"$f":"元ほうれん草!L242-L$2","v":0},{"$f":"元ほうれん草!M242-M$2","v":-5.0000000000000001E-3},{"$f":"元ほうれん草!N242-N$2","v":-5.0000000000000001E-3},{"$f":"元ほうれん草!O242-O$2","v":-3.0000000000000001E-3},{"$f":"元ほうれん草!P242-P$2","v":5.0000000000000001E-3}]
[539,{"$f":"元ほうれん草!B243-B$2","v":3.6000000000000032E-2},{"$f":"元ほうれん草!C243-C$2","v":3.0000000000000001E-3},{"$f":"元ほうれん草!D243-D$2","v":1.4999999999999999E-2},{"$f":"元ほうれん草!E243-E$2","v":3.7999999999999999E-2},{"$f":"元ほうれん草!F243-F$2","v":4.2999999999999997E-2},{"$f":"元ほうれん草!G243-G$2","v":2.6000000000000002E-2},{"$f":"元ほうれん草!H243-H$2","v":1.8000000000000002E-2},{"$f":"元ほうれん草!I243-I$2","v":1.9999999999999997E-2},{"$f":"元ほうれん草!J243-J$2","v":8.0000000000000002E-3},{"$f":"元ほうれん草!K243-K$2","v":3.0000000000000001E-3},{"$f":"元ほうれん草!L243-L$2","v":0},{"$f":"元ほうれん草!M243-M$2","v":-5.0000000000000001E-3},{"$f":"元ほうれん草!N243-N$2","v":-5.0000000000000001E-3},{"$f":"元ほうれん草!O243-O$2","v":-3.0000000000000001E-3},{"$f":"元ほうれん草!P243-P$2","v":5.0000000000000001E-3}]
[540,{"$f":"元ほうれん草!B244-B$2","v":3.5000000000000031E-2},{"$f":"元ほうれん草!C244-C$2","v":3.0000000000000001E-3},{"$f":"元ほうれん草!D244-D$2","v":1.2E-2},{"$f":"元ほうれん草!E244-E$2","v":3.6999999999999998E-2},{"$f":"元ほうれん草!F244-F$2","v":4.1999999999999996E-2},{"$f":"元ほうれん草!G244-G$2","v":2.6000000000000002E-2},{"$f":"元ほうれん草!H244-H$2","v":1.8000000000000002E-2},{"$f":"元ほうれん草!I244-I$2","v":1.9000000000000003E-2},{"$f":"元ほうれん草!J244-J$2","v":7.0000000000000001E-3},{"$f":"元ほうれん草!K244-K$2","v":3.0000000000000001E-3},{"$f":"元ほうれん草!L244-L$2","v":0},{"$f":"元ほうれん草!M244-M$2","v":-5.0000000000000001E-3},{"$f":"元ほうれん草!N244-N$2","v":-5.0000000000000001E-3},{"$f":"元ほうれん草!O244-O$2","v":-3.0000000000000001E-3},{"$f":"元ほうれん草!P244-P$2","v":3.9999999999999992E-3}]
[541,{"$f":"元ほうれん草!B245-B$2","v":3.6000000000000032E-2},{"$f":"元ほうれん草!C245-C$2","v":3.0000000000000001E-3},{"$f":"元ほうれん草!D245-D$2","v":1.0999999999999999E-2},{"$f":"元ほうれん草!E245-E$2","v":3.6999999999999998E-2},{"$f":"元ほうれん草!F245-F$2","v":4.1999999999999996E-2},{"$f":"元ほうれん草!G245-G$2","v":2.6000000000000002E-2},{"$f":"元ほうれん草!H245-H$2","v":1.9000000000000003E-2},{"$f":"元ほうれん草!I245-I$2","v":1.9000000000000003E-2},{"$f":"元ほうれん草!J245-J$2","v":8.0000000000000002E-3},{"$f":"元ほうれん草!K245-K$2","v":4.0000000000000001E-3},{"$f":"元ほうれん草!L245-L$2","v":0},{"$f":"元ほうれん草!M245-M$2","v":-4.0000000000000001E-3},{"$f":"元ほうれん草!N245-N$2","v":-5.0000000000000001E-3},{"$f":"元ほうれん草!O245-O$2","v":-2E-3},{"$f":"元ほうれん草!P245-P$2","v":3.9999999999999992E-3}]
[542,{"$f":"元ほうれん草!B246-B$2","v":3.5000000000000031E-2},{"$f":"元ほうれん草!C246-C$2","v":3.0000000000000001E-3},{"$f":"元ほうれん草!D246-D$2","v":9.9999999999999985E-3},{"$f":"元ほうれん草!E246-E$2","v":3.5999999999999997E-2},{"$f":"元ほうれん草!F246-F$2","v":4.1999999999999996E-2},{"$f":"元ほうれん草!G246-G$2","v":2.6000000000000002E-2},{"$f":"元ほうれん草!H246-H$2","v":1.9999999999999997E-2},{"$f":"元ほうれん草!I246-I$2","v":1.9999999999999997E-2},{"$f":"元ほうれん草!J246-J$2","v":8.0000000000000002E-3},{"$f":"元ほうれん草!K246-K$2","v":4.0000000000000001E-3},{"$f":"元ほうれん草!L246-L$2","v":0},{"$f":"元ほうれん草!M246-M$2","v":-4.0000000000000001E-3},{"$f":"元ほうれん草!N246-N$2","v":-4.0000000000000001E-3},{"$f":"元ほうれん草!O246-O$2","v":-2E-3},{"$f":"元ほうれん草!P246-P$2","v":3.9999999999999992E-3}]
[543,{"$f":"元ほうれん草!B247-B$2","v":3.400000000000003E-2},{"$f":"元ほうれん草!C247-C$2","v":3.0000000000000001E-3},{"$f":"元ほうれん草!D247-D$2","v":9.0000000000000011E-3},{"$f":"元ほうれん草!E247-E$2","v":3.4999999999999996E-2},{"$f":"元ほうれん草!F247-F$2","v":4.0999999999999995E-2},{"$f":"元ほうれん草!G247-G$2","v":2.6000000000000002E-2},{"$f":"元ほうれん草!H247-H$2","v":1.9999999999999997E-2},{"$f":"元ほうれん草!I247-I$2","v":1.9999999999999997E-2},{"$f":"元ほうれん草!J247-J$2","v":7.0000000000000001E-3},{"$f":"元ほうれん草!K247-K$2","v":5.0000000000000001E-3},{"$f":"元ほうれん草!L247-L$2","v":0},{"$f":"元ほうれん草!M247-M$2","v":-4.0000000000000001E-3},{"$f":"元ほうれん草!N247-N$2","v":-5.0000000000000001E-3},{"$f":"元ほうれん草!O247-O$2","v":-2E-3},{"$f":"元ほうれん草!P247-P$2","v":5.0000000000000001E-3}]
[544,{"$f":"元ほうれん草!B248-B$2","v":3.400000000000003E-2},{"$f":"元ほうれん草!C248-C$2","v":3.0000000000000001E-3},{"$f":"元ほうれん草!D248-D$2","v":8.0000000000000002E-3},{"$f":"元ほうれん草!E248-E$2","v":3.4999999999999996E-2},{"$f":"元ほうれん草!F248-F$2","v":4.0999999999999995E-2},{"$f":"元ほうれん草!G248-G$2","v":2.7000000000000003E-2},{"$f":"元ほうれん草!H248-H$2","v":1.9999999999999997E-2},{"$f":"元ほうれん草!I248-I$2","v":1.9000000000000003E-2},{"$f":"元ほうれん草!J248-J$2","v":7.0000000000000001E-3},{"$f":"元ほうれん草!K248-K$2","v":5.0000000000000001E-3},{"$f":"元ほうれん草!L248-L$2","v":0},{"$f":"元ほうれん草!M248-M$2","v":-4.0000000000000001E-3},{"$f":"元ほうれん草!N248-N$2","v":-5.0000000000000001E-3},{"$f":"元ほうれん草!O248-O$2","v":-2E-3},{"$f":"元ほうれん草!P248-P$2","v":5.0000000000000001E-3}]
[545,{"$f":"元ほうれん草!B249-B$2","v":3.400000000000003E-2},{"$f":"元ほうれん草!C249-C$2","v":4.0000000000000001E-3},{"$f":"元ほうれん草!D249-D$2","v":8.0000000000000002E-3},{"$f":"元ほうれん草!E249-E$2","v":3.4999999999999996E-2},{"$f":"元ほうれん草!F249-F$2","v":3.9999999999999994E-2},{"$f":"元ほうれん草!G249-G$2","v":2.8000000000000004E-2},{"$f":"元ほうれん草!H249-H$2","v":2.0999999999999998E-2},{"$f":"元ほうれん草!I249-I$2","v":1.9999999999999997E-2},{"$f":"元ほうれん草!J249-J$2","v":7.0000000000000001E-3},{"$f":"元ほうれん草!K249-K$2","v":5.0000000000000001E-3},{"$f":"元ほうれん草!L249-L$2","v":0},{"$f":"元ほうれん草!M249-M$2","v":-3.0000000000000001E-3},{"$f":"元ほうれん草!N249-N$2","v":-4.0000000000000001E-3},{"$f":"元ほうれん草!O249-O$2","v":-2E-3},{"$f":"元ほうれん草!P249-P$2","v":5.0000000000000001E-3}]
[546,{"$f":"元ほうれん草!B250-B$2","v":3.5000000000000031E-2},{"$f":"元ほうれん草!C250-C$2","v":4.0000000000000001E-3},{"$f":"元ほうれん草!D250-D$2","v":7.0000000000000001E-3},{"$f":"元ほうれん草!E250-E$2","v":3.4999999999999996E-2},{"$f":"元ほうれん草!F250-F$2","v":3.9999999999999994E-2},{"$f":"元ほうれん草!G250-G$2","v":2.8000000000000004E-2},{"$f":"元ほうれん草!H250-H$2","v":2.0999999999999998E-2},{"$f":"元ほうれん草!I250-I$2","v":1.9999999999999997E-2},{"$f":"元ほうれん草!J250-J$2","v":8.0000000000000002E-3},{"$f":"元ほうれん草!K250-K$2","v":5.0000000000000001E-3},{"$f":"元ほうれん草!L250-L$2","v":1E-3},{"$f":"元ほうれん草!M250-M$2","v":-3.0000000000000001E-3},{"$f":"元ほうれん草!N250-N$2","v":-4.0000000000000001E-3},{"$f":"元ほうれん草!O250-O$2","v":-1E-3},{"$f":"元ほうれん草!P250-P$2","v":5.0000000000000001E-3}]
[547,{"$f":"元ほうれん草!B251-B$2","v":3.5000000000000031E-2},{"$f":"元ほうれん草!C251-C$2","v":3.0000000000000001E-3},{"$f":"元ほうれん草!D251-D$2","v":7.0000000000000001E-3},{"$f":"元ほうれん草!E251-E$2","v":3.3999999999999996E-2},{"$f":"元ほうれん草!F251-F$2","v":3.9999999999999994E-2},{"$f":"元ほうれん草!G251-G$2","v":2.7000000000000003E-2},{"$f":"元ほうれん草!H251-H$2","v":2.0999999999999998E-2},{"$f":"元ほうれん草!I251-I$2","v":1.9999999999999997E-2},{"$f":"元ほうれん草!J251-J$2","v":8.0000000000000002E-3},{"$f":"元ほうれん草!K251-K$2","v":5.0000000000000001E-3},{"$f":"元ほうれん草!L251-L$2","v":0},{"$f":"元ほうれん草!M251-M$2","v":-4.0000000000000001E-3},{"$f":"元ほうれん草!N251-N$2","v":-4.0000000000000001E-3},{"$f":"元ほうれん草!O251-O$2","v":-1E-3},{"$f":"元ほうれん草!P251-P$2","v":5.0000000000000001E-3}]
[548,{"$f":"元ほうれん草!B252-B$2","v":3.400000000000003E-2},{"$f":"元ほうれん草!C252-C$2","v":3.0000000000000001E-3},{"$f":"元ほうれん草!D252-D$2","v":7.0000000000000001E-3},{"$f":"元ほうれん草!E252-E$2","v":3.3000000000000002E-2},{"$f":"元ほうれん草!F252-F$2","v":3.9999999999999994E-2},{"$f":"元ほうれん草!G252-G$2","v":2.7000000000000003E-2},{"$f":"元ほうれん草!H252-H$2","v":1.9999999999999997E-2},{"$f":"元ほうれん草!I252-I$2","v":1.9000000000000003E-2},{"$f":"元ほうれん草!J252-J$2","v":7.0000000000000001E-3},{"$f":"元ほうれん草!K252-K$2","v":4.0000000000000001E-3},{"$f":"元ほうれん草!L252-L$2","v":0},{"$f":"元ほうれん草!M252-M$2","v":-4.0000000000000001E-3},{"$f":"元ほうれん草!N252-N$2","v":-5.0000000000000001E-3},{"$f":"元ほうれん草!O252-O$2","v":-2E-3},{"$f":"元ほうれん草!P252-P$2","v":3.9999999999999992E-3}]
[549,{"$f":"元ほうれん草!B253-B$2","v":3.2000000000000028E-2},{"$f":"元ほうれん草!C253-C$2","v":2E-3},{"$f":"元ほうれん草!D253-D$2","v":6.0000000000000001E-3},{"$f":"元ほうれん草!E253-E$2","v":3.3000000000000002E-2},{"$f":"元ほうれん草!F253-F$2","v":3.8999999999999993E-2},{"$f":"元ほうれん草!G253-G$2","v":2.7000000000000003E-2},{"$f":"元ほうれん草!H253-H$2","v":2.0999999999999998E-2},{"$f":"元ほうれん草!I253-I$2","v":1.9000000000000003E-2},{"$f":"元ほうれん草!J253-J$2","v":7.0000000000000001E-3},{"$f":"元ほうれん草!K253-K$2","v":4.0000000000000001E-3},{"$f":"元ほうれん草!L253-L$2","v":0},{"$f":"元ほうれん草!M253-M$2","v":-4.0000000000000001E-3},{"$f":"元ほうれん草!N253-N$2","v":-4.0000000000000001E-3},{"$f":"元ほうれん草!O253-O$2","v":-2E-3},{"$f":"元ほうれん草!P253-P$2","v":3.9999999999999992E-3}]
[550,{"$f":"元ほうれん草!B254-B$2","v":3.3000000000000029E-2},{"$f":"元ほうれん草!C254-C$2","v":2E-3},{"$f":"元ほうれん草!D254-D$2","v":7.0000000000000001E-3},{"$f":"元ほうれん草!E254-E$2","v":3.3999999999999996E-2},{"$f":"元ほうれん草!F254-F$2","v":3.9999999999999994E-2},{"$f":"元ほうれん草!G254-G$2","v":2.8000000000000004E-2},{"$f":"元ほうれん草!H254-H$2","v":2.1999999999999999E-2},{"$f":"元ほうれん草!I254-I$2","v":1.9999999999999997E-2},{"$f":"元ほうれん草!J254-J$2","v":8.0000000000000002E-3},{"$f":"元ほうれん草!K254-K$2","v":4.0000000000000001E-3},{"$f":"元ほうれん草!L254-L$2","v":1E-3},{"$f":"元ほうれん草!M254-M$2","v":-3.0000000000000001E-3},{"$f":"元ほうれん草!N254-N$2","v":-4.0000000000000001E-3},{"$f":"元ほうれん草!O254-O$2","v":-1E-3},{"$f":"元ほうれん草!P254-P$2","v":5.0000000000000001E-3}]
[551,{"$f":"元ほうれん草!B255-B$2","v":3.400000000000003E-2},{"$f":"元ほうれん草!C255-C$2","v":3.0000000000000001E-3},{"$f":"元ほうれん草!D255-D$2","v":7.0000000000000001E-3},{"$f":"元ほうれん草!E255-E$2","v":3.3999999999999996E-2},{"$f":"元ほうれん草!F255-F$2","v":3.9999999999999994E-2},{"$f":"元ほうれん草!G255-G$2","v":2.8000000000000004E-2},{"$f":"元ほうれん草!H255-H$2","v":2.1999999999999999E-2},{"$f":"元ほうれん草!I255-I$2","v":1.9999999999999997E-2},{"$f":"元ほうれん草!J255-J$2","v":8.0000000000000002E-3},{"$f":"元ほうれん草!K255-K$2","v":5.0000000000000001E-3},{"$f":"元ほうれん草!L255-L$2","v":2E-3},{"$f":"元ほうれん草!M255-M$2","v":-3.0000000000000001E-3},{"$f":"元ほうれん草!N255-N$2","v":-4.0000000000000001E-3},{"$f":"元ほうれん草!O255-O$2","v":-1E-3},{"$f":"元ほうれん草!P255-P$2","v":5.0000000000000001E-3}]
[552,{"$f":"元ほうれん草!B256-B$2","v":3.400000000000003E-2},{"$f":"元ほうれん草!C256-C$2","v":3.0000000000000001E-3},{"$f":"元ほうれん草!D256-D$2","v":6.0000000000000001E-3},{"$f":"元ほうれん草!E256-E$2","v":3.3999999999999996E-2},{"$f":"元ほうれん草!F256-F$2","v":4.0999999999999995E-2},{"$f":"元ほうれん草!G256-G$2","v":2.8000000000000004E-2},{"$f":"元ほうれん草!H256-H$2","v":2.1999999999999999E-2},{"$f":"元ほうれん草!I256-I$2","v":1.9999999999999997E-2},{"$f":"元ほうれん草!J256-J$2","v":8.0000000000000002E-3},{"$f":"元ほうれん草!K256-K$2","v":5.0000000000000001E-3},{"$f":"元ほうれん草!L256-L$2","v":1E-3},{"$f":"元ほうれん草!M256-M$2","v":-3.0000000000000001E-3},{"$f":"元ほうれん草!N256-N$2","v":-4.0000000000000001E-3},{"$f":"元ほうれん草!O256-O$2","v":-1E-3},{"$f":"元ほうれん草!P256-P$2","v":5.0000000000000001E-3}]
[553,{"$f":"元ほうれん草!B257-B$2","v":3.3000000000000029E-2},{"$f":"元ほうれん草!C257-C$2","v":3.0000000000000001E-3},{"$f":"元ほうれん草!D257-D$2","v":7.0000000000000001E-3},{"$f":"元ほうれん草!E257-E$2","v":3.4999999999999996E-2},{"$f":"元ほうれん草!F257-F$2","v":4.1999999999999996E-2},{"$f":"元ほうれん草!G257-G$2","v":2.8000000000000004E-2},{"$f":"元ほうれん草!H257-H$2","v":2.1999999999999999E-2},{"$f":"元ほうれん草!I257-I$2","v":1.9999999999999997E-2},{"$f":"元ほうれん草!J257-J$2","v":8.0000000000000002E-3},{"$f":"元ほうれん草!K257-K$2","v":4.0000000000000001E-3},{"$f":"元ほうれん草!L257-L$2","v":1E-3},{"$f":"元ほうれん草!M257-M$2","v":-3.0000000000000001E-3},{"$f":"元ほうれん草!N257-N$2","v":-4.0000000000000001E-3},{"$f":"元ほうれん草!O257-O$2","v":-1E-3},{"$f":"元ほうれん草!P257-P$2","v":3.9999999999999992E-3}]
[554,{"$f":"元ほうれん草!B258-B$2","v":3.3000000000000029E-2},{"$f":"元ほうれん草!C258-C$2","v":3.0000000000000001E-3},{"$f":"元ほうれん草!D258-D$2","v":7.0000000000000001E-3},{"$f":"元ほうれん草!E258-E$2","v":3.5999999999999997E-2},{"$f":"元ほうれん草!F258-F$2","v":4.1999999999999996E-2},{"$f":"元ほうれん草!G258-G$2","v":2.8999999999999998E-2},{"$f":"元ほうれん草!H258-H$2","v":2.1999999999999999E-2},{"$f":"元ほうれん草!I258-I$2","v":1.9000000000000003E-2},{"$f":"元ほうれん草!J258-J$2","v":8.0000000000000002E-3},{"$f":"元ほうれん草!K258-K$2","v":4.0000000000000001E-3},{"$f":"元ほうれん草!L258-L$2","v":1E-3},{"$f":"元ほうれん草!M258-M$2","v":-3.0000000000000001E-3},{"$f":"元ほうれん草!N258-N$2","v":-4.0000000000000001E-3},{"$f":"元ほうれん草!O258-O$2","v":-2E-3},{"$f":"元ほうれん草!P258-P$2","v":3.9999999999999992E-3}]
[555,{"$f":"元ほうれん草!B259-B$2","v":3.1000000000000028E-2},{"$f":"元ほうれん草!C259-C$2","v":3.0000000000000001E-3},{"$f":"元ほうれん草!D259-D$2","v":7.0000000000000001E-3},{"$f":"元ほうれん草!E259-E$2","v":3.6999999999999998E-2},{"$f":"元ほうれん草!F259-F$2","v":4.3999999999999997E-2},{"$f":"元ほうれん草!G259-G$2","v":0.03},{"$f":"元ほうれん草!H259-H$2","v":2.1999999999999999E-2},{"$f":"元ほうれん草!I259-I$2","v":1.9000000000000003E-2},{"$f":"元ほうれん草!J259-J$2","v":7.0000000000000001E-3},{"$f":"元ほうれん草!K259-K$2","v":4.0000000000000001E-3},{"$f":"元ほうれん草!L259-L$2","v":1E-3},{"$f":"元ほうれん草!M259-M$2","v":-3.0000000000000001E-3},{"$f":"元ほうれん草!N259-N$2","v":-4.0000000000000001E-3},{"$f":"元ほうれん草!O259-O$2","v":-2E-3},{"$f":"元ほうれん草!P259-P$2","v":3.9999999999999992E-3}]
[556,{"$f":"元ほうれん草!B260-B$2","v":2.9000000000000026E-2},{"$f":"元ほうれん草!C260-C$2","v":4.0000000000000001E-3},{"$f":"元ほうれん草!D260-D$2","v":8.0000000000000002E-3},{"$f":"元ほうれん草!E260-E$2","v":3.7999999999999999E-2},{"$f":"元ほうれん草!F260-F$2","v":4.5999999999999999E-2},{"$f":"元ほうれん草!G260-G$2","v":0.03},{"$f":"元ほうれん草!H260-H$2","v":2.1999999999999999E-2},{"$f":"元ほうれん草!I260-I$2","v":1.9000000000000003E-2},{"$f":"元ほうれん草!J260-J$2","v":7.0000000000000001E-3},{"$f":"元ほうれん草!K260-K$2","v":4.0000000000000001E-3},{"$f":"元ほうれん草!L260-L$2","v":1E-3},{"$f":"元ほうれん草!M260-M$2","v":-3.0000000000000001E-3},{"$f":"元ほうれん草!N260-N$2","v":-4.0000000000000001E-3},{"$f":"元ほうれん草!O260-O$2","v":-1E-3},{"$f":"元ほうれん草!P260-P$2","v":5.0000000000000001E-3}]
[557,{"$f":"元ほうれん草!B261-B$2","v":2.9000000000000026E-2},{"$f":"元ほうれん草!C261-C$2","v":3.0000000000000001E-3},{"$f":"元ほうれん草!D261-D$2","v":8.0000000000000002E-3},{"$f":"元ほうれん草!E261-E$2","v":0.04},{"$f":"元ほうれん草!F261-F$2","v":4.7E-2},{"$f":"元ほうれん草!G261-G$2","v":0.03},{"$f":"元ほうれん草!H261-H$2","v":2.1999999999999999E-2},{"$f":"元ほうれん草!I261-I$2","v":1.9000000000000003E-2},{"$f":"元ほうれん草!J261-J$2","v":7.0000000000000001E-3},{"$f":"元ほうれん草!K261-K$2","v":4.0000000000000001E-3},{"$f":"元ほうれん草!L261-L$2","v":1E-3},{"$f":"元ほうれん草!M261-M$2","v":-2E-3},{"$f":"元ほうれん草!N261-N$2","v":-3.0000000000000001E-3},{"$f":"元ほうれん草!O261-O$2","v":-1E-3},{"$f":"元ほうれん草!P261-P$2","v":5.0000000000000001E-3}]
[558,{"$f":"元ほうれん草!B262-B$2","v":2.9000000000000026E-2},{"$f":"元ほうれん草!C262-C$2","v":3.0000000000000001E-3},{"$f":"元ほうれん草!D262-D$2","v":8.0000000000000002E-3},{"$f":"元ほうれん草!E262-E$2","v":4.1999999999999996E-2},{"$f":"元ほうれん草!F262-F$2","v":0.05},{"$f":"元ほうれん草!G262-G$2","v":3.1E-2},{"$f":"元ほうれん草!H262-H$2","v":2.3E-2},{"$f":"元ほうれん草!I262-I$2","v":1.9000000000000003E-2},{"$f":"元ほうれん草!J262-J$2","v":7.0000000000000001E-3},{"$f":"元ほうれん草!K262-K$2","v":4.0000000000000001E-3},{"$f":"元ほうれん草!L262-L$2","v":2E-3},{"$f":"元ほうれん草!M262-M$2","v":-2E-3},{"$f":"元ほうれん草!N262-N$2","v":-3.0000000000000001E-3},{"$f":"元ほうれん草!O262-O$2","v":-1E-3},{"$f":"元ほうれん草!P262-P$2","v":5.0000000000000001E-3}]
[559,{"$f":"元ほうれん草!B263-B$2","v":3.0000000000000027E-2},{"$f":"元ほうれん草!C263-C$2","v":3.0000000000000001E-3},{"$f":"元ほうれん草!D263-D$2","v":8.0000000000000002E-3},{"$f":"元ほうれん草!E263-E$2","v":4.3999999999999997E-2},{"$f":"元ほうれん草!F263-F$2","v":5.2000000000000005E-2},{"$f":"元ほうれん草!G263-G$2","v":3.3000000000000002E-2},{"$f":"元ほうれん草!H263-H$2","v":2.4E-2},{"$f":"元ほうれん草!I263-I$2","v":1.9999999999999997E-2},{"$f":"元ほうれん草!J263-J$2","v":8.0000000000000002E-3},{"$f":"元ほうれん草!K263-K$2","v":4.0000000000000001E-3},{"$f":"元ほうれん草!L263-L$2","v":2E-3},{"$f":"元ほうれん草!M263-M$2","v":-2E-3},{"$f":"元ほうれん草!N263-N$2","v":-3.0000000000000001E-3},{"$f":"元ほうれん草!O263-O$2","v":-1E-3},{"$f":"元ほうれん草!P263-P$2","v":5.0000000000000001E-3}]
[560,{"$f":"元ほうれん草!B264-B$2","v":3.1000000000000028E-2},{"$f":"元ほうれん草!C264-C$2","v":3.0000000000000001E-3},{"$f":"元ほうれん草!D264-D$2","v":8.0000000000000002E-3},{"$f":"元ほうれん草!E264-E$2","v":4.5999999999999999E-2},{"$f":"元ほうれん草!F264-F$2","v":5.4999999999999993E-2},{"$f":"元ほうれん草!G264-G$2","v":3.3000000000000002E-2},{"$f":"元ほうれん草!H264-H$2","v":2.4E-2},{"$f":"元ほうれん草!I264-I$2","v":1.9999999999999997E-2},{"$f":"元ほうれん草!J264-J$2","v":8.0000000000000002E-3},{"$f":"元ほうれん草!K264-K$2","v":4.0000000000000001E-3},{"$f":"元ほうれん草!L264-L$2","v":2E-3},{"$f":"元ほうれん草!M264-M$2","v":-3.0000000000000001E-3},{"$f":"元ほうれん草!N264-N$2","v":-3.0000000000000001E-3},{"$f":"元ほうれん草!O264-O$2","v":0},{"$f":"元ほうれん草!P264-P$2","v":5.0000000000000001E-3}]
[561,{"$f":"元ほうれん草!B265-B$2","v":3.0000000000000027E-2},{"$f":"元ほうれん草!C265-C$2","v":3.0000000000000001E-3},{"$f":"元ほうれん草!D265-D$2","v":8.0000000000000002E-3},{"$f":"元ほうれん草!E265-E$2","v":4.8000000000000001E-2},{"$f":"元ほうれん草!F265-F$2","v":5.7999999999999996E-2},{"$f":"元ほうれん草!G265-G$2","v":3.4000000000000002E-2},{"$f":"元ほうれん草!H265-H$2","v":2.4E-2},{"$f":"元ほうれん草!I265-I$2","v":1.9999999999999997E-2},{"$f":"元ほうれん草!J265-J$2","v":7.0000000000000001E-3},{"$f":"元ほうれん草!K265-K$2","v":3.0000000000000001E-3},{"$f":"元ほうれん草!L265-L$2","v":1E-3},{"$f":"元ほうれん草!M265-M$2","v":-4.0000000000000001E-3},{"$f":"元ほうれん草!N265-N$2","v":-3.0000000000000001E-3},{"$f":"元ほうれん草!O265-O$2","v":-1E-3},{"$f":"元ほうれん草!P265-P$2","v":5.0000000000000001E-3}]
[562,{"$f":"元ほうれん草!B266-B$2","v":3.0000000000000027E-2},{"$f":"元ほうれん草!C266-C$2","v":3.0000000000000001E-3},{"$f":"元ほうれん草!D266-D$2","v":9.0000000000000011E-3},{"$f":"元ほうれん草!E266-E$2","v":5.0999999999999997E-2},{"$f":"元ほうれん草!F266-F$2","v":6.2E-2},{"$f":"元ほうれん草!G266-G$2","v":3.5000000000000003E-2},{"$f":"元ほうれん草!H266-H$2","v":2.6000000000000002E-2},{"$f":"元ほうれん草!I266-I$2","v":1.9999999999999997E-2},{"$f":"元ほうれん草!J266-J$2","v":7.0000000000000001E-3},{"$f":"元ほうれん草!K266-K$2","v":4.0000000000000001E-3},{"$f":"元ほうれん草!L266-L$2","v":1E-3},{"$f":"元ほうれん草!M266-M$2","v":-3.0000000000000001E-3},{"$f":"元ほうれん草!N266-N$2","v":-3.0000000000000001E-3},{"$f":"元ほうれん草!O266-O$2","v":-1E-3},{"$f":"元ほうれん草!P266-P$2","v":5.0000000000000001E-3}]
[563,{"$f":"元ほうれん草!B267-B$2","v":3.0000000000000027E-2},{"$f":"元ほうれん草!C267-C$2","v":3.0000000000000001E-3},{"$f":"元ほうれん草!D267-D$2","v":9.0000000000000011E-3},{"$f":"元ほうれん草!E267-E$2","v":5.3999999999999999E-2},{"$f":"元ほうれん草!F267-F$2","v":6.6000000000000003E-2},{"$f":"元ほうれん草!G267-G$2","v":3.6999999999999998E-2},{"$f":"元ほうれん草!H267-H$2","v":2.7000000000000003E-2},{"$f":"元ほうれん草!I267-I$2","v":2.0999999999999998E-2},{"$f":"元ほうれん草!J267-J$2","v":7.0000000000000001E-3},{"$f":"元ほうれん草!K267-K$2","v":4.0000000000000001E-3},{"$f":"元ほうれん草!L267-L$2","v":1E-3},{"$f":"元ほうれん草!M267-M$2","v":-2E-3},{"$f":"元ほうれん草!N267-N$2","v":-3.0000000000000001E-3},{"$f":"元ほうれん草!O267-O$2","v":-1E-3},{"$f":"元ほうれん草!P267-P$2","v":5.0000000000000001E-3}]
[564,{"$f":"元ほうれん草!B268-B$2","v":2.7000000000000024E-2},{"$f":"元ほうれん草!C268-C$2","v":4.0000000000000001E-3},{"$f":"元ほうれん草!D268-D$2","v":9.0000000000000011E-3},{"$f":"元ほうれん草!E268-E$2","v":5.6000000000000001E-2},{"$f":"元ほうれん草!F268-F$2","v":6.7999999999999991E-2},{"$f":"元ほうれん草!G268-G$2","v":3.6999999999999998E-2},{"$f":"元ほうれん草!H268-H$2","v":2.6000000000000002E-2},{"$f":"元ほうれん草!I268-I$2","v":1.9999999999999997E-2},{"$f":"元ほうれん草!J268-J$2","v":6.0000000000000001E-3},{"$f":"元ほうれん草!K268-K$2","v":4.0000000000000001E-3},{"$f":"元ほうれん草!L268-L$2","v":1E-3},{"$f":"元ほうれん草!M268-M$2","v":-3.0000000000000001E-3},{"$f":"元ほうれん草!N268-N$2","v":-3.0000000000000001E-3},{"$f":"元ほうれん草!O268-O$2","v":-1E-3},{"$f":"元ほうれん草!P268-P$2","v":3.9999999999999992E-3}]
[565,{"$f":"元ほうれん草!B269-B$2","v":2.6000000000000023E-2},{"$f":"元ほうれん草!C269-C$2","v":3.0000000000000001E-3},{"$f":"元ほうれん草!D269-D$2","v":8.0000000000000002E-3},{"$f":"元ほうれん草!E269-E$2","v":5.7999999999999996E-2},{"$f":"元ほうれん草!F269-F$2","v":7.0999999999999994E-2},{"$f":"元ほうれん草!G269-G$2","v":3.9E-2},{"$f":"元ほうれん草!H269-H$2","v":2.7000000000000003E-2},{"$f":"元ほうれん草!I269-I$2","v":1.9999999999999997E-2},{"$f":"元ほうれん草!J269-J$2","v":6.0000000000000001E-3},{"$f":"元ほうれん草!K269-K$2","v":3.0000000000000001E-3},{"$f":"元ほうれん草!L269-L$2","v":1E-3},{"$f":"元ほうれん草!M269-M$2","v":-3.0000000000000001E-3},{"$f":"元ほうれん草!N269-N$2","v":-2E-3},{"$f":"元ほうれん草!O269-O$2","v":-1E-3},{"$f":"元ほうれん草!P269-P$2","v":3.9999999999999992E-3}]
[566,{"$f":"元ほうれん草!B270-B$2","v":2.7000000000000024E-2},{"$f":"元ほうれん草!C270-C$2","v":3.0000000000000001E-3},{"$f":"元ほうれん草!D270-D$2","v":8.0000000000000002E-3},{"$f":"元ほうれん草!E270-E$2","v":6.0999999999999999E-2},{"$f":"元ほうれん草!F270-F$2","v":7.3999999999999996E-2},{"$f":"元ほうれん草!G270-G$2","v":0.04},{"$f":"元ほうれん草!H270-H$2","v":2.8000000000000004E-2},{"$f":"元ほうれん草!I270-I$2","v":1.9999999999999997E-2},{"$f":"元ほうれん草!J270-J$2","v":7.0000000000000001E-3},{"$f":"元ほうれん草!K270-K$2","v":4.0000000000000001E-3},{"$f":"元ほうれん草!L270-L$2","v":2E-3},{"$f":"元ほうれん草!M270-M$2","v":-2E-3},{"$f":"元ほうれん草!N270-N$2","v":-2E-3},{"$f":"元ほうれん草!O270-O$2","v":-1E-3},{"$f":"元ほうれん草!P270-P$2","v":5.0000000000000001E-3}]
[567,{"$f":"元ほうれん草!B271-B$2","v":2.8000000000000025E-2},{"$f":"元ほうれん草!C271-C$2","v":2E-3},{"$f":"元ほうれん草!D271-D$2","v":8.0000000000000002E-3},{"$f":"元ほうれん草!E271-E$2","v":6.4000000000000001E-2},{"$f":"元ほうれん草!F271-F$2","v":7.6999999999999999E-2},{"$f":"元ほうれん草!G271-G$2","v":4.1000000000000002E-2},{"$f":"元ほうれん草!H271-H$2","v":2.8000000000000004E-2},{"$f":"元ほうれん草!I271-I$2","v":1.9999999999999997E-2},{"$f":"元ほうれん草!J271-J$2","v":7.0000000000000001E-3},{"$f":"元ほうれん草!K271-K$2","v":4.0000000000000001E-3},{"$f":"元ほうれん草!L271-L$2","v":2E-3},{"$f":"元ほうれん草!M271-M$2","v":-2E-3},{"$f":"元ほうれん草!N271-N$2","v":-3.0000000000000001E-3},{"$f":"元ほうれん草!O271-O$2","v":-1E-3},{"$f":"元ほうれん草!P271-P$2","v":5.0000000000000001E-3}]
[568,{"$f":"元ほうれん草!B272-B$2","v":2.9000000000000026E-2},{"$f":"元ほうれん草!C272-C$2","v":1E-3},{"$f":"元ほうれん草!D272-D$2","v":7.0000000000000001E-3},{"$f":"元ほうれん草!E272-E$2","v":6.6000000000000003E-2},{"$f":"元ほうれん草!F272-F$2","v":0.08},{"$f":"元ほうれん草!G272-G$2","v":4.2000000000000003E-2},{"$f":"元ほうれん草!H272-H$2","v":2.8000000000000004E-2},{"$f":"元ほうれん草!I272-I$2","v":2.0999999999999998E-2},{"$f":"元ほうれん草!J272-J$2","v":8.0000000000000002E-3},{"$f":"元ほうれん草!K272-K$2","v":4.0000000000000001E-3},{"$f":"元ほうれん草!L272-L$2","v":2E-3},{"$f":"元ほうれん草!M272-M$2","v":-3.0000000000000001E-3},{"$f":"元ほうれん草!N272-N$2","v":-3.0000000000000001E-3},{"$f":"元ほうれん草!O272-O$2","v":-1E-3},{"$f":"元ほうれん草!P272-P$2","v":5.0000000000000001E-3}]
[569,{"$f":"元ほうれん草!B273-B$2","v":3.1000000000000028E-2},{"$f":"元ほうれん草!C273-C$2","v":2E-3},{"$f":"元ほうれん草!D273-D$2","v":7.0000000000000001E-3},{"$f":"元ほうれん草!E273-E$2","v":6.8000000000000005E-2},{"$f":"元ほうれん草!F273-F$2","v":8.299999999999999E-2},{"$f":"元ほうれん草!G273-G$2","v":4.2000000000000003E-2},{"$f":"元ほうれん草!H273-H$2","v":2.8000000000000004E-2},{"$f":"元ほうれん草!I273-I$2","v":2.0999999999999998E-2},{"$f":"元ほうれん草!J273-J$2","v":8.0000000000000002E-3},{"$f":"元ほうれん草!K273-K$2","v":4.0000000000000001E-3},{"$f":"元ほうれん草!L273-L$2","v":2E-3},{"$f":"元ほうれん草!M273-M$2","v":-3.0000000000000001E-3},{"$f":"元ほうれん草!N273-N$2","v":-4.0000000000000001E-3},{"$f":"元ほうれん草!O273-O$2","v":-2E-3},{"$f":"元ほうれん草!P273-P$2","v":5.0000000000000001E-3}]
[570,{"$f":"元ほうれん草!B274-B$2","v":3.2000000000000028E-2},{"$f":"元ほうれん草!C274-C$2","v":1E-3},{"$f":"元ほうれん草!D274-D$2","v":7.0000000000000001E-3},{"$f":"元ほうれん草!E274-E$2","v":6.8999999999999992E-2},{"$f":"元ほうれん草!F274-F$2","v":8.3999999999999991E-2},{"$f":"元ほうれん草!G274-G$2","v":4.1000000000000002E-2},{"$f":"元ほうれん草!H274-H$2","v":2.7000000000000003E-2},{"$f":"元ほうれん草!I274-I$2","v":1.9999999999999997E-2},{"$f":"元ほうれん草!J274-J$2","v":7.0000000000000001E-3},{"$f":"元ほうれん草!K274-K$2","v":4.0000000000000001E-3},{"$f":"元ほうれん草!L274-L$2","v":0},{"$f":"元ほうれん草!M274-M$2","v":-4.0000000000000001E-3},{"$f":"元ほうれん草!N274-N$2","v":-5.0000000000000001E-3},{"$f":"元ほうれん草!O274-O$2","v":-2E-3},{"$f":"元ほうれん草!P274-P$2","v":3.0000000000000001E-3}]
[571,{"$f":"元ほうれん草!B275-B$2","v":3.2000000000000028E-2},{"$f":"元ほうれん草!C275-C$2","v":1E-3},{"$f":"元ほうれん草!D275-D$2","v":6.0000000000000001E-3},{"$f":"元ほうれん草!E275-E$2","v":7.0999999999999994E-2},{"$f":"元ほうれん草!F275-F$2","v":8.5999999999999993E-2},{"$f":"元ほうれん草!G275-G$2","v":4.1000000000000002E-2},{"$f":"元ほうれん草!H275-H$2","v":2.6000000000000002E-2},{"$f":"元ほうれん草!I275-I$2","v":1.9000000000000003E-2},{"$f":"元ほうれん草!J275-J$2","v":7.0000000000000001E-3},{"$f":"元ほうれん草!K275-K$2","v":3.0000000000000001E-3},{"$f":"元ほうれん草!L275-L$2","v":-1E-3},{"$f":"元ほうれん草!M275-M$2","v":-4.0000000000000001E-3},{"$f":"元ほうれん草!N275-N$2","v":-5.0000000000000001E-3},{"$f":"元ほうれん草!O275-O$2","v":-3.0000000000000001E-3},{"$f":"元ほうれん草!P275-P$2","v":3.0000000000000001E-3}]
[572,{"$f":"元ほうれん草!B276-B$2","v":3.2000000000000028E-2},{"$f":"元ほうれん草!C276-C$2","v":1E-3},{"$f":"元ほうれん草!D276-D$2","v":5.0000000000000001E-3},{"$f":"元ほうれん草!E276-E$2","v":7.2999999999999995E-2},{"$f":"元ほうれん草!F276-F$2","v":8.7999999999999995E-2},{"$f":"元ほうれん草!G276-G$2","v":4.2000000000000003E-2},{"$f":"元ほうれん草!H276-H$2","v":2.7000000000000003E-2},{"$f":"元ほうれん草!I276-I$2","v":1.9000000000000003E-2},{"$f":"元ほうれん草!J276-J$2","v":7.0000000000000001E-3},{"$f":"元ほうれん草!K276-K$2","v":3.0000000000000001E-3},{"$f":"元ほうれん草!L276-L$2","v":-2E-3},{"$f":"元ほうれん草!M276-M$2","v":-5.0000000000000001E-3},{"$f":"元ほうれん草!N276-N$2","v":-6.0000000000000001E-3},{"$f":"元ほうれん草!O276-O$2","v":-4.0000000000000001E-3},{"$f":"元ほうれん草!P276-P$2","v":3.0000000000000001E-3}]
[573,{"$f":"元ほうれん草!B277-B$2","v":3.3000000000000029E-2},{"$f":"元ほうれん草!C277-C$2","v":0},{"$f":"元ほうれん草!D277-D$2","v":5.0000000000000001E-3},{"$f":"元ほうれん草!E277-E$2","v":7.3999999999999996E-2},{"$f":"元ほうれん草!F277-F$2","v":0.09},{"$f":"元ほうれん草!G277-G$2","v":4.2000000000000003E-2},{"$f":"元ほうれん草!H277-H$2","v":2.7000000000000003E-2},{"$f":"元ほうれん草!I277-I$2","v":1.9000000000000003E-2},{"$f":"元ほうれん草!J277-J$2","v":7.0000000000000001E-3},{"$f":"元ほうれん草!K277-K$2","v":3.0000000000000001E-3},{"$f":"元ほうれん草!L277-L$2","v":-1E-3},{"$f":"元ほうれん草!M277-M$2","v":-5.0000000000000001E-3},{"$f":"元ほうれん草!N277-N$2","v":-5.0000000000000001E-3},{"$f":"元ほうれん草!O277-O$2","v":-3.0000000000000001E-3},{"$f":"元ほうれん草!P277-P$2","v":3.0000000000000001E-3}]
[574,{"$f":"元ほうれん草!B278-B$2","v":3.400000000000003E-2},{"$f":"元ほうれん草!C278-C$2","v":2E-3},{"$f":"元ほうれん草!D278-D$2","v":5.0000000000000001E-3},{"$f":"元ほうれん草!E278-E$2","v":7.6999999999999999E-2},{"$f":"元ほうれん草!F278-F$2","v":9.2999999999999999E-2},{"$f":"元ほうれん草!G278-G$2","v":4.3000000000000003E-2},{"$f":"元ほうれん草!H278-H$2","v":2.7000000000000003E-2},{"$f":"元ほうれん草!I278-I$2","v":1.9999999999999997E-2},{"$f":"元ほうれん草!J278-J$2","v":7.0000000000000001E-3},{"$f":"元ほうれん草!K278-K$2","v":3.0000000000000001E-3},{"$f":"元ほうれん草!L278-L$2","v":-1E-3},{"$f":"元ほうれん草!M278-M$2","v":-4.0000000000000001E-3},{"$f":"元ほうれん草!N278-N$2","v":-5.0000000000000001E-3},{"$f":"元ほうれん草!O278-O$2","v":-3.0000000000000001E-3},{"$f":"元ほうれん草!P278-P$2","v":3.0000000000000001E-3}]
[575,{"$f":"元ほうれん草!B279-B$2","v":3.400000000000003E-2},{"$f":"元ほうれん草!C279-C$2","v":2E-3},{"$f":"元ほうれん草!D279-D$2","v":5.0000000000000001E-3},{"$f":"元ほうれん草!E279-E$2","v":7.8E-2},{"$f":"元ほうれん草!F279-F$2","v":9.5000000000000001E-2},{"$f":"元ほうれん草!G279-G$2","v":4.3999999999999997E-2},{"$f":"元ほうれん草!H279-H$2","v":2.7000000000000003E-2},{"$f":"元ほうれん草!I279-I$2","v":1.9999999999999997E-2},{"$f":"元ほうれん草!J279-J$2","v":7.0000000000000001E-3},{"$f":"元ほうれん草!K279-K$2","v":3.0000000000000001E-3},{"$f":"元ほうれん草!L279-L$2","v":-1E-3},{"$f":"元ほうれん草!M279-M$2","v":-4.0000000000000001E-3},{"$f":"元ほうれん草!N279-N$2","v":-5.0000000000000001E-3},{"$f":"元ほうれん草!O279-O$2","v":-3.0000000000000001E-3},{"$f":"元ほうれん草!P279-P$2","v":3.0000000000000001E-3}]
[576,{"$f":"元ほうれん草!B280-B$2","v":3.5000000000000031E-2},{"$f":"元ほうれん草!C280-C$2","v":0},{"$f":"元ほうれん草!D280-D$2","v":4.0000000000000001E-3},{"$f":"元ほうれん草!E280-E$2","v":7.8E-2},{"$f":"元ほうれん草!F280-F$2","v":9.6000000000000002E-2},{"$f":"元ほうれん草!G280-G$2","v":4.3999999999999997E-2},{"$f":"元ほうれん草!H280-H$2","v":2.6000000000000002E-2},{"$f":"元ほうれん草!I280-I$2","v":1.9999999999999997E-2},{"$f":"元ほうれん草!J280-J$2","v":6.0000000000000001E-3},{"$f":"元ほうれん草!K280-K$2","v":3.0000000000000001E-3},{"$f":"元ほうれん草!L280-L$2","v":-2E-3},{"$f":"元ほうれん草!M280-M$2","v":-5.0000000000000001E-3},{"$f":"元ほうれん草!N280-N$2","v":-6.0000000000000001E-3},{"$f":"元ほうれん草!O280-O$2","v":-4.0000000000000001E-3},{"$f":"元ほうれん草!P280-P$2","v":1.9999999999999992E-3}]
[577,{"$f":"元ほうれん草!B281-B$2","v":3.6000000000000032E-2},{"$f":"元ほうれん草!C281-C$2","v":1E-3},{"$f":"元ほうれん草!D281-D$2","v":5.0000000000000001E-3},{"$f":"元ほうれん草!E281-E$2","v":0.08},{"$f":"元ほうれん草!F281-F$2","v":9.799999999999999E-2},{"$f":"元ほうれん草!G281-G$2","v":4.3999999999999997E-2},{"$f":"元ほうれん草!H281-H$2","v":2.7000000000000003E-2},{"$f":"元ほうれん草!I281-I$2","v":1.9999999999999997E-2},{"$f":"元ほうれん草!J281-J$2","v":7.0000000000000001E-3},{"$f":"元ほうれん草!K281-K$2","v":3.0000000000000001E-3},{"$f":"元ほうれん草!L281-L$2","v":-2E-3},{"$f":"元ほうれん草!M281-M$2","v":-5.0000000000000001E-3},{"$f":"元ほうれん草!N281-N$2","v":-6.0000000000000001E-3},{"$f":"元ほうれん草!O281-O$2","v":-4.0000000000000001E-3},{"$f":"元ほうれん草!P281-P$2","v":3.0000000000000001E-3}]
[578,{"$f":"元ほうれん草!B282-B$2","v":3.5000000000000031E-2},{"$f":"元ほうれん草!C282-C$2","v":1E-3},{"$f":"元ほうれん草!D282-D$2","v":5.0000000000000001E-3},{"$f":"元ほうれん草!E282-E$2","v":8.2000000000000003E-2},{"$f":"元ほうれん草!F282-F$2","v":9.9999999999999992E-2},{"$f":"元ほうれん草!G282-G$2","v":4.4999999999999998E-2},{"$f":"元ほうれん草!H282-H$2","v":2.7000000000000003E-2},{"$f":"元ほうれん草!I282-I$2","v":1.9999999999999997E-2},{"$f":"元ほうれん草!J282-J$2","v":7.0000000000000001E-3},{"$f":"元ほうれん草!K282-K$2","v":2E-3},{"$f":"元ほうれん草!L282-L$2","v":-2E-3},{"$f":"元ほうれん草!M282-M$2","v":-5.0000000000000001E-3},{"$f":"元ほうれん草!N282-N$2","v":-6.0000000000000001E-3},{"$f":"元ほうれん草!O282-O$2","v":-3.0000000000000001E-3},{"$f":"元ほうれん草!P282-P$2","v":3.0000000000000001E-3}]
[579,{"$f":"元ほうれん草!B283-B$2","v":3.400000000000003E-2},{"$f":"元ほうれん草!C283-C$2","v":1E-3},{"$f":"元ほうれん草!D283-D$2","v":5.0000000000000001E-3},{"$f":"元ほうれん草!E283-E$2","v":8.2000000000000003E-2},{"$f":"元ほうれん草!F283-F$2","v":0.10099999999999999},{"$f":"元ほうれん草!G283-G$2","v":4.4999999999999998E-2},{"$f":"元ほうれん草!H283-H$2","v":2.8000000000000004E-2},{"$f":"元ほうれん草!I283-I$2","v":1.9999999999999997E-2},{"$f":"元ほうれん草!J283-J$2","v":6.0000000000000001E-3},{"$f":"元ほうれん草!K283-K$2","v":1E-3},{"$f":"元ほうれん草!L283-L$2","v":-2E-3},{"$f":"元ほうれん草!M283-M$2","v":-5.0000000000000001E-3},{"$f":"元ほうれん草!N283-N$2","v":-6.0000000000000001E-3},{"$f":"元ほうれん草!O283-O$2","v":-3.0000000000000001E-3},{"$f":"元ほうれん草!P283-P$2","v":1.9999999999999992E-3}]
[580,{"$f":"元ほうれん草!B284-B$2","v":3.7000000000000033E-2},{"$f":"元ほうれん草!C284-C$2","v":0},{"$f":"元ほうれん草!D284-D$2","v":4.0000000000000001E-3},{"$f":"元ほうれん草!E284-E$2","v":8.2000000000000003E-2},{"$f":"元ほうれん草!F284-F$2","v":9.9999999999999992E-2},{"$f":"元ほうれん草!G284-G$2","v":4.4999999999999998E-2},{"$f":"元ほうれん草!H284-H$2","v":2.9000000000000005E-2},{"$f":"元ほうれん草!I284-I$2","v":1.9999999999999997E-2},{"$f":"元ほうれん草!J284-J$2","v":6.0000000000000001E-3},{"$f":"元ほうれん草!K284-K$2","v":3.0000000000000001E-3},{"$f":"元ほうれん草!L284-L$2","v":-2E-3},{"$f":"元ほうれん草!M284-M$2","v":-5.0000000000000001E-3},{"$f":"元ほうれん草!N284-N$2","v":-6.0000000000000001E-3},{"$f":"元ほうれん草!O284-O$2","v":-3.0000000000000001E-3},{"$f":"元ほうれん草!P284-P$2","v":1.9999999999999992E-3}]
[581,{"$f":"元ほうれん草!B285-B$2","v":3.6000000000000032E-2},{"$f":"元ほうれん草!C285-C$2","v":0},{"$f":"元ほうれん草!D285-D$2","v":4.0000000000000001E-3},{"$f":"元ほうれん草!E285-E$2","v":8.1000000000000003E-2},{"$f":"元ほうれん草!F285-F$2","v":9.9999999999999992E-2},{"$f":"元ほうれん草!G285-G$2","v":4.5999999999999999E-2},{"$f":"元ほうれん草!H285-H$2","v":2.8000000000000004E-2},{"$f":"元ほうれん草!I285-I$2","v":1.9999999999999997E-2},{"$f":"元ほうれん草!J285-J$2","v":7.0000000000000001E-3},{"$f":"元ほうれん草!K285-K$2","v":3.0000000000000001E-3},{"$f":"元ほうれん草!L285-L$2","v":-3.0000000000000001E-3},{"$f":"元ほうれん草!M285-M$2","v":-5.0000000000000001E-3},{"$f":"元ほうれん草!N285-N$2","v":-6.0000000000000001E-3},{"$f":"元ほうれん草!O285-O$2","v":-5.0000000000000001E-3},{"$f":"元ほうれん草!P285-P$2","v":1.9999999999999992E-3}]
[582,{"$f":"元ほうれん草!B286-B$2","v":3.3000000000000029E-2},{"$f":"元ほうれん草!C286-C$2","v":1E-3},{"$f":"元ほうれん草!D286-D$2","v":5.0000000000000001E-3},{"$f":"元ほうれん草!E286-E$2","v":8.1000000000000003E-2},{"$f":"元ほうれん草!F286-F$2","v":9.8999999999999991E-2},{"$f":"元ほうれん草!G286-G$2","v":4.7E-2},{"$f":"元ほうれん草!H286-H$2","v":2.9000000000000005E-2},{"$f":"元ほうれん草!I286-I$2","v":1.9999999999999997E-2},{"$f":"元ほうれん草!J286-J$2","v":6.0000000000000001E-3},{"$f":"元ほうれん草!K286-K$2","v":2E-3},{"$f":"元ほうれん草!L286-L$2","v":-3.0000000000000001E-3},{"$f":"元ほうれん草!M286-M$2","v":-5.0000000000000001E-3},{"$f":"元ほうれん草!N286-N$2","v":-6.0000000000000001E-3},{"$f":"元ほうれん草!O286-O$2","v":-4.0000000000000001E-3},{"$f":"元ほうれん草!P286-P$2","v":1E-3}]
[583,{"$f":"元ほうれん草!B287-B$2","v":3.2000000000000028E-2},{"$f":"元ほうれん草!C287-C$2","v":0},{"$f":"元ほうれん草!D287-D$2","v":4.0000000000000001E-3},{"$f":"元ほうれん草!E287-E$2","v":0.08},{"$f":"元ほうれん草!F287-F$2","v":9.8999999999999991E-2},{"$f":"元ほうれん草!G287-G$2","v":4.8000000000000001E-2},{"$f":"元ほうれん草!H287-H$2","v":0.03},{"$f":"元ほうれん草!I287-I$2","v":2.0999999999999998E-2},{"$f":"元ほうれん草!J287-J$2","v":6.0000000000000001E-3},{"$f":"元ほうれん草!K287-K$2","v":1E-3},{"$f":"元ほうれん草!L287-L$2","v":-3.0000000000000001E-3},{"$f":"元ほうれん草!M287-M$2","v":-5.0000000000000001E-3},{"$f":"元ほうれん草!N287-N$2","v":-6.0000000000000001E-3},{"$f":"元ほうれん草!O287-O$2","v":-4.0000000000000001E-3},{"$f":"元ほうれん草!P287-P$2","v":1E-3}]
[584,{"$f":"元ほうれん草!B288-B$2","v":3.400000000000003E-2},{"$f":"元ほうれん草!C288-C$2","v":0},{"$f":"元ほうれん草!D288-D$2","v":4.0000000000000001E-3},{"$f":"元ほうれん草!E288-E$2","v":7.8E-2},{"$f":"元ほうれん草!F288-F$2","v":9.7000000000000003E-2},{"$f":"元ほうれん草!G288-G$2","v":4.8000000000000001E-2},{"$f":"元ほうれん草!H288-H$2","v":3.1E-2},{"$f":"元ほうれん草!I288-I$2","v":2.0999999999999998E-2},{"$f":"元ほうれん草!J288-J$2","v":7.0000000000000001E-3},{"$f":"元ほうれん草!K288-K$2","v":2E-3},{"$f":"元ほうれん草!L288-L$2","v":-2E-3},{"$f":"元ほうれん草!M288-M$2","v":-5.0000000000000001E-3},{"$f":"元ほうれん草!N288-N$2","v":-6.0000000000000001E-3},{"$f":"元ほうれん草!O288-O$2","v":-4.0000000000000001E-3},{"$f":"元ほうれん草!P288-P$2","v":1.9999999999999992E-3}]
[585,{"$f":"元ほうれん草!B289-B$2","v":3.400000000000003E-2},{"$f":"元ほうれん草!C289-C$2","v":1E-3},{"$f":"元ほうれん草!D289-D$2","v":5.0000000000000001E-3},{"$f":"元ほうれん草!E289-E$2","v":7.6999999999999999E-2},{"$f":"元ほうれん草!F289-F$2","v":9.6000000000000002E-2},{"$f":"元ほうれん草!G289-G$2","v":4.9000000000000002E-2},{"$f":"元ほうれん草!H289-H$2","v":3.3000000000000002E-2},{"$f":"元ほうれん草!I289-I$2","v":2.1999999999999999E-2},{"$f":"元ほうれん草!J289-J$2","v":8.0000000000000002E-3},{"$f":"元ほうれん草!K289-K$2","v":3.0000000000000001E-3},{"$f":"元ほうれん草!L289-L$2","v":-2E-3},{"$f":"元ほうれん草!M289-M$2","v":-4.0000000000000001E-3},{"$f":"元ほうれん草!N289-N$2","v":-5.0000000000000001E-3},{"$f":"元ほうれん草!O289-O$2","v":-3.0000000000000001E-3},{"$f":"元ほうれん草!P289-P$2","v":1.9999999999999992E-3}]
[586,{"$f":"元ほうれん草!B290-B$2","v":3.2000000000000028E-2},{"$f":"元ほうれん草!C290-C$2","v":1E-3},{"$f":"元ほうれん草!D290-D$2","v":6.0000000000000001E-3},{"$f":"元ほうれん草!E290-E$2","v":7.5999999999999998E-2},{"$f":"元ほうれん草!F290-F$2","v":9.4E-2},{"$f":"元ほうれん草!G290-G$2","v":4.9000000000000002E-2},{"$f":"元ほうれん草!H290-H$2","v":3.5000000000000003E-2},{"$f":"元ほうれん草!I290-I$2","v":2.1999999999999999E-2},{"$f":"元ほうれん草!J290-J$2","v":7.0000000000000001E-3},{"$f":"元ほうれん草!K290-K$2","v":3.0000000000000001E-3},{"$f":"元ほうれん草!L290-L$2","v":-2E-3},{"$f":"元ほうれん草!M290-M$2","v":-4.0000000000000001E-3},{"$f":"元ほうれん草!N290-N$2","v":-5.0000000000000001E-3},{"$f":"元ほうれん草!O290-O$2","v":-3.0000000000000001E-3},{"$f":"元ほうれん草!P290-P$2","v":1.9999999999999992E-3}]
[587,{"$f":"元ほうれん草!B291-B$2","v":3.1000000000000028E-2},{"$f":"元ほうれん草!C291-C$2","v":0},{"$f":"元ほうれん草!D291-D$2","v":5.0000000000000001E-3},{"$f":"元ほうれん草!E291-E$2","v":7.3999999999999996E-2},{"$f":"元ほうれん草!F291-F$2","v":9.1999999999999998E-2},{"$f":"元ほうれん草!G291-G$2","v":0.05},{"$f":"元ほうれん草!H291-H$2","v":3.5000000000000003E-2},{"$f":"元ほうれん草!I291-I$2","v":2.1999999999999999E-2},{"$f":"元ほうれん草!J291-J$2","v":7.0000000000000001E-3},{"$f":"元ほうれん草!K291-K$2","v":3.0000000000000001E-3},{"$f":"元ほうれん草!L291-L$2","v":-1E-3},{"$f":"元ほうれん草!M291-M$2","v":-4.0000000000000001E-3},{"$f":"元ほうれん草!N291-N$2","v":-5.0000000000000001E-3},{"$f":"元ほうれん草!O291-O$2","v":-3.0000000000000001E-3},{"$f":"元ほうれん草!P291-P$2","v":1.9999999999999992E-3}]
[588,{"$f":"元ほうれん草!B292-B$2","v":2.9000000000000026E-2},{"$f":"元ほうれん草!C292-C$2","v":1E-3},{"$f":"元ほうれん草!D292-D$2","v":6.0000000000000001E-3},{"$f":"元ほうれん草!E292-E$2","v":7.1999999999999995E-2},{"$f":"元ほうれん草!F292-F$2","v":0.09},{"$f":"元ほうれん草!G292-G$2","v":5.1000000000000004E-2},{"$f":"元ほうれん草!H292-H$2","v":3.6000000000000004E-2},{"$f":"元ほうれん草!I292-I$2","v":2.3E-2},{"$f":"元ほうれん草!J292-J$2","v":7.0000000000000001E-3},{"$f":"元ほうれん草!K292-K$2","v":3.0000000000000001E-3},{"$f":"元ほうれん草!L292-L$2","v":-1E-3},{"$f":"元ほうれん草!M292-M$2","v":-4.0000000000000001E-3},{"$f":"元ほうれん草!N292-N$2","v":-5.0000000000000001E-3},{"$f":"元ほうれん草!O292-O$2","v":-3.0000000000000001E-3},{"$f":"元ほうれん草!P292-P$2","v":1.9999999999999992E-3}]
[589,{"$f":"元ほうれん草!B293-B$2","v":2.8000000000000025E-2},{"$f":"元ほうれん草!C293-C$2","v":1E-3},{"$f":"元ほうれん草!D293-D$2","v":6.0000000000000001E-3},{"$f":"元ほうれん草!E293-E$2","v":7.0999999999999994E-2},{"$f":"元ほうれん草!F293-F$2","v":0.09},{"$f":"元ほうれん草!G293-G$2","v":5.1999999999999998E-2},{"$f":"元ほうれん草!H293-H$2","v":3.7999999999999999E-2},{"$f":"元ほうれん草!I293-I$2","v":2.3E-2},{"$f":"元ほうれん草!J293-J$2","v":7.0000000000000001E-3},{"$f":"元ほうれん草!K293-K$2","v":3.0000000000000001E-3},{"$f":"元ほうれん草!L293-L$2","v":0},{"$f":"元ほうれん草!M293-M$2","v":-3.0000000000000001E-3},{"$f":"元ほうれん草!N293-N$2","v":-5.0000000000000001E-3},{"$f":"元ほうれん草!O293-O$2","v":-3.0000000000000001E-3},{"$f":"元ほうれん草!P293-P$2","v":3.0000000000000001E-3}]
[590,{"$f":"元ほうれん草!B294-B$2","v":2.7000000000000024E-2},{"$f":"元ほうれん草!C294-C$2","v":1E-3},{"$f":"元ほうれん草!D294-D$2","v":7.0000000000000001E-3},{"$f":"元ほうれん草!E294-E$2","v":6.9999999999999993E-2},{"$f":"元ほうれん草!F294-F$2","v":8.8999999999999996E-2},{"$f":"元ほうれん草!G294-G$2","v":5.2999999999999999E-2},{"$f":"元ほうれん草!H294-H$2","v":3.9E-2},{"$f":"元ほうれん草!I294-I$2","v":2.3E-2},{"$f":"元ほうれん草!J294-J$2","v":7.0000000000000001E-3},{"$f":"元ほうれん草!K294-K$2","v":3.0000000000000001E-3},{"$f":"元ほうれん草!L294-L$2","v":0},{"$f":"元ほうれん草!M294-M$2","v":-4.0000000000000001E-3},{"$f":"元ほうれん草!N294-N$2","v":-4.0000000000000001E-3},{"$f":"元ほうれん草!O294-O$2","v":-2E-3},{"$f":"元ほうれん草!P294-P$2","v":3.0000000000000001E-3}]
[591,{"$f":"元ほうれん草!B295-B$2","v":2.8000000000000025E-2},{"$f":"元ほうれん草!C295-C$2","v":1E-3},{"$f":"元ほうれん草!D295-D$2","v":7.0000000000000001E-3},{"$f":"元ほうれん草!E295-E$2","v":6.9999999999999993E-2},{"$f":"元ほうれん草!F295-F$2","v":8.7999999999999995E-2},{"$f":"元ほうれん草!G295-G$2","v":5.3999999999999999E-2},{"$f":"元ほうれん草!H295-H$2","v":0.04},{"$f":"元ほうれん草!I295-I$2","v":2.4E-2},{"$f":"元ほうれん草!J295-J$2","v":8.0000000000000002E-3},{"$f":"元ほうれん草!K295-K$2","v":4.0000000000000001E-3},{"$f":"元ほうれん草!L295-L$2","v":0},{"$f":"元ほうれん草!M295-M$2","v":-3.0000000000000001E-3},{"$f":"元ほうれん草!N295-N$2","v":-3.0000000000000001E-3},{"$f":"元ほうれん草!O295-O$2","v":-2E-3},{"$f":"元ほうれん草!P295-P$2","v":1.9999999999999992E-3}]
[592,{"$f":"元ほうれん草!B296-B$2","v":3.1000000000000028E-2},{"$f":"元ほうれん草!C296-C$2","v":1E-3},{"$f":"元ほうれん草!D296-D$2","v":7.0000000000000001E-3},{"$f":"元ほうれん草!E296-E$2","v":6.8999999999999992E-2},{"$f":"元ほうれん草!F296-F$2","v":8.6999999999999994E-2},{"$f":"元ほうれん草!G296-G$2","v":5.3999999999999999E-2},{"$f":"元ほうれん草!H296-H$2","v":0.04},{"$f":"元ほうれん草!I296-I$2","v":2.4E-2},{"$f":"元ほうれん草!J296-J$2","v":9.0000000000000011E-3},{"$f":"元ほうれん草!K296-K$2","v":4.0000000000000001E-3},{"$f":"元ほうれん草!L296-L$2","v":0},{"$f":"元ほうれん草!M296-M$2","v":-3.0000000000000001E-3},{"$f":"元ほうれん草!N296-N$2","v":-4.0000000000000001E-3},{"$f":"元ほうれん草!O296-O$2","v":-2E-3},{"$f":"元ほうれん草!P296-P$2","v":3.0000000000000001E-3}]
[593,{"$f":"元ほうれん草!B297-B$2","v":3.0000000000000027E-2},{"$f":"元ほうれん草!C297-C$2","v":2E-3},{"$f":"元ほうれん草!D297-D$2","v":8.0000000000000002E-3},{"$f":"元ほうれん草!E297-E$2","v":6.9999999999999993E-2},{"$f":"元ほうれん草!F297-F$2","v":8.6999999999999994E-2},{"$f":"元ほうれん草!G297-G$2","v":5.3999999999999999E-2},{"$f":"元ほうれん草!H297-H$2","v":0.04},{"$f":"元ほうれん草!I297-I$2","v":2.4E-2},{"$f":"元ほうれん草!J297-J$2","v":8.0000000000000002E-3},{"$f":"元ほうれん草!K297-K$2","v":3.0000000000000001E-3},{"$f":"元ほうれん草!L297-L$2","v":-1E-3},{"$f":"元ほうれん草!M297-M$2","v":-4.0000000000000001E-3},{"$f":"元ほうれん草!N297-N$2","v":-4.0000000000000001E-3},{"$f":"元ほうれん草!O297-O$2","v":-2E-3},{"$f":"元ほうれん草!P297-P$2","v":1.9999999999999992E-3}]
[594,{"$f":"元ほうれん草!B298-B$2","v":2.7000000000000024E-2},{"$f":"元ほうれん草!C298-C$2","v":2E-3},{"$f":"元ほうれん草!D298-D$2","v":9.0000000000000011E-3},{"$f":"元ほうれん草!E298-E$2","v":7.0999999999999994E-2},{"$f":"元ほうれん草!F298-F$2","v":0.09},{"$f":"元ほうれん草!G298-G$2","v":5.6000000000000001E-2},{"$f":"元ほうれん草!H298-H$2","v":4.1000000000000002E-2},{"$f":"元ほうれん草!I298-I$2","v":2.4E-2},{"$f":"元ほうれん草!J298-J$2","v":7.0000000000000001E-3},{"$f":"元ほうれん草!K298-K$2","v":3.0000000000000001E-3},{"$f":"元ほうれん草!L298-L$2","v":0},{"$f":"元ほうれん草!M298-M$2","v":-3.0000000000000001E-3},{"$f":"元ほうれん草!N298-N$2","v":-3.0000000000000001E-3},{"$f":"元ほうれん草!O298-O$2","v":-2E-3},{"$f":"元ほうれん草!P298-P$2","v":1.9999999999999992E-3}]
[595,{"$f":"元ほうれん草!B299-B$2","v":2.6000000000000023E-2},{"$f":"元ほうれん草!C299-C$2","v":2E-3},{"$f":"元ほうれん草!D299-D$2","v":9.9999999999999985E-3},{"$f":"元ほうれん草!E299-E$2","v":7.2999999999999995E-2},{"$f":"元ほうれん草!F299-F$2","v":9.1999999999999998E-2},{"$f":"元ほうれん草!G299-G$2","v":5.7000000000000002E-2},{"$f":"元ほうれん草!H299-H$2","v":4.2000000000000003E-2},{"$f":"元ほうれん草!I299-I$2","v":2.4E-2},{"$f":"元ほうれん草!J299-J$2","v":7.0000000000000001E-3},{"$f":"元ほうれん草!K299-K$2","v":4.0000000000000001E-3},{"$f":"元ほうれん草!L299-L$2","v":0},{"$f":"元ほうれん草!M299-M$2","v":-2E-3},{"$f":"元ほうれん草!N299-N$2","v":-3.0000000000000001E-3},{"$f":"元ほうれん草!O299-O$2","v":-1E-3},{"$f":"元ほうれん草!P299-P$2","v":1.9999999999999992E-3}]
[596,{"$f":"元ほうれん草!B300-B$2","v":2.5000000000000022E-2},{"$f":"元ほうれん草!C300-C$2","v":2E-3},{"$f":"元ほうれん草!D300-D$2","v":1.0999999999999999E-2},{"$f":"元ほうれん草!E300-E$2","v":7.5999999999999998E-2},{"$f":"元ほうれん草!F300-F$2","v":9.6000000000000002E-2},{"$f":"元ほうれん草!G300-G$2","v":5.7000000000000002E-2},{"$f":"元ほうれん草!H300-H$2","v":4.3000000000000003E-2},{"$f":"元ほうれん草!I300-I$2","v":2.4E-2},{"$f":"元ほうれん草!J300-J$2","v":8.0000000000000002E-3},{"$f":"元ほうれん草!K300-K$2","v":4.0000000000000001E-3},{"$f":"元ほうれん草!L300-L$2","v":0},{"$f":"元ほうれん草!M300-M$2","v":-2E-3},{"$f":"元ほうれん草!N300-N$2","v":-2E-3},{"$f":"元ほうれん草!O300-O$2","v":0},{"$f":"元ほうれん草!P300-P$2","v":3.0000000000000001E-3}]
[597,{"$f":"元ほうれん草!B301-B$2","v":2.7000000000000024E-2},{"$f":"元ほうれん草!C301-C$2","v":1E-3},{"$f":"元ほうれん草!D301-D$2","v":1.0999999999999999E-2},{"$f":"元ほうれん草!E301-E$2","v":7.9000000000000001E-2},{"$f":"元ほうれん草!F301-F$2","v":9.8999999999999991E-2},{"$f":"元ほうれん草!G301-G$2","v":5.7000000000000002E-2},{"$f":"元ほうれん草!H301-H$2","v":4.2000000000000003E-2},{"$f":"元ほうれん草!I301-I$2","v":2.4E-2},{"$f":"元ほうれん草!J301-J$2","v":8.0000000000000002E-3},{"$f":"元ほうれん草!K301-K$2","v":4.0000000000000001E-3},{"$f":"元ほうれん草!L301-L$2","v":0},{"$f":"元ほうれん草!M301-M$2","v":-4.0000000000000001E-3},{"$f":"元ほうれん草!N301-N$2","v":-4.0000000000000001E-3},{"$f":"元ほうれん草!O301-O$2","v":-2E-3},{"$f":"元ほうれん草!P301-P$2","v":3.0000000000000001E-3}]
[598,{"$f":"元ほうれん草!B302-B$2","v":2.9000000000000026E-2},{"$f":"元ほうれん草!C302-C$2","v":1E-3},{"$f":"元ほうれん草!D302-D$2","v":1.0999999999999999E-2},{"$f":"元ほうれん草!E302-E$2","v":8.2000000000000003E-2},{"$f":"元ほうれん草!F302-F$2","v":0.10299999999999999},{"$f":"元ほうれん草!G302-G$2","v":5.7000000000000002E-2},{"$f":"元ほうれん草!H302-H$2","v":4.1000000000000002E-2},{"$f":"元ほうれん草!I302-I$2","v":2.4E-2},{"$f":"元ほうれん草!J302-J$2","v":8.0000000000000002E-3},{"$f":"元ほうれん草!K302-K$2","v":4.0000000000000001E-3},{"$f":"元ほうれん草!L302-L$2","v":0},{"$f":"元ほうれん草!M302-M$2","v":-4.0000000000000001E-3},{"$f":"元ほうれん草!N302-N$2","v":-5.0000000000000001E-3},{"$f":"元ほうれん草!O302-O$2","v":-2E-3},{"$f":"元ほうれん草!P302-P$2","v":3.0000000000000001E-3}]
[599,{"$f":"元ほうれん草!B303-B$2","v":3.0000000000000027E-2},{"$f":"元ほうれん草!C303-C$2","v":2E-3},{"$f":"元ほうれん草!D303-D$2","v":1.2E-2},{"$f":"元ほうれん草!E303-E$2","v":8.6999999999999994E-2},{"$f":"元ほうれん草!F303-F$2","v":0.107},{"$f":"元ほうれん草!G303-G$2","v":5.8000000000000003E-2},{"$f":"元ほうれん草!H303-H$2","v":0.04},{"$f":"元ほうれん草!I303-I$2","v":2.4E-2},{"$f":"元ほうれん草!J303-J$2","v":8.0000000000000002E-3},{"$f":"元ほうれん草!K303-K$2","v":4.0000000000000001E-3},{"$f":"元ほうれん草!L303-L$2","v":0},{"$f":"元ほうれん草!M303-M$2","v":-4.0000000000000001E-3},{"$f":"元ほうれん草!N303-N$2","v":-5.0000000000000001E-3},{"$f":"元ほうれん草!O303-O$2","v":-2E-3},{"$f":"元ほうれん草!P303-P$2","v":1.9999999999999992E-3}]
[600,{"$f":"元ほうれん草!B304-B$2","v":2.8000000000000025E-2},{"$f":"元ほうれん草!C304-C$2","v":2E-3},{"$f":"元ほうれん草!D304-D$2","v":1.3999999999999999E-2},{"$f":"元ほうれん草!E304-E$2","v":9.0999999999999998E-2},{"$f":"元ほうれん草!F304-F$2","v":0.113},{"$f":"元ほうれん草!G304-G$2","v":5.9000000000000004E-2},{"$f":"元ほうれん草!H304-H$2","v":0.04},{"$f":"元ほうれん草!I304-I$2","v":2.4E-2},{"$f":"元ほうれん草!J304-J$2","v":7.0000000000000001E-3},{"$f":"元ほうれん草!K304-K$2","v":3.0000000000000001E-3},{"$f":"元ほうれん草!L304-L$2","v":-1E-3},{"$f":"元ほうれん草!M304-M$2","v":-4.0000000000000001E-3},{"$f":"元ほうれん草!N304-N$2","v":-5.0000000000000001E-3},{"$f":"元ほうれん草!O304-O$2","v":-2E-3},{"$f":"元ほうれん草!P304-P$2","v":1.9999999999999992E-3}]
[601,{"$f":"元ほうれん草!B305-B$2","v":2.6000000000000023E-2},{"$f":"元ほうれん草!C305-C$2","v":2E-3},{"$f":"元ほうれん草!D305-D$2","v":1.6E-2},{"$f":"元ほうれん草!E305-E$2","v":9.7000000000000003E-2},{"$f":"元ほうれん草!F305-F$2","v":0.11899999999999999},{"$f":"元ほうれん草!G305-G$2","v":6.1000000000000006E-2},{"$f":"元ほうれん草!H305-H$2","v":4.1000000000000002E-2},{"$f":"元ほうれん草!I305-I$2","v":2.4E-2},{"$f":"元ほうれん草!J305-J$2","v":8.0000000000000002E-3},{"$f":"元ほうれん草!K305-K$2","v":3.0000000000000001E-3},{"$f":"元ほうれん草!L305-L$2","v":0},{"$f":"元ほうれん草!M305-M$2","v":-2E-3},{"$f":"元ほうれん草!N305-N$2","v":-3.0000000000000001E-3},{"$f":"元ほうれん草!O305-O$2","v":-1E-3},{"$f":"元ほうれん草!P305-P$2","v":1.9999999999999992E-3}]
[602,{"$f":"元ほうれん草!B306-B$2","v":2.6000000000000023E-2},{"$f":"元ほうれん草!C306-C$2","v":2E-3},{"$f":"元ほうれん草!D306-D$2","v":1.6999999999999998E-2},{"$f":"元ほうれん草!E306-E$2","v":0.10299999999999999},{"$f":"元ほうれん草!F306-F$2","v":0.126},{"$f":"元ほうれん草!G306-G$2","v":6.2000000000000006E-2},{"$f":"元ほうれん草!H306-H$2","v":4.1000000000000002E-2},{"$f":"元ほうれん草!I306-I$2","v":2.4E-2},{"$f":"元ほうれん草!J306-J$2","v":8.0000000000000002E-3},{"$f":"元ほうれん草!K306-K$2","v":4.0000000000000001E-3},{"$f":"元ほうれん草!L306-L$2","v":1E-3},{"$f":"元ほうれん草!M306-M$2","v":-1E-3},{"$f":"元ほうれん草!N306-N$2","v":-3.0000000000000001E-3},{"$f":"元ほうれん草!O306-O$2","v":-1E-3},{"$f":"元ほうれん草!P306-P$2","v":3.0000000000000001E-3}]
[603,{"$f":"元ほうれん草!B307-B$2","v":2.7000000000000024E-2},{"$f":"元ほうれん草!C307-C$2","v":2E-3},{"$f":"元ほうれん草!D307-D$2","v":1.7999999999999999E-2},{"$f":"元ほうれん草!E307-E$2","v":0.109},{"$f":"元ほうれん草!F307-F$2","v":0.13300000000000001},{"$f":"元ほうれん草!G307-G$2","v":6.3E-2},{"$f":"元ほうれん草!H307-H$2","v":0.04},{"$f":"元ほうれん草!I307-I$2","v":2.3E-2},{"$f":"元ほうれん草!J307-J$2","v":8.0000000000000002E-3},{"$f":"元ほうれん草!K307-K$2","v":4.0000000000000001E-3},{"$f":"元ほうれん草!L307-L$2","v":1E-3},{"$f":"元ほうれん草!M307-M$2","v":-2E-3},{"$f":"元ほうれん草!N307-N$2","v":-3.0000000000000001E-3},{"$f":"元ほうれん草!O307-O$2","v":-1E-3},{"$f":"元ほうれん草!P307-P$2","v":3.0000000000000001E-3}]
[604,{"$f":"元ほうれん草!B308-B$2","v":2.7000000000000024E-2},{"$f":"元ほうれん草!C308-C$2","v":2E-3},{"$f":"元ほうれん草!D308-D$2","v":1.9E-2},{"$f":"元ほうれん草!E308-E$2","v":0.114},{"$f":"元ほうれん草!F308-F$2","v":0.13899999999999998},{"$f":"元ほうれん草!G308-G$2","v":6.3E-2},{"$f":"元ほうれん草!H308-H$2","v":0.04},{"$f":"元ほうれん草!I308-I$2","v":2.3E-2},{"$f":"元ほうれん草!J308-J$2","v":8.0000000000000002E-3},{"$f":"元ほうれん草!K308-K$2","v":4.0000000000000001E-3},{"$f":"元ほうれん草!L308-L$2","v":1E-3},{"$f":"元ほうれん草!M308-M$2","v":-2E-3},{"$f":"元ほうれん草!N308-N$2","v":-3.0000000000000001E-3},{"$f":"元ほうれん草!O308-O$2","v":-1E-3},{"$f":"元ほうれん草!P308-P$2","v":3.0000000000000001E-3}]
[605,{"$f":"元ほうれん草!B309-B$2","v":2.8000000000000025E-2},{"$f":"元ほうれん草!C309-C$2","v":2E-3},{"$f":"元ほうれん草!D309-D$2","v":2.0999999999999998E-2},{"$f":"元ほうれん草!E309-E$2","v":0.11899999999999999},{"$f":"元ほうれん草!F309-F$2","v":0.14499999999999999},{"$f":"元ほうれん草!G309-G$2","v":6.3999999999999987E-2},{"$f":"元ほうれん草!H309-H$2","v":3.9E-2},{"$f":"元ほうれん草!I309-I$2","v":2.3E-2},{"$f":"元ほうれん草!J309-J$2","v":8.0000000000000002E-3},{"$f":"元ほうれん草!K309-K$2","v":5.0000000000000001E-3},{"$f":"元ほうれん草!L309-L$2","v":1E-3},{"$f":"元ほうれん草!M309-M$2","v":-1E-3},{"$f":"元ほうれん草!N309-N$2","v":-3.0000000000000001E-3},{"$f":"元ほうれん草!O309-O$2","v":-1E-3},{"$f":"元ほうれん草!P309-P$2","v":3.0000000000000001E-3}]
[606,{"$f":"元ほうれん草!B310-B$2","v":2.9000000000000026E-2},{"$f":"元ほうれん草!C310-C$2","v":3.0000000000000001E-3},{"$f":"元ほうれん草!D310-D$2","v":0.02},{"$f":"元ほうれん草!E310-E$2","v":0.123},{"$f":"元ほうれん草!F310-F$2","v":0.15},{"$f":"元ほうれん草!G310-G$2","v":6.3999999999999987E-2},{"$f":"元ほうれん草!H310-H$2","v":3.7999999999999999E-2},{"$f":"元ほうれん草!I310-I$2","v":2.1999999999999999E-2},{"$f":"元ほうれん草!J310-J$2","v":8.0000000000000002E-3},{"$f":"元ほうれん草!K310-K$2","v":4.0000000000000001E-3},{"$f":"元ほうれん草!L310-L$2","v":0},{"$f":"元ほうれん草!M310-M$2","v":-2E-3},{"$f":"元ほうれん草!N310-N$2","v":-3.0000000000000001E-3},{"$f":"元ほうれん草!O310-O$2","v":-1E-3},{"$f":"元ほうれん草!P310-P$2","v":3.0000000000000001E-3}]
[607,{"$f":"元ほうれん草!B311-B$2","v":2.8000000000000025E-2},{"$f":"元ほうれん草!C311-C$2","v":3.0000000000000001E-3},{"$f":"元ほうれん草!D311-D$2","v":2.0999999999999998E-2},{"$f":"元ほうれん草!E311-E$2","v":0.128},{"$f":"元ほうれん草!F311-F$2","v":0.156},{"$f":"元ほうれん草!G311-G$2","v":6.4999999999999988E-2},{"$f":"元ほうれん草!H311-H$2","v":3.6999999999999998E-2},{"$f":"元ほうれん草!I311-I$2","v":2.0999999999999998E-2},{"$f":"元ほうれん草!J311-J$2","v":7.0000000000000001E-3},{"$f":"元ほうれん草!K311-K$2","v":3.0000000000000001E-3},{"$f":"元ほうれん草!L311-L$2","v":0},{"$f":"元ほうれん草!M311-M$2","v":-3.0000000000000001E-3},{"$f":"元ほうれん草!N311-N$2","v":-3.0000000000000001E-3},{"$f":"元ほうれん草!O311-O$2","v":-1E-3},{"$f":"元ほうれん草!P311-P$2","v":1.9999999999999992E-3}]
[608,{"$f":"元ほうれん草!B312-B$2","v":2.6000000000000023E-2},{"$f":"元ほうれん草!C312-C$2","v":2E-3},{"$f":"元ほうれん草!D312-D$2","v":2.1999999999999999E-2},{"$f":"元ほうれん草!E312-E$2","v":0.13300000000000001},{"$f":"元ほうれん草!F312-F$2","v":0.161},{"$f":"元ほうれん草!G312-G$2","v":6.5999999999999989E-2},{"$f":"元ほうれん草!H312-H$2","v":3.7999999999999999E-2},{"$f":"元ほうれん草!I312-I$2","v":2.0999999999999998E-2},{"$f":"元ほうれん草!J312-J$2","v":7.0000000000000001E-3},{"$f":"元ほうれん草!K312-K$2","v":3.0000000000000001E-3},{"$f":"元ほうれん草!L312-L$2","v":0},{"$f":"元ほうれん草!M312-M$2","v":-2E-3},{"$f":"元ほうれん草!N312-N$2","v":-3.0000000000000001E-3},{"$f":"元ほうれん草!O312-O$2","v":-1E-3},{"$f":"元ほうれん草!P312-P$2","v":1.9999999999999992E-3}]
[609,{"$f":"元ほうれん草!B313-B$2","v":2.4000000000000021E-2},{"$f":"元ほうれん草!C313-C$2","v":2E-3},{"$f":"元ほうれん草!D313-D$2","v":2.0999999999999998E-2},{"$f":"元ほうれん草!E313-E$2","v":0.13600000000000001},{"$f":"元ほうれん草!F313-F$2","v":0.16600000000000001},{"$f":"元ほうれん草!G313-G$2","v":6.699999999999999E-2},{"$f":"元ほうれん草!H313-H$2","v":3.7999999999999999E-2},{"$f":"元ほうれん草!I313-I$2","v":2.0999999999999998E-2},{"$f":"元ほうれん草!J313-J$2","v":7.0000000000000001E-3},{"$f":"元ほうれん草!K313-K$2","v":3.0000000000000001E-3},{"$f":"元ほうれん草!L313-L$2","v":1E-3},{"$f":"元ほうれん草!M313-M$2","v":-2E-3},{"$f":"元ほうれん草!N313-N$2","v":-2E-3},{"$f":"元ほうれん草!O313-O$2","v":0},{"$f":"元ほうれん草!P313-P$2","v":1.9999999999999992E-3}]
[610,{"$f":"元ほうれん草!B314-B$2","v":2.300000000000002E-2},{"$f":"元ほうれん草!C314-C$2","v":3.0000000000000001E-3},{"$f":"元ほうれん草!D314-D$2","v":2.1999999999999999E-2},{"$f":"元ほうれん草!E314-E$2","v":0.13999999999999999},{"$f":"元ほうれん草!F314-F$2","v":0.17099999999999999},{"$f":"元ほうれん草!G314-G$2","v":6.7999999999999991E-2},{"$f":"元ほうれん草!H314-H$2","v":3.7999999999999999E-2},{"$f":"元ほうれん草!I314-I$2","v":2.0999999999999998E-2},{"$f":"元ほうれん草!J314-J$2","v":7.0000000000000001E-3},{"$f":"元ほうれん草!K314-K$2","v":4.0000000000000001E-3},{"$f":"元ほうれん草!L314-L$2","v":2E-3},{"$f":"元ほうれん草!M314-M$2","v":-2E-3},{"$f":"元ほうれん草!N314-N$2","v":-2E-3},{"$f":"元ほうれん草!O314-O$2","v":0},{"$f":"元ほうれん草!P314-P$2","v":3.0000000000000001E-3}]
[611,{"$f":"元ほうれん草!B315-B$2","v":2.300000000000002E-2},{"$f":"元ほうれん草!C315-C$2","v":3.0000000000000001E-3},{"$f":"元ほうれん草!D315-D$2","v":2.1999999999999999E-2},{"$f":"元ほうれん草!E315-E$2","v":0.14299999999999999},{"$f":"元ほうれん草!F315-F$2","v":0.17499999999999999},{"$f":"元ほうれん草!G315-G$2","v":6.8999999999999992E-2},{"$f":"元ほうれん草!H315-H$2","v":3.9E-2},{"$f":"元ほうれん草!I315-I$2","v":2.0999999999999998E-2},{"$f":"元ほうれん草!J315-J$2","v":7.0000000000000001E-3},{"$f":"元ほうれん草!K315-K$2","v":4.0000000000000001E-3},{"$f":"元ほうれん草!L315-L$2","v":2E-3},{"$f":"元ほうれん草!M315-M$2","v":-2E-3},{"$f":"元ほうれん草!N315-N$2","v":-2E-3},{"$f":"元ほうれん草!O315-O$2","v":0},{"$f":"元ほうれん草!P315-P$2","v":3.0000000000000001E-3}]
[612,{"$f":"元ほうれん草!B316-B$2","v":2.300000000000002E-2},{"$f":"元ほうれん草!C316-C$2","v":3.0000000000000001E-3},{"$f":"元ほうれん草!D316-D$2","v":2.1999999999999999E-2},{"$f":"元ほうれん草!E316-E$2","v":0.14599999999999999},{"$f":"元ほうれん草!F316-F$2","v":0.17799999999999999},{"$f":"元ほうれん草!G316-G$2","v":6.9999999999999993E-2},{"$f":"元ほうれん草!H316-H$2","v":3.9E-2},{"$f":"元ほうれん草!I316-I$2","v":2.0999999999999998E-2},{"$f":"元ほうれん草!J316-J$2","v":7.0000000000000001E-3},{"$f":"元ほうれん草!K316-K$2","v":4.0000000000000001E-3},{"$f":"元ほうれん草!L316-L$2","v":2E-3},{"$f":"元ほうれん草!M316-M$2","v":-2E-3},{"$f":"元ほうれん草!N316-N$2","v":-1E-3},{"$f":"元ほうれん草!O316-O$2","v":-1E-3},{"$f":"元ほうれん草!P316-P$2","v":3.0000000000000001E-3}]
[613,{"$f":"元ほうれん草!B317-B$2","v":2.4000000000000021E-2},{"$f":"元ほうれん草!C317-C$2","v":3.0000000000000001E-3},{"$f":"元ほうれん草!D317-D$2","v":2.1999999999999999E-2},{"$f":"元ほうれん草!E317-E$2","v":0.14799999999999999},{"$f":"元ほうれん草!F317-F$2","v":0.18},{"$f":"元ほうれん草!G317-G$2","v":7.0999999999999994E-2},{"$f":"元ほうれん草!H317-H$2","v":3.9E-2},{"$f":"元ほうれん草!I317-I$2","v":2.1999999999999999E-2},{"$f":"元ほうれん草!J317-J$2","v":8.0000000000000002E-3},{"$f":"元ほうれん草!K317-K$2","v":4.0000000000000001E-3},{"$f":"元ほうれん草!L317-L$2","v":2E-3},{"$f":"元ほうれん草!M317-M$2","v":-1E-3},{"$f":"元ほうれん草!N317-N$2","v":-1E-3},{"$f":"元ほうれん草!O317-O$2","v":0},{"$f":"元ほうれん草!P317-P$2","v":3.9999999999999992E-3}]
[614,{"$f":"元ほうれん草!B318-B$2","v":2.5000000000000022E-2},{"$f":"元ほうれん草!C318-C$2","v":4.0000000000000001E-3},{"$f":"元ほうれん草!D318-D$2","v":2.1999999999999999E-2},{"$f":"元ほうれん草!E318-E$2","v":0.14899999999999999},{"$f":"元ほうれん草!F318-F$2","v":0.182},{"$f":"元ほうれん草!G318-G$2","v":6.9999999999999993E-2},{"$f":"元ほうれん草!H318-H$2","v":3.7999999999999999E-2},{"$f":"元ほうれん草!I318-I$2","v":2.3E-2},{"$f":"元ほうれん草!J318-J$2","v":8.0000000000000002E-3},{"$f":"元ほうれん草!K318-K$2","v":5.0000000000000001E-3},{"$f":"元ほうれん草!L318-L$2","v":2E-3},{"$f":"元ほうれん草!M318-M$2","v":-2E-3},{"$f":"元ほうれん草!N318-N$2","v":-2E-3},{"$f":"元ほうれん草!O318-O$2","v":0},{"$f":"元ほうれん草!P318-P$2","v":3.0000000000000001E-3}]
[615,{"$f":"元ほうれん草!B319-B$2","v":2.300000000000002E-2},{"$f":"元ほうれん草!C319-C$2","v":4.0000000000000001E-3},{"$f":"元ほうれん草!D319-D$2","v":2.0999999999999998E-2},{"$f":"元ほうれん草!E319-E$2","v":0.15},{"$f":"元ほうれん草!F319-F$2","v":0.182},{"$f":"元ほうれん草!G319-G$2","v":6.9999999999999993E-2},{"$f":"元ほうれん草!H319-H$2","v":3.7999999999999999E-2},{"$f":"元ほうれん草!I319-I$2","v":2.1999999999999999E-2},{"$f":"元ほうれん草!J319-J$2","v":7.0000000000000001E-3},{"$f":"元ほうれん草!K319-K$2","v":4.0000000000000001E-3},{"$f":"元ほうれん草!L319-L$2","v":2E-3},{"$f":"元ほうれん草!M319-M$2","v":-2E-3},{"$f":"元ほうれん草!N319-N$2","v":-3.0000000000000001E-3},{"$f":"元ほうれん草!O319-O$2","v":0},{"$f":"元ほうれん草!P319-P$2","v":3.0000000000000001E-3}]
[616,{"$f":"元ほうれん草!B320-B$2","v":2.0000000000000018E-2},{"$f":"元ほうれん草!C320-C$2","v":3.0000000000000001E-3},{"$f":"元ほうれん草!D320-D$2","v":0.02},{"$f":"元ほうれん草!E320-E$2","v":0.151},{"$f":"元ほうれん草!F320-F$2","v":0.183},{"$f":"元ほうれん草!G320-G$2","v":7.0999999999999994E-2},{"$f":"元ほうれん草!H320-H$2","v":3.7999999999999999E-2},{"$f":"元ほうれん草!I320-I$2","v":2.0999999999999998E-2},{"$f":"元ほうれん草!J320-J$2","v":7.0000000000000001E-3},{"$f":"元ほうれん草!K320-K$2","v":4.0000000000000001E-3},{"$f":"元ほうれん草!L320-L$2","v":1E-3},{"$f":"元ほうれん草!M320-M$2","v":-1E-3},{"$f":"元ほうれん草!N320-N$2","v":-2E-3},{"$f":"元ほうれん草!O320-O$2","v":0},{"$f":"元ほうれん草!P320-P$2","v":1.9999999999999992E-3}]
[617,{"$f":"元ほうれん草!B321-B$2","v":1.9000000000000017E-2},{"$f":"元ほうれん草!C321-C$2","v":2E-3},{"$f":"元ほうれん草!D321-D$2","v":0.02},{"$f":"元ほうれん草!E321-E$2","v":0.15},{"$f":"元ほうれん草!F321-F$2","v":0.184},{"$f":"元ほうれん草!G321-G$2","v":7.0999999999999994E-2},{"$f":"元ほうれん草!H321-H$2","v":3.9E-2},{"$f":"元ほうれん草!I321-I$2","v":2.0999999999999998E-2},{"$f":"元ほうれん草!J321-J$2","v":7.0000000000000001E-3},{"$f":"元ほうれん草!K321-K$2","v":3.0000000000000001E-3},{"$f":"元ほうれん草!L321-L$2","v":2E-3},{"$f":"元ほうれん草!M321-M$2","v":-1E-3},{"$f":"元ほうれん草!N321-N$2","v":-1E-3},{"$f":"元ほうれん草!O321-O$2","v":0},{"$f":"元ほうれん草!P321-P$2","v":3.0000000000000001E-3}]
[618,{"$f":"元ほうれん草!B322-B$2","v":1.9000000000000017E-2},{"$f":"元ほうれん草!C322-C$2","v":3.0000000000000001E-3},{"$f":"元ほうれん草!D322-D$2","v":0.02},{"$f":"元ほうれん草!E322-E$2","v":0.151},{"$f":"元ほうれん草!F322-F$2","v":0.184},{"$f":"元ほうれん草!G322-G$2","v":7.1999999999999995E-2},{"$f":"元ほうれん草!H322-H$2","v":0.04},{"$f":"元ほうれん草!I322-I$2","v":2.0999999999999998E-2},{"$f":"元ほうれん草!J322-J$2","v":8.0000000000000002E-3},{"$f":"元ほうれん草!K322-K$2","v":4.0000000000000001E-3},{"$f":"元ほうれん草!L322-L$2","v":3.0000000000000001E-3},{"$f":"元ほうれん草!M322-M$2","v":-1E-3},{"$f":"元ほうれん草!N322-N$2","v":-1E-3},{"$f":"元ほうれん草!O322-O$2","v":1E-3},{"$f":"元ほうれん草!P322-P$2","v":3.0000000000000001E-3}]
[619,{"$f":"元ほうれん草!B323-B$2","v":1.8000000000000016E-2},{"$f":"元ほうれん草!C323-C$2","v":3.0000000000000001E-3},{"$f":"元ほうれん草!D323-D$2","v":1.9E-2},{"$f":"元ほうれん草!E323-E$2","v":0.15},{"$f":"元ほうれん草!F323-F$2","v":0.183},{"$f":"元ほうれん草!G323-G$2","v":7.1999999999999995E-2},{"$f":"元ほうれん草!H323-H$2","v":0.04},{"$f":"元ほうれん草!I323-I$2","v":2.0999999999999998E-2},{"$f":"元ほうれん草!J323-J$2","v":7.0000000000000001E-3},{"$f":"元ほうれん草!K323-K$2","v":4.0000000000000001E-3},{"$f":"元ほうれん草!L323-L$2","v":3.0000000000000001E-3},{"$f":"元ほうれん草!M323-M$2","v":-1E-3},{"$f":"元ほうれん草!N323-N$2","v":-1E-3},{"$f":"元ほうれん草!O323-O$2","v":0},{"$f":"元ほうれん草!P323-P$2","v":3.0000000000000001E-3}]
[620,{"$f":"元ほうれん草!B324-B$2","v":1.7000000000000015E-2},{"$f":"元ほうれん草!C324-C$2","v":3.0000000000000001E-3},{"$f":"元ほうれん草!D324-D$2","v":1.7999999999999999E-2},{"$f":"元ほうれん草!E324-E$2","v":0.14799999999999999},{"$f":"元ほうれん草!F324-F$2","v":0.18099999999999999},{"$f":"元ほうれん草!G324-G$2","v":7.1999999999999995E-2},{"$f":"元ほうれん草!H324-H$2","v":0.04},{"$f":"元ほうれん草!I324-I$2","v":2.0999999999999998E-2},{"$f":"元ほうれん草!J324-J$2","v":7.0000000000000001E-3},{"$f":"元ほうれん草!K324-K$2","v":4.0000000000000001E-3},{"$f":"元ほうれん草!L324-L$2","v":3.0000000000000001E-3},{"$f":"元ほうれん草!M324-M$2","v":0},{"$f":"元ほうれん草!N324-N$2","v":-1E-3},{"$f":"元ほうれん草!O324-O$2","v":0},{"$f":"元ほうれん草!P324-P$2","v":3.0000000000000001E-3}]
[621,{"$f":"元ほうれん草!B325-B$2","v":1.7000000000000015E-2},{"$f":"元ほうれん草!C325-C$2","v":3.0000000000000001E-3},{"$f":"元ほうれん草!D325-D$2","v":1.6999999999999998E-2},{"$f":"元ほうれん草!E325-E$2","v":0.14599999999999999},{"$f":"元ほうれん草!F325-F$2","v":0.17799999999999999},{"$f":"元ほうれん草!G325-G$2","v":7.0999999999999994E-2},{"$f":"元ほうれん草!H325-H$2","v":0.04},{"$f":"元ほうれん草!I325-I$2","v":2.0999999999999998E-2},{"$f":"元ほうれん草!J325-J$2","v":7.0000000000000001E-3},{"$f":"元ほうれん草!K325-K$2","v":4.0000000000000001E-3},{"$f":"元ほうれん草!L325-L$2","v":3.0000000000000001E-3},{"$f":"元ほうれん草!M325-M$2","v":0},{"$f":"元ほうれん草!N325-N$2","v":0},{"$f":"元ほうれん草!O325-O$2","v":1E-3},{"$f":"元ほうれん草!P325-P$2","v":3.0000000000000001E-3}]
[622,{"$f":"元ほうれん草!B326-B$2","v":1.8000000000000016E-2},{"$f":"元ほうれん草!C326-C$2","v":2E-3},{"$f":"元ほうれん草!D326-D$2","v":1.6999999999999998E-2},{"$f":"元ほうれん草!E326-E$2","v":0.14299999999999999},{"$f":"元ほうれん草!F326-F$2","v":0.17499999999999999},{"$f":"元ほうれん草!G326-G$2","v":7.0999999999999994E-2},{"$f":"元ほうれん草!H326-H$2","v":0.04},{"$f":"元ほうれん草!I326-I$2","v":2.0999999999999998E-2},{"$f":"元ほうれん草!J326-J$2","v":7.0000000000000001E-3},{"$f":"元ほうれん草!K326-K$2","v":4.0000000000000001E-3},{"$f":"元ほうれん草!L326-L$2","v":3.0000000000000001E-3},{"$f":"元ほうれん草!M326-M$2","v":0},{"$f":"元ほうれん草!N326-N$2","v":0},{"$f":"元ほうれん草!O326-O$2","v":0},{"$f":"元ほうれん草!P326-P$2","v":3.0000000000000001E-3}]
[623,{"$f":"元ほうれん草!B327-B$2","v":1.8000000000000016E-2},{"$f":"元ほうれん草!C327-C$2","v":3.0000000000000001E-3},{"$f":"元ほうれん草!D327-D$2","v":1.6E-2},{"$f":"元ほうれん草!E327-E$2","v":0.13999999999999999},{"$f":"元ほうれん草!F327-F$2","v":0.17199999999999999},{"$f":"元ほうれん草!G327-G$2","v":6.9999999999999993E-2},{"$f":"元ほうれん草!H327-H$2","v":4.1000000000000002E-2},{"$f":"元ほうれん草!I327-I$2","v":2.1999999999999999E-2},{"$f":"元ほうれん草!J327-J$2","v":7.0000000000000001E-3},{"$f":"元ほうれん草!K327-K$2","v":4.0000000000000001E-3},{"$f":"元ほうれん草!L327-L$2","v":3.0000000000000001E-3},{"$f":"元ほうれん草!M327-M$2","v":0},{"$f":"元ほうれん草!N327-N$2","v":0},{"$f":"元ほうれん草!O327-O$2","v":1E-3},{"$f":"元ほうれん草!P327-P$2","v":3.0000000000000001E-3}]
[624,{"$f":"元ほうれん草!B328-B$2","v":1.6000000000000014E-2},{"$f":"元ほうれん草!C328-C$2","v":3.0000000000000001E-3},{"$f":"元ほうれん草!D328-D$2","v":1.6E-2},{"$f":"元ほうれん草!E328-E$2","v":0.13600000000000001},{"$f":"元ほうれん草!F328-F$2","v":0.16700000000000001},{"$f":"元ほうれん草!G328-G$2","v":7.0999999999999994E-2},{"$f":"元ほうれん草!H328-H$2","v":4.2000000000000003E-2},{"$f":"元ほうれん草!I328-I$2","v":2.1999999999999999E-2},{"$f":"元ほうれん草!J328-J$2","v":7.0000000000000001E-3},{"$f":"元ほうれん草!K328-K$2","v":4.0000000000000001E-3},{"$f":"元ほうれん草!L328-L$2","v":4.0000000000000001E-3},{"$f":"元ほうれん草!M328-M$2","v":1E-3},{"$f":"元ほうれん草!N328-N$2","v":0},{"$f":"元ほうれん草!O328-O$2","v":1E-3},{"$f":"元ほうれん草!P328-P$2","v":1.9999999999999992E-3}]
[625,{"$f":"元ほうれん草!B329-B$2","v":1.4000000000000012E-2},{"$f":"元ほうれん草!C329-C$2","v":3.0000000000000001E-3},{"$f":"元ほうれん草!D329-D$2","v":1.6E-2},{"$f":"元ほうれん草!E329-E$2","v":0.13200000000000001},{"$f":"元ほうれん草!F329-F$2","v":0.16200000000000001},{"$f":"元ほうれん草!G329-G$2","v":7.0999999999999994E-2},{"$f":"元ほうれん草!H329-H$2","v":4.3000000000000003E-2},{"$f":"元ほうれん草!I329-I$2","v":2.3E-2},{"$f":"元ほうれん草!J329-J$2","v":7.0000000000000001E-3},{"$f":"元ほうれん草!K329-K$2","v":4.0000000000000001E-3},{"$f":"元ほうれん草!L329-L$2","v":3.0000000000000001E-3},{"$f":"元ほうれん草!M329-M$2","v":0},{"$f":"元ほうれん草!N329-N$2","v":0},{"$f":"元ほうれん草!O329-O$2","v":1E-3},{"$f":"元ほうれん草!P329-P$2","v":1.9999999999999992E-3}]
[626,{"$f":"元ほうれん草!B330-B$2","v":1.4000000000000012E-2},{"$f":"元ほうれん草!C330-C$2","v":4.0000000000000001E-3},{"$f":"元ほうれん草!D330-D$2","v":1.4999999999999999E-2},{"$f":"元ほうれん草!E330-E$2","v":0.128},{"$f":"元ほうれん草!F330-F$2","v":0.158},{"$f":"元ほうれん草!G330-G$2","v":7.2999999999999995E-2},{"$f":"元ほうれん草!H330-H$2","v":4.5999999999999999E-2},{"$f":"元ほうれん草!I330-I$2","v":2.3E-2},{"$f":"元ほうれん草!J330-J$2","v":8.0000000000000002E-3},{"$f":"元ほうれん草!K330-K$2","v":5.0000000000000001E-3},{"$f":"元ほうれん草!L330-L$2","v":4.0000000000000001E-3},{"$f":"元ほうれん草!M330-M$2","v":0},{"$f":"元ほうれん草!N330-N$2","v":0},{"$f":"元ほうれん草!O330-O$2","v":2E-3},{"$f":"元ほうれん草!P330-P$2","v":3.0000000000000001E-3}]
[627,{"$f":"元ほうれん草!B331-B$2","v":1.5000000000000013E-2},{"$f":"元ほうれん草!C331-C$2","v":4.0000000000000001E-3},{"$f":"元ほうれん草!D331-D$2","v":1.6E-2},{"$f":"元ほうれん草!E331-E$2","v":0.124},{"$f":"元ほうれん草!F331-F$2","v":0.154},{"$f":"元ほうれん草!G331-G$2","v":7.4999999999999997E-2},{"$f":"元ほうれん草!H331-H$2","v":4.9000000000000002E-2},{"$f":"元ほうれん草!I331-I$2","v":2.5000000000000001E-2},{"$f":"元ほうれん草!J331-J$2","v":8.0000000000000002E-3},{"$f":"元ほうれん草!K331-K$2","v":5.0000000000000001E-3},{"$f":"元ほうれん草!L331-L$2","v":4.0000000000000001E-3},{"$f":"元ほうれん草!M331-M$2","v":1E-3},{"$f":"元ほうれん草!N331-N$2","v":0},{"$f":"元ほうれん草!O331-O$2","v":2E-3},{"$f":"元ほうれん草!P331-P$2","v":3.9999999999999992E-3}]
[628,{"$f":"元ほうれん草!B332-B$2","v":1.5000000000000013E-2},{"$f":"元ほうれん草!C332-C$2","v":4.0000000000000001E-3},{"$f":"元ほうれん草!D332-D$2","v":1.4999999999999999E-2},{"$f":"元ほうれん草!E332-E$2","v":0.11899999999999999},{"$f":"元ほうれん草!F332-F$2","v":0.151},{"$f":"元ほうれん草!G332-G$2","v":7.5999999999999998E-2},{"$f":"元ほうれん草!H332-H$2","v":5.2000000000000005E-2},{"$f":"元ほうれん草!I332-I$2","v":2.5999999999999995E-2},{"$f":"元ほうれん草!J332-J$2","v":9.0000000000000011E-3},{"$f":"元ほうれん草!K332-K$2","v":5.0000000000000001E-3},{"$f":"元ほうれん草!L332-L$2","v":4.0000000000000001E-3},{"$f":"元ほうれん草!M332-M$2","v":1E-3},{"$f":"元ほうれん草!N332-N$2","v":0},{"$f":"元ほうれん草!O332-O$2","v":2E-3},{"$f":"元ほうれん草!P332-P$2","v":3.0000000000000001E-3}]
[629,{"$f":"元ほうれん草!B333-B$2","v":1.4000000000000012E-2},{"$f":"元ほうれん草!C333-C$2","v":4.0000000000000001E-3},{"$f":"元ほうれん草!D333-D$2","v":1.4999999999999999E-2},{"$f":"元ほうれん草!E333-E$2","v":0.115},{"$f":"元ほうれん草!F333-F$2","v":0.14599999999999999},{"$f":"元ほうれん草!G333-G$2","v":7.8999999999999987E-2},{"$f":"元ほうれん草!H333-H$2","v":5.7000000000000002E-2},{"$f":"元ほうれん草!I333-I$2","v":2.7999999999999997E-2},{"$f":"元ほうれん草!J333-J$2","v":9.0000000000000011E-3},{"$f":"元ほうれん草!K333-K$2","v":5.0000000000000001E-3},{"$f":"元ほうれん草!L333-L$2","v":4.0000000000000001E-3},{"$f":"元ほうれん草!M333-M$2","v":1E-3},{"$f":"元ほうれん草!N333-N$2","v":0},{"$f":"元ほうれん草!O333-O$2","v":2E-3},{"$f":"元ほうれん草!P333-P$2","v":3.0000000000000001E-3}]
[630,{"$f":"元ほうれん草!B334-B$2","v":1.3000000000000012E-2},{"$f":"元ほうれん草!C334-C$2","v":4.0000000000000001E-3},{"$f":"元ほうれん草!D334-D$2","v":1.4999999999999999E-2},{"$f":"元ほうれん草!E334-E$2","v":0.111},{"$f":"元ほうれん草!F334-F$2","v":0.14199999999999999},{"$f":"元ほうれん草!G334-G$2","v":8.299999999999999E-2},{"$f":"元ほうれん草!H334-H$2","v":6.2000000000000006E-2},{"$f":"元ほうれん草!I334-I$2","v":0.03},{"$f":"元ほうれん草!J334-J$2","v":0.01},{"$f":"元ほうれん草!K334-K$2","v":5.0000000000000001E-3},{"$f":"元ほうれん草!L334-L$2","v":4.0000000000000001E-3},{"$f":"元ほうれん草!M334-M$2","v":1E-3},{"$f":"元ほうれん草!N334-N$2","v":0},{"$f":"元ほうれん草!O334-O$2","v":2E-3},{"$f":"元ほうれん草!P334-P$2","v":3.0000000000000001E-3}]
[631,{"$f":"元ほうれん草!B335-B$2","v":1.2000000000000011E-2},{"$f":"元ほうれん草!C335-C$2","v":4.0000000000000001E-3},{"$f":"元ほうれん草!D335-D$2","v":1.4999999999999999E-2},{"$f":"元ほうれん草!E335-E$2","v":0.109},{"$f":"元ほうれん草!F335-F$2","v":0.14099999999999999},{"$f":"元ほうれん草!G335-G$2","v":8.7999999999999995E-2},{"$f":"元ほうれん草!H335-H$2","v":6.7999999999999991E-2},{"$f":"元ほうれん草!I335-I$2","v":3.2000000000000001E-2},{"$f":"元ほうれん草!J335-J$2","v":0.01},{"$f":"元ほうれん草!K335-K$2","v":6.0000000000000001E-3},{"$f":"元ほうれん草!L335-L$2","v":4.0000000000000001E-3},{"$f":"元ほうれん草!M335-M$2","v":1E-3},{"$f":"元ほうれん草!N335-N$2","v":1E-3},{"$f":"元ほうれん草!O335-O$2","v":2E-3},{"$f":"元ほうれん草!P335-P$2","v":3.0000000000000001E-3}]
[632,{"$f":"元ほうれん草!B336-B$2","v":1.0000000000000009E-2},{"$f":"元ほうれん草!C336-C$2","v":4.0000000000000001E-3},{"$f":"元ほうれん草!D336-D$2","v":1.4999999999999999E-2},{"$f":"元ほうれん草!E336-E$2","v":0.106},{"$f":"元ほうれん草!F336-F$2","v":0.13899999999999998},{"$f":"元ほうれん草!G336-G$2","v":9.4E-2},{"$f":"元ほうれん草!H336-H$2","v":7.4999999999999997E-2},{"$f":"元ほうれん草!I336-I$2","v":3.5999999999999997E-2},{"$f":"元ほうれん草!J336-J$2","v":1.0999999999999999E-2},{"$f":"元ほうれん草!K336-K$2","v":6.0000000000000001E-3},{"$f":"元ほうれん草!L336-L$2","v":5.0000000000000001E-3},{"$f":"元ほうれん草!M336-M$2","v":1E-3},{"$f":"元ほうれん草!N336-N$2","v":1E-3},{"$f":"元ほうれん草!O336-O$2","v":2E-3},{"$f":"元ほうれん草!P336-P$2","v":3.0000000000000001E-3}]
[633,{"$f":"元ほうれん草!B337-B$2","v":9.000000000000008E-3},{"$f":"元ほうれん草!C337-C$2","v":4.0000000000000001E-3},{"$f":"元ほうれん草!D337-D$2","v":1.4999999999999999E-2},{"$f":"元ほうれん草!E337-E$2","v":0.105},{"$f":"元ほうれん草!F337-F$2","v":0.13899999999999998},{"$f":"元ほうれん草!G337-G$2","v":0.10199999999999999},{"$f":"元ほうれん草!H337-H$2","v":8.299999999999999E-2},{"$f":"元ほうれん草!I337-I$2","v":3.9E-2},{"$f":"元ほうれん草!J337-J$2","v":1.3000000000000001E-2},{"$f":"元ほうれん草!K337-K$2","v":7.0000000000000001E-3},{"$f":"元ほうれん草!L337-L$2","v":5.0000000000000001E-3},{"$f":"元ほうれん草!M337-M$2","v":2E-3},{"$f":"元ほうれん草!N337-N$2","v":1E-3},{"$f":"元ほうれん草!O337-O$2","v":2.9999999999999992E-3},{"$f":"元ほうれん草!P337-P$2","v":1.9999999999999992E-3}]
[634,{"$f":"元ほうれん草!B338-B$2","v":9.000000000000008E-3},{"$f":"元ほうれん草!C338-C$2","v":4.0000000000000001E-3},{"$f":"元ほうれん草!D338-D$2","v":1.4999999999999999E-2},{"$f":"元ほうれん草!E338-E$2","v":0.10299999999999999},{"$f":"元ほうれん草!F338-F$2","v":0.13899999999999998},{"$f":"元ほうれん草!G338-G$2","v":0.11099999999999999},{"$f":"元ほうれん草!H338-H$2","v":9.2999999999999999E-2},{"$f":"元ほうれん草!I338-I$2","v":4.3999999999999997E-2},{"$f":"元ほうれん草!J338-J$2","v":1.4E-2},{"$f":"元ほうれん草!K338-K$2","v":7.0000000000000001E-3},{"$f":"元ほうれん草!L338-L$2","v":6.0000000000000001E-3},{"$f":"元ほうれん草!M338-M$2","v":2E-3},{"$f":"元ほうれん草!N338-N$2","v":1E-3},{"$f":"元ほうれん草!O338-O$2","v":2.9999999999999992E-3},{"$f":"元ほうれん草!P338-P$2","v":3.0000000000000001E-3}]
[635,{"$f":"元ほうれん草!B339-B$2","v":1.0000000000000009E-2},{"$f":"元ほうれん草!C339-C$2","v":4.0000000000000001E-3},{"$f":"元ほうれん草!D339-D$2","v":1.6E-2},{"$f":"元ほうれん草!E339-E$2","v":0.10299999999999999},{"$f":"元ほうれん草!F339-F$2","v":0.14099999999999999},{"$f":"元ほうれん草!G339-G$2","v":0.121},{"$f":"元ほうれん草!H339-H$2","v":0.104},{"$f":"元ほうれん草!I339-I$2","v":4.8000000000000001E-2},{"$f":"元ほうれん草!J339-J$2","v":1.4999999999999999E-2},{"$f":"元ほうれん草!K339-K$2","v":8.0000000000000002E-3},{"$f":"元ほうれん草!L339-L$2","v":6.0000000000000001E-3},{"$f":"元ほうれん草!M339-M$2","v":2E-3},{"$f":"元ほうれん草!N339-N$2","v":2E-3},{"$f":"元ほうれん草!O339-O$2","v":2.9999999999999992E-3},{"$f":"元ほうれん草!P339-P$2","v":3.9999999999999992E-3}]
[636,{"$f":"元ほうれん草!B340-B$2","v":9.000000000000008E-3},{"$f":"元ほうれん草!C340-C$2","v":3.0000000000000001E-3},{"$f":"元ほうれん草!D340-D$2","v":1.4999999999999999E-2},{"$f":"元ほうれん草!E340-E$2","v":0.10299999999999999},{"$f":"元ほうれん草!F340-F$2","v":0.14299999999999999},{"$f":"元ほうれん草!G340-G$2","v":0.13},{"$f":"元ほうれん草!H340-H$2","v":0.11399999999999999},{"$f":"元ほうれん草!I340-I$2","v":5.2999999999999999E-2},{"$f":"元ほうれん草!J340-J$2","v":1.7000000000000001E-2},{"$f":"元ほうれん草!K340-K$2","v":8.0000000000000002E-3},{"$f":"元ほうれん草!L340-L$2","v":6.0000000000000001E-3},{"$f":"元ほうれん草!M340-M$2","v":2E-3},{"$f":"元ほうれん草!N340-N$2","v":1E-3},{"$f":"元ほうれん草!O340-O$2","v":2E-3},{"$f":"元ほうれん草!P340-P$2","v":3.9999999999999992E-3}]
[637,{"$f":"元ほうれん草!B341-B$2","v":8.0000000000000071E-3},{"$f":"元ほうれん草!C341-C$2","v":3.0000000000000001E-3},{"$f":"元ほうれん草!D341-D$2","v":1.6E-2},{"$f":"元ほうれん草!E341-E$2","v":0.104},{"$f":"元ほうれん草!F341-F$2","v":0.14699999999999999},{"$f":"元ほうれん草!G341-G$2","v":0.14099999999999999},{"$f":"元ほうれん草!H341-H$2","v":0.125},{"$f":"元ほうれん草!I341-I$2","v":5.7000000000000002E-2},{"$f":"元ほうれん草!J341-J$2","v":1.8000000000000002E-2},{"$f":"元ほうれん草!K341-K$2","v":8.0000000000000002E-3},{"$f":"元ほうれん草!L341-L$2","v":5.0000000000000001E-3},{"$f":"元ほうれん草!M341-M$2","v":2E-3},{"$f":"元ほうれん草!N341-N$2","v":1E-3},{"$f":"元ほうれん草!O341-O$2","v":2E-3},{"$f":"元ほうれん草!P341-P$2","v":3.0000000000000001E-3}]
[638,{"$f":"元ほうれん草!B342-B$2","v":7.0000000000000062E-3},{"$f":"元ほうれん草!C342-C$2","v":3.0000000000000001E-3},{"$f":"元ほうれん草!D342-D$2","v":1.6E-2},{"$f":"元ほうれん草!E342-E$2","v":0.107},{"$f":"元ほうれん草!F342-F$2","v":0.152},{"$f":"元ほうれん草!G342-G$2","v":0.153},{"$f":"元ほうれん草!H342-H$2","v":0.13699999999999998},{"$f":"元ほうれん草!I342-I$2","v":6.1999999999999993E-2},{"$f":"元ほうれん草!J342-J$2","v":1.9E-2},{"$f":"元ほうれん草!K342-K$2","v":8.0000000000000002E-3},{"$f":"元ほうれん草!L342-L$2","v":6.0000000000000001E-3},{"$f":"元ほうれん草!M342-M$2","v":2E-3},{"$f":"元ほうれん草!N342-N$2","v":1E-3},{"$f":"元ほうれん草!O342-O$2","v":2E-3},{"$f":"元ほうれん草!P342-P$2","v":3.0000000000000001E-3}]
[639,{"$f":"元ほうれん草!B343-B$2","v":7.0000000000000062E-3},{"$f":"元ほうれん草!C343-C$2","v":4.0000000000000001E-3},{"$f":"元ほうれん草!D343-D$2","v":1.6999999999999998E-2},{"$f":"元ほうれん草!E343-E$2","v":0.111},{"$f":"元ほうれん草!F343-F$2","v":0.16},{"$f":"元ほうれん草!G343-G$2","v":0.16699999999999998},{"$f":"元ほうれん草!H343-H$2","v":0.152},{"$f":"元ほうれん草!I343-I$2","v":6.8000000000000005E-2},{"$f":"元ほうれん草!J343-J$2","v":2.0999999999999998E-2},{"$f":"元ほうれん草!K343-K$2","v":9.0000000000000011E-3},{"$f":"元ほうれん草!L343-L$2","v":6.0000000000000001E-3},{"$f":"元ほうれん草!M343-M$2","v":2E-3},{"$f":"元ほうれん草!N343-N$2","v":2E-3},{"$f":"元ほうれん草!O343-O$2","v":2.9999999999999992E-3},{"$f":"元ほうれん草!P343-P$2","v":3.0000000000000001E-3}]
[640,{"$f":"元ほうれん草!B344-B$2","v":6.0000000000000053E-3},{"$f":"元ほうれん草!C344-C$2","v":4.0000000000000001E-3},{"$f":"元ほうれん草!D344-D$2","v":1.7999999999999999E-2},{"$f":"元ほうれん草!E344-E$2","v":0.11599999999999999},{"$f":"元ほうれん草!F344-F$2","v":0.16899999999999998},{"$f":"元ほうれん草!G344-G$2","v":0.18},{"$f":"元ほうれん草!H344-H$2","v":0.16400000000000001},{"$f":"元ほうれん草!I344-I$2","v":7.400000000000001E-2},{"$f":"元ほうれん草!J344-J$2","v":2.3E-2},{"$f":"元ほうれん草!K344-K$2","v":0.01},{"$f":"元ほうれん草!L344-L$2","v":6.9999999999999993E-3},{"$f":"元ほうれん草!M344-M$2","v":3.0000000000000001E-3},{"$f":"元ほうれん草!N344-N$2","v":2E-3},{"$f":"元ほうれん草!O344-O$2","v":2.9999999999999992E-3},{"$f":"元ほうれん草!P344-P$2","v":3.0000000000000001E-3}]
[641,{"$f":"元ほうれん草!B345-B$2","v":5.0000000000000044E-3},{"$f":"元ほうれん草!C345-C$2","v":3.0000000000000001E-3},{"$f":"元ほうれん草!D345-D$2","v":1.7999999999999999E-2},{"$f":"元ほうれん草!E345-E$2","v":0.122},{"$f":"元ほうれん草!F345-F$2","v":0.18},{"$f":"元ほうれん草!G345-G$2","v":0.192},{"$f":"元ほうれん草!H345-H$2","v":0.17499999999999999},{"$f":"元ほうれん草!I345-I$2","v":7.8E-2},{"$f":"元ほうれん草!J345-J$2","v":2.5000000000000001E-2},{"$f":"元ほうれん草!K345-K$2","v":1.0999999999999999E-2},{"$f":"元ほうれん草!L345-L$2","v":6.9999999999999993E-3},{"$f":"元ほうれん草!M345-M$2","v":3.0000000000000001E-3},{"$f":"元ほうれん草!N345-N$2","v":2E-3},{"$f":"元ほうれん草!O345-O$2","v":2.9999999999999992E-3},{"$f":"元ほうれん草!P345-P$2","v":3.0000000000000001E-3}]
[642,{"$f":"元ほうれん草!B346-B$2","v":5.0000000000000044E-3},{"$f":"元ほうれん草!C346-C$2","v":4.0000000000000001E-3},{"$f":"元ほうれん草!D346-D$2","v":1.9E-2},{"$f":"元ほうれん草!E346-E$2","v":0.13100000000000001},{"$f":"元ほうれん草!F346-F$2","v":0.192},{"$f":"元ほうれん草!G346-G$2","v":0.20299999999999999},{"$f":"元ほうれん草!H346-H$2","v":0.184},{"$f":"元ほうれん草!I346-I$2","v":8.2000000000000003E-2},{"$f":"元ほうれん草!J346-J$2","v":2.6000000000000002E-2},{"$f":"元ほうれん草!K346-K$2","v":1.0999999999999999E-2},{"$f":"元ほうれん草!L346-L$2","v":6.9999999999999993E-3},{"$f":"元ほうれん草!M346-M$2","v":3.0000000000000001E-3},{"$f":"元ほうれん草!N346-N$2","v":2E-3},{"$f":"元ほうれん草!O346-O$2","v":2E-3},{"$f":"元ほうれん草!P346-P$2","v":3.0000000000000001E-3}]
[643,{"$f":"元ほうれん草!B347-B$2","v":5.0000000000000044E-3},{"$f":"元ほうれん草!C347-C$2","v":4.0000000000000001E-3},{"$f":"元ほうれん草!D347-D$2","v":0.02},{"$f":"元ほうれん草!E347-E$2","v":0.14299999999999999},{"$f":"元ほうれん草!F347-F$2","v":0.20699999999999999},{"$f":"元ほうれん草!G347-G$2","v":0.21299999999999999},{"$f":"元ほうれん草!H347-H$2","v":0.192},{"$f":"元ほうれん草!I347-I$2","v":8.5000000000000006E-2},{"$f":"元ほうれん草!J347-J$2","v":2.7000000000000003E-2},{"$f":"元ほうれん草!K347-K$2","v":1.0999999999999999E-2},{"$f":"元ほうれん草!L347-L$2","v":6.9999999999999993E-3},{"$f":"元ほうれん草!M347-M$2","v":4.0000000000000001E-3},{"$f":"元ほうれん草!N347-N$2","v":2E-3},{"$f":"元ほうれん草!O347-O$2","v":2.9999999999999992E-3},{"$f":"元ほうれん草!P347-P$2","v":3.0000000000000001E-3}]
[644,{"$f":"元ほうれん草!B348-B$2","v":6.0000000000000053E-3},{"$f":"元ほうれん草!C348-C$2","v":4.0000000000000001E-3},{"$f":"元ほうれん草!D348-D$2","v":2.1999999999999999E-2},{"$f":"元ほうれん草!E348-E$2","v":0.156},{"$f":"元ほうれん草!F348-F$2","v":0.224},{"$f":"元ほうれん草!G348-G$2","v":0.221},{"$f":"元ほうれん草!H348-H$2","v":0.19799999999999998},{"$f":"元ほうれん草!I348-I$2","v":8.8000000000000009E-2},{"$f":"元ほうれん草!J348-J$2","v":2.7999999999999997E-2},{"$f":"元ほうれん草!K348-K$2","v":1.0999999999999999E-2},{"$f":"元ほうれん草!L348-L$2","v":8.0000000000000002E-3},{"$f":"元ほうれん草!M348-M$2","v":3.0000000000000001E-3},{"$f":"元ほうれん草!N348-N$2","v":2E-3},{"$f":"元ほうれん草!O348-O$2","v":4.0000000000000001E-3},{"$f":"元ほうれん草!P348-P$2","v":3.0000000000000001E-3}]
[645,{"$f":"元ほうれん草!B349-B$2","v":5.0000000000000044E-3},{"$f":"元ほうれん草!C349-C$2","v":4.0000000000000001E-3},{"$f":"元ほうれん草!D349-D$2","v":2.3E-2},{"$f":"元ほうれん草!E349-E$2","v":0.17099999999999999},{"$f":"元ほうれん草!F349-F$2","v":0.24299999999999999},{"$f":"元ほうれん草!G349-G$2","v":0.22600000000000001},{"$f":"元ほうれん草!H349-H$2","v":0.19999999999999998},{"$f":"元ほうれん草!I349-I$2","v":8.8000000000000009E-2},{"$f":"元ほうれん草!J349-J$2","v":2.7999999999999997E-2},{"$f":"元ほうれん草!K349-K$2","v":1.0999999999999999E-2},{"$f":"元ほうれん草!L349-L$2","v":6.9999999999999993E-3},{"$f":"元ほうれん草!M349-M$2","v":3.0000000000000001E-3},{"$f":"元ほうれん草!N349-N$2","v":2E-3},{"$f":"元ほうれん草!O349-O$2","v":2.9999999999999992E-3},{"$f":"元ほうれん草!P349-P$2","v":3.0000000000000001E-3}]
[646,{"$f":"元ほうれん草!B350-B$2","v":3.0000000000000027E-3},{"$f":"元ほうれん草!C350-C$2","v":4.0000000000000001E-3},{"$f":"元ほうれん草!D350-D$2","v":2.4999999999999998E-2},{"$f":"元ほうれん草!E350-E$2","v":0.19},{"$f":"元ほうれん草!F350-F$2","v":0.26400000000000001},{"$f":"元ほうれん草!G350-G$2","v":0.22999999999999998},{"$f":"元ほうれん草!H350-H$2","v":0.19799999999999998},{"$f":"元ほうれん草!I350-I$2","v":8.8000000000000009E-2},{"$f":"元ほうれん草!J350-J$2","v":2.7999999999999997E-2},{"$f":"元ほうれん草!K350-K$2","v":1.2E-2},{"$f":"元ほうれん草!L350-L$2","v":8.0000000000000002E-3},{"$f":"元ほうれん草!M350-M$2","v":3.0000000000000001E-3},{"$f":"元ほうれん草!N350-N$2","v":2E-3},{"$f":"元ほうれん草!O350-O$2","v":2.9999999999999992E-3},{"$f":"元ほうれん草!P350-P$2","v":3.0000000000000001E-3}]
[647,{"$f":"元ほうれん草!B351-B$2","v":3.0000000000000027E-3},{"$f":"元ほうれん草!C351-C$2","v":3.0000000000000001E-3},{"$f":"元ほうれん草!D351-D$2","v":2.7E-2},{"$f":"元ほうれん草!E351-E$2","v":0.21099999999999999},{"$f":"元ほうれん草!F351-F$2","v":0.28799999999999998},{"$f":"元ほうれん草!G351-G$2","v":0.23199999999999998},{"$f":"元ほうれん草!H351-H$2","v":0.19400000000000001},{"$f":"元ほうれん草!I351-I$2","v":8.6000000000000007E-2},{"$f":"元ほうれん草!J351-J$2","v":2.7000000000000003E-2},{"$f":"元ほうれん草!K351-K$2","v":1.2E-2},{"$f":"元ほうれん草!L351-L$2","v":6.9999999999999993E-3},{"$f":"元ほうれん草!M351-M$2","v":3.0000000000000001E-3},{"$f":"元ほうれん草!N351-N$2","v":2E-3},{"$f":"元ほうれん草!O351-O$2","v":2.9999999999999992E-3},{"$f":"元ほうれん草!P351-P$2","v":3.0000000000000001E-3}]
[648,{"$f":"元ほうれん草!B352-B$2","v":5.0000000000000044E-3},{"$f":"元ほうれん草!C352-C$2","v":4.0000000000000001E-3},{"$f":"元ほうれん草!D352-D$2","v":0.03},{"$f":"元ほうれん草!E352-E$2","v":0.23899999999999999},{"$f":"元ほうれん草!F352-F$2","v":0.32},{"$f":"元ほうれん草!G352-G$2","v":0.23199999999999998},{"$f":"元ほうれん草!H352-H$2","v":0.188},{"$f":"元ほうれん草!I352-I$2","v":8.3000000000000004E-2},{"$f":"元ほうれん草!J352-J$2","v":2.7000000000000003E-2},{"$f":"元ほうれん草!K352-K$2","v":1.2E-2},{"$f":"元ほうれん草!L352-L$2","v":6.9999999999999993E-3},{"$f":"元ほうれん草!M352-M$2","v":3.0000000000000001E-3},{"$f":"元ほうれん草!N352-N$2","v":2E-3},{"$f":"元ほうれん草!O352-O$2","v":2.9999999999999992E-3},{"$f":"元ほうれん草!P352-P$2","v":3.0000000000000001E-3}]
[649,{"$f":"元ほうれん草!B353-B$2","v":6.0000000000000053E-3},{"$f":"元ほうれん草!C353-C$2","v":5.0000000000000001E-3},{"$f":"元ほうれん草!D353-D$2","v":3.4000000000000002E-2},{"$f":"元ほうれん草!E353-E$2","v":0.27},{"$f":"元ほうれん草!F353-F$2","v":0.35499999999999998},{"$f":"元ほうれん草!G353-G$2","v":0.23199999999999998},{"$f":"元ほうれん草!H353-H$2","v":0.17899999999999999},{"$f":"元ほうれん草!I353-I$2","v":7.9000000000000001E-2},{"$f":"元ほうれん草!J353-J$2","v":2.6000000000000002E-2},{"$f":"元ほうれん草!K353-K$2","v":1.0999999999999999E-2},{"$f":"元ほうれん草!L353-L$2","v":6.9999999999999993E-3},{"$f":"元ほうれん草!M353-M$2","v":3.0000000000000001E-3},{"$f":"元ほうれん草!N353-N$2","v":2E-3},{"$f":"元ほうれん草!O353-O$2","v":2E-3},{"$f":"元ほうれん草!P353-P$2","v":3.0000000000000001E-3}]
[650,{"$f":"元ほうれん草!B354-B$2","v":5.0000000000000044E-3},{"$f":"元ほうれん草!C354-C$2","v":4.0000000000000001E-3},{"$f":"元ほうれん草!D354-D$2","v":3.7999999999999999E-2},{"$f":"元ほうれん草!E354-E$2","v":0.30299999999999999},{"$f":"元ほうれん草!F354-F$2","v":0.39200000000000002},{"$f":"元ほうれん草!G354-G$2","v":0.22999999999999998},{"$f":"元ほうれん草!H354-H$2","v":0.16799999999999998},{"$f":"元ほうれん草!I354-I$2","v":7.5000000000000011E-2},{"$f":"元ほうれん草!J354-J$2","v":2.4E-2},{"$f":"元ほうれん草!K354-K$2","v":0.01},{"$f":"元ほうれん草!L354-L$2","v":6.9999999999999993E-3},{"$f":"元ほうれん草!M354-M$2","v":3.0000000000000001E-3},{"$f":"元ほうれん草!N354-N$2","v":2E-3},{"$f":"元ほうれん草!O354-O$2","v":2E-3},{"$f":"元ほうれん草!P354-P$2","v":3.0000000000000001E-3}]
[651,{"$f":"元ほうれん草!B355-B$2","v":5.0000000000000044E-3},{"$f":"元ほうれん草!C355-C$2","v":4.0000000000000001E-3},{"$f":"元ほうれん草!D355-D$2","v":4.1000000000000002E-2},{"$f":"元ほうれん草!E355-E$2","v":0.34199999999999997},{"$f":"元ほうれん草!F355-F$2","v":0.435},{"$f":"元ほうれん草!G355-G$2","v":0.22899999999999998},{"$f":"元ほうれん草!H355-H$2","v":0.158},{"$f":"元ほうれん草!I355-I$2","v":7.0000000000000007E-2},{"$f":"元ほうれん草!J355-J$2","v":2.1999999999999999E-2},{"$f":"元ほうれん草!K355-K$2","v":0.01},{"$f":"元ほうれん草!L355-L$2","v":6.9999999999999993E-3},{"$f":"元ほうれん草!M355-M$2","v":3.0000000000000001E-3},{"$f":"元ほうれん草!N355-N$2","v":2E-3},{"$f":"元ほうれん草!O355-O$2","v":2.9999999999999992E-3},{"$f":"元ほうれん草!P355-P$2","v":3.0000000000000001E-3}]
[652,{"$f":"元ほうれん草!B356-B$2","v":6.0000000000000053E-3},{"$f":"元ほうれん草!C356-C$2","v":4.0000000000000001E-3},{"$f":"元ほうれん草!D356-D$2","v":4.5999999999999999E-2},{"$f":"元ほうれん草!E356-E$2","v":0.39},{"$f":"元ほうれん草!F356-F$2","v":0.48799999999999999},{"$f":"元ほうれん草!G356-G$2","v":0.22899999999999998},{"$f":"元ほうれん草!H356-H$2","v":0.14699999999999999},{"$f":"元ほうれん草!I356-I$2","v":6.4000000000000001E-2},{"$f":"元ほうれん草!J356-J$2","v":2.0999999999999998E-2},{"$f":"元ほうれん草!K356-K$2","v":0.01},{"$f":"元ほうれん草!L356-L$2","v":6.9999999999999993E-3},{"$f":"元ほうれん草!M356-M$2","v":3.0000000000000001E-3},{"$f":"元ほうれん草!N356-N$2","v":2E-3},{"$f":"元ほうれん草!O356-O$2","v":2.9999999999999992E-3},{"$f":"元ほうれん草!P356-P$2","v":3.0000000000000001E-3}]
[653,{"$f":"元ほうれん草!B357-B$2","v":5.0000000000000044E-3},{"$f":"元ほうれん草!C357-C$2","v":5.0000000000000001E-3},{"$f":"元ほうれん草!D357-D$2","v":5.1999999999999998E-2},{"$f":"元ほうれん草!E357-E$2","v":0.442},{"$f":"元ほうれん草!F357-F$2","v":0.54700000000000004},{"$f":"元ほうれん草!G357-G$2","v":0.23099999999999998},{"$f":"元ほうれん草!H357-H$2","v":0.13499999999999998},{"$f":"元ほうれん草!I357-I$2","v":5.9000000000000004E-2},{"$f":"元ほうれん草!J357-J$2","v":0.02},{"$f":"元ほうれん草!K357-K$2","v":0.01},{"$f":"元ほうれん草!L357-L$2","v":6.9999999999999993E-3},{"$f":"元ほうれん草!M357-M$2","v":4.0000000000000001E-3},{"$f":"元ほうれん草!N357-N$2","v":2E-3},{"$f":"元ほうれん草!O357-O$2","v":2.9999999999999992E-3},{"$f":"元ほうれん草!P357-P$2","v":3.0000000000000001E-3}]
[654,{"$f":"元ほうれん草!B358-B$2","v":6.0000000000000053E-3},{"$f":"元ほうれん草!C358-C$2","v":3.0000000000000001E-3},{"$f":"元ほうれん草!D358-D$2","v":5.7000000000000002E-2},{"$f":"元ほうれん草!E358-E$2","v":0.49399999999999999},{"$f":"元ほうれん草!F358-F$2","v":0.60799999999999998},{"$f":"元ほうれん草!G358-G$2","v":0.23299999999999998},{"$f":"元ほうれん草!H358-H$2","v":0.124},{"$f":"元ほうれん草!I358-I$2","v":5.2999999999999999E-2},{"$f":"元ほうれん草!J358-J$2","v":1.8000000000000002E-2},{"$f":"元ほうれん草!K358-K$2","v":9.0000000000000011E-3},{"$f":"元ほうれん草!L358-L$2","v":6.9999999999999993E-3},{"$f":"元ほうれん草!M358-M$2","v":3.0000000000000001E-3},{"$f":"元ほうれん草!N358-N$2","v":1E-3},{"$f":"元ほうれん草!O358-O$2","v":2E-3},{"$f":"元ほうれん草!P358-P$2","v":3.0000000000000001E-3}]
[655,{"$f":"元ほうれん草!B359-B$2","v":1.4000000000000012E-2},{"$f":"元ほうれん草!C359-C$2","v":2E-3},{"$f":"元ほうれん草!D359-D$2","v":6.2E-2},{"$f":"元ほうれん草!E359-E$2","v":0.55100000000000005},{"$f":"元ほうれん草!F359-F$2","v":0.67200000000000004},{"$f":"元ほうれん草!G359-G$2","v":0.23399999999999999},{"$f":"元ほうれん草!H359-H$2","v":0.111},{"$f":"元ほうれん草!I359-I$2","v":4.8000000000000001E-2},{"$f":"元ほうれん草!J359-J$2","v":1.7000000000000001E-2},{"$f":"元ほうれん草!K359-K$2","v":9.0000000000000011E-3},{"$f":"元ほうれん草!L359-L$2","v":5.0000000000000001E-3},{"$f":"元ほうれん草!M359-M$2","v":1E-3},{"$f":"元ほうれん草!N359-N$2","v":-1E-3},{"$f":"元ほうれん草!O359-O$2","v":0},{"$f":"元ほうれん草!P359-P$2","v":1.9999999999999992E-3}]
[656,{"$f":"元ほうれん草!B360-B$2","v":1.7000000000000015E-2},{"$f":"元ほうれん草!C360-C$2","v":4.0000000000000001E-3},{"$f":"元ほうれん草!D360-D$2","v":6.9000000000000006E-2},{"$f":"元ほうれん草!E360-E$2","v":0.60099999999999998},{"$f":"元ほうれん草!F360-F$2","v":0.72799999999999998},{"$f":"元ほうれん草!G360-G$2","v":0.23799999999999999},{"$f":"元ほうれん草!H360-H$2","v":0.104},{"$f":"元ほうれん草!I360-I$2","v":4.3999999999999997E-2},{"$f":"元ほうれん草!J360-J$2","v":1.4999999999999999E-2},{"$f":"元ほうれん草!K360-K$2","v":8.0000000000000002E-3},{"$f":"元ほうれん草!L360-L$2","v":4.0000000000000001E-3},{"$f":"元ほうれん草!M360-M$2","v":0},{"$f":"元ほうれん草!N360-N$2","v":-1E-3},{"$f":"元ほうれん草!O360-O$2","v":-1E-3},{"$f":"元ほうれん草!P360-P$2","v":1.9999999999999992E-3}]
[657,{"$f":"元ほうれん草!B361-B$2","v":1.3000000000000012E-2},{"$f":"元ほうれん草!C361-C$2","v":5.0000000000000001E-3},{"$f":"元ほうれん草!D361-D$2","v":7.6999999999999999E-2},{"$f":"元ほうれん草!E361-E$2","v":0.65300000000000002},{"$f":"元ほうれん草!F361-F$2","v":0.78900000000000003},{"$f":"元ほうれん草!G361-G$2","v":0.247},{"$f":"元ほうれん草!H361-H$2","v":9.9999999999999992E-2},{"$f":"元ほうれん草!I361-I$2","v":4.1999999999999996E-2},{"$f":"元ほうれん草!J361-J$2","v":1.4E-2},{"$f":"元ほうれん草!K361-K$2","v":7.0000000000000001E-3},{"$f":"元ほうれん草!L361-L$2","v":3.0000000000000001E-3},{"$f":"元ほうれん草!M361-M$2","v":2E-3},{"$f":"元ほうれん草!N361-N$2","v":1E-3},{"$f":"元ほうれん草!O361-O$2","v":2E-3},{"$f":"元ほうれん草!P361-P$2","v":1.9999999999999992E-3}]
[658,{"$f":"元ほうれん草!B362-B$2","v":9.000000000000008E-3},{"$f":"元ほうれん草!C362-C$2","v":4.0000000000000001E-3},{"$f":"元ほうれん草!D362-D$2","v":8.4000000000000005E-2},{"$f":"元ほうれん草!E362-E$2","v":0.70199999999999996},{"$f":"元ほうれん草!F362-F$2","v":0.84599999999999997},{"$f":"元ほうれん草!G362-G$2","v":0.255},{"$f":"元ほうれん草!H362-H$2","v":9.5000000000000001E-2},{"$f":"元ほうれん草!I362-I$2","v":0.04},{"$f":"元ほうれん草!J362-J$2","v":1.4E-2},{"$f":"元ほうれん草!K362-K$2","v":8.0000000000000002E-3},{"$f":"元ほうれん草!L362-L$2","v":4.0000000000000001E-3},{"$f":"元ほうれん草!M362-M$2","v":3.0000000000000001E-3},{"$f":"元ほうれん草!N362-N$2","v":2E-3},{"$f":"元ほうれん草!O362-O$2","v":2E-3},{"$f":"元ほうれん草!P362-P$2","v":1.9999999999999992E-3}]
[659,{"$f":"元ほうれん草!B363-B$2","v":7.0000000000000062E-3},{"$f":"元ほうれん草!C363-C$2","v":5.0000000000000001E-3},{"$f":"元ほうれん草!D363-D$2","v":9.4E-2},{"$f":"元ほうれん草!E363-E$2","v":0.753},{"$f":"元ほうれん草!F363-F$2","v":0.90300000000000002},{"$f":"元ほうれん草!G363-G$2","v":0.26300000000000001},{"$f":"元ほうれん草!H363-H$2","v":0.09},{"$f":"元ほうれん草!I363-I$2","v":3.7999999999999999E-2},{"$f":"元ほうれん草!J363-J$2","v":1.4E-2},{"$f":"元ほうれん草!K363-K$2","v":9.0000000000000011E-3},{"$f":"元ほうれん草!L363-L$2","v":6.0000000000000001E-3},{"$f":"元ほうれん草!M363-M$2","v":3.0000000000000001E-3},{"$f":"元ほうれん草!N363-N$2","v":2E-3},{"$f":"元ほうれん草!O363-O$2","v":2.9999999999999992E-3},{"$f":"元ほうれん草!P363-P$2","v":1.9999999999999992E-3}]
[660,{"$f":"元ほうれん草!B364-B$2","v":4.0000000000000036E-3},{"$f":"元ほうれん草!C364-C$2","v":6.0000000000000001E-3},{"$f":"元ほうれん草!D364-D$2","v":0.10299999999999999},{"$f":"元ほうれん草!E364-E$2","v":0.79400000000000004},{"$f":"元ほうれん草!F364-F$2","v":0.95},{"$f":"元ほうれん草!G364-G$2","v":0.26900000000000002},{"$f":"元ほうれん草!H364-H$2","v":8.6999999999999994E-2},{"$f":"元ほうれん草!I364-I$2","v":3.5999999999999997E-2},{"$f":"元ほうれん草!J364-J$2","v":1.4E-2},{"$f":"元ほうれん草!K364-K$2","v":8.0000000000000002E-3},{"$f":"元ほうれん草!L364-L$2","v":6.9999999999999993E-3},{"$f":"元ほうれん草!M364-M$2","v":4.0000000000000001E-3},{"$f":"元ほうれん草!N364-N$2","v":2E-3},{"$f":"元ほうれん草!O364-O$2","v":2.9999999999999992E-3},{"$f":"元ほうれん草!P364-P$2","v":3.0000000000000001E-3}]
[661,{"$f":"元ほうれん草!B365-B$2","v":4.0000000000000036E-3},{"$f":"元ほうれん草!C365-C$2","v":7.0000000000000001E-3},{"$f":"元ほうれん草!D365-D$2","v":0.11},{"$f":"元ほうれん草!E365-E$2","v":0.81899999999999995},{"$f":"元ほうれん草!F365-F$2","v":0.97699999999999998},{"$f":"元ほうれん草!G365-G$2","v":0.27100000000000002},{"$f":"元ほうれん草!H365-H$2","v":8.299999999999999E-2},{"$f":"元ほうれん草!I365-I$2","v":3.3999999999999996E-2},{"$f":"元ほうれん草!J365-J$2","v":1.3000000000000001E-2},{"$f":"元ほうれん草!K365-K$2","v":8.0000000000000002E-3},{"$f":"元ほうれん草!L365-L$2","v":6.9999999999999993E-3},{"$f":"元ほうれん草!M365-M$2","v":4.0000000000000001E-3},{"$f":"元ほうれん草!N365-N$2","v":3.0000000000000001E-3},{"$f":"元ほうれん草!O365-O$2","v":2.9999999999999992E-3},{"$f":"元ほうれん草!P365-P$2","v":3.0000000000000001E-3}]
[662,{"$f":"元ほうれん草!B366-B$2","v":3.0000000000000027E-3},{"$f":"元ほうれん草!C366-C$2","v":7.0000000000000001E-3},{"$f":"元ほうれん草!D366-D$2","v":0.11600000000000001},{"$f":"元ほうれん草!E366-E$2","v":0.83099999999999996},{"$f":"元ほうれん草!F366-F$2","v":0.99},{"$f":"元ほうれん草!G366-G$2","v":0.26900000000000002},{"$f":"元ほうれん草!H366-H$2","v":7.9999999999999988E-2},{"$f":"元ほうれん草!I366-I$2","v":3.2000000000000001E-2},{"$f":"元ほうれん草!J366-J$2","v":1.2E-2},{"$f":"元ほうれん草!K366-K$2","v":8.0000000000000002E-3},{"$f":"元ほうれん草!L366-L$2","v":6.9999999999999993E-3},{"$f":"元ほうれん草!M366-M$2","v":4.0000000000000001E-3},{"$f":"元ほうれん草!N366-N$2","v":3.0000000000000001E-3},{"$f":"元ほうれん草!O366-O$2","v":2.9999999999999992E-3},{"$f":"元ほうれん草!P366-P$2","v":3.0000000000000001E-3}]
[663,{"$f":"元ほうれん草!B367-B$2","v":3.0000000000000027E-3},{"$f":"元ほうれん草!C367-C$2","v":8.0000000000000002E-3},{"$f":"元ほうれん草!D367-D$2","v":0.122},{"$f":"元ほうれん草!E367-E$2","v":0.83199999999999996},{"$f":"元ほうれん草!F367-F$2","v":0.99},{"$f":"元ほうれん草!G367-G$2","v":0.26500000000000001},{"$f":"元ほうれん草!H367-H$2","v":7.4999999999999997E-2},{"$f":"元ほうれん草!I367-I$2","v":0.03},{"$f":"元ほうれん草!J367-J$2","v":1.2E-2},{"$f":"元ほうれん草!K367-K$2","v":7.0000000000000001E-3},{"$f":"元ほうれん草!L367-L$2","v":6.0000000000000001E-3},{"$f":"元ほうれん草!M367-M$2","v":3.0000000000000001E-3},{"$f":"元ほうれん草!N367-N$2","v":2E-3},{"$f":"元ほうれん草!O367-O$2","v":2.9999999999999992E-3},{"$f":"元ほうれん草!P367-P$2","v":3.0000000000000001E-3}]
[664,{"$f":"元ほうれん草!B368-B$2","v":4.0000000000000036E-3},{"$f":"元ほうれん草!C368-C$2","v":8.0000000000000002E-3},{"$f":"元ほうれん草!D368-D$2","v":0.128},{"$f":"元ほうれん草!E368-E$2","v":0.81799999999999995},{"$f":"元ほうれん草!F368-F$2","v":0.97199999999999998},{"$f":"元ほうれん草!G368-G$2","v":0.25800000000000001},{"$f":"元ほうれん草!H368-H$2","v":6.9999999999999993E-2},{"$f":"元ほうれん草!I368-I$2","v":2.7999999999999997E-2},{"$f":"元ほうれん草!J368-J$2","v":1.0999999999999999E-2},{"$f":"元ほうれん草!K368-K$2","v":7.0000000000000001E-3},{"$f":"元ほうれん草!L368-L$2","v":6.0000000000000001E-3},{"$f":"元ほうれん草!M368-M$2","v":3.0000000000000001E-3},{"$f":"元ほうれん草!N368-N$2","v":2E-3},{"$f":"元ほうれん草!O368-O$2","v":2.9999999999999992E-3},{"$f":"元ほうれん草!P368-P$2","v":3.0000000000000001E-3}]
[665,{"$f":"元ほうれん草!B369-B$2","v":5.0000000000000044E-3},{"$f":"元ほうれん草!C369-C$2","v":8.0000000000000002E-3},{"$f":"元ほうれん草!D369-D$2","v":0.13},{"$f":"元ほうれん草!E369-E$2","v":0.79400000000000004},{"$f":"元ほうれん草!F369-F$2","v":0.94},{"$f":"元ほうれん草!G369-G$2","v":0.249},{"$f":"元ほうれん草!H369-H$2","v":6.699999999999999E-2},{"$f":"元ほうれん草!I369-I$2","v":2.6999999999999996E-2},{"$f":"元ほうれん草!J369-J$2","v":1.0999999999999999E-2},{"$f":"元ほうれん草!K369-K$2","v":7.0000000000000001E-3},{"$f":"元ほうれん草!L369-L$2","v":6.0000000000000001E-3},{"$f":"元ほうれん草!M369-M$2","v":3.0000000000000001E-3},{"$f":"元ほうれん草!N369-N$2","v":2E-3},{"$f":"元ほうれん草!O369-O$2","v":2.9999999999999992E-3},{"$f":"元ほうれん草!P369-P$2","v":3.0000000000000001E-3}]
[666,{"$f":"元ほうれん草!B370-B$2","v":4.0000000000000036E-3},{"$f":"元ほうれん草!C370-C$2","v":8.0000000000000002E-3},{"$f":"元ほうれん草!D370-D$2","v":0.13100000000000001},{"$f":"元ほうれん草!E370-E$2","v":0.75900000000000001},{"$f":"元ほうれん草!F370-F$2","v":0.89700000000000002},{"$f":"元ほうれん草!G370-G$2","v":0.23699999999999999},{"$f":"元ほうれん草!H370-H$2","v":6.3E-2},{"$f":"元ほうれん草!I370-I$2","v":2.5999999999999995E-2},{"$f":"元ほうれん草!J370-J$2","v":0.01},{"$f":"元ほうれん草!K370-K$2","v":7.0000000000000001E-3},{"$f":"元ほうれん草!L370-L$2","v":6.9999999999999993E-3},{"$f":"元ほうれん草!M370-M$2","v":3.0000000000000001E-3},{"$f":"元ほうれん草!N370-N$2","v":3.0000000000000001E-3},{"$f":"元ほうれん草!O370-O$2","v":2.9999999999999992E-3},{"$f":"元ほうれん草!P370-P$2","v":3.0000000000000001E-3}]
[667,{"$f":"元ほうれん草!B371-B$2","v":3.0000000000000027E-3},{"$f":"元ほうれん草!C371-C$2","v":8.0000000000000002E-3},{"$f":"元ほうれん草!D371-D$2","v":0.13},{"$f":"元ほうれん草!E371-E$2","v":0.71},{"$f":"元ほうれん草!F371-F$2","v":0.83799999999999997},{"$f":"元ほうれん草!G371-G$2","v":0.22},{"$f":"元ほうれん草!H371-H$2","v":5.8000000000000003E-2},{"$f":"元ほうれん草!I371-I$2","v":2.4E-2},{"$f":"元ほうれん草!J371-J$2","v":9.0000000000000011E-3},{"$f":"元ほうれん草!K371-K$2","v":7.0000000000000001E-3},{"$f":"元ほうれん草!L371-L$2","v":6.0000000000000001E-3},{"$f":"元ほうれん草!M371-M$2","v":4.0000000000000001E-3},{"$f":"元ほうれん草!N371-N$2","v":3.0000000000000001E-3},{"$f":"元ほうれん草!O371-O$2","v":4.0000000000000001E-3},{"$f":"元ほうれん草!P371-P$2","v":3.0000000000000001E-3}]
[668,{"$f":"元ほうれん草!B372-B$2","v":2.0000000000000018E-3},{"$f":"元ほうれん草!C372-C$2","v":8.0000000000000002E-3},{"$f":"元ほうれん草!D372-D$2","v":0.127},{"$f":"元ほうれん草!E372-E$2","v":0.65200000000000002},{"$f":"元ほうれん草!F372-F$2","v":0.76900000000000002},{"$f":"元ほうれん草!G372-G$2","v":0.20099999999999998},{"$f":"元ほうれん草!H372-H$2","v":5.2999999999999999E-2},{"$f":"元ほうれん草!I372-I$2","v":2.1999999999999999E-2},{"$f":"元ほうれん草!J372-J$2","v":8.0000000000000002E-3},{"$f":"元ほうれん草!K372-K$2","v":6.0000000000000001E-3},{"$f":"元ほうれん草!L372-L$2","v":6.0000000000000001E-3},{"$f":"元ほうれん草!M372-M$2","v":4.0000000000000001E-3},{"$f":"元ほうれん草!N372-N$2","v":2E-3},{"$f":"元ほうれん草!O372-O$2","v":2.9999999999999992E-3},{"$f":"元ほうれん草!P372-P$2","v":3.0000000000000001E-3}]
[669,{"$f":"元ほうれん草!B373-B$2","v":3.0000000000000027E-3},{"$f":"元ほうれん草!C373-C$2","v":8.0000000000000002E-3},{"$f":"元ほうれん草!D373-D$2","v":0.122},{"$f":"元ほうれん草!E373-E$2","v":0.59499999999999997},{"$f":"元ほうれん草!F373-F$2","v":0.70299999999999996},{"$f":"元ほうれん草!G373-G$2","v":0.183},{"$f":"元ほうれん草!H373-H$2","v":4.7E-2},{"$f":"元ほうれん草!I373-I$2","v":1.9999999999999997E-2},{"$f":"元ほうれん草!J373-J$2","v":8.0000000000000002E-3},{"$f":"元ほうれん草!K373-K$2","v":6.0000000000000001E-3},{"$f":"元ほうれん草!L373-L$2","v":6.0000000000000001E-3},{"$f":"元ほうれん草!M373-M$2","v":3.0000000000000001E-3},{"$f":"元ほうれん草!N373-N$2","v":2E-3},{"$f":"元ほうれん草!O373-O$2","v":2.9999999999999992E-3},{"$f":"元ほうれん草!P373-P$2","v":3.0000000000000001E-3}]
[670,{"$f":"元ほうれん草!B374-B$2","v":4.0000000000000036E-3},{"$f":"元ほうれん草!C374-C$2","v":7.0000000000000001E-3},{"$f":"元ほうれん草!D374-D$2","v":0.115},{"$f":"元ほうれん草!E374-E$2","v":0.53},{"$f":"元ほうれん草!F374-F$2","v":0.625},{"$f":"元ほうれん草!G374-G$2","v":0.16200000000000001},{"$f":"元ほうれん草!H374-H$2","v":4.1000000000000002E-2},{"$f":"元ほうれん草!I374-I$2","v":1.8000000000000002E-2},{"$f":"元ほうれん草!J374-J$2","v":7.0000000000000001E-3},{"$f":"元ほうれん草!K374-K$2","v":6.0000000000000001E-3},{"$f":"元ほうれん草!L374-L$2","v":5.0000000000000001E-3},{"$f":"元ほうれん草!M374-M$2","v":3.0000000000000001E-3},{"$f":"元ほうれん草!N374-N$2","v":2E-3},{"$f":"元ほうれん草!O374-O$2","v":2E-3},{"$f":"元ほうれん草!P374-P$2","v":3.0000000000000001E-3}]
[671,{"$f":"元ほうれん草!B375-B$2","v":5.0000000000000044E-3},{"$f":"元ほうれん草!C375-C$2","v":6.0000000000000001E-3},{"$f":"元ほうれん草!D375-D$2","v":0.107},{"$f":"元ほうれん草!E375-E$2","v":0.46400000000000002},{"$f":"元ほうれん草!F375-F$2","v":0.54700000000000004},{"$f":"元ほうれん草!G375-G$2","v":0.14099999999999999},{"$f":"元ほうれん草!H375-H$2","v":3.6000000000000004E-2},{"$f":"元ほうれん草!I375-I$2","v":1.6E-2},{"$f":"元ほうれん草!J375-J$2","v":6.0000000000000001E-3},{"$f":"元ほうれん草!K375-K$2","v":5.0000000000000001E-3},{"$f":"元ほうれん草!L375-L$2","v":4.0000000000000001E-3},{"$f":"元ほうれん草!M375-M$2","v":2E-3},{"$f":"元ほうれん草!N375-N$2","v":1E-3},{"$f":"元ほうれん草!O375-O$2","v":2E-3},{"$f":"元ほうれん草!P375-P$2","v":1.9999999999999992E-3}]
[672,{"$f":"元ほうれん草!B376-B$2","v":5.0000000000000044E-3},{"$f":"元ほうれん草!C376-C$2","v":6.0000000000000001E-3},{"$f":"元ほうれん草!D376-D$2","v":9.8000000000000004E-2},{"$f":"元ほうれん草!E376-E$2","v":0.40899999999999997},{"$f":"元ほうれん草!F376-F$2","v":0.48099999999999998},{"$f":"元ほうれん草!G376-G$2","v":0.124},{"$f":"元ほうれん草!H376-H$2","v":3.3000000000000002E-2},{"$f":"元ほうれん草!I376-I$2","v":1.5000000000000001E-2},{"$f":"元ほうれん草!J376-J$2","v":6.0000000000000001E-3},{"$f":"元ほうれん草!K376-K$2","v":4.0000000000000001E-3},{"$f":"元ほうれん草!L376-L$2","v":4.0000000000000001E-3},{"$f":"元ほうれん草!M376-M$2","v":2E-3},{"$f":"元ほうれん草!N376-N$2","v":1E-3},{"$f":"元ほうれん草!O376-O$2","v":2E-3},{"$f":"元ほうれん草!P376-P$2","v":1.9999999999999992E-3}]
[673,{"$f":"元ほうれん草!B377-B$2","v":5.0000000000000044E-3},{"$f":"元ほうれん草!C377-C$2","v":6.0000000000000001E-3},{"$f":"元ほうれん草!D377-D$2","v":8.8999999999999996E-2},{"$f":"元ほうれん草!E377-E$2","v":0.35499999999999998},{"$f":"元ほうれん草!F377-F$2","v":0.41799999999999998},{"$f":"元ほうれん草!G377-G$2","v":0.109},{"$f":"元ほうれん草!H377-H$2","v":2.9000000000000005E-2},{"$f":"元ほうれん草!I377-I$2","v":1.2999999999999999E-2},{"$f":"元ほうれん草!J377-J$2","v":5.0000000000000001E-3},{"$f":"元ほうれん草!K377-K$2","v":4.0000000000000001E-3},{"$f":"元ほうれん草!L377-L$2","v":4.0000000000000001E-3},{"$f":"元ほうれん草!M377-M$2","v":2E-3},{"$f":"元ほうれん草!N377-N$2","v":1E-3},{"$f":"元ほうれん草!O377-O$2","v":2E-3},{"$f":"元ほうれん草!P377-P$2","v":1.9999999999999992E-3}]
[674,{"$f":"元ほうれん草!B378-B$2","v":4.0000000000000036E-3},{"$f":"元ほうれん草!C378-C$2","v":6.0000000000000001E-3},{"$f":"元ほうれん草!D378-D$2","v":7.9000000000000001E-2},{"$f":"元ほうれん草!E378-E$2","v":0.3},{"$f":"元ほうれん草!F378-F$2","v":0.35199999999999998},{"$f":"元ほうれん草!G378-G$2","v":9.1999999999999998E-2},{"$f":"元ほうれん草!H378-H$2","v":2.5000000000000001E-2},{"$f":"元ほうれん草!I378-I$2","v":1.1999999999999999E-2},{"$f":"元ほうれん草!J378-J$2","v":4.0000000000000001E-3},{"$f":"元ほうれん草!K378-K$2","v":4.0000000000000001E-3},{"$f":"元ほうれん草!L378-L$2","v":4.0000000000000001E-3},{"$f":"元ほうれん草!M378-M$2","v":2E-3},{"$f":"元ほうれん草!N378-N$2","v":1E-3},{"$f":"元ほうれん草!O378-O$2","v":2.9999999999999992E-3},{"$f":"元ほうれん草!P378-P$2","v":1.9999999999999992E-3}]
[675,{"$f":"元ほうれん草!B379-B$2","v":4.0000000000000036E-3},{"$f":"元ほうれん草!C379-C$2","v":6.0000000000000001E-3},{"$f":"元ほうれん草!D379-D$2","v":6.9000000000000006E-2},{"$f":"元ほうれん草!E379-E$2","v":0.25},{"$f":"元ほうれん草!F379-F$2","v":0.29399999999999998},{"$f":"元ほうれん草!G379-G$2","v":7.8E-2},{"$f":"元ほうれん草!H379-H$2","v":2.1999999999999999E-2},{"$f":"元ほうれん草!I379-I$2","v":1.1000000000000001E-2},{"$f":"元ほうれん草!J379-J$2","v":4.0000000000000001E-3},{"$f":"元ほうれん草!K379-K$2","v":4.0000000000000001E-3},{"$f":"元ほうれん草!L379-L$2","v":4.0000000000000001E-3},{"$f":"元ほうれん草!M379-M$2","v":3.0000000000000001E-3},{"$f":"元ほうれん草!N379-N$2","v":1E-3},{"$f":"元ほうれん草!O379-O$2","v":2.9999999999999992E-3},{"$f":"元ほうれん草!P379-P$2","v":3.0000000000000001E-3}]
[676,{"$f":"元ほうれん草!B380-B$2","v":5.0000000000000044E-3},{"$f":"元ほうれん草!C380-C$2","v":6.0000000000000001E-3},{"$f":"元ほうれん草!D380-D$2","v":0.06},{"$f":"元ほうれん草!E380-E$2","v":0.21099999999999999},{"$f":"元ほうれん草!F380-F$2","v":0.248},{"$f":"元ほうれん草!G380-G$2","v":6.4999999999999988E-2},{"$f":"元ほうれん草!H380-H$2","v":1.9000000000000003E-2},{"$f":"元ほうれん草!I380-I$2","v":0.01},{"$f":"元ほうれん草!J380-J$2","v":4.0000000000000001E-3},{"$f":"元ほうれん草!K380-K$2","v":4.0000000000000001E-3},{"$f":"元ほうれん草!L380-L$2","v":4.0000000000000001E-3},{"$f":"元ほうれん草!M380-M$2","v":3.0000000000000001E-3},{"$f":"元ほうれん草!N380-N$2","v":1E-3},{"$f":"元ほうれん草!O380-O$2","v":2.9999999999999992E-3},{"$f":"元ほうれん草!P380-P$2","v":3.0000000000000001E-3}]
[677,{"$f":"元ほうれん草!B381-B$2","v":6.0000000000000053E-3},{"$f":"元ほうれん草!C381-C$2","v":5.0000000000000001E-3},{"$f":"元ほうれん草!D381-D$2","v":5.0999999999999997E-2},{"$f":"元ほうれん草!E381-E$2","v":0.17399999999999999},{"$f":"元ほうれん草!F381-F$2","v":0.20399999999999999},{"$f":"元ほうれん草!G381-G$2","v":5.3999999999999999E-2},{"$f":"元ほうれん草!H381-H$2","v":1.6E-2},{"$f":"元ほうれん草!I381-I$2","v":8.9999999999999993E-3},{"$f":"元ほうれん草!J381-J$2","v":3.0000000000000001E-3},{"$f":"元ほうれん草!K381-K$2","v":4.0000000000000001E-3},{"$f":"元ほうれん草!L381-L$2","v":4.0000000000000001E-3},{"$f":"元ほうれん草!M381-M$2","v":2E-3},{"$f":"元ほうれん草!N381-N$2","v":1E-3},{"$f":"元ほうれん草!O381-O$2","v":2E-3},{"$f":"元ほうれん草!P381-P$2","v":1.9999999999999992E-3}]
[678,{"$f":"元ほうれん草!B382-B$2","v":5.0000000000000044E-3},{"$f":"元ほうれん草!C382-C$2","v":4.0000000000000001E-3},{"$f":"元ほうれん草!D382-D$2","v":4.2999999999999997E-2},{"$f":"元ほうれん草!E382-E$2","v":0.14199999999999999},{"$f":"元ほうれん草!F382-F$2","v":0.16600000000000001},{"$f":"元ほうれん草!G382-G$2","v":4.3999999999999997E-2},{"$f":"元ほうれん草!H382-H$2","v":1.2999999999999999E-2},{"$f":"元ほうれん草!I382-I$2","v":7.9999999999999984E-3},{"$f":"元ほうれん草!J382-J$2","v":3.0000000000000001E-3},{"$f":"元ほうれん草!K382-K$2","v":4.0000000000000001E-3},{"$f":"元ほうれん草!L382-L$2","v":3.0000000000000001E-3},{"$f":"元ほうれん草!M382-M$2","v":2E-3},{"$f":"元ほうれん草!N382-N$2","v":1E-3},{"$f":"元ほうれん草!O382-O$2","v":2E-3},{"$f":"元ほうれん草!P382-P$2","v":1.9999999999999992E-3}]
[679,{"$f":"元ほうれん草!B383-B$2","v":5.0000000000000044E-3},{"$f":"元ほうれん草!C383-C$2","v":4.0000000000000001E-3},{"$f":"元ほうれん草!D383-D$2","v":3.5999999999999997E-2},{"$f":"元ほうれん草!E383-E$2","v":0.11799999999999999},{"$f":"元ほうれん草!F383-F$2","v":0.13799999999999998},{"$f":"元ほうれん草!G383-G$2","v":3.6999999999999998E-2},{"$f":"元ほうれん草!H383-H$2","v":1.1000000000000001E-2},{"$f":"元ほうれん草!I383-I$2","v":7.000000000000001E-3},{"$f":"元ほうれん草!J383-J$2","v":3.0000000000000001E-3},{"$f":"元ほうれん草!K383-K$2","v":3.0000000000000001E-3},{"$f":"元ほうれん草!L383-L$2","v":3.0000000000000001E-3},{"$f":"元ほうれん草!M383-M$2","v":1E-3},{"$f":"元ほうれん草!N383-N$2","v":1E-3},{"$f":"元ほうれん草!O383-O$2","v":2E-3},{"$f":"元ほうれん草!P383-P$2","v":1.9999999999999992E-3}]
[680,{"$f":"元ほうれん草!B384-B$2","v":5.0000000000000044E-3},{"$f":"元ほうれん草!C384-C$2","v":4.0000000000000001E-3},{"$f":"元ほうれん草!D384-D$2","v":0.03},{"$f":"元ほうれん草!E384-E$2","v":9.6000000000000002E-2},{"$f":"元ほうれん草!F384-F$2","v":0.112},{"$f":"元ほうれん草!G384-G$2","v":0.03},{"$f":"元ほうれん草!H384-H$2","v":8.9999999999999993E-3},{"$f":"元ほうれん草!I384-I$2","v":6.0000000000000001E-3},{"$f":"元ほうれん草!J384-J$2","v":2E-3},{"$f":"元ほうれん草!K384-K$2","v":3.0000000000000001E-3},{"$f":"元ほうれん草!L384-L$2","v":2E-3},{"$f":"元ほうれん草!M384-M$2","v":1E-3},{"$f":"元ほうれん草!N384-N$2","v":1E-3},{"$f":"元ほうれん草!O384-O$2","v":2E-3},{"$f":"元ほうれん草!P384-P$2","v":1.9999999999999992E-3}]
[681,{"$f":"元ほうれん草!B385-B$2","v":5.0000000000000044E-3},{"$f":"元ほうれん草!C385-C$2","v":3.0000000000000001E-3},{"$f":"元ほうれん草!D385-D$2","v":2.4E-2},{"$f":"元ほうれん草!E385-E$2","v":7.8E-2},{"$f":"元ほうれん草!F385-F$2","v":9.0999999999999998E-2},{"$f":"元ほうれん草!G385-G$2","v":2.5000000000000001E-2},{"$f":"元ほうれん草!H385-H$2","v":8.0000000000000002E-3},{"$f":"元ほうれん草!I385-I$2","v":6.0000000000000001E-3},{"$f":"元ほうれん草!J385-J$2","v":2E-3},{"$f":"元ほうれん草!K385-K$2","v":2E-3},{"$f":"元ほうれん草!L385-L$2","v":3.0000000000000001E-3},{"$f":"元ほうれん草!M385-M$2","v":2E-3},{"$f":"元ほうれん草!N385-N$2","v":1E-3},{"$f":"元ほうれん草!O385-O$2","v":2E-3},{"$f":"元ほうれん草!P385-P$2","v":1E-3}]
[682,{"$f":"元ほうれん草!B386-B$2","v":4.0000000000000036E-3},{"$f":"元ほうれん草!C386-C$2","v":3.0000000000000001E-3},{"$f":"元ほうれん草!D386-D$2","v":2.0999999999999998E-2},{"$f":"元ほうれん草!E386-E$2","v":6.6000000000000003E-2},{"$f":"元ほうれん草!F386-F$2","v":7.5999999999999998E-2},{"$f":"元ほうれん草!G386-G$2","v":2.2000000000000002E-2},{"$f":"元ほうれん草!H386-H$2","v":6.9999999999999993E-3},{"$f":"元ほうれん草!I386-I$2","v":4.9999999999999992E-3},{"$f":"元ほうれん草!J386-J$2","v":2E-3},{"$f":"元ほうれん草!K386-K$2","v":2E-3},{"$f":"元ほうれん草!L386-L$2","v":3.0000000000000001E-3},{"$f":"元ほうれん草!M386-M$2","v":2E-3},{"$f":"元ほうれん草!N386-N$2","v":1E-3},{"$f":"元ほうれん草!O386-O$2","v":2E-3},{"$f":"元ほうれん草!P386-P$2","v":1.9999999999999992E-3}]
[683,{"$f":"元ほうれん草!B387-B$2","v":4.0000000000000036E-3},{"$f":"元ほうれん草!C387-C$2","v":3.0000000000000001E-3},{"$f":"元ほうれん草!D387-D$2","v":1.6999999999999998E-2},{"$f":"元ほうれん草!E387-E$2","v":5.2999999999999999E-2},{"$f":"元ほうれん草!F387-F$2","v":6.2E-2},{"$f":"元ほうれん草!G387-G$2","v":1.8000000000000002E-2},{"$f":"元ほうれん草!H387-H$2","v":6.0000000000000001E-3},{"$f":"元ほうれん草!I387-I$2","v":4.9999999999999992E-3},{"$f":"元ほうれん草!J387-J$2","v":2E-3},{"$f":"元ほうれん草!K387-K$2","v":2E-3},{"$f":"元ほうれん草!L387-L$2","v":3.0000000000000001E-3},{"$f":"元ほうれん草!M387-M$2","v":2E-3},{"$f":"元ほうれん草!N387-N$2","v":1E-3},{"$f":"元ほうれん草!O387-O$2","v":2E-3},{"$f":"元ほうれん草!P387-P$2","v":1.9999999999999992E-3}]
[684,{"$f":"元ほうれん草!B388-B$2","v":5.0000000000000044E-3},{"$f":"元ほうれん草!C388-C$2","v":2E-3},{"$f":"元ほうれん草!D388-D$2","v":1.3999999999999999E-2},{"$f":"元ほうれん草!E388-E$2","v":4.2999999999999997E-2},{"$f":"元ほうれん草!F388-F$2","v":0.05},{"$f":"元ほうれん草!G388-G$2","v":1.4999999999999999E-2},{"$f":"元ほうれん草!H388-H$2","v":4.9999999999999992E-3},{"$f":"元ほうれん草!I388-I$2","v":4.9999999999999992E-3},{"$f":"元ほうれん草!J388-J$2","v":2E-3},{"$f":"元ほうれん草!K388-K$2","v":2E-3},{"$f":"元ほうれん草!L388-L$2","v":3.0000000000000001E-3},{"$f":"元ほうれん草!M388-M$2","v":1E-3},{"$f":"元ほうれん草!N388-N$2","v":0},{"$f":"元ほうれん草!O388-O$2","v":2E-3},{"$f":"元ほうれん草!P388-P$2","v":1.9999999999999992E-3}]
[685,{"$f":"元ほうれん草!B389-B$2","v":5.0000000000000044E-3},{"$f":"元ほうれん草!C389-C$2","v":3.0000000000000001E-3},{"$f":"元ほうれん草!D389-D$2","v":1.2E-2},{"$f":"元ほうれん草!E389-E$2","v":3.5999999999999997E-2},{"$f":"元ほうれん草!F389-F$2","v":4.1999999999999996E-2},{"$f":"元ほうれん草!G389-G$2","v":1.2E-2},{"$f":"元ほうれん草!H389-H$2","v":4.0000000000000001E-3},{"$f":"元ほうれん草!I389-I$2","v":4.9999999999999992E-3},{"$f":"元ほうれん草!J389-J$2","v":1E-3},{"$f":"元ほうれん草!K389-K$2","v":2E-3},{"$f":"元ほうれん草!L389-L$2","v":3.0000000000000001E-3},{"$f":"元ほうれん草!M389-M$2","v":1E-3},{"$f":"元ほうれん草!N389-N$2","v":0},{"$f":"元ほうれん草!O389-O$2","v":2E-3},{"$f":"元ほうれん草!P389-P$2","v":1.9999999999999992E-3}]
[686,{"$f":"元ほうれん草!B390-B$2","v":5.0000000000000044E-3},{"$f":"元ほうれん草!C390-C$2","v":3.0000000000000001E-3},{"$f":"元ほうれん草!D390-D$2","v":9.9999999999999985E-3},{"$f":"元ほうれん草!E390-E$2","v":3.1E-2},{"$f":"元ほうれん草!F390-F$2","v":3.5000000000000003E-2},{"$f":"元ほうれん草!G390-G$2","v":1.0999999999999999E-2},{"$f":"元ほうれん草!H390-H$2","v":4.0000000000000001E-3},{"$f":"元ほうれん草!I390-I$2","v":4.9999999999999992E-3},{"$f":"元ほうれん草!J390-J$2","v":1E-3},{"$f":"元ほうれん草!K390-K$2","v":2E-3},{"$f":"元ほうれん草!L390-L$2","v":2E-3},{"$f":"元ほうれん草!M390-M$2","v":1E-3},{"$f":"元ほうれん草!N390-N$2","v":1E-3},{"$f":"元ほうれん草!O390-O$2","v":2E-3},{"$f":"元ほうれん草!P390-P$2","v":1.9999999999999992E-3}]
[687,{"$f":"元ほうれん草!B391-B$2","v":4.0000000000000036E-3},{"$f":"元ほうれん草!C391-C$2","v":2E-3},{"$f":"元ほうれん草!D391-D$2","v":9.0000000000000011E-3},{"$f":"元ほうれん草!E391-E$2","v":2.6000000000000002E-2},{"$f":"元ほうれん草!F391-F$2","v":2.9000000000000001E-2},{"$f":"元ほうれん草!G391-G$2","v":1.0000000000000002E-2},{"$f":"元ほうれん草!H391-H$2","v":4.0000000000000001E-3},{"$f":"元ほうれん草!I391-I$2","v":4.0000000000000001E-3},{"$f":"元ほうれん草!J391-J$2","v":1E-3},{"$f":"元ほうれん草!K391-K$2","v":2E-3},{"$f":"元ほうれん草!L391-L$2","v":2E-3},{"$f":"元ほうれん草!M391-M$2","v":2E-3},{"$f":"元ほうれん草!N391-N$2","v":1E-3},{"$f":"元ほうれん草!O391-O$2","v":2E-3},{"$f":"元ほうれん草!P391-P$2","v":1E-3}]
[688,{"$f":"元ほうれん草!B392-B$2","v":4.0000000000000036E-3},{"$f":"元ほうれん草!C392-C$2","v":2E-3},{"$f":"元ほうれん草!D392-D$2","v":8.0000000000000002E-3},{"$f":"元ほうれん草!E392-E$2","v":2.1999999999999999E-2},{"$f":"元ほうれん草!F392-F$2","v":2.5000000000000001E-2},{"$f":"元ほうれん草!G392-G$2","v":9.0000000000000011E-3},{"$f":"元ほうれん草!H392-H$2","v":2.9999999999999992E-3},{"$f":"元ほうれん草!I392-I$2","v":4.0000000000000001E-3},{"$f":"元ほうれん草!J392-J$2","v":1E-3},{"$f":"元ほうれん草!K392-K$2","v":2E-3},{"$f":"元ほうれん草!L392-L$2","v":2E-3},{"$f":"元ほうれん草!M392-M$2","v":2E-3},{"$f":"元ほうれん草!N392-N$2","v":1E-3},{"$f":"元ほうれん草!O392-O$2","v":2E-3},{"$f":"元ほうれん草!P392-P$2","v":1E-3}]
[689,{"$f":"元ほうれん草!B393-B$2","v":4.0000000000000036E-3},{"$f":"元ほうれん草!C393-C$2","v":2E-3},{"$f":"元ほうれん草!D393-D$2","v":7.0000000000000001E-3},{"$f":"元ほうれん草!E393-E$2","v":1.9000000000000003E-2},{"$f":"元ほうれん草!F393-F$2","v":2.1000000000000001E-2},{"$f":"元ほうれん草!G393-G$2","v":8.0000000000000002E-3},{"$f":"元ほうれん草!H393-H$2","v":2.9999999999999992E-3},{"$f":"元ほうれん草!I393-I$2","v":4.0000000000000001E-3},{"$f":"元ほうれん草!J393-J$2","v":0},{"$f":"元ほうれん草!K393-K$2","v":2E-3},{"$f":"元ほうれん草!L393-L$2","v":2E-3},{"$f":"元ほうれん草!M393-M$2","v":2E-3},{"$f":"元ほうれん草!N393-N$2","v":1E-3},{"$f":"元ほうれん草!O393-O$2","v":2E-3},{"$f":"元ほうれん草!P393-P$2","v":1.9999999999999992E-3}]
[690,{"$f":"元ほうれん草!B394-B$2","v":4.0000000000000036E-3},{"$f":"元ほうれん草!C394-C$2","v":2E-3},{"$f":"元ほうれん草!D394-D$2","v":6.0000000000000001E-3},{"$f":"元ほうれん草!E394-E$2","v":1.6E-2},{"$f":"元ほうれん草!F394-F$2","v":1.7999999999999999E-2},{"$f":"元ほうれん草!G394-G$2","v":5.9999999999999993E-3},{"$f":"元ほうれん草!H394-H$2","v":2.9999999999999992E-3},{"$f":"元ほうれん草!I394-I$2","v":2.9999999999999992E-3},{"$f":"元ほうれん草!J394-J$2","v":0},{"$f":"元ほうれん草!K394-K$2","v":2E-3},{"$f":"元ほうれん草!L394-L$2","v":2E-3},{"$f":"元ほうれん草!M394-M$2","v":1E-3},{"$f":"元ほうれん草!N394-N$2","v":0},{"$f":"元ほうれん草!O394-O$2","v":2E-3},{"$f":"元ほうれん草!P394-P$2","v":1E-3}]
[691,{"$f":"元ほうれん草!B395-B$2","v":5.0000000000000044E-3},{"$f":"元ほうれん草!C395-C$2","v":2E-3},{"$f":"元ほうれん草!D395-D$2","v":5.0000000000000001E-3},{"$f":"元ほうれん草!E395-E$2","v":1.4E-2},{"$f":"元ほうれん草!F395-F$2","v":1.6E-2},{"$f":"元ほうれん草!G395-G$2","v":5.0000000000000001E-3},{"$f":"元ほうれん草!H395-H$2","v":2.9999999999999992E-3},{"$f":"元ほうれん草!I395-I$2","v":2.9999999999999992E-3},{"$f":"元ほうれん草!J395-J$2","v":0},{"$f":"元ほうれん草!K395-K$2","v":1E-3},{"$f":"元ほうれん草!L395-L$2","v":2E-3},{"$f":"元ほうれん草!M395-M$2","v":0},{"$f":"元ほうれん草!N395-N$2","v":0},{"$f":"元ほうれん草!O395-O$2","v":1E-3},{"$f":"元ほうれん草!P395-P$2","v":1E-3}]
[692,{"$f":"元ほうれん草!B396-B$2","v":4.0000000000000036E-3},{"$f":"元ほうれん草!C396-C$2","v":2E-3},{"$f":"元ほうれん草!D396-D$2","v":4.0000000000000001E-3},{"$f":"元ほうれん草!E396-E$2","v":1.2E-2},{"$f":"元ほうれん草!F396-F$2","v":1.3000000000000001E-2},{"$f":"元ほうれん草!G396-G$2","v":5.0000000000000001E-3},{"$f":"元ほうれん草!H396-H$2","v":2E-3},{"$f":"元ほうれん草!I396-I$2","v":2.9999999999999992E-3},{"$f":"元ほうれん草!J396-J$2","v":0},{"$f":"元ほうれん草!K396-K$2","v":1E-3},{"$f":"元ほうれん草!L396-L$2","v":2E-3},{"$f":"元ほうれん草!M396-M$2","v":0},{"$f":"元ほうれん草!N396-N$2","v":0},{"$f":"元ほうれん草!O396-O$2","v":1E-3},{"$f":"元ほうれん草!P396-P$2","v":1E-3}]
[693,{"$f":"元ほうれん草!B397-B$2","v":3.0000000000000027E-3},{"$f":"元ほうれん草!C397-C$2","v":2E-3},{"$f":"元ほうれん草!D397-D$2","v":5.0000000000000001E-3},{"$f":"元ほうれん草!E397-E$2","v":1.0999999999999999E-2},{"$f":"元ほうれん草!F397-F$2","v":1.2E-2},{"$f":"元ほうれん草!G397-G$2","v":5.0000000000000001E-3},{"$f":"元ほうれん草!H397-H$2","v":2.9999999999999992E-3},{"$f":"元ほうれん草!I397-I$2","v":2.9999999999999992E-3},{"$f":"元ほうれん草!J397-J$2","v":0},{"$f":"元ほうれん草!K397-K$2","v":2E-3},{"$f":"元ほうれん草!L397-L$2","v":2E-3},{"$f":"元ほうれん草!M397-M$2","v":1E-3},{"$f":"元ほうれん草!N397-N$2","v":1E-3},{"$f":"元ほうれん草!O397-O$2","v":2E-3},{"$f":"元ほうれん草!P397-P$2","v":1E-3}]
[694,{"$f":"元ほうれん草!B398-B$2","v":3.0000000000000027E-3},{"$f":"元ほうれん草!C398-C$2","v":2E-3},{"$f":"元ほうれん草!D398-D$2","v":5.0000000000000001E-3},{"$f":"元ほうれん草!E398-E$2","v":0.01},{"$f":"元ほうれん草!F398-F$2","v":1.0999999999999999E-2},{"$f":"元ほうれん草!G398-G$2","v":3.9999999999999992E-3},{"$f":"元ほうれん草!H398-H$2","v":2E-3},{"$f":"元ほうれん草!I398-I$2","v":2.9999999999999992E-3},{"$f":"元ほうれん草!J398-J$2","v":0},{"$f":"元ほうれん草!K398-K$2","v":1E-3},{"$f":"元ほうれん草!L398-L$2","v":2E-3},{"$f":"元ほうれん草!M398-M$2","v":1E-3},{"$f":"元ほうれん草!N398-N$2","v":0},{"$f":"元ほうれん草!O398-O$2","v":1E-3},{"$f":"元ほうれん草!P398-P$2","v":1E-3}]
[695,{"$f":"元ほうれん草!B399-B$2","v":3.0000000000000027E-3},{"$f":"元ほうれん草!C399-C$2","v":1E-3},{"$f":"元ほうれん草!D399-D$2","v":4.0000000000000001E-3},{"$f":"元ほうれん草!E399-E$2","v":8.9999999999999993E-3},{"$f":"元ほうれん草!F399-F$2","v":0.01},{"$f":"元ほうれん草!G399-G$2","v":3.9999999999999992E-3},{"$f":"元ほうれん草!H399-H$2","v":2E-3},{"$f":"元ほうれん草!I399-I$2","v":2.9999999999999992E-3},{"$f":"元ほうれん草!J399-J$2","v":0},{"$f":"元ほうれん草!K399-K$2","v":1E-3},{"$f":"元ほうれん草!L399-L$2","v":1E-3},{"$f":"元ほうれん草!M399-M$2","v":1E-3},{"$f":"元ほうれん草!N399-N$2","v":0},{"$f":"元ほうれん草!O399-O$2","v":1E-3},{"$f":"元ほうれん草!P399-P$2","v":1E-3}]
[696,{"$f":"元ほうれん草!B400-B$2","v":4.0000000000000036E-3},{"$f":"元ほうれん草!C400-C$2","v":1E-3},{"$f":"元ほうれん草!D400-D$2","v":3.0000000000000001E-3},{"$f":"元ほうれん草!E400-E$2","v":8.0000000000000002E-3},{"$f":"元ほうれん草!F400-F$2","v":8.9999999999999993E-3},{"$f":"元ほうれん草!G400-G$2","v":3.0000000000000001E-3},{"$f":"元ほうれん草!H400-H$2","v":2E-3},{"$f":"元ほうれん草!I400-I$2","v":2.9999999999999992E-3},{"$f":"元ほうれん草!J400-J$2","v":0},{"$f":"元ほうれん草!K400-K$2","v":1E-3},{"$f":"元ほうれん草!L400-L$2","v":1E-3},{"$f":"元ほうれん草!M400-M$2","v":1E-3},{"$f":"元ほうれん草!N400-N$2","v":0},{"$f":"元ほうれん草!O400-O$2","v":1E-3},{"$f":"元ほうれん草!P400-P$2","v":1E-3}]
[697,{"$f":"元ほうれん草!B401-B$2","v":5.0000000000000044E-3},{"$f":"元ほうれん草!C401-C$2","v":2E-3},{"$f":"元ほうれん草!D401-D$2","v":3.0000000000000001E-3},{"$f":"元ほうれん草!E401-E$2","v":8.0000000000000002E-3},{"$f":"元ほうれん草!F401-F$2","v":8.0000000000000002E-3},{"$f":"元ほうれん草!G401-G$2","v":3.0000000000000001E-3},{"$f":"元ほうれん草!H401-H$2","v":2E-3},{"$f":"元ほうれん草!I401-I$2","v":2E-3},{"$f":"元ほうれん草!J401-J$2","v":0},{"$f":"元ほうれん草!K401-K$2","v":1E-3},{"$f":"元ほうれん草!L401-L$2","v":1E-3},{"$f":"元ほうれん草!M401-M$2","v":1E-3},{"$f":"元ほうれん草!N401-N$2","v":0},{"$f":"元ほうれん草!O401-O$2","v":1E-3},{"$f":"元ほうれん草!P401-P$2","v":1E-3}]
[698,{"$f":"元ほうれん草!B402-B$2","v":4.0000000000000036E-3},{"$f":"元ほうれん草!C402-C$2","v":2E-3},{"$f":"元ほうれん草!D402-D$2","v":3.0000000000000001E-3},{"$f":"元ほうれん草!E402-E$2","v":8.0000000000000002E-3},{"$f":"元ほうれん草!F402-F$2","v":6.9999999999999993E-3},{"$f":"元ほうれん草!G402-G$2","v":3.0000000000000001E-3},{"$f":"元ほうれん草!H402-H$2","v":2E-3},{"$f":"元ほうれん草!I402-I$2","v":2.9999999999999992E-3},{"$f":"元ほうれん草!J402-J$2","v":0},{"$f":"元ほうれん草!K402-K$2","v":1E-3},{"$f":"元ほうれん草!L402-L$2","v":1E-3},{"$f":"元ほうれん草!M402-M$2","v":1E-3},{"$f":"元ほうれん草!N402-N$2","v":0},{"$f":"元ほうれん草!O402-O$2","v":1E-3},{"$f":"元ほうれん草!P402-P$2","v":1E-3}]
[699,{"$f":"元ほうれん草!B403-B$2","v":2.0000000000000018E-3},{"$f":"元ほうれん草!C403-C$2","v":1E-3},{"$f":"元ほうれん草!D403-D$2","v":3.0000000000000001E-3},{"$f":"元ほうれん草!E403-E$2","v":6.9999999999999993E-3},{"$f":"元ほうれん草!F403-F$2","v":6.9999999999999993E-3},{"$f":"元ほうれん草!G403-G$2","v":3.0000000000000001E-3},{"$f":"元ほうれん草!H403-H$2","v":2E-3},{"$f":"元ほうれん草!I403-I$2","v":2.9999999999999992E-3},{"$f":"元ほうれん草!J403-J$2","v":0},{"$f":"元ほうれん草!K403-K$2","v":1E-3},{"$f":"元ほうれん草!L403-L$2","v":1E-3},{"$f":"元ほうれん草!M403-M$2","v":1E-3},{"$f":"元ほうれん草!N403-N$2","v":0},{"$f":"元ほうれん草!O403-O$2","v":1E-3},{"$f":"元ほうれん草!P403-P$2","v":1E-3}]
[700,{"$f":"元ほうれん草!B404-B$2","v":1.0000000000000009E-3},{"$f":"元ほうれん草!C404-C$2","v":2E-3},{"$f":"元ほうれん草!D404-D$2","v":3.0000000000000001E-3},{"$f":"元ほうれん草!E404-E$2","v":6.9999999999999993E-3},{"$f":"元ほうれん草!F404-F$2","v":6.0000000000000001E-3},{"$f":"元ほうれん草!G404-G$2","v":3.0000000000000001E-3},{"$f":"元ほうれん草!H404-H$2","v":2E-3},{"$f":"元ほうれん草!I404-I$2","v":2.9999999999999992E-3},{"$f":"元ほうれん草!J404-J$2","v":0},{"$f":"元ほうれん草!K404-K$2","v":1E-3},{"$f":"元ほうれん草!L404-L$2","v":1E-3},{"$f":"元ほうれん草!M404-M$2","v":2E-3},{"$f":"元ほうれん草!N404-N$2","v":1E-3},{"$f":"元ほうれん草!O404-O$2","v":1E-3},{"$f":"元ほうれん草!P404-P$2","v":1E-3}]
[701,{"$f":"元ほうれん草!B405-B$2","v":1.0000000000000009E-3},{"$f":"元ほうれん草!C405-C$2","v":2E-3},{"$f":"元ほうれん草!D405-D$2","v":3.0000000000000001E-3},{"$f":"元ほうれん草!E405-E$2","v":6.0000000000000001E-3},{"$f":"元ほうれん草!F405-F$2","v":6.0000000000000001E-3},{"$f":"元ほうれん草!G405-G$2","v":3.0000000000000001E-3},{"$f":"元ほうれん草!H405-H$2","v":2E-3},{"$f":"元ほうれん草!I405-I$2","v":2.9999999999999992E-3},{"$f":"元ほうれん草!J405-J$2","v":0},{"$f":"元ほうれん草!K405-K$2","v":1E-3},{"$f":"元ほうれん草!L405-L$2","v":2E-3},{"$f":"元ほうれん草!M405-M$2","v":2E-3},{"$f":"元ほうれん草!N405-N$2","v":0},{"$f":"元ほうれん草!O405-O$2","v":2E-3},{"$f":"元ほうれん草!P405-P$2","v":1E-3}]
[702,{"$f":"元ほうれん草!B406-B$2","v":1.0000000000000009E-3},{"$f":"元ほうれん草!C406-C$2","v":2E-3},{"$f":"元ほうれん草!D406-D$2","v":3.0000000000000001E-3},{"$f":"元ほうれん草!E406-E$2","v":6.0000000000000001E-3},{"$f":"元ほうれん草!F406-F$2","v":4.9999999999999992E-3},{"$f":"元ほうれん草!G406-G$2","v":3.0000000000000001E-3},{"$f":"元ほうれん草!H406-H$2","v":2E-3},{"$f":"元ほうれん草!I406-I$2","v":2.9999999999999992E-3},{"$f":"元ほうれん草!J406-J$2","v":0},{"$f":"元ほうれん草!K406-K$2","v":1E-3},{"$f":"元ほうれん草!L406-L$2","v":2E-3},{"$f":"元ほうれん草!M406-M$2","v":2E-3},{"$f":"元ほうれん草!N406-N$2","v":0},{"$f":"元ほうれん草!O406-O$2","v":2E-3},{"$f":"元ほうれん草!P406-P$2","v":1E-3}]
[703,{"$f":"元ほうれん草!B407-B$2","v":1.0000000000000009E-3},{"$f":"元ほうれん草!C407-C$2","v":2E-3},{"$f":"元ほうれん草!D407-D$2","v":3.0000000000000001E-3},{"$f":"元ほうれん草!E407-E$2","v":6.0000000000000001E-3},{"$f":"元ほうれん草!F407-F$2","v":4.9999999999999992E-3},{"$f":"元ほうれん草!G407-G$2","v":3.0000000000000001E-3},{"$f":"元ほうれん草!H407-H$2","v":2E-3},{"$f":"元ほうれん草!I407-I$2","v":2.9999999999999992E-3},{"$f":"元ほうれん草!J407-J$2","v":0},{"$f":"元ほうれん草!K407-K$2","v":1E-3},{"$f":"元ほうれん草!L407-L$2","v":2E-3},{"$f":"元ほうれん草!M407-M$2","v":1E-3},{"$f":"元ほうれん草!N407-N$2","v":1E-3},{"$f":"元ほうれん草!O407-O$2","v":2E-3},{"$f":"元ほうれん草!P407-P$2","v":1E-3}]
[704,{"$f":"元ほうれん草!B408-B$2","v":0},{"$f":"元ほうれん草!C408-C$2","v":2E-3},{"$f":"元ほうれん草!D408-D$2","v":3.0000000000000001E-3},{"$f":"元ほうれん草!E408-E$2","v":5.0000000000000001E-3},{"$f":"元ほうれん草!F408-F$2","v":4.0000000000000001E-3},{"$f":"元ほうれん草!G408-G$2","v":1.9999999999999992E-3},{"$f":"元ほうれん草!H408-H$2","v":2E-3},{"$f":"元ほうれん草!I408-I$2","v":2E-3},{"$f":"元ほうれん草!J408-J$2","v":0},{"$f":"元ほうれん草!K408-K$2","v":0},{"$f":"元ほうれん草!L408-L$2","v":2E-3},{"$f":"元ほうれん草!M408-M$2","v":1E-3},{"$f":"元ほうれん草!N408-N$2","v":0},{"$f":"元ほうれん草!O408-O$2","v":2E-3},{"$f":"元ほうれん草!P408-P$2","v":1E-3}]
[705,{"$f":"元ほうれん草!B409-B$2","v":0},{"$f":"元ほうれん草!C409-C$2","v":2E-3},{"$f":"元ほうれん草!D409-D$2","v":3.0000000000000001E-3},{"$f":"元ほうれん草!E409-E$2","v":5.0000000000000001E-3},{"$f":"元ほうれん草!F409-F$2","v":4.0000000000000001E-3},{"$f":"元ほうれん草!G409-G$2","v":1.9999999999999992E-3},{"$f":"元ほうれん草!H409-H$2","v":2E-3},{"$f":"元ほうれん草!I409-I$2","v":2.9999999999999992E-3},{"$f":"元ほうれん草!J409-J$2","v":0},{"$f":"元ほうれん草!K409-K$2","v":1E-3},{"$f":"元ほうれん草!L409-L$2","v":1E-3},{"$f":"元ほうれん草!M409-M$2","v":1E-3},{"$f":"元ほうれん草!N409-N$2","v":1E-3},{"$f":"元ほうれん草!O409-O$2","v":2E-3},{"$f":"元ほうれん草!P409-P$2","v":1E-3}]
[706,{"$f":"元ほうれん草!B410-B$2","v":0},{"$f":"元ほうれん草!C410-C$2","v":1E-3},{"$f":"元ほうれん草!D410-D$2","v":2E-3},{"$f":"元ほうれん草!E410-E$2","v":4.0000000000000001E-3},{"$f":"元ほうれん草!F410-F$2","v":4.0000000000000001E-3},{"$f":"元ほうれん草!G410-G$2","v":1.9999999999999992E-3},{"$f":"元ほうれん草!H410-H$2","v":1E-3},{"$f":"元ほうれん草!I410-I$2","v":2E-3},{"$f":"元ほうれん草!J410-J$2","v":0},{"$f":"元ほうれん草!K410-K$2","v":1E-3},{"$f":"元ほうれん草!L410-L$2","v":1E-3},{"$f":"元ほうれん草!M410-M$2","v":1E-3},{"$f":"元ほうれん草!N410-N$2","v":1E-3},{"$f":"元ほうれん草!O410-O$2","v":1E-3},{"$f":"元ほうれん草!P410-P$2","v":1E-3}]
[707,{"$f":"元ほうれん草!B411-B$2","v":1.0000000000000009E-3},{"$f":"元ほうれん草!C411-C$2","v":1E-3},{"$f":"元ほうれん草!D411-D$2","v":2E-3},{"$f":"元ほうれん草!E411-E$2","v":4.0000000000000001E-3},{"$f":"元ほうれん草!F411-F$2","v":3.0000000000000001E-3},{"$f":"元ほうれん草!G411-G$2","v":1.9999999999999992E-3},{"$f":"元ほうれん草!H411-H$2","v":0},{"$f":"元ほうれん草!I411-I$2","v":2E-3},{"$f":"元ほうれん草!J411-J$2","v":0},{"$f":"元ほうれん草!K411-K$2","v":1E-3},{"$f":"元ほうれん草!L411-L$2","v":1E-3},{"$f":"元ほうれん草!M411-M$2","v":0},{"$f":"元ほうれん草!N411-N$2","v":0},{"$f":"元ほうれん草!O411-O$2","v":1E-3},{"$f":"元ほうれん草!P411-P$2","v":0}]
[708,{"$f":"元ほうれん草!B412-B$2","v":2.0000000000000018E-3},{"$f":"元ほうれん草!C412-C$2","v":1E-3},{"$f":"元ほうれん草!D412-D$2","v":3.0000000000000001E-3},{"$f":"元ほうれん草!E412-E$2","v":4.0000000000000001E-3},{"$f":"元ほうれん草!F412-F$2","v":3.0000000000000001E-3},{"$f":"元ほうれん草!G412-G$2","v":1.9999999999999992E-3},{"$f":"元ほうれん草!H412-H$2","v":1E-3},{"$f":"元ほうれん草!I412-I$2","v":2E-3},{"$f":"元ほうれん草!J412-J$2","v":0},{"$f":"元ほうれん草!K412-K$2","v":1E-3},{"$f":"元ほうれん草!L412-L$2","v":1E-3},{"$f":"元ほうれん草!M412-M$2","v":1E-3},{"$f":"元ほうれん草!N412-N$2","v":0},{"$f":"元ほうれん草!O412-O$2","v":1E-3},{"$f":"元ほうれん草!P412-P$2","v":0}]
[709,{"$f":"元ほうれん草!B413-B$2","v":2.0000000000000018E-3},{"$f":"元ほうれん草!C413-C$2","v":0},{"$f":"元ほうれん草!D413-D$2","v":2E-3},{"$f":"元ほうれん草!E413-E$2","v":4.0000000000000001E-3},{"$f":"元ほうれん草!F413-F$2","v":3.0000000000000001E-3},{"$f":"元ほうれん草!G413-G$2","v":1E-3},{"$f":"元ほうれん草!H413-H$2","v":0},{"$f":"元ほうれん草!I413-I$2","v":9.9999999999999915E-4},{"$f":"元ほうれん草!J413-J$2","v":-1E-3},{"$f":"元ほうれん草!K413-K$2","v":0},{"$f":"元ほうれん草!L413-L$2","v":1E-3},{"$f":"元ほうれん草!M413-M$2","v":1E-3},{"$f":"元ほうれん草!N413-N$2","v":0},{"$f":"元ほうれん草!O413-O$2","v":0},{"$f":"元ほうれん草!P413-P$2","v":0}]
[710,{"$f":"元ほうれん草!B414-B$2","v":0},{"$f":"元ほうれん草!C414-C$2","v":0},{"$f":"元ほうれん草!D414-D$2","v":2E-3},{"$f":"元ほうれん草!E414-E$2","v":3.0000000000000001E-3},{"$f":"元ほうれん草!F414-F$2","v":2E-3},{"$f":"元ほうれん草!G414-G$2","v":1E-3},{"$f":"元ほうれん草!H414-H$2","v":0},{"$f":"元ほうれん草!I414-I$2","v":9.9999999999999915E-4},{"$f":"元ほうれん草!J414-J$2","v":-1E-3},{"$f":"元ほうれん草!K414-K$2","v":0},{"$f":"元ほうれん草!L414-L$2","v":0},{"$f":"元ほうれん草!M414-M$2","v":1E-3},{"$f":"元ほうれん草!N414-N$2","v":0},{"$f":"元ほうれん草!O414-O$2","v":1E-3},{"$f":"元ほうれん草!P414-P$2","v":0}]
[711,{"$f":"元ほうれん草!B415-B$2","v":0},{"$f":"元ほうれん草!C415-C$2","v":1E-3},{"$f":"元ほうれん草!D415-D$2","v":2E-3},{"$f":"元ほうれん草!E415-E$2","v":3.0000000000000001E-3},{"$f":"元ほうれん草!F415-F$2","v":2E-3},{"$f":"元ほうれん草!G415-G$2","v":1E-3},{"$f":"元ほうれん草!H415-H$2","v":0},{"$f":"元ほうれん草!I415-I$2","v":9.9999999999999915E-4},{"$f":"元ほうれん草!J415-J$2","v":-1E-3},{"$f":"元ほうれん草!K415-K$2","v":0},{"$f":"元ほうれん草!L415-L$2","v":0},{"$f":"元ほうれん草!M415-M$2","v":1E-3},{"$f":"元ほうれん草!N415-N$2","v":0},{"$f":"元ほうれん草!O415-O$2","v":1E-3},{"$f":"元ほうれん草!P415-P$2","v":0}]
[712,{"$f":"元ほうれん草!B416-B$2","v":0},{"$f":"元ほうれん草!C416-C$2","v":1E-3},{"$f":"元ほうれん草!D416-D$2","v":2E-3},{"$f":"元ほうれん草!E416-E$2","v":3.0000000000000001E-3},{"$f":"元ほうれん草!F416-F$2","v":3.0000000000000001E-3},{"$f":"元ほうれん草!G416-G$2","v":1E-3},{"$f":"元ほうれん草!H416-H$2","v":1E-3},{"$f":"元ほうれん草!I416-I$2","v":2E-3},{"$f":"元ほうれん草!J416-J$2","v":-1E-3},{"$f":"元ほうれん草!K416-K$2","v":0},{"$f":"元ほうれん草!L416-L$2","v":0},{"$f":"元ほうれん草!M416-M$2","v":1E-3},{"$f":"元ほうれん草!N416-N$2","v":0},{"$f":"元ほうれん草!O416-O$2","v":1E-3},{"$f":"元ほうれん草!P416-P$2","v":1E-3}]
[713,{"$f":"元ほうれん草!B417-B$2","v":1.0000000000000009E-3},{"$f":"元ほうれん草!C417-C$2","v":1E-3},{"$f":"元ほうれん草!D417-D$2","v":2E-3},{"$f":"元ほうれん草!E417-E$2","v":3.0000000000000001E-3},{"$f":"元ほうれん草!F417-F$2","v":3.0000000000000001E-3},{"$f":"元ほうれん草!G417-G$2","v":1.9999999999999992E-3},{"$f":"元ほうれん草!H417-H$2","v":1E-3},{"$f":"元ほうれん草!I417-I$2","v":2.9999999999999992E-3},{"$f":"元ほうれん草!J417-J$2","v":0},{"$f":"元ほうれん草!K417-K$2","v":1E-3},{"$f":"元ほうれん草!L417-L$2","v":0},{"$f":"元ほうれん草!M417-M$2","v":1E-3},{"$f":"元ほうれん草!N417-N$2","v":0},{"$f":"元ほうれん草!O417-O$2","v":1E-3},{"$f":"元ほうれん草!P417-P$2","v":1E-3}]
[714,{"$f":"元ほうれん草!B418-B$2","v":1.0000000000000009E-3},{"$f":"元ほうれん草!C418-C$2","v":1E-3},{"$f":"元ほうれん草!D418-D$2","v":3.0000000000000001E-3},{"$f":"元ほうれん草!E418-E$2","v":4.0000000000000001E-3},{"$f":"元ほうれん草!F418-F$2","v":3.0000000000000001E-3},{"$f":"元ほうれん草!G418-G$2","v":1.9999999999999992E-3},{"$f":"元ほうれん草!H418-H$2","v":1E-3},{"$f":"元ほうれん草!I418-I$2","v":2.9999999999999992E-3},{"$f":"元ほうれん草!J418-J$2","v":0},{"$f":"元ほうれん草!K418-K$2","v":1E-3},{"$f":"元ほうれん草!L418-L$2","v":1E-3},{"$f":"元ほうれん草!M418-M$2","v":1E-3},{"$f":"元ほうれん草!N418-N$2","v":0},{"$f":"元ほうれん草!O418-O$2","v":1E-3},{"$f":"元ほうれん草!P418-P$2","v":1E-3}]
[715,{"$f":"元ほうれん草!B419-B$2","v":1.0000000000000009E-3},{"$f":"元ほうれん草!C419-C$2","v":1E-3},{"$f":"元ほうれん草!D419-D$2","v":3.0000000000000001E-3},{"$f":"元ほうれん草!E419-E$2","v":3.0000000000000001E-3},{"$f":"元ほうれん草!F419-F$2","v":2E-3},{"$f":"元ほうれん草!G419-G$2","v":1.9999999999999992E-3},{"$f":"元ほうれん草!H419-H$2","v":1E-3},{"$f":"元ほうれん草!I419-I$2","v":2E-3},{"$f":"元ほうれん草!J419-J$2","v":0},{"$f":"元ほうれん草!K419-K$2","v":1E-3},{"$f":"元ほうれん草!L419-L$2","v":1E-3},{"$f":"元ほうれん草!M419-M$2","v":1E-3},{"$f":"元ほうれん草!N419-N$2","v":0},{"$f":"元ほうれん草!O419-O$2","v":1E-3},{"$f":"元ほうれん草!P419-P$2","v":1E-3}]
[716,{"$f":"元ほうれん草!B420-B$2","v":0},{"$f":"元ほうれん草!C420-C$2","v":1E-3},{"$f":"元ほうれん草!D420-D$2","v":2E-3},{"$f":"元ほうれん草!E420-E$2","v":3.0000000000000001E-3},{"$f":"元ほうれん草!F420-F$2","v":2E-3},{"$f":"元ほうれん草!G420-G$2","v":1.9999999999999992E-3},{"$f":"元ほうれん草!H420-H$2","v":1E-3},{"$f":"元ほうれん草!I420-I$2","v":2E-3},{"$f":"元ほうれん草!J420-J$2","v":0},{"$f":"元ほうれん草!K420-K$2","v":0},{"$f":"元ほうれん草!L420-L$2","v":1E-3},{"$f":"元ほうれん草!M420-M$2","v":1E-3},{"$f":"元ほうれん草!N420-N$2","v":0},{"$f":"元ほうれん草!O420-O$2","v":1E-3},{"$f":"元ほうれん草!P420-P$2","v":1E-3}]
[717,{"$f":"元ほうれん草!B421-B$2","v":0},{"$f":"元ほうれん草!C421-C$2","v":0},{"$f":"元ほうれん草!D421-D$2","v":2E-3},{"$f":"元ほうれん草!E421-E$2","v":3.0000000000000001E-3},{"$f":"元ほうれん草!F421-F$2","v":2E-3},{"$f":"元ほうれん草!G421-G$2","v":1E-3},{"$f":"元ほうれん草!H421-H$2","v":1E-3},{"$f":"元ほうれん草!I421-I$2","v":2E-3},{"$f":"元ほうれん草!J421-J$2","v":-1E-3},{"$f":"元ほうれん草!K421-K$2","v":0},{"$f":"元ほうれん草!L421-L$2","v":1E-3},{"$f":"元ほうれん草!M421-M$2","v":1E-3},{"$f":"元ほうれん草!N421-N$2","v":0},{"$f":"元ほうれん草!O421-O$2","v":1E-3},{"$f":"元ほうれん草!P421-P$2","v":0}]
[718,{"$f":"元ほうれん草!B422-B$2","v":1.0000000000000009E-3},{"$f":"元ほうれん草!C422-C$2","v":0},{"$f":"元ほうれん草!D422-D$2","v":2E-3},{"$f":"元ほうれん草!E422-E$2","v":3.0000000000000001E-3},{"$f":"元ほうれん草!F422-F$2","v":2E-3},{"$f":"元ほうれん草!G422-G$2","v":1E-3},{"$f":"元ほうれん草!H422-H$2","v":1E-3},{"$f":"元ほうれん草!I422-I$2","v":2E-3},{"$f":"元ほうれん草!J422-J$2","v":-1E-3},{"$f":"元ほうれん草!K422-K$2","v":0},{"$f":"元ほうれん草!L422-L$2","v":0},{"$f":"元ほうれん草!M422-M$2","v":1E-3},{"$f":"元ほうれん草!N422-N$2","v":0},{"$f":"元ほうれん草!O422-O$2","v":1E-3},{"$f":"元ほうれん草!P422-P$2","v":0}]
[719,{"$f":"元ほうれん草!B423-B$2","v":0},{"$f":"元ほうれん草!C423-C$2","v":1E-3},{"$f":"元ほうれん草!D423-D$2","v":2E-3},{"$f":"元ほうれん草!E423-E$2","v":3.0000000000000001E-3},{"$f":"元ほうれん草!F423-F$2","v":2E-3},{"$f":"元ほうれん草!G423-G$2","v":1E-3},{"$f":"元ほうれん草!H423-H$2","v":1E-3},{"$f":"元ほうれん草!I423-I$2","v":2E-3},{"$f":"元ほうれん草!J423-J$2","v":-1E-3},{"$f":"元ほうれん草!K423-K$2","v":1E-3},{"$f":"元ほうれん草!L423-L$2","v":0},{"$f":"元ほうれん草!M423-M$2","v":1E-3},{"$f":"元ほうれん草!N423-N$2","v":0},{"$f":"元ほうれん草!O423-O$2","v":1E-3},{"$f":"元ほうれん草!P423-P$2","v":0}]
[720,{"$f":"元ほうれん草!B424-B$2","v":-1.0000000000000009E-3},{"$f":"元ほうれん草!C424-C$2","v":1E-3},{"$f":"元ほうれん草!D424-D$2","v":2E-3},{"$f":"元ほうれん草!E424-E$2","v":3.0000000000000001E-3},{"$f":"元ほうれん草!F424-F$2","v":2E-3},{"$f":"元ほうれん草!G424-G$2","v":1E-3},{"$f":"元ほうれん草!H424-H$2","v":1E-3},{"$f":"元ほうれん草!I424-I$2","v":2E-3},{"$f":"元ほうれん草!J424-J$2","v":0},{"$f":"元ほうれん草!K424-K$2","v":1E-3},{"$f":"元ほうれん草!L424-L$2","v":0},{"$f":"元ほうれん草!M424-M$2","v":1E-3},{"$f":"元ほうれん草!N424-N$2","v":0},{"$f":"元ほうれん草!O424-O$2","v":1E-3},{"$f":"元ほうれん草!P424-P$2","v":0}]
[721,{"$f":"元ほうれん草!B425-B$2","v":-1.0000000000000009E-3},{"$f":"元ほうれん草!C425-C$2","v":1E-3},{"$f":"元ほうれん草!D425-D$2","v":2E-3},{"$f":"元ほうれん草!E425-E$2","v":2E-3},{"$f":"元ほうれん草!F425-F$2","v":1E-3},{"$f":"元ほうれん草!G425-G$2","v":1E-3},{"$f":"元ほうれん草!H425-H$2","v":0},{"$f":"元ほうれん草!I425-I$2","v":2E-3},{"$f":"元ほうれん草!J425-J$2","v":0},{"$f":"元ほうれん草!K425-K$2","v":1E-3},{"$f":"元ほうれん草!L425-L$2","v":1E-3},{"$f":"元ほうれん草!M425-M$2","v":1E-3},{"$f":"元ほうれん草!N425-N$2","v":0},{"$f":"元ほうれん草!O425-O$2","v":1E-3},{"$f":"元ほうれん草!P425-P$2","v":0}]
[722,{"$f":"元ほうれん草!B426-B$2","v":-1.0000000000000009E-3},{"$f":"元ほうれん草!C426-C$2","v":0},{"$f":"元ほうれん草!D426-D$2","v":2E-3},{"$f":"元ほうれん草!E426-E$2","v":2E-3},{"$f":"元ほうれん草!F426-F$2","v":0},{"$f":"元ほうれん草!G426-G$2","v":1E-3},{"$f":"元ほうれん草!H426-H$2","v":0},{"$f":"元ほうれん草!I426-I$2","v":9.9999999999999915E-4},{"$f":"元ほうれん草!J426-J$2","v":-1E-3},{"$f":"元ほうれん草!K426-K$2","v":0},{"$f":"元ほうれん草!L426-L$2","v":0},{"$f":"元ほうれん草!M426-M$2","v":0},{"$f":"元ほうれん草!N426-N$2","v":0},{"$f":"元ほうれん草!O426-O$2","v":0},{"$f":"元ほうれん草!P426-P$2","v":-1E-3}]
[723,{"$f":"元ほうれん草!B427-B$2","v":-1.0000000000000009E-3},{"$f":"元ほうれん草!C427-C$2","v":0},{"$f":"元ほうれん草!D427-D$2","v":2E-3},{"$f":"元ほうれん草!E427-E$2","v":2E-3},{"$f":"元ほうれん草!F427-F$2","v":1E-3},{"$f":"元ほうれん草!G427-G$2","v":1E-3},{"$f":"元ほうれん草!H427-H$2","v":0},{"$f":"元ほうれん草!I427-I$2","v":9.9999999999999915E-4},{"$f":"元ほうれん草!J427-J$2","v":-1E-3},{"$f":"元ほうれん草!K427-K$2","v":0},{"$f":"元ほうれん草!L427-L$2","v":0},{"$f":"元ほうれん草!M427-M$2","v":1E-3},{"$f":"元ほうれん草!N427-N$2","v":0},{"$f":"元ほうれん草!O427-O$2","v":1E-3},{"$f":"元ほうれん草!P427-P$2","v":0}]
[724,{"$f":"元ほうれん草!B428-B$2","v":0},{"$f":"元ほうれん草!C428-C$2","v":1E-3},{"$f":"元ほうれん草!D428-D$2","v":2E-3},{"$f":"元ほうれん草!E428-E$2","v":3.0000000000000001E-3},{"$f":"元ほうれん草!F428-F$2","v":2E-3},{"$f":"元ほうれん草!G428-G$2","v":1.9999999999999992E-3},{"$f":"元ほうれん草!H428-H$2","v":1E-3},{"$f":"元ほうれん草!I428-I$2","v":2E-3},{"$f":"元ほうれん草!J428-J$2","v":0},{"$f":"元ほうれん草!K428-K$2","v":1E-3},{"$f":"元ほうれん草!L428-L$2","v":0},{"$f":"元ほうれん草!M428-M$2","v":2E-3},{"$f":"元ほうれん草!N428-N$2","v":1E-3},{"$f":"元ほうれん草!O428-O$2","v":1E-3},{"$f":"元ほうれん草!P428-P$2","v":0}]
[725,{"$f":"元ほうれん草!B429-B$2","v":0},{"$f":"元ほうれん草!C429-C$2","v":1E-3},{"$f":"元ほうれん草!D429-D$2","v":2E-3},{"$f":"元ほうれん草!E429-E$2","v":3.0000000000000001E-3},{"$f":"元ほうれん草!F429-F$2","v":2E-3},{"$f":"元ほうれん草!G429-G$2","v":1.9999999999999992E-3},{"$f":"元ほうれん草!H429-H$2","v":1E-3},{"$f":"元ほうれん草!I429-I$2","v":2E-3},{"$f":"元ほうれん草!J429-J$2","v":0},{"$f":"元ほうれん草!K429-K$2","v":0},{"$f":"元ほうれん草!L429-L$2","v":0},{"$f":"元ほうれん草!M429-M$2","v":2E-3},{"$f":"元ほうれん草!N429-N$2","v":1E-3},{"$f":"元ほうれん草!O429-O$2","v":1E-3},{"$f":"元ほうれん草!P429-P$2","v":1E-3}]
[726,{"$f":"元ほうれん草!B430-B$2","v":-1.0000000000000009E-3},{"$f":"元ほうれん草!C430-C$2","v":0},{"$f":"元ほうれん草!D430-D$2","v":1E-3},{"$f":"元ほうれん草!E430-E$2","v":3.0000000000000001E-3},{"$f":"元ほうれん草!F430-F$2","v":1E-3},{"$f":"元ほうれん草!G430-G$2","v":1E-3},{"$f":"元ほうれん草!H430-H$2","v":1E-3},{"$f":"元ほうれん草!I430-I$2","v":2E-3},{"$f":"元ほうれん草!J430-J$2","v":-1E-3},{"$f":"元ほうれん草!K430-K$2","v":0},{"$f":"元ほうれん草!L430-L$2","v":0},{"$f":"元ほうれん草!M430-M$2","v":1E-3},{"$f":"元ほうれん草!N430-N$2","v":0},{"$f":"元ほうれん草!O430-O$2","v":1E-3},{"$f":"元ほうれん草!P430-P$2","v":0}]
[727,{"$f":"元ほうれん草!B431-B$2","v":-1.0000000000000009E-3},{"$f":"元ほうれん草!C431-C$2","v":0},{"$f":"元ほうれん草!D431-D$2","v":2E-3},{"$f":"元ほうれん草!E431-E$2","v":2E-3},{"$f":"元ほうれん草!F431-F$2","v":1E-3},{"$f":"元ほうれん草!G431-G$2","v":1E-3},{"$f":"元ほうれん草!H431-H$2","v":0},{"$f":"元ほうれん草!I431-I$2","v":2E-3},{"$f":"元ほうれん草!J431-J$2","v":-1E-3},{"$f":"元ほうれん草!K431-K$2","v":0},{"$f":"元ほうれん草!L431-L$2","v":0},{"$f":"元ほうれん草!M431-M$2","v":1E-3},{"$f":"元ほうれん草!N431-N$2","v":0},{"$f":"元ほうれん草!O431-O$2","v":1E-3},{"$f":"元ほうれん草!P431-P$2","v":0}]
[728,{"$f":"元ほうれん草!B432-B$2","v":1.0000000000000009E-3},{"$f":"元ほうれん草!C432-C$2","v":0},{"$f":"元ほうれん草!D432-D$2","v":2E-3},{"$f":"元ほうれん草!E432-E$2","v":2E-3},{"$f":"元ほうれん草!F432-F$2","v":1E-3},{"$f":"元ほうれん草!G432-G$2","v":1E-3},{"$f":"元ほうれん草!H432-H$2","v":0},{"$f":"元ほうれん草!I432-I$2","v":2E-3},{"$f":"元ほうれん草!J432-J$2","v":-1E-3},{"$f":"元ほうれん草!K432-K$2","v":0},{"$f":"元ほうれん草!L432-L$2","v":1E-3},{"$f":"元ほうれん草!M432-M$2","v":0},{"$f":"元ほうれん草!N432-N$2","v":0},{"$f":"元ほうれん草!O432-O$2","v":1E-3},{"$f":"元ほうれん草!P432-P$2","v":0}]
[729,{"$f":"元ほうれん草!B433-B$2","v":1.0000000000000009E-3},{"$f":"元ほうれん草!C433-C$2","v":0},{"$f":"元ほうれん草!D433-D$2","v":2E-3},{"$f":"元ほうれん草!E433-E$2","v":3.0000000000000001E-3},{"$f":"元ほうれん草!F433-F$2","v":1E-3},{"$f":"元ほうれん草!G433-G$2","v":1E-3},{"$f":"元ほうれん草!H433-H$2","v":1E-3},{"$f":"元ほうれん草!I433-I$2","v":2E-3},{"$f":"元ほうれん草!J433-J$2","v":0},{"$f":"元ほうれん草!K433-K$2","v":1E-3},{"$f":"元ほうれん草!L433-L$2","v":1E-3},{"$f":"元ほうれん草!M433-M$2","v":1E-3},{"$f":"元ほうれん草!N433-N$2","v":0},{"$f":"元ほうれん草!O433-O$2","v":1E-3},{"$f":"元ほうれん草!P433-P$2","v":1E-3}]
[730,{"$f":"元ほうれん草!B434-B$2","v":1.0000000000000009E-3},{"$f":"元ほうれん草!C434-C$2","v":-1E-3},{"$f":"元ほうれん草!D434-D$2","v":1E-3},{"$f":"元ほうれん草!E434-E$2","v":2E-3},{"$f":"元ほうれん草!F434-F$2","v":0},{"$f":"元ほうれん草!G434-G$2","v":0},{"$f":"元ほうれん草!H434-H$2","v":0},{"$f":"元ほうれん草!I434-I$2","v":9.9999999999999915E-4},{"$f":"元ほうれん草!J434-J$2","v":0},{"$f":"元ほうれん草!K434-K$2","v":0},{"$f":"元ほうれん草!L434-L$2","v":0},{"$f":"元ほうれん草!M434-M$2","v":0},{"$f":"元ほうれん草!N434-N$2","v":-1E-3},{"$f":"元ほうれん草!O434-O$2","v":0},{"$f":"元ほうれん草!P434-P$2","v":0}]
[731,{"$f":"元ほうれん草!B435-B$2","v":2.0000000000000018E-3},{"$f":"元ほうれん草!C435-C$2","v":0},{"$f":"元ほうれん草!D435-D$2","v":1E-3},{"$f":"元ほうれん草!E435-E$2","v":2E-3},{"$f":"元ほうれん草!F435-F$2","v":0},{"$f":"元ほうれん草!G435-G$2","v":0},{"$f":"元ほうれん草!H435-H$2","v":-1E-3},{"$f":"元ほうれん草!I435-I$2","v":9.9999999999999915E-4},{"$f":"元ほうれん草!J435-J$2","v":-1E-3},{"$f":"元ほうれん草!K435-K$2","v":0},{"$f":"元ほうれん草!L435-L$2","v":-1E-3},{"$f":"元ほうれん草!M435-M$2","v":0},{"$f":"元ほうれん草!N435-N$2","v":-1E-3},{"$f":"元ほうれん草!O435-O$2","v":0},{"$f":"元ほうれん草!P435-P$2","v":-1E-3}]
[732,{"$f":"元ほうれん草!B436-B$2","v":2.0000000000000018E-3},{"$f":"元ほうれん草!C436-C$2","v":0},{"$f":"元ほうれん草!D436-D$2","v":1E-3},{"$f":"元ほうれん草!E436-E$2","v":1E-3},{"$f":"元ほうれん草!F436-F$2","v":0},{"$f":"元ほうれん草!G436-G$2","v":-1E-3},{"$f":"元ほうれん草!H436-H$2","v":-1E-3},{"$f":"元ほうれん草!I436-I$2","v":9.9999999999999915E-4},{"$f":"元ほうれん草!J436-J$2","v":-1E-3},{"$f":"元ほうれん草!K436-K$2","v":0},{"$f":"元ほうれん草!L436-L$2","v":-1E-3},{"$f":"元ほうれん草!M436-M$2","v":0},{"$f":"元ほうれん草!N436-N$2","v":-1E-3},{"$f":"元ほうれん草!O436-O$2","v":0},{"$f":"元ほうれん草!P436-P$2","v":-1E-3}]
[733,{"$f":"元ほうれん草!B437-B$2","v":2.0000000000000018E-3},{"$f":"元ほうれん草!C437-C$2","v":0},{"$f":"元ほうれん草!D437-D$2","v":0},{"$f":"元ほうれん草!E437-E$2","v":1E-3},{"$f":"元ほうれん草!F437-F$2","v":0},{"$f":"元ほうれん草!G437-G$2","v":0},{"$f":"元ほうれん草!H437-H$2","v":-1E-3},{"$f":"元ほうれん草!I437-I$2","v":9.9999999999999915E-4},{"$f":"元ほうれん草!J437-J$2","v":-1E-3},{"$f":"元ほうれん草!K437-K$2","v":0},{"$f":"元ほうれん草!L437-L$2","v":-1E-3},{"$f":"元ほうれん草!M437-M$2","v":-1E-3},{"$f":"元ほうれん草!N437-N$2","v":-2E-3},{"$f":"元ほうれん草!O437-O$2","v":0},{"$f":"元ほうれん草!P437-P$2","v":-1E-3}]
[734,{"$f":"元ほうれん草!B438-B$2","v":2.0000000000000018E-3},{"$f":"元ほうれん草!C438-C$2","v":0},{"$f":"元ほうれん草!D438-D$2","v":0},{"$f":"元ほうれん草!E438-E$2","v":1E-3},{"$f":"元ほうれん草!F438-F$2","v":0},{"$f":"元ほうれん草!G438-G$2","v":0},{"$f":"元ほうれん草!H438-H$2","v":0},{"$f":"元ほうれん草!I438-I$2","v":9.9999999999999915E-4},{"$f":"元ほうれん草!J438-J$2","v":-1E-3},{"$f":"元ほうれん草!K438-K$2","v":0},{"$f":"元ほうれん草!L438-L$2","v":0},{"$f":"元ほうれん草!M438-M$2","v":0},{"$f":"元ほうれん草!N438-N$2","v":-1E-3},{"$f":"元ほうれん草!O438-O$2","v":0},{"$f":"元ほうれん草!P438-P$2","v":0}]
[735,{"$f":"元ほうれん草!B439-B$2","v":3.0000000000000027E-3},{"$f":"元ほうれん草!C439-C$2","v":0},{"$f":"元ほうれん草!D439-D$2","v":1E-3},{"$f":"元ほうれん草!E439-E$2","v":2E-3},{"$f":"元ほうれん草!F439-F$2","v":0},{"$f":"元ほうれん草!G439-G$2","v":0},{"$f":"元ほうれん草!H439-H$2","v":0},{"$f":"元ほうれん草!I439-I$2","v":9.9999999999999915E-4},{"$f":"元ほうれん草!J439-J$2","v":-1E-3},{"$f":"元ほうれん草!K439-K$2","v":0},{"$f":"元ほうれん草!L439-L$2","v":0},{"$f":"元ほうれん草!M439-M$2","v":0},{"$f":"元ほうれん草!N439-N$2","v":-1E-3},{"$f":"元ほうれん草!O439-O$2","v":0},{"$f":"元ほうれん草!P439-P$2","v":0}]
[736,{"$f":"元ほうれん草!B440-B$2","v":4.0000000000000036E-3},{"$f":"元ほうれん草!C440-C$2","v":-1E-3},{"$f":"元ほうれん草!D440-D$2","v":1E-3},{"$f":"元ほうれん草!E440-E$2","v":1E-3},{"$f":"元ほうれん草!F440-F$2","v":0},{"$f":"元ほうれん草!G440-G$2","v":0},{"$f":"元ほうれん草!H440-H$2","v":-1E-3},{"$f":"元ほうれん草!I440-I$2","v":9.9999999999999915E-4},{"$f":"元ほうれん草!J440-J$2","v":-1E-3},{"$f":"元ほうれん草!K440-K$2","v":-1E-3},{"$f":"元ほうれん草!L440-L$2","v":-1E-3},{"$f":"元ほうれん草!M440-M$2","v":0},{"$f":"元ほうれん草!N440-N$2","v":-1E-3},{"$f":"元ほうれん草!O440-O$2","v":1E-3},{"$f":"元ほうれん草!P440-P$2","v":0}]
[737,{"$f":"元ほうれん草!B441-B$2","v":4.0000000000000036E-3},{"$f":"元ほうれん草!C441-C$2","v":0},{"$f":"元ほうれん草!D441-D$2","v":1E-3},{"$f":"元ほうれん草!E441-E$2","v":2E-3},{"$f":"元ほうれん草!F441-F$2","v":0},{"$f":"元ほうれん草!G441-G$2","v":0},{"$f":"元ほうれん草!H441-H$2","v":0},{"$f":"元ほうれん草!I441-I$2","v":9.9999999999999915E-4},{"$f":"元ほうれん草!J441-J$2","v":-1E-3},{"$f":"元ほうれん草!K441-K$2","v":-1E-3},{"$f":"元ほうれん草!L441-L$2","v":-1E-3},{"$f":"元ほうれん草!M441-M$2","v":0},{"$f":"元ほうれん草!N441-N$2","v":-1E-3},{"$f":"元ほうれん草!O441-O$2","v":0},{"$f":"元ほうれん草!P441-P$2","v":0}]
[738,{"$f":"元ほうれん草!B442-B$2","v":3.0000000000000027E-3},{"$f":"元ほうれん草!C442-C$2","v":0},{"$f":"元ほうれん草!D442-D$2","v":1E-3},{"$f":"元ほうれん草!E442-E$2","v":2E-3},{"$f":"元ほうれん草!F442-F$2","v":0},{"$f":"元ほうれん草!G442-G$2","v":0},{"$f":"元ほうれん草!H442-H$2","v":0},{"$f":"元ほうれん草!I442-I$2","v":9.9999999999999915E-4},{"$f":"元ほうれん草!J442-J$2","v":-1E-3},{"$f":"元ほうれん草!K442-K$2","v":0},{"$f":"元ほうれん草!L442-L$2","v":-1E-3},{"$f":"元ほうれん草!M442-M$2","v":0},{"$f":"元ほうれん草!N442-N$2","v":-1E-3},{"$f":"元ほうれん草!O442-O$2","v":0},{"$f":"元ほうれん草!P442-P$2","v":0}]
[739,{"$f":"元ほうれん草!B443-B$2","v":3.0000000000000027E-3},{"$f":"元ほうれん草!C443-C$2","v":0},{"$f":"元ほうれん草!D443-D$2","v":1E-3},{"$f":"元ほうれん草!E443-E$2","v":1E-3},{"$f":"元ほうれん草!F443-F$2","v":0},{"$f":"元ほうれん草!G443-G$2","v":0},{"$f":"元ほうれん草!H443-H$2","v":-1E-3},{"$f":"元ほうれん草!I443-I$2","v":9.9999999999999915E-4},{"$f":"元ほうれん草!J443-J$2","v":-1E-3},{"$f":"元ほうれん草!K443-K$2","v":0},{"$f":"元ほうれん草!L443-L$2","v":0},{"$f":"元ほうれん草!M443-M$2","v":0},{"$f":"元ほうれん草!N443-N$2","v":-1E-3},{"$f":"元ほうれん草!O443-O$2","v":0},{"$f":"元ほうれん草!P443-P$2","v":0}]
[740,{"$f":"元ほうれん草!B444-B$2","v":3.0000000000000027E-3},{"$f":"元ほうれん草!C444-C$2","v":1E-3},{"$f":"元ほうれん草!D444-D$2","v":2E-3},{"$f":"元ほうれん草!E444-E$2","v":2E-3},{"$f":"元ほうれん草!F444-F$2","v":1E-3},{"$f":"元ほうれん草!G444-G$2","v":1E-3},{"$f":"元ほうれん草!H444-H$2","v":0},{"$f":"元ほうれん草!I444-I$2","v":9.9999999999999915E-4},{"$f":"元ほうれん草!J444-J$2","v":-1E-3},{"$f":"元ほうれん草!K444-K$2","v":0},{"$f":"元ほうれん草!L444-L$2","v":0},{"$f":"元ほうれん草!M444-M$2","v":1E-3},{"$f":"元ほうれん草!N444-N$2","v":0},{"$f":"元ほうれん草!O444-O$2","v":1E-3},{"$f":"元ほうれん草!P444-P$2","v":0}]
[741,{"$f":"元ほうれん草!B445-B$2","v":1.0000000000000009E-3},{"$f":"元ほうれん草!C445-C$2","v":0},{"$f":"元ほうれん草!D445-D$2","v":1E-3},{"$f":"元ほうれん草!E445-E$2","v":2E-3},{"$f":"元ほうれん草!F445-F$2","v":0},{"$f":"元ほうれん草!G445-G$2","v":0},{"$f":"元ほうれん草!H445-H$2","v":0},{"$f":"元ほうれん草!I445-I$2","v":9.9999999999999915E-4},{"$f":"元ほうれん草!J445-J$2","v":-1E-3},{"$f":"元ほうれん草!K445-K$2","v":0},{"$f":"元ほうれん草!L445-L$2","v":0},{"$f":"元ほうれん草!M445-M$2","v":1E-3},{"$f":"元ほうれん草!N445-N$2","v":0},{"$f":"元ほうれん草!O445-O$2","v":1E-3},{"$f":"元ほうれん草!P445-P$2","v":0}]
[742,{"$f":"元ほうれん草!B446-B$2","v":1.0000000000000009E-3},{"$f":"元ほうれん草!C446-C$2","v":0},{"$f":"元ほうれん草!D446-D$2","v":1E-3},{"$f":"元ほうれん草!E446-E$2","v":2E-3},{"$f":"元ほうれん草!F446-F$2","v":1E-3},{"$f":"元ほうれん草!G446-G$2","v":0},{"$f":"元ほうれん草!H446-H$2","v":0},{"$f":"元ほうれん草!I446-I$2","v":9.9999999999999915E-4},{"$f":"元ほうれん草!J446-J$2","v":-1E-3},{"$f":"元ほうれん草!K446-K$2","v":0},{"$f":"元ほうれん草!L446-L$2","v":0},{"$f":"元ほうれん草!M446-M$2","v":0},{"$f":"元ほうれん草!N446-N$2","v":0},{"$f":"元ほうれん草!O446-O$2","v":0},{"$f":"元ほうれん草!P446-P$2","v":0}]
[743,{"$f":"元ほうれん草!B447-B$2","v":2.0000000000000018E-3},{"$f":"元ほうれん草!C447-C$2","v":1E-3},{"$f":"元ほうれん草!D447-D$2","v":2E-3},{"$f":"元ほうれん草!E447-E$2","v":2E-3},{"$f":"元ほうれん草!F447-F$2","v":1E-3},{"$f":"元ほうれん草!G447-G$2","v":0},{"$f":"元ほうれん草!H447-H$2","v":0},{"$f":"元ほうれん草!I447-I$2","v":9.9999999999999915E-4},{"$f":"元ほうれん草!J447-J$2","v":0},{"$f":"元ほうれん草!K447-K$2","v":1E-3},{"$f":"元ほうれん草!L447-L$2","v":0},{"$f":"元ほうれん草!M447-M$2","v":1E-3},{"$f":"元ほうれん草!N447-N$2","v":0},{"$f":"元ほうれん草!O447-O$2","v":1E-3},{"$f":"元ほうれん草!P447-P$2","v":0}]
[744,{"$f":"元ほうれん草!B448-B$2","v":1.0000000000000009E-3},{"$f":"元ほうれん草!C448-C$2","v":0},{"$f":"元ほうれん草!D448-D$2","v":2E-3},{"$f":"元ほうれん草!E448-E$2","v":1E-3},{"$f":"元ほうれん草!F448-F$2","v":1E-3},{"$f":"元ほうれん草!G448-G$2","v":1E-3},{"$f":"元ほうれん草!H448-H$2","v":0},{"$f":"元ほうれん草!I448-I$2","v":9.9999999999999915E-4},{"$f":"元ほうれん草!J448-J$2","v":-1E-3},{"$f":"元ほうれん草!K448-K$2","v":0},{"$f":"元ほうれん草!L448-L$2","v":0},{"$f":"元ほうれん草!M448-M$2","v":0},{"$f":"元ほうれん草!N448-N$2","v":0},{"$f":"元ほうれん草!O448-O$2","v":1E-3},{"$f":"元ほうれん草!P448-P$2","v":0}]
[745,{"$f":"元ほうれん草!B449-B$2","v":0},{"$f":"元ほうれん草!C449-C$2","v":0},{"$f":"元ほうれん草!D449-D$2","v":1E-3},{"$f":"元ほうれん草!E449-E$2","v":1E-3},{"$f":"元ほうれん草!F449-F$2","v":0},{"$f":"元ほうれん草!G449-G$2","v":1E-3},{"$f":"元ほうれん草!H449-H$2","v":0},{"$f":"元ほうれん草!I449-I$2","v":9.9999999999999915E-4},{"$f":"元ほうれん草!J449-J$2","v":-1E-3},{"$f":"元ほうれん草!K449-K$2","v":0},{"$f":"元ほうれん草!L449-L$2","v":0},{"$f":"元ほうれん草!M449-M$2","v":1E-3},{"$f":"元ほうれん草!N449-N$2","v":0},{"$f":"元ほうれん草!O449-O$2","v":1E-3},{"$f":"元ほうれん草!P449-P$2","v":0}]
[746,{"$f":"元ほうれん草!B450-B$2","v":0},{"$f":"元ほうれん草!C450-C$2","v":0},{"$f":"元ほうれん草!D450-D$2","v":1E-3},{"$f":"元ほうれん草!E450-E$2","v":2E-3},{"$f":"元ほうれん草!F450-F$2","v":0},{"$f":"元ほうれん草!G450-G$2","v":1E-3},{"$f":"元ほうれん草!H450-H$2","v":0},{"$f":"元ほうれん草!I450-I$2","v":9.9999999999999915E-4},{"$f":"元ほうれん草!J450-J$2","v":-1E-3},{"$f":"元ほうれん草!K450-K$2","v":0},{"$f":"元ほうれん草!L450-L$2","v":0},{"$f":"元ほうれん草!M450-M$2","v":1E-3},{"$f":"元ほうれん草!N450-N$2","v":0},{"$f":"元ほうれん草!O450-O$2","v":1E-3},{"$f":"元ほうれん草!P450-P$2","v":0}]
[747,{"$f":"元ほうれん草!B451-B$2","v":0},{"$f":"元ほうれん草!C451-C$2","v":0},{"$f":"元ほうれん草!D451-D$2","v":2E-3},{"$f":"元ほうれん草!E451-E$2","v":2E-3},{"$f":"元ほうれん草!F451-F$2","v":1E-3},{"$f":"元ほうれん草!G451-G$2","v":1.9999999999999992E-3},{"$f":"元ほうれん草!H451-H$2","v":1E-3},{"$f":"元ほうれん草!I451-I$2","v":9.9999999999999915E-4},{"$f":"元ほうれん草!J451-J$2","v":-1E-3},{"$f":"元ほうれん草!K451-K$2","v":0},{"$f":"元ほうれん草!L451-L$2","v":0},{"$f":"元ほうれん草!M451-M$2","v":1E-3},{"$f":"元ほうれん草!N451-N$2","v":1E-3},{"$f":"元ほうれん草!O451-O$2","v":1E-3},{"$f":"元ほうれん草!P451-P$2","v":0}]
[748,{"$f":"元ほうれん草!B452-B$2","v":0},{"$f":"元ほうれん草!C452-C$2","v":0},{"$f":"元ほうれん草!D452-D$2","v":2E-3},{"$f":"元ほうれん草!E452-E$2","v":2E-3},{"$f":"元ほうれん草!F452-F$2","v":2E-3},{"$f":"元ほうれん草!G452-G$2","v":1E-3},{"$f":"元ほうれん草!H452-H$2","v":1E-3},{"$f":"元ほうれん草!I452-I$2","v":2E-3},{"$f":"元ほうれん草!J452-J$2","v":-1E-3},{"$f":"元ほうれん草!K452-K$2","v":0},{"$f":"元ほうれん草!L452-L$2","v":1E-3},{"$f":"元ほうれん草!M452-M$2","v":1E-3},{"$f":"元ほうれん草!N452-N$2","v":0},{"$f":"元ほうれん草!O452-O$2","v":2E-3},{"$f":"元ほうれん草!P452-P$2","v":0}]
[749,{"$f":"元ほうれん草!B453-B$2","v":1.0000000000000009E-3},{"$f":"元ほうれん草!C453-C$2","v":0},{"$f":"元ほうれん草!D453-D$2","v":1E-3},{"$f":"元ほうれん草!E453-E$2","v":2E-3},{"$f":"元ほうれん草!F453-F$2","v":0},{"$f":"元ほうれん草!G453-G$2","v":1E-3},{"$f":"元ほうれん草!H453-H$2","v":1E-3},{"$f":"元ほうれん草!I453-I$2","v":9.9999999999999915E-4},{"$f":"元ほうれん草!J453-J$2","v":-1E-3},{"$f":"元ほうれん草!K453-K$2","v":1E-3},{"$f":"元ほうれん草!L453-L$2","v":1E-3},{"$f":"元ほうれん草!M453-M$2","v":0},{"$f":"元ほうれん草!N453-N$2","v":-1E-3},{"$f":"元ほうれん草!O453-O$2","v":1E-3},{"$f":"元ほうれん草!P453-P$2","v":0}]
[750,{"$f":"元ほうれん草!B454-B$2","v":2.0000000000000018E-3},{"$f":"元ほうれん草!C454-C$2","v":0},{"$f":"元ほうれん草!D454-D$2","v":1E-3},{"$f":"元ほうれん草!E454-E$2","v":2E-3},{"$f":"元ほうれん草!F454-F$2","v":0},{"$f":"元ほうれん草!G454-G$2","v":1E-3},{"$f":"元ほうれん草!H454-H$2","v":0},{"$f":"元ほうれん草!I454-I$2","v":9.9999999999999915E-4},{"$f":"元ほうれん草!J454-J$2","v":-1E-3},{"$f":"元ほうれん草!K454-K$2","v":1E-3},{"$f":"元ほうれん草!L454-L$2","v":0},{"$f":"元ほうれん草!M454-M$2","v":0},{"$f":"元ほうれん草!N454-N$2","v":-1E-3},{"$f":"元ほうれん草!O454-O$2","v":1E-3},{"$f":"元ほうれん草!P454-P$2","v":0}]
[751,{"$f":"元ほうれん草!B455-B$2","v":2.0000000000000018E-3},{"$f":"元ほうれん草!C455-C$2","v":1E-3},{"$f":"元ほうれん草!D455-D$2","v":1E-3},{"$f":"元ほうれん草!E455-E$2","v":2E-3},{"$f":"元ほうれん草!F455-F$2","v":1E-3},{"$f":"元ほうれん草!G455-G$2","v":1E-3},{"$f":"元ほうれん草!H455-H$2","v":0},{"$f":"元ほうれん草!I455-I$2","v":9.9999999999999915E-4},{"$f":"元ほうれん草!J455-J$2","v":0},{"$f":"元ほうれん草!K455-K$2","v":0},{"$f":"元ほうれん草!L455-L$2","v":1E-3},{"$f":"元ほうれん草!M455-M$2","v":1E-3},{"$f":"元ほうれん草!N455-N$2","v":0},{"$f":"元ほうれん草!O455-O$2","v":1E-3},{"$f":"元ほうれん草!P455-P$2","v":0}]
[752,{"$f":"元ほうれん草!B456-B$2","v":1.0000000000000009E-3},{"$f":"元ほうれん草!C456-C$2","v":0},{"$f":"元ほうれん草!D456-D$2","v":1E-3},{"$f":"元ほうれん草!E456-E$2","v":2E-3},{"$f":"元ほうれん草!F456-F$2","v":1E-3},{"$f":"元ほうれん草!G456-G$2","v":1E-3},{"$f":"元ほうれん草!H456-H$2","v":1E-3},{"$f":"元ほうれん草!I456-I$2","v":9.9999999999999915E-4},{"$f":"元ほうれん草!J456-J$2","v":0},{"$f":"元ほうれん草!K456-K$2","v":1E-3},{"$f":"元ほうれん草!L456-L$2","v":1E-3},{"$f":"元ほうれん草!M456-M$2","v":1E-3},{"$f":"元ほうれん草!N456-N$2","v":0},{"$f":"元ほうれん草!O456-O$2","v":1E-3},{"$f":"元ほうれん草!P456-P$2","v":0}]
[753,{"$f":"元ほうれん草!B457-B$2","v":1.0000000000000009E-3},{"$f":"元ほうれん草!C457-C$2","v":0},{"$f":"元ほうれん草!D457-D$2","v":1E-3},{"$f":"元ほうれん草!E457-E$2","v":2E-3},{"$f":"元ほうれん草!F457-F$2","v":0},{"$f":"元ほうれん草!G457-G$2","v":1E-3},{"$f":"元ほうれん草!H457-H$2","v":1E-3},{"$f":"元ほうれん草!I457-I$2","v":9.9999999999999915E-4},{"$f":"元ほうれん草!J457-J$2","v":-1E-3},{"$f":"元ほうれん草!K457-K$2","v":0},{"$f":"元ほうれん草!L457-L$2","v":0},{"$f":"元ほうれん草!M457-M$2","v":1E-3},{"$f":"元ほうれん草!N457-N$2","v":0},{"$f":"元ほうれん草!O457-O$2","v":1E-3},{"$f":"元ほうれん草!P457-P$2","v":0}]
[754,{"$f":"元ほうれん草!B458-B$2","v":2.0000000000000018E-3},{"$f":"元ほうれん草!C458-C$2","v":0},{"$f":"元ほうれん草!D458-D$2","v":2E-3},{"$f":"元ほうれん草!E458-E$2","v":2E-3},{"$f":"元ほうれん草!F458-F$2","v":0},{"$f":"元ほうれん草!G458-G$2","v":0},{"$f":"元ほうれん草!H458-H$2","v":1E-3},{"$f":"元ほうれん草!I458-I$2","v":9.9999999999999915E-4},{"$f":"元ほうれん草!J458-J$2","v":0},{"$f":"元ほうれん草!K458-K$2","v":0},{"$f":"元ほうれん草!L458-L$2","v":0},{"$f":"元ほうれん草!M458-M$2","v":1E-3},{"$f":"元ほうれん草!N458-N$2","v":0},{"$f":"元ほうれん草!O458-O$2","v":1E-3},{"$f":"元ほうれん草!P458-P$2","v":0}]
[755,{"$f":"元ほうれん草!B459-B$2","v":3.0000000000000027E-3},{"$f":"元ほうれん草!C459-C$2","v":0},{"$f":"元ほうれん草!D459-D$2","v":2E-3},{"$f":"元ほうれん草!E459-E$2","v":1E-3},{"$f":"元ほうれん草!F459-F$2","v":1E-3},{"$f":"元ほうれん草!G459-G$2","v":1E-3},{"$f":"元ほうれん草!H459-H$2","v":1E-3},{"$f":"元ほうれん草!I459-I$2","v":9.9999999999999915E-4},{"$f":"元ほうれん草!J459-J$2","v":-1E-3},{"$f":"元ほうれん草!K459-K$2","v":0},{"$f":"元ほうれん草!L459-L$2","v":0},{"$f":"元ほうれん草!M459-M$2","v":1E-3},{"$f":"元ほうれん草!N459-N$2","v":0},{"$f":"元ほうれん草!O459-O$2","v":1E-3},{"$f":"元ほうれん草!P459-P$2","v":0}]
[756,{"$f":"元ほうれん草!B460-B$2","v":4.0000000000000036E-3},{"$f":"元ほうれん草!C460-C$2","v":0},{"$f":"元ほうれん草!D460-D$2","v":1E-3},{"$f":"元ほうれん草!E460-E$2","v":1E-3},{"$f":"元ほうれん草!F460-F$2","v":0},{"$f":"元ほうれん草!G460-G$2","v":0},{"$f":"元ほうれん草!H460-H$2","v":0},{"$f":"元ほうれん草!I460-I$2","v":9.9999999999999915E-4},{"$f":"元ほうれん草!J460-J$2","v":0},{"$f":"元ほうれん草!K460-K$2","v":0},{"$f":"元ほうれん草!L460-L$2","v":0},{"$f":"元ほうれん草!M460-M$2","v":0},{"$f":"元ほうれん草!N460-N$2","v":0},{"$f":"元ほうれん草!O460-O$2","v":1E-3},{"$f":"元ほうれん草!P460-P$2","v":0}]
[757,{"$f":"元ほうれん草!B461-B$2","v":6.0000000000000053E-3},{"$f":"元ほうれん草!C461-C$2","v":0},{"$f":"元ほうれん草!D461-D$2","v":1E-3},{"$f":"元ほうれん草!E461-E$2","v":1E-3},{"$f":"元ほうれん草!F461-F$2","v":0},{"$f":"元ほうれん草!G461-G$2","v":0},{"$f":"元ほうれん草!H461-H$2","v":-1E-3},{"$f":"元ほうれん草!I461-I$2","v":9.9999999999999915E-4},{"$f":"元ほうれん草!J461-J$2","v":0},{"$f":"元ほうれん草!K461-K$2","v":0},{"$f":"元ほうれん草!L461-L$2","v":0},{"$f":"元ほうれん草!M461-M$2","v":0},{"$f":"元ほうれん草!N461-N$2","v":0},{"$f":"元ほうれん草!O461-O$2","v":1E-3},{"$f":"元ほうれん草!P461-P$2","v":0}]
[758,{"$f":"元ほうれん草!B462-B$2","v":8.0000000000000071E-3},{"$f":"元ほうれん草!C462-C$2","v":1E-3},{"$f":"元ほうれん草!D462-D$2","v":2E-3},{"$f":"元ほうれん草!E462-E$2","v":2E-3},{"$f":"元ほうれん草!F462-F$2","v":1E-3},{"$f":"元ほうれん草!G462-G$2","v":1E-3},{"$f":"元ほうれん草!H462-H$2","v":0},{"$f":"元ほうれん草!I462-I$2","v":9.9999999999999915E-4},{"$f":"元ほうれん草!J462-J$2","v":1E-3},{"$f":"元ほうれん草!K462-K$2","v":0},{"$f":"元ほうれん草!L462-L$2","v":0},{"$f":"元ほうれん草!M462-M$2","v":0},{"$f":"元ほうれん草!N462-N$2","v":0},{"$f":"元ほうれん草!O462-O$2","v":1E-3},{"$f":"元ほうれん草!P462-P$2","v":1E-3}]
[759,{"$f":"元ほうれん草!B463-B$2","v":6.0000000000000053E-3},{"$f":"元ほうれん草!C463-C$2","v":1E-3},{"$f":"元ほうれん草!D463-D$2","v":2E-3},{"$f":"元ほうれん草!E463-E$2","v":2E-3},{"$f":"元ほうれん草!F463-F$2","v":1E-3},{"$f":"元ほうれん草!G463-G$2","v":0},{"$f":"元ほうれん草!H463-H$2","v":0},{"$f":"元ほうれん草!I463-I$2","v":9.9999999999999915E-4},{"$f":"元ほうれん草!J463-J$2","v":0},{"$f":"元ほうれん草!K463-K$2","v":0},{"$f":"元ほうれん草!L463-L$2","v":0},{"$f":"元ほうれん草!M463-M$2","v":1E-3},{"$f":"元ほうれん草!N463-N$2","v":0},{"$f":"元ほうれん草!O463-O$2","v":1E-3},{"$f":"元ほうれん草!P463-P$2","v":1E-3}]
[760,{"$f":"元ほうれん草!B464-B$2","v":5.0000000000000044E-3},{"$f":"元ほうれん草!C464-C$2","v":0},{"$f":"元ほうれん草!D464-D$2","v":1E-3},{"$f":"元ほうれん草!E464-E$2","v":2E-3},{"$f":"元ほうれん草!F464-F$2","v":0},{"$f":"元ほうれん草!G464-G$2","v":-1E-3},{"$f":"元ほうれん草!H464-H$2","v":0},{"$f":"元ほうれん草!I464-I$2","v":9.9999999999999915E-4},{"$f":"元ほうれん草!J464-J$2","v":-1E-3},{"$f":"元ほうれん草!K464-K$2","v":0},{"$f":"元ほうれん草!L464-L$2","v":-1E-3},{"$f":"元ほうれん草!M464-M$2","v":0},{"$f":"元ほうれん草!N464-N$2","v":0},{"$f":"元ほうれん草!O464-O$2","v":0},{"$f":"元ほうれん草!P464-P$2","v":0}]
[761,{"$f":"元ほうれん草!B465-B$2","v":5.0000000000000044E-3},{"$f":"元ほうれん草!C465-C$2","v":0},{"$f":"元ほうれん草!D465-D$2","v":1E-3},{"$f":"元ほうれん草!E465-E$2","v":1E-3},{"$f":"元ほうれん草!F465-F$2","v":0},{"$f":"元ほうれん草!G465-G$2","v":0},{"$f":"元ほうれん草!H465-H$2","v":0},{"$f":"元ほうれん草!I465-I$2","v":9.9999999999999915E-4},{"$f":"元ほうれん草!J465-J$2","v":0},{"$f":"元ほうれん草!K465-K$2","v":0},{"$f":"元ほうれん草!L465-L$2","v":-1E-3},{"$f":"元ほうれん草!M465-M$2","v":0},{"$f":"元ほうれん草!N465-N$2","v":-1E-3},{"$f":"元ほうれん草!O465-O$2","v":0},{"$f":"元ほうれん草!P465-P$2","v":0}]
[762,{"$f":"元ほうれん草!B466-B$2","v":4.0000000000000036E-3},{"$f":"元ほうれん草!C466-C$2","v":0},{"$f":"元ほうれん草!D466-D$2","v":1E-3},{"$f":"元ほうれん草!E466-E$2","v":1E-3},{"$f":"元ほうれん草!F466-F$2","v":0},{"$f":"元ほうれん草!G466-G$2","v":0},{"$f":"元ほうれん草!H466-H$2","v":0},{"$f":"元ほうれん草!I466-I$2","v":0},{"$f":"元ほうれん草!J466-J$2","v":0},{"$f":"元ほうれん草!K466-K$2","v":0},{"$f":"元ほうれん草!L466-L$2","v":0},{"$f":"元ほうれん草!M466-M$2","v":0},{"$f":"元ほうれん草!N466-N$2","v":-1E-3},{"$f":"元ほうれん草!O466-O$2","v":0},{"$f":"元ほうれん草!P466-P$2","v":-1E-3}]
[763,{"$f":"元ほうれん草!B467-B$2","v":3.0000000000000027E-3},{"$f":"元ほうれん草!C467-C$2","v":0},{"$f":"元ほうれん草!D467-D$2","v":1E-3},{"$f":"元ほうれん草!E467-E$2","v":1E-3},{"$f":"元ほうれん草!F467-F$2","v":0},{"$f":"元ほうれん草!G467-G$2","v":0},{"$f":"元ほうれん草!H467-H$2","v":0},{"$f":"元ほうれん草!I467-I$2","v":0},{"$f":"元ほうれん草!J467-J$2","v":0},{"$f":"元ほうれん草!K467-K$2","v":0},{"$f":"元ほうれん草!L467-L$2","v":0},{"$f":"元ほうれん草!M467-M$2","v":1E-3},{"$f":"元ほうれん草!N467-N$2","v":-1E-3},{"$f":"元ほうれん草!O467-O$2","v":0},{"$f":"元ほうれん草!P467-P$2","v":0}]
[764,{"$f":"元ほうれん草!B468-B$2","v":4.0000000000000036E-3},{"$f":"元ほうれん草!C468-C$2","v":-1E-3},{"$f":"元ほうれん草!D468-D$2","v":1E-3},{"$f":"元ほうれん草!E468-E$2","v":1E-3},{"$f":"元ほうれん草!F468-F$2","v":-1E-3},{"$f":"元ほうれん草!G468-G$2","v":-1E-3},{"$f":"元ほうれん草!H468-H$2","v":-1E-3},{"$f":"元ほうれん草!I468-I$2","v":0},{"$f":"元ほうれん草!J468-J$2","v":0},{"$f":"元ほうれん草!K468-K$2","v":0},{"$f":"元ほうれん草!L468-L$2","v":-1E-3},{"$f":"元ほうれん草!M468-M$2","v":0},{"$f":"元ほうれん草!N468-N$2","v":-1E-3},{"$f":"元ほうれん草!O468-O$2","v":0},{"$f":"元ほうれん草!P468-P$2","v":0}]
[765,{"$f":"元ほうれん草!B469-B$2","v":4.0000000000000036E-3},{"$f":"元ほうれん草!C469-C$2","v":0},{"$f":"元ほうれん草!D469-D$2","v":1E-3},{"$f":"元ほうれん草!E469-E$2","v":1E-3},{"$f":"元ほうれん草!F469-F$2","v":0},{"$f":"元ほうれん草!G469-G$2","v":0},{"$f":"元ほうれん草!H469-H$2","v":-1E-3},{"$f":"元ほうれん草!I469-I$2","v":9.9999999999999915E-4},{"$f":"元ほうれん草!J469-J$2","v":0},{"$f":"元ほうれん草!K469-K$2","v":0},{"$f":"元ほうれん草!L469-L$2","v":-1E-3},{"$f":"元ほうれん草!M469-M$2","v":0},{"$f":"元ほうれん草!N469-N$2","v":-1E-3},{"$f":"元ほうれん草!O469-O$2","v":0},{"$f":"元ほうれん草!P469-P$2","v":0}]
[766,{"$f":"元ほうれん草!B470-B$2","v":3.0000000000000027E-3},{"$f":"元ほうれん草!C470-C$2","v":0},{"$f":"元ほうれん草!D470-D$2","v":1E-3},{"$f":"元ほうれん草!E470-E$2","v":1E-3},{"$f":"元ほうれん草!F470-F$2","v":0},{"$f":"元ほうれん草!G470-G$2","v":1E-3},{"$f":"元ほうれん草!H470-H$2","v":0},{"$f":"元ほうれん草!I470-I$2","v":9.9999999999999915E-4},{"$f":"元ほうれん草!J470-J$2","v":0},{"$f":"元ほうれん草!K470-K$2","v":1E-3},{"$f":"元ほうれん草!L470-L$2","v":0},{"$f":"元ほうれん草!M470-M$2","v":1E-3},{"$f":"元ほうれん草!N470-N$2","v":0},{"$f":"元ほうれん草!O470-O$2","v":1E-3},{"$f":"元ほうれん草!P470-P$2","v":0}]
[767,{"$f":"元ほうれん草!B471-B$2","v":1.0000000000000009E-3},{"$f":"元ほうれん草!C471-C$2","v":0},{"$f":"元ほうれん草!D471-D$2","v":1E-3},{"$f":"元ほうれん草!E471-E$2","v":1E-3},{"$f":"元ほうれん草!F471-F$2","v":0},{"$f":"元ほうれん草!G471-G$2","v":1E-3},{"$f":"元ほうれん草!H471-H$2","v":0},{"$f":"元ほうれん草!I471-I$2","v":9.9999999999999915E-4},{"$f":"元ほうれん草!J471-J$2","v":0},{"$f":"元ほうれん草!K471-K$2","v":0},{"$f":"元ほうれん草!L471-L$2","v":0},{"$f":"元ほうれん草!M471-M$2","v":1E-3},{"$f":"元ほうれん草!N471-N$2","v":0},{"$f":"元ほうれん草!O471-O$2","v":1E-3},{"$f":"元ほうれん草!P471-P$2","v":0}]
[768,{"$f":"元ほうれん草!B472-B$2","v":1.0000000000000009E-3},{"$f":"元ほうれん草!C472-C$2","v":0},{"$f":"元ほうれん草!D472-D$2","v":1E-3},{"$f":"元ほうれん草!E472-E$2","v":1E-3},{"$f":"元ほうれん草!F472-F$2","v":0},{"$f":"元ほうれん草!G472-G$2","v":0},{"$f":"元ほうれん草!H472-H$2","v":0},{"$f":"元ほうれん草!I472-I$2","v":9.9999999999999915E-4},{"$f":"元ほうれん草!J472-J$2","v":0},{"$f":"元ほうれん草!K472-K$2","v":1E-3},{"$f":"元ほうれん草!L472-L$2","v":0},{"$f":"元ほうれん草!M472-M$2","v":1E-3},{"$f":"元ほうれん草!N472-N$2","v":0},{"$f":"元ほうれん草!O472-O$2","v":1E-3},{"$f":"元ほうれん草!P472-P$2","v":0}]
[769,{"$f":"元ほうれん草!B473-B$2","v":1.0000000000000009E-3},{"$f":"元ほうれん草!C473-C$2","v":0},{"$f":"元ほうれん草!D473-D$2","v":1E-3},{"$f":"元ほうれん草!E473-E$2","v":0},{"$f":"元ほうれん草!F473-F$2","v":0},{"$f":"元ほうれん草!G473-G$2","v":0},{"$f":"元ほうれん草!H473-H$2","v":0},{"$f":"元ほうれん草!I473-I$2","v":0},{"$f":"元ほうれん草!J473-J$2","v":0},{"$f":"元ほうれん草!K473-K$2","v":0},{"$f":"元ほうれん草!L473-L$2","v":0},{"$f":"元ほうれん草!M473-M$2","v":1E-3},{"$f":"元ほうれん草!N473-N$2","v":0},{"$f":"元ほうれん草!O473-O$2","v":1E-3},{"$f":"元ほうれん草!P473-P$2","v":0}]
[770,{"$f":"元ほうれん草!B474-B$2","v":0},{"$f":"元ほうれん草!C474-C$2","v":0},{"$f":"元ほうれん草!D474-D$2","v":0},{"$f":"元ほうれん草!E474-E$2","v":0},{"$f":"元ほうれん草!F474-F$2","v":0},{"$f":"元ほうれん草!G474-G$2","v":0},{"$f":"元ほうれん草!H474-H$2","v":0},{"$f":"元ほうれん草!I474-I$2","v":0},{"$f":"元ほうれん草!J474-J$2","v":0},{"$f":"元ほうれん草!K474-K$2","v":0},{"$f":"元ほうれん草!L474-L$2","v":0},{"$f":"元ほうれん草!M474-M$2","v":0},{"$f":"元ほうれん草!N474-N$2","v":0},{"$f":"元ほうれん草!O474-O$2","v":0},{"$f":"元ほうれん草!P474-P$2","v":0}]
[771,{"$f":"元ほうれん草!B475-B$2","v":0},{"$f":"元ほうれん草!C475-C$2","v":0},{"$f":"元ほうれん草!D475-D$2","v":1E-3},{"$f":"元ほうれん草!E475-E$2","v":1E-3},{"$f":"元ほうれん草!F475-F$2","v":0},{"$f":"元ほうれん草!G475-G$2","v":0},{"$f":"元ほうれん草!H475-H$2","v":0},{"$f":"元ほうれん草!I475-I$2","v":9.9999999999999915E-4},{"$f":"元ほうれん草!J475-J$2","v":0},{"$f":"元ほうれん草!K475-K$2","v":1E-3},{"$f":"元ほうれん草!L475-L$2","v":0},{"$f":"元ほうれん草!M475-M$2","v":1E-3},{"$f":"元ほうれん草!N475-N$2","v":0},{"$f":"元ほうれん草!O475-O$2","v":0},{"$f":"元ほうれん草!P475-P$2","v":0}]
[772,{"$f":"元ほうれん草!B476-B$2","v":0},{"$f":"元ほうれん草!C476-C$2","v":0},{"$f":"元ほうれん草!D476-D$2","v":2E-3},{"$f":"元ほうれん草!E476-E$2","v":1E-3},{"$f":"元ほうれん草!F476-F$2","v":0},{"$f":"元ほうれん草!G476-G$2","v":1E-3},{"$f":"元ほうれん草!H476-H$2","v":1E-3},{"$f":"元ほうれん草!I476-I$2","v":9.9999999999999915E-4},{"$f":"元ほうれん草!J476-J$2","v":0},{"$f":"元ほうれん草!K476-K$2","v":1E-3},{"$f":"元ほうれん草!L476-L$2","v":0},{"$f":"元ほうれん草!M476-M$2","v":1E-3},{"$f":"元ほうれん草!N476-N$2","v":0},{"$f":"元ほうれん草!O476-O$2","v":1E-3},{"$f":"元ほうれん草!P476-P$2","v":0}]
[773,{"$f":"元ほうれん草!B477-B$2","v":0},{"$f":"元ほうれん草!C477-C$2","v":0},{"$f":"元ほうれん草!D477-D$2","v":1E-3},{"$f":"元ほうれん草!E477-E$2","v":1E-3},{"$f":"元ほうれん草!F477-F$2","v":0},{"$f":"元ほうれん草!G477-G$2","v":1E-3},{"$f":"元ほうれん草!H477-H$2","v":0},{"$f":"元ほうれん草!I477-I$2","v":9.9999999999999915E-4},{"$f":"元ほうれん草!J477-J$2","v":0},{"$f":"元ほうれん草!K477-K$2","v":1E-3},{"$f":"元ほうれん草!L477-L$2","v":0},{"$f":"元ほうれん草!M477-M$2","v":0},{"$f":"元ほうれん草!N477-N$2","v":0},{"$f":"元ほうれん草!O477-O$2","v":0},{"$f":"元ほうれん草!P477-P$2","v":0}]
[774,{"$f":"元ほうれん草!B478-B$2","v":-1.0000000000000009E-3},{"$f":"元ほうれん草!C478-C$2","v":0},{"$f":"元ほうれん草!D478-D$2","v":1E-3},{"$f":"元ほうれん草!E478-E$2","v":1E-3},{"$f":"元ほうれん草!F478-F$2","v":0},{"$f":"元ほうれん草!G478-G$2","v":0},{"$f":"元ほうれん草!H478-H$2","v":1E-3},{"$f":"元ほうれん草!I478-I$2","v":9.9999999999999915E-4},{"$f":"元ほうれん草!J478-J$2","v":0},{"$f":"元ほうれん草!K478-K$2","v":0},{"$f":"元ほうれん草!L478-L$2","v":0},{"$f":"元ほうれん草!M478-M$2","v":0},{"$f":"元ほうれん草!N478-N$2","v":0},{"$f":"元ほうれん草!O478-O$2","v":0},{"$f":"元ほうれん草!P478-P$2","v":1E-3}]
[775,{"$f":"元ほうれん草!B479-B$2","v":0},{"$f":"元ほうれん草!C479-C$2","v":0},{"$f":"元ほうれん草!D479-D$2","v":1E-3},{"$f":"元ほうれん草!E479-E$2","v":1E-3},{"$f":"元ほうれん草!F479-F$2","v":0},{"$f":"元ほうれん草!G479-G$2","v":1E-3},{"$f":"元ほうれん草!H479-H$2","v":1E-3},{"$f":"元ほうれん草!I479-I$2","v":9.9999999999999915E-4},{"$f":"元ほうれん草!J479-J$2","v":0},{"$f":"元ほうれん草!K479-K$2","v":1E-3},{"$f":"元ほうれん草!L479-L$2","v":0},{"$f":"元ほうれん草!M479-M$2","v":1E-3},{"$f":"元ほうれん草!N479-N$2","v":0},{"$f":"元ほうれん草!O479-O$2","v":1E-3},{"$f":"元ほうれん草!P479-P$2","v":1E-3}]
[776,{"$f":"元ほうれん草!B480-B$2","v":0},{"$f":"元ほうれん草!C480-C$2","v":0},{"$f":"元ほうれん草!D480-D$2","v":1E-3},{"$f":"元ほうれん草!E480-E$2","v":1E-3},{"$f":"元ほうれん草!F480-F$2","v":0},{"$f":"元ほうれん草!G480-G$2","v":0},{"$f":"元ほうれん草!H480-H$2","v":1E-3},{"$f":"元ほうれん草!I480-I$2","v":9.9999999999999915E-4},{"$f":"元ほうれん草!J480-J$2","v":0},{"$f":"元ほうれん草!K480-K$2","v":1E-3},{"$f":"元ほうれん草!L480-L$2","v":0},{"$f":"元ほうれん草!M480-M$2","v":1E-3},{"$f":"元ほうれん草!N480-N$2","v":0},{"$f":"元ほうれん草!O480-O$2","v":1E-3},{"$f":"元ほうれん草!P480-P$2","v":1E-3}]
[777,{"$f":"元ほうれん草!B481-B$2","v":0},{"$f":"元ほうれん草!C481-C$2","v":0},{"$f":"元ほうれん草!D481-D$2","v":1E-3},{"$f":"元ほうれん草!E481-E$2","v":1E-3},{"$f":"元ほうれん草!F481-F$2","v":0},{"$f":"元ほうれん草!G481-G$2","v":1E-3},{"$f":"元ほうれん草!H481-H$2","v":1E-3},{"$f":"元ほうれん草!I481-I$2","v":9.9999999999999915E-4},{"$f":"元ほうれん草!J481-J$2","v":0},{"$f":"元ほうれん草!K481-K$2","v":1E-3},{"$f":"元ほうれん草!L481-L$2","v":0},{"$f":"元ほうれん草!M481-M$2","v":1E-3},{"$f":"元ほうれん草!N481-N$2","v":0},{"$f":"元ほうれん草!O481-O$2","v":1E-3},{"$f":"元ほうれん草!P481-P$2","v":1E-3}]
[778,{"$f":"元ほうれん草!B482-B$2","v":0},{"$f":"元ほうれん草!C482-C$2","v":0},{"$f":"元ほうれん草!D482-D$2","v":1E-3},{"$f":"元ほうれん草!E482-E$2","v":1E-3},{"$f":"元ほうれん草!F482-F$2","v":0},{"$f":"元ほうれん草!G482-G$2","v":1E-3},{"$f":"元ほうれん草!H482-H$2","v":0},{"$f":"元ほうれん草!I482-I$2","v":9.9999999999999915E-4},{"$f":"元ほうれん草!J482-J$2","v":0},{"$f":"元ほうれん草!K482-K$2","v":0},{"$f":"元ほうれん草!L482-L$2","v":0},{"$f":"元ほうれん草!M482-M$2","v":1E-3},{"$f":"元ほうれん草!N482-N$2","v":0},{"$f":"元ほうれん草!O482-O$2","v":0},{"$f":"元ほうれん草!P482-P$2","v":1E-3}]
[779,{"$f":"元ほうれん草!B483-B$2","v":1.0000000000000009E-3},{"$f":"元ほうれん草!C483-C$2","v":0},{"$f":"元ほうれん草!D483-D$2","v":1E-3},{"$f":"元ほうれん草!E483-E$2","v":1E-3},{"$f":"元ほうれん草!F483-F$2","v":0},{"$f":"元ほうれん草!G483-G$2","v":0},{"$f":"元ほうれん草!H483-H$2","v":0},{"$f":"元ほうれん草!I483-I$2","v":9.9999999999999915E-4},{"$f":"元ほうれん草!J483-J$2","v":0},{"$f":"元ほうれん草!K483-K$2","v":0},{"$f":"元ほうれん草!L483-L$2","v":0},{"$f":"元ほうれん草!M483-M$2","v":1E-3},{"$f":"元ほうれん草!N483-N$2","v":0},{"$f":"元ほうれん草!O483-O$2","v":1E-3},{"$f":"元ほうれん草!P483-P$2","v":1E-3}]
[780,{"$f":"元ほうれん草!B484-B$2","v":1.0000000000000009E-3},{"$f":"元ほうれん草!C484-C$2","v":0},{"$f":"元ほうれん草!D484-D$2","v":1E-3},{"$f":"元ほうれん草!E484-E$2","v":0},{"$f":"元ほうれん草!F484-F$2","v":-1E-3},{"$f":"元ほうれん草!G484-G$2","v":0},{"$f":"元ほうれん草!H484-H$2","v":0},{"$f":"元ほうれん草!I484-I$2","v":0},{"$f":"元ほうれん草!J484-J$2","v":0},{"$f":"元ほうれん草!K484-K$2","v":0},{"$f":"元ほうれん草!L484-L$2","v":0},{"$f":"元ほうれん草!M484-M$2","v":0},{"$f":"元ほうれん草!N484-N$2","v":0},{"$f":"元ほうれん草!O484-O$2","v":1E-3},{"$f":"元ほうれん草!P484-P$2","v":0}]
[781,{"$f":"元ほうれん草!B485-B$2","v":1.0000000000000009E-3},{"$f":"元ほうれん草!C485-C$2","v":0},{"$f":"元ほうれん草!D485-D$2","v":1E-3},{"$f":"元ほうれん草!E485-E$2","v":0},{"$f":"元ほうれん草!F485-F$2","v":-1E-3},{"$f":"元ほうれん草!G485-G$2","v":0},{"$f":"元ほうれん草!H485-H$2","v":0},{"$f":"元ほうれん草!I485-I$2","v":0},{"$f":"元ほうれん草!J485-J$2","v":0},{"$f":"元ほうれん草!K485-K$2","v":0},{"$f":"元ほうれん草!L485-L$2","v":-1E-3},{"$f":"元ほうれん草!M485-M$2","v":0},{"$f":"元ほうれん草!N485-N$2","v":0},{"$f":"元ほうれん草!O485-O$2","v":1E-3},{"$f":"元ほうれん草!P485-P$2","v":1E-3}]
[782,{"$f":"元ほうれん草!B486-B$2","v":3.0000000000000027E-3},{"$f":"元ほうれん草!C486-C$2","v":0},{"$f":"元ほうれん草!D486-D$2","v":1E-3},{"$f":"元ほうれん草!E486-E$2","v":0},{"$f":"元ほうれん草!F486-F$2","v":-1E-3},{"$f":"元ほうれん草!G486-G$2","v":1E-3},{"$f":"元ほうれん草!H486-H$2","v":0},{"$f":"元ほうれん草!I486-I$2","v":9.9999999999999915E-4},{"$f":"元ほうれん草!J486-J$2","v":0},{"$f":"元ほうれん草!K486-K$2","v":0},{"$f":"元ほうれん草!L486-L$2","v":-1E-3},{"$f":"元ほうれん草!M486-M$2","v":1E-3},{"$f":"元ほうれん草!N486-N$2","v":0},{"$f":"元ほうれん草!O486-O$2","v":1E-3},{"$f":"元ほうれん草!P486-P$2","v":1E-3}]
[783,{"$f":"元ほうれん草!B487-B$2","v":3.0000000000000027E-3},{"$f":"元ほうれん草!C487-C$2","v":0},{"$f":"元ほうれん草!D487-D$2","v":1E-3},{"$f":"元ほうれん草!E487-E$2","v":1E-3},{"$f":"元ほうれん草!F487-F$2","v":0},{"$f":"元ほうれん草!G487-G$2","v":1E-3},{"$f":"元ほうれん草!H487-H$2","v":0},{"$f":"元ほうれん草!I487-I$2","v":9.9999999999999915E-4},{"$f":"元ほうれん草!J487-J$2","v":0},{"$f":"元ほうれん草!K487-K$2","v":0},{"$f":"元ほうれん草!L487-L$2","v":0},{"$f":"元ほうれん草!M487-M$2","v":1E-3},{"$f":"元ほうれん草!N487-N$2","v":0},{"$f":"元ほうれん草!O487-O$2","v":1E-3},{"$f":"元ほうれん草!P487-P$2","v":1E-3}]
[784,{"$f":"元ほうれん草!B488-B$2","v":3.0000000000000027E-3},{"$f":"元ほうれん草!C488-C$2","v":0},{"$f":"元ほうれん草!D488-D$2","v":1E-3},{"$f":"元ほうれん草!E488-E$2","v":1E-3},{"$f":"元ほうれん草!F488-F$2","v":0},{"$f":"元ほうれん草!G488-G$2","v":1E-3},{"$f":"元ほうれん草!H488-H$2","v":1E-3},{"$f":"元ほうれん草!I488-I$2","v":9.9999999999999915E-4},{"$f":"元ほうれん草!J488-J$2","v":0},{"$f":"元ほうれん草!K488-K$2","v":0},{"$f":"元ほうれん草!L488-L$2","v":-1E-3},{"$f":"元ほうれん草!M488-M$2","v":1E-3},{"$f":"元ほうれん草!N488-N$2","v":0},{"$f":"元ほうれん草!O488-O$2","v":1E-3},{"$f":"元ほうれん草!P488-P$2","v":1E-3}]
[785,{"$f":"元ほうれん草!B489-B$2","v":3.0000000000000027E-3},{"$f":"元ほうれん草!C489-C$2","v":-1E-3},{"$f":"元ほうれん草!D489-D$2","v":0},{"$f":"元ほうれん草!E489-E$2","v":0},{"$f":"元ほうれん草!F489-F$2","v":-1E-3},{"$f":"元ほうれん草!G489-G$2","v":0},{"$f":"元ほうれん草!H489-H$2","v":0},{"$f":"元ほうれん草!I489-I$2","v":0},{"$f":"元ほうれん草!J489-J$2","v":-1E-3},{"$f":"元ほうれん草!K489-K$2","v":-1E-3},{"$f":"元ほうれん草!L489-L$2","v":-1E-3},{"$f":"元ほうれん草!M489-M$2","v":1E-3},{"$f":"元ほうれん草!N489-N$2","v":0},{"$f":"元ほうれん草!O489-O$2","v":0},{"$f":"元ほうれん草!P489-P$2","v":0}]
[786,{"$f":"元ほうれん草!B490-B$2","v":4.0000000000000036E-3},{"$f":"元ほうれん草!C490-C$2","v":-1E-3},{"$f":"元ほうれん草!D490-D$2","v":1E-3},{"$f":"元ほうれん草!E490-E$2","v":0},{"$f":"元ほうれん草!F490-F$2","v":-1E-3},{"$f":"元ほうれん草!G490-G$2","v":0},{"$f":"元ほうれん草!H490-H$2","v":0},{"$f":"元ほうれん草!I490-I$2","v":0},{"$f":"元ほうれん草!J490-J$2","v":0},{"$f":"元ほうれん草!K490-K$2","v":0},{"$f":"元ほうれん草!L490-L$2","v":-1E-3},{"$f":"元ほうれん草!M490-M$2","v":1E-3},{"$f":"元ほうれん草!N490-N$2","v":0},{"$f":"元ほうれん草!O490-O$2","v":0},{"$f":"元ほうれん草!P490-P$2","v":0}]
[787,{"$f":"元ほうれん草!B491-B$2","v":3.0000000000000027E-3},{"$f":"元ほうれん草!C491-C$2","v":-1E-3},{"$f":"元ほうれん草!D491-D$2","v":1E-3},{"$f":"元ほうれん草!E491-E$2","v":0},{"$f":"元ほうれん草!F491-F$2","v":-1E-3},{"$f":"元ほうれん草!G491-G$2","v":-1E-3},{"$f":"元ほうれん草!H491-H$2","v":0},{"$f":"元ほうれん草!I491-I$2","v":0},{"$f":"元ほうれん草!J491-J$2","v":-1E-3},{"$f":"元ほうれん草!K491-K$2","v":0},{"$f":"元ほうれん草!L491-L$2","v":-1E-3},{"$f":"元ほうれん草!M491-M$2","v":1E-3},{"$f":"元ほうれん草!N491-N$2","v":0},{"$f":"元ほうれん草!O491-O$2","v":0},{"$f":"元ほうれん草!P491-P$2","v":0}]
[788,{"$f":"元ほうれん草!B492-B$2","v":4.0000000000000036E-3},{"$f":"元ほうれん草!C492-C$2","v":-1E-3},{"$f":"元ほうれん草!D492-D$2","v":0},{"$f":"元ほうれん草!E492-E$2","v":0},{"$f":"元ほうれん草!F492-F$2","v":-1E-3},{"$f":"元ほうれん草!G492-G$2","v":-1E-3},{"$f":"元ほうれん草!H492-H$2","v":-1E-3},{"$f":"元ほうれん草!I492-I$2","v":0},{"$f":"元ほうれん草!J492-J$2","v":-1E-3},{"$f":"元ほうれん草!K492-K$2","v":-1E-3},{"$f":"元ほうれん草!L492-L$2","v":-1E-3},{"$f":"元ほうれん草!M492-M$2","v":0},{"$f":"元ほうれん草!N492-N$2","v":-1E-3},{"$f":"元ほうれん草!O492-O$2","v":0},{"$f":"元ほうれん草!P492-P$2","v":0}]
[789,{"$f":"元ほうれん草!B493-B$2","v":5.0000000000000044E-3},{"$f":"元ほうれん草!C493-C$2","v":-1E-3},{"$f":"元ほうれん草!D493-D$2","v":1E-3},{"$f":"元ほうれん草!E493-E$2","v":1E-3},{"$f":"元ほうれん草!F493-F$2","v":-1E-3},{"$f":"元ほうれん草!G493-G$2","v":0},{"$f":"元ほうれん草!H493-H$2","v":0},{"$f":"元ほうれん草!I493-I$2","v":9.9999999999999915E-4},{"$f":"元ほうれん草!J493-J$2","v":-1E-3},{"$f":"元ほうれん草!K493-K$2","v":-1E-3},{"$f":"元ほうれん草!L493-L$2","v":-1E-3},{"$f":"元ほうれん草!M493-M$2","v":1E-3},{"$f":"元ほうれん草!N493-N$2","v":0},{"$f":"元ほうれん草!O493-O$2","v":1E-3},{"$f":"元ほうれん草!P493-P$2","v":0}]
[790,{"$f":"元ほうれん草!B494-B$2","v":4.0000000000000036E-3},{"$f":"元ほうれん草!C494-C$2","v":-1E-3},{"$f":"元ほうれん草!D494-D$2","v":1E-3},{"$f":"元ほうれん草!E494-E$2","v":1E-3},{"$f":"元ほうれん草!F494-F$2","v":-1E-3},{"$f":"元ほうれん草!G494-G$2","v":0},{"$f":"元ほうれん草!H494-H$2","v":0},{"$f":"元ほうれん草!I494-I$2","v":9.9999999999999915E-4},{"$f":"元ほうれん草!J494-J$2","v":0},{"$f":"元ほうれん草!K494-K$2","v":-1E-3},{"$f":"元ほうれん草!L494-L$2","v":-1E-3},{"$f":"元ほうれん草!M494-M$2","v":0},{"$f":"元ほうれん草!N494-N$2","v":0},{"$f":"元ほうれん草!O494-O$2","v":1E-3},{"$f":"元ほうれん草!P494-P$2","v":0}]
[791,{"$f":"元ほうれん草!B495-B$2","v":4.0000000000000036E-3},{"$f":"元ほうれん草!C495-C$2","v":-1E-3},{"$f":"元ほうれん草!D495-D$2","v":1E-3},{"$f":"元ほうれん草!E495-E$2","v":0},{"$f":"元ほうれん草!F495-F$2","v":-1E-3},{"$f":"元ほうれん草!G495-G$2","v":-1E-3},{"$f":"元ほうれん草!H495-H$2","v":-1E-3},{"$f":"元ほうれん草!I495-I$2","v":9.9999999999999915E-4},{"$f":"元ほうれん草!J495-J$2","v":-1E-3},{"$f":"元ほうれん草!K495-K$2","v":-1E-3},{"$f":"元ほうれん草!L495-L$2","v":-1E-3},{"$f":"元ほうれん草!M495-M$2","v":0},{"$f":"元ほうれん草!N495-N$2","v":-1E-3},{"$f":"元ほうれん草!O495-O$2","v":0},{"$f":"元ほうれん草!P495-P$2","v":0}]
[792,{"$f":"元ほうれん草!B496-B$2","v":4.0000000000000036E-3},{"$f":"元ほうれん草!C496-C$2","v":-1E-3},{"$f":"元ほうれん草!D496-D$2","v":0},{"$f":"元ほうれん草!E496-E$2","v":0},{"$f":"元ほうれん草!F496-F$2","v":-1E-3},{"$f":"元ほうれん草!G496-G$2","v":-1E-3},{"$f":"元ほうれん草!H496-H$2","v":0},{"$f":"元ほうれん草!I496-I$2","v":9.9999999999999915E-4},{"$f":"元ほうれん草!J496-J$2","v":-1E-3},{"$f":"元ほうれん草!K496-K$2","v":-2E-3},{"$f":"元ほうれん草!L496-L$2","v":-2E-3},{"$f":"元ほうれん草!M496-M$2","v":0},{"$f":"元ほうれん草!N496-N$2","v":-1E-3},{"$f":"元ほうれん草!O496-O$2","v":0},{"$f":"元ほうれん草!P496-P$2","v":-1E-3}]
[793,{"$f":"元ほうれん草!B497-B$2","v":5.0000000000000044E-3},{"$f":"元ほうれん草!C497-C$2","v":-1E-3},{"$f":"元ほうれん草!D497-D$2","v":0},{"$f":"元ほうれん草!E497-E$2","v":0},{"$f":"元ほうれん草!F497-F$2","v":-1E-3},{"$f":"元ほうれん草!G497-G$2","v":0},{"$f":"元ほうれん草!H497-H$2","v":0},{"$f":"元ほうれん草!I497-I$2","v":0},{"$f":"元ほうれん草!J497-J$2","v":-1E-3},{"$f":"元ほうれん草!K497-K$2","v":-1E-3},{"$f":"元ほうれん草!L497-L$2","v":-1E-3},{"$f":"元ほうれん草!M497-M$2","v":1E-3},{"$f":"元ほうれん草!N497-N$2","v":-1E-3},{"$f":"元ほうれん草!O497-O$2","v":0},{"$f":"元ほうれん草!P497-P$2","v":0}]
[794,{"$f":"元ほうれん草!B498-B$2","v":7.0000000000000062E-3},{"$f":"元ほうれん草!C498-C$2","v":-1E-3},{"$f":"元ほうれん草!D498-D$2","v":0},{"$f":"元ほうれん草!E498-E$2","v":0},{"$f":"元ほうれん草!F498-F$2","v":-1E-3},{"$f":"元ほうれん草!G498-G$2","v":-1E-3},{"$f":"元ほうれん草!H498-H$2","v":-1E-3},{"$f":"元ほうれん草!I498-I$2","v":0},{"$f":"元ほうれん草!J498-J$2","v":-1E-3},{"$f":"元ほうれん草!K498-K$2","v":-1E-3},{"$f":"元ほうれん草!L498-L$2","v":-2E-3},{"$f":"元ほうれん草!M498-M$2","v":0},{"$f":"元ほうれん草!N498-N$2","v":-1E-3},{"$f":"元ほうれん草!O498-O$2","v":0},{"$f":"元ほうれん草!P498-P$2","v":-1E-3}]
[795,{"$f":"元ほうれん草!B499-B$2","v":8.0000000000000071E-3},{"$f":"元ほうれん草!C499-C$2","v":-1E-3},{"$f":"元ほうれん草!D499-D$2","v":0},{"$f":"元ほうれん草!E499-E$2","v":0},{"$f":"元ほうれん草!F499-F$2","v":-1E-3},{"$f":"元ほうれん草!G499-G$2","v":-1E-3},{"$f":"元ほうれん草!H499-H$2","v":-1E-3},{"$f":"元ほうれん草!I499-I$2","v":0},{"$f":"元ほうれん草!J499-J$2","v":-1E-3},{"$f":"元ほうれん草!K499-K$2","v":-2E-3},{"$f":"元ほうれん草!L499-L$2","v":-2E-3},{"$f":"元ほうれん草!M499-M$2","v":0},{"$f":"元ほうれん草!N499-N$2","v":-1E-3},{"$f":"元ほうれん草!O499-O$2","v":0},{"$f":"元ほうれん草!P499-P$2","v":-1E-3}]
[796,{"$f":"元ほうれん草!B500-B$2","v":6.0000000000000053E-3},{"$f":"元ほうれん草!C500-C$2","v":-2E-3},{"$f":"元ほうれん草!D500-D$2","v":0},{"$f":"元ほうれん草!E500-E$2","v":-1E-3},{"$f":"元ほうれん草!F500-F$2","v":-2E-3},{"$f":"元ほうれん草!G500-G$2","v":-1E-3},{"$f":"元ほうれん草!H500-H$2","v":-1E-3},{"$f":"元ほうれん草!I500-I$2","v":0},{"$f":"元ほうれん草!J500-J$2","v":-2E-3},{"$f":"元ほうれん草!K500-K$2","v":-2E-3},{"$f":"元ほうれん草!L500-L$2","v":-2E-3},{"$f":"元ほうれん草!M500-M$2","v":0},{"$f":"元ほうれん草!N500-N$2","v":-2E-3},{"$f":"元ほうれん草!O500-O$2","v":0},{"$f":"元ほうれん草!P500-P$2","v":-1E-3}]
[797,{"$f":"元ほうれん草!B501-B$2","v":5.0000000000000044E-3},{"$f":"元ほうれん草!C501-C$2","v":-2E-3},{"$f":"元ほうれん草!D501-D$2","v":0},{"$f":"元ほうれん草!E501-E$2","v":-1E-3},{"$f":"元ほうれん草!F501-F$2","v":-2E-3},{"$f":"元ほうれん草!G501-G$2","v":-1E-3},{"$f":"元ほうれん草!H501-H$2","v":-1E-3},{"$f":"元ほうれん草!I501-I$2","v":0},{"$f":"元ほうれん草!J501-J$2","v":-2E-3},{"$f":"元ほうれん草!K501-K$2","v":-3.0000000000000001E-3},{"$f":"元ほうれん草!L501-L$2","v":-2E-3},{"$f":"元ほうれん草!M501-M$2","v":0},{"$f":"元ほうれん草!N501-N$2","v":-2E-3},{"$f":"元ほうれん草!O501-O$2","v":0},{"$f":"元ほうれん草!P501-P$2","v":-1E-3}]
[798,{"$f":"元ほうれん草!B502-B$2","v":6.0000000000000053E-3},{"$f":"元ほうれん草!C502-C$2","v":-2E-3},{"$f":"元ほうれん草!D502-D$2","v":0},{"$f":"元ほうれん草!E502-E$2","v":-1E-3},{"$f":"元ほうれん草!F502-F$2","v":-2E-3},{"$f":"元ほうれん草!G502-G$2","v":-1E-3},{"$f":"元ほうれん草!H502-H$2","v":0},{"$f":"元ほうれん草!I502-I$2","v":0},{"$f":"元ほうれん草!J502-J$2","v":-2E-3},{"$f":"元ほうれん草!K502-K$2","v":-3.0000000000000001E-3},{"$f":"元ほうれん草!L502-L$2","v":-2E-3},{"$f":"元ほうれん草!M502-M$2","v":0},{"$f":"元ほうれん草!N502-N$2","v":-1E-3},{"$f":"元ほうれん草!O502-O$2","v":0},{"$f":"元ほうれん草!P502-P$2","v":-1E-3}]
[799,{"$f":"元ほうれん草!B503-B$2","v":6.0000000000000053E-3},{"$f":"元ほうれん草!C503-C$2","v":-1E-3},{"$f":"元ほうれん草!D503-D$2","v":0},{"$f":"元ほうれん草!E503-E$2","v":-1E-3},{"$f":"元ほうれん草!F503-F$2","v":-2E-3},{"$f":"元ほうれん草!G503-G$2","v":-1E-3},{"$f":"元ほうれん草!H503-H$2","v":0},{"$f":"元ほうれん草!I503-I$2","v":0},{"$f":"元ほうれん草!J503-J$2","v":-2E-3},{"$f":"元ほうれん草!K503-K$2","v":-3.0000000000000001E-3},{"$f":"元ほうれん草!L503-L$2","v":-2E-3},{"$f":"元ほうれん草!M503-M$2","v":0},{"$f":"元ほうれん草!N503-N$2","v":0},{"$f":"元ほうれん草!O503-O$2","v":0},{"$f":"元ほうれん草!P503-P$2","v":0}]
[800,{"$f":"元ほうれん草!B504-B$2","v":5.0000000000000044E-3},{"$f":"元ほうれん草!C504-C$2","v":-2E-3},{"$f":"元ほうれん草!D504-D$2","v":0},{"$f":"元ほうれん草!E504-E$2","v":-1E-3},{"$f":"元ほうれん草!F504-F$2","v":-2E-3},{"$f":"元ほうれん草!G504-G$2","v":-1E-3},{"$f":"元ほうれん草!H504-H$2","v":-1E-3},{"$f":"元ほうれん草!I504-I$2","v":0},{"$f":"元ほうれん草!J504-J$2","v":-2E-3},{"$f":"元ほうれん草!K504-K$2","v":-3.0000000000000001E-3},{"$f":"元ほうれん草!L504-L$2","v":-2E-3},{"$f":"元ほうれん草!M504-M$2","v":0},{"$f":"元ほうれん草!N504-N$2","v":0},{"$f":"元ほうれん草!O504-O$2","v":0},{"$f":"元ほうれん草!P504-P$2","v":-1E-3}]

{"sheet":"元ほうれん草","index":2,"n_rows":504,"n_cols":16,"rows_kept":504,"cut":false,"hidden":false,"merged":[]}
[]
[null,"何か変"]
["波長/nm","E:\\生化学実験\\sample1.txt","E:\\生化学実験\\sample2.txt","E:\\生化学実験\\sample3.txt","E:\\生化学実験\\sample4.txt","E:\\生化学実験\\sample5.txt","E:\\生化学実験\\sample6.txt","E:\\生化学実験\\sample7.txt","E:\\生化学実験\\sample8.txt","E:\\生化学実験\\sample9.txt","E:\\生化学実験\\sample10.txt","E:\\生化学実験\\sample11.txt","E:\\生化学実験\\sample12.txt","E:\\生化学実験\\sample13.txt","E:\\生化学実験\\sample14.txt","E:\\生化学実験\\sample15.txt"]
[300,0.20599999999999999,-1.2E-2,2.1999999999999999E-2,0.10199999999999999,0.11700000000000001,7.8E-2,6.0999999999999999E-2,6.3E-2,1.7000000000000001E-2,0,-1.0999999999999999E-2,-0.01,-1.4999999999999999E-2,-7.0000000000000001E-3,8.0000000000000002E-3]
[301,0.153,-1.7999999999999999E-2,4.0000000000000001E-3,0.1,0.12,6.4000000000000001E-2,0.06,2.7E-2,8.9999999999999993E-3,-1.4E-2,-2.1999999999999999E-2,-1.2999999999999999E-2,-1.4E-2,-8.9999999999999993E-3,-6.0000000000000001E-3]
[302,0.182,-6.0000000000000001E-3,1E-3,0.13100000000000001,0.13500000000000001,7.3999999999999996E-2,6.5000000000000002E-2,4.2000000000000003E-2,2.3E-2,-1.2E-2,-1.2E-2,-2.1000000000000001E-2,0,-1E-3,-5.0000000000000001E-3]
[303,0.23300000000000001,-7.0000000000000001E-3,2.1999999999999999E-2,0.13500000000000001,0.13,8.1000000000000003E-2,5.8000000000000003E-2,5.8000000000000003E-2,2.1000000000000001E-2,1.4E-2,-8.0000000000000002E-3,-1.9E-2,-6.0000000000000001E-3,-8.0000000000000002E-3,-6.0000000000000001E-3]
[304,0.26100000000000001,-8.9999999999999993E-3,3.1E-2,0.111,0.11799999999999999,7.6999999999999999E-2,5.0999999999999997E-2,6.3E-2,2.5000000000000001E-2,3.2000000000000001E-2,8.0000000000000002E-3,-1.0999999999999999E-2,1.0999999999999999E-2,-1.6E-2,1E-3]
[305,0.23300000000000001,-1.7000000000000001E-2,3.5000000000000003E-2,0.11,0.11,7.4999999999999997E-2,3.7999999999999999E-2,6.7000000000000004E-2,0.04,3.2000000000000001E-2,0.02,-6.0000000000000001E-3,1.2999999999999999E-2,-1.4E-2,1.2999999999999999E-2]
[306,0.23300000000000001,-3.5000000000000003E-2,1.7999999999999999E-2,0.125,0.108,7.0000000000000007E-2,0.02,5.1999999999999998E-2,2.4E-2,1.4E-2,5.0000000000000001E-3,-1.7999999999999999E-2,-2E-3,-1.2E-2,-5.0000000000000001E-3]
[307,0.222,-4.8000000000000001E-2,-8.0000000000000002E-3,0.123,9.5000000000000001E-2,5.7000000000000002E-2,1.0999999999999999E-2,2.1000000000000001E-2,-8.9999999999999993E-3,-1.4E-2,-3.7999999999999999E-2,-2.8000000000000001E-2,-2.4E-2,-0.03,-2.1000000000000001E-2]
[308,0.19800000000000001,-5.3999999999999999E-2,-1.9E-2,9.0999999999999998E-2,8.3000000000000004E-2,5.8999999999999997E-2,1.4999999999999999E-2,1.0999999999999999E-2,-2.7E-2,-3.6999999999999998E-2,-6.2E-2,-3.5000000000000003E-2,-3.5999999999999997E-2,-0.03,-2.3E-2]
[309,0.19500000000000001,-3.9E-2,-2E-3,8.5000000000000006E-2,0.10199999999999999,6.6000000000000003E-2,2.8000000000000001E-2,2.1000000000000001E-2,-2.4E-2,-2.8000000000000001E-2,-0.05,-2.4E-2,-2.7E-2,-1.0999999999999999E-2,-8.0000000000000002E-3]
[310,0.224,-3.2000000000000001E-2,5.0000000000000001E-3,9.6000000000000002E-2,0.123,6.9000000000000006E-2,4.1000000000000002E-2,2.1000000000000001E-2,4.0000000000000001E-3,-7.0000000000000001E-3,-1.9E-2,-1.4999999999999999E-2,-1.9E-2,-8.9999999999999993E-3,3.0000000000000001E-3]
[311,0.224,-3.3000000000000002E-2,7.0000000000000001E-3,9.2999999999999999E-2,0.11899999999999999,8.2000000000000003E-2,4.2000000000000003E-2,0.03,6.0000000000000001E-3,-1.2E-2,-1.4E-2,-1.9E-2,-2.7E-2,-1.2E-2,1E-3]
[312,0.23300000000000001,-2.1999999999999999E-2,2.4E-2,0.11,0.14000000000000001,9.4E-2,5.6000000000000001E-2,6.0999999999999999E-2,1.0999999999999999E-2,-1.7999999999999999E-2,-0.01,-1.7000000000000001E-2,-2.4E-2,1E-3,0]
[313,0.26,-2.1999999999999999E-2,2.4E-2,0.121,0.13100000000000001,0.09,5.1999999999999998E-2,6.3E-2,0,-2.4E-2,-1.4E-2,-2.4E-2,-2.7E-2,-6.0000000000000001E-3,-8.9999999999999993E-3]
[314,0.255,-1.9E-2,0.01,0.124,0.14499999999999999,8.5999999999999993E-2,4.4999999999999998E-2,6.6000000000000003E-2,2E-3,-1.2E-2,-1.4E-2,-0.02,-2.4E-2,-1.7000000000000001E-2,-6.0000000000000001E-3]
[315,0.23799999999999999,-6.0000000000000001E-3,0.02,0.13,0.158,9.4E-2,0.05,7.3999999999999996E-2,1.4E-2,1.0999999999999999E-2,3.0000000000000001E-3,-7.0000000000000001E-3,-1.0999999999999999E-2,-5.0000000000000001E-3,3.0000000000000001E-3]
[316,0.23100000000000001,-8.9999999999999993E-3,0.03,0.13900000000000001,0.17799999999999999,0.10100000000000001,6.7000000000000004E-2,7.0000000000000007E-2,2.5000000000000001E-2,1.2E-2,3.0000000000000001E-3,-4.0000000000000001E-3,-0.01,8.0000000000000002E-3,0]
[317,0.24299999999999999,-3.9E-2,0.02,0.13400000000000001,0.17599999999999999,9.1999999999999998E-2,6.6000000000000003E-2,6.2E-2,1.4999999999999999E-2,-8.9999999999999993E-3,-1.9E-2,-1.4999999999999999E-2,-2.5999999999999999E-2,-7.0000000000000001E-3,-4.0000000000000001E-3]
[318,0.27100000000000002,-5.0999999999999997E-2,1.0999999999999999E-2,0.13400000000000001,0.17299999999999999,8.8999999999999996E-2,6.2E-2,6.0999999999999999E-2,4.0000000000000001E-3,-1.2999999999999999E-2,-1.4999999999999999E-2,-1.2E-2,-2.5000000000000001E-2,-1.9E-2,0]
[319,0.28999999999999998,-5.3999999999999999E-2,-7.0000000000000001E-3,0.152,0.16900000000000001,0.1,7.3999999999999996E-2,5.1999999999999998E-2,8.0000000000000002E-3,-4.0000000000000001E-3,0,-4.0000000000000001E-3,-1.6E-2,-8.9999999999999993E-3,8.0000000000000002E-3]
[320,0.28399999999999997,-8.7999999999999995E-2,-4.8000000000000001E-2,0.159,0.183,9.7000000000000003E-2,7.1999999999999995E-2,4.4999999999999998E-2,7.0000000000000001E-3,-1E-3,-5.0000000000000001E-3,-5.0000000000000001E-3,-2.1000000000000001E-2,-6.0000000000000001E-3,5.0000000000000001E-3]
[321,0.27500000000000002,-0.13600000000000001,-7.8E-2,0.15,0.19600000000000001,9.9000000000000005E-2,7.0000000000000007E-2,4.4999999999999998E-2,-3.0000000000000001E-3,-1.0999999999999999E-2,-1.7000000000000001E-2,-1.0999999999999999E-2,-2.1999999999999999E-2,-7.0000000000000001E-3,-2E-3]
[322,0.27400000000000002,-0.16500000000000001,-9.6000000000000002E-2,0.159,0.23,0.106,7.6999999999999999E-2,4.5999999999999999E-2,-4.0000000000000001E-3,-1.7000000000000001E-2,-0.02,-1.9E-2,-1.7999999999999999E-2,-1.0999999999999999E-2,2E-3]
[323,0.29099999999999998,-0.16300000000000001,-9.2999999999999999E-2,0.18099999999999999,0.26400000000000001,0.12,8.4000000000000005E-2,5.0999999999999997E-2,1E-3,-1.4E-2,-2.1000000000000001E-2,-0.02,-1.6E-2,-1.2E-2,8.9999999999999993E-3]
[324,0.30499999999999999,-0.14699999999999999,-0.08,0.20200000000000001,0.28199999999999997,0.13100000000000001,9.1999999999999998E-2,6.0999999999999999E-2,5.0000000000000001E-3,-8.9999999999999993E-3,-1.7999999999999999E-2,-1.9E-2,-1.7000000000000001E-2,-8.9999999999999993E-3,1.4999999999999999E-2]
[325,0.314,-0.124,-6.0999999999999999E-2,0.217,0.29699999999999999,0.14000000000000001,0.10100000000000001,7.0999999999999994E-2,8.9999999999999993E-3,-6.0000000000000001E-3,-1.4999999999999999E-2,-1.6E-2,-1.2999999999999999E-2,-6.0000000000000001E-3,1.9E-2]
[326,0.32100000000000001,-0.10100000000000001,-3.9E-2,0.23,0.308,0.14699999999999999,0.108,7.6999999999999999E-2,1.2999999999999999E-2,-4.0000000000000001E-3,-1.2999999999999999E-2,-1.4E-2,-1.2E-2,-3.0000000000000001E-3,1.9E-2]
[327,0.32600000000000001,-8.2000000000000003E-2,-2.4E-2,0.23799999999999999,0.315,0.153,0.111,8.1000000000000003E-2,1.6E-2,-2E-3,-1.2E-2,-1.2E-2,-1.2E-2,-2E-3,0.02]
[328,0.33300000000000002,-6.6000000000000003E-2,-0.01,0.247,0.32200000000000001,0.159,0.114,8.5000000000000006E-2,0.02,0,-0.01,-8.9999999999999993E-3,-1.2E-2,0,2.1000000000000001E-2]
[329,0.33700000000000002,-5.1999999999999998E-2,3.0000000000000001E-3,0.253,0.32700000000000001,0.16300000000000001,0.11899999999999999,8.8999999999999996E-2,2.1000000000000001E-2,1E-3,-8.9999999999999993E-3,-8.0000000000000002E-3,-1.2999999999999999E-2,1E-3,0.02]
[330,0.34,-4.2000000000000003E-2,1.0999999999999999E-2,0.25700000000000001,0.32800000000000001,0.16700000000000001,0.12,9.0999999999999998E-2,2.3E-2,2E-3,-8.9999999999999993E-3,-7.0000000000000001E-3,-1.2999999999999999E-2,2E-3,1.9E-2]
[331,0.34300000000000003,-3.2000000000000001E-2,1.9E-2,0.26,0.32800000000000001,0.17,0.123,9.1999999999999998E-2,2.4E-2,2E-3,-8.0000000000000002E-3,-7.0000000000000001E-3,-1.2999999999999999E-2,2E-3,1.9E-2]
[332,0.34499999999999997,-2.4E-2,2.5999999999999999E-2,0.26100000000000001,0.32900000000000001,0.17199999999999999,0.125,9.5000000000000001E-2,2.4E-2,3.0000000000000001E-3,-8.0000000000000002E-3,-5.0000000000000001E-3,-1.2999999999999999E-2,2E-3,1.7999999999999999E-2]
[333,0.34399999999999997,-1.7999999999999999E-2,3.2000000000000001E-2,0.26,0.32800000000000001,0.17299999999999999,0.125,9.7000000000000003E-2,2.5000000000000001E-2,3.0000000000000001E-3,-8.0000000000000002E-3,-5.0000000000000001E-3,-1.2999999999999999E-2,2E-3,1.6E-2]
[334,0.34399999999999997,-1.4E-2,3.5999999999999997E-2,0.25900000000000001,0.32500000000000001,0.17299999999999999,0.125,9.7000000000000003E-2,2.5999999999999999E-2,2E-3,-8.0000000000000002E-3,-6.0000000000000001E-3,-1.4999999999999999E-2,2E-3,1.4999999999999999E-2]
[335,0.34699999999999998,-1.0999999999999999E-2,0.04,0.25800000000000001,0.32300000000000001,0.17299999999999999,0.125,9.6000000000000002E-2,2.5999999999999999E-2,4.0000000000000001E-3,-7.0000000000000001E-3,-7.0000000000000001E-3,-1.4999999999999999E-2,2E-3,1.4999999999999999E-2]
[336,0.35099999999999998,-7.0000000000000001E-3,4.2999999999999997E-2,0.25700000000000001,0.32,0.17299999999999999,0.126,9.7000000000000003E-2,2.7E-2,4.0000000000000001E-3,-6.0000000000000001E-3,-7.0000000000000001E-3,-1.4E-2,2E-3,1.4999999999999999E-2]
[337,0.35,-6.0000000000000001E-3,4.4999999999999998E-2,0.255,0.318,0.17199999999999999,0.127,9.8000000000000004E-2,2.5999999999999999E-2,3.0000000000000001E-3,-6.0000000000000001E-3,-8.0000000000000002E-3,-1.4999999999999999E-2,1E-3,1.2999999999999999E-2]
[338,0.35,-4.0000000000000001E-3,4.7E-2,0.252,0.315,0.17100000000000001,0.125,9.6000000000000002E-2,2.4E-2,1E-3,-8.0000000000000002E-3,-8.9999999999999993E-3,-1.4999999999999999E-2,0,1.2E-2]
[339,0.35199999999999998,-2E-3,0.05,0.251,0.312,0.17199999999999999,0.125,9.6000000000000002E-2,2.4E-2,2E-3,-7.0000000000000001E-3,-8.9999999999999993E-3,-1.4999999999999999E-2,1E-3,1.2E-2]
[340,0.35399999999999998,0,5.1999999999999998E-2,0.251,0.309,0.17100000000000001,0.125,9.6000000000000002E-2,2.5000000000000001E-2,3.0000000000000001E-3,-7.0000000000000001E-3,-8.9999999999999993E-3,-1.4999999999999999E-2,1E-3,1.2E-2]
[341,0.35399999999999998,0,5.2999999999999999E-2,0.25,0.307,0.17,0.123,9.6000000000000002E-2,2.5000000000000001E-2,3.0000000000000001E-3,-7.0000000000000001E-3,-0.01,-1.4999999999999999E-2,1E-3,1.2E-2]
[342,0.35299999999999998,0,5.5E-2,0.248,0.307,0.16800000000000001,0.122,9.5000000000000001E-2,2.3E-2,2E-3,-7.0000000000000001E-3,-0.01,-1.6E-2,0,1.0999999999999999E-2]
[343,0.35299999999999998,1E-3,5.6000000000000001E-2,0.249,0.308,0.16700000000000001,0.12,9.2999999999999999E-2,2.3E-2,1E-3,-7.0000000000000001E-3,-1.0999999999999999E-2,-1.6E-2,-1E-3,1.0999999999999999E-2]
[344,0.35399999999999998,2E-3,5.8000000000000003E-2,0.249,0.308,0.16600000000000001,0.11799999999999999,9.1999999999999998E-2,2.1999999999999999E-2,1E-3,-7.0000000000000001E-3,-1.2E-2,-1.6E-2,-1E-3,1.0999999999999999E-2]
[345,0.35399999999999998,1E-3,5.8999999999999997E-2,0.25,0.309,0.16400000000000001,0.11600000000000001,9.0999999999999998E-2,2.1000000000000001E-2,0,-7.0000000000000001E-3,-1.2E-2,-1.6E-2,-2E-3,1.0999999999999999E-2]
[346,0.35399999999999998,1E-3,6.0999999999999999E-2,0.253,0.312,0.16200000000000001,0.114,0.09,2.1000000000000001E-2,0,-7.0000000000000001E-3,-1.2E-2,-1.6E-2,-2E-3,1.0999999999999999E-2]
[347,0.35299999999999998,2E-3,6.4000000000000001E-2,0.25600000000000001,0.315,0.16200000000000001,0.113,8.8999999999999996E-2,2.1000000000000001E-2,0,-7.0000000000000001E-3,-1.2999999999999999E-2,-1.6E-2,-1E-3,1.2E-2]
[348,0.35299999999999998,2E-3,6.6000000000000003E-2,0.26100000000000001,0.318,0.161,0.111,8.7999999999999995E-2,2.1000000000000001E-2,0,-7.0000000000000001E-3,-1.2999999999999999E-2,-1.6E-2,-2E-3,1.2E-2]
[349,0.35299999999999998,2E-3,6.8000000000000005E-2,0.26500000000000001,0.32300000000000001,0.161,0.11,8.6999999999999994E-2,2.1000000000000001E-2,0,-7.0000000000000001E-3,-1.2999999999999999E-2,-1.6E-2,-2E-3,1.2E-2]
[350,0.35299999999999998,2E-3,7.0999999999999994E-2,0.27100000000000002,0.33,0.16200000000000001,0.109,8.6999999999999994E-2,0.02,0,-7.0000000000000001E-3,-1.2E-2,-1.4999999999999999E-2,-2E-3,1.2E-2]
[351,0.35399999999999998,3.0000000000000001E-3,7.2999999999999995E-2,0.27800000000000002,0.33900000000000002,0.16300000000000001,0.108,8.5999999999999993E-2,0.02,0,-6.0000000000000001E-3,-1.2999999999999999E-2,-1.4E-2,-1E-3,1.2999999999999999E-2]
[352,0.35399999999999998,2E-3,7.3999999999999996E-2,0.28299999999999997,0.34599999999999997,0.16300000000000001,0.108,8.5999999999999993E-2,1.9E-2,0,-7.0000000000000001E-3,-1.4E-2,-1.4999999999999999E-2,-1E-3,1.2999999999999999E-2]
[353,0.35399999999999998,2E-3,7.5999999999999998E-2,0.28999999999999998,0.35299999999999998,0.16400000000000001,0.107,8.5999999999999993E-2,1.9E-2,0,-7.0000000000000001E-3,-1.4E-2,-1.6E-2,-1E-3,1.2999999999999999E-2]
[354,0.35399999999999998,2E-3,0.08,0.29799999999999999,0.36299999999999999,0.16600000000000001,0.107,8.5999999999999993E-2,0.02,0,-7.0000000000000001E-3,-1.4E-2,-1.4999999999999999E-2,-1E-3,1.2999999999999999E-2]
[355,0.35399999999999998,2E-3,8.2000000000000003E-2,0.30499999999999999,0.371,0.16800000000000001,0.108,8.6999999999999994E-2,2.1000000000000001E-2,1E-3,-6.0000000000000001E-3,-1.2999999999999999E-2,-1.4999999999999999E-2,-1E-3,1.4E-2]
[356,0.35399999999999998,3.0000000000000001E-3,8.5000000000000006E-2,0.311,0.379,0.17,0.108,8.6999999999999994E-2,2.1000000000000001E-2,1E-3,-6.0000000000000001E-3,-1.2999999999999999E-2,-1.4999999999999999E-2,-1E-3,1.2999999999999999E-2]
[357,0.35499999999999998,3.0000000000000001E-3,8.6999999999999994E-2,0.31900000000000001,0.38700000000000001,0.17299999999999999,0.108,8.7999999999999995E-2,2.1999999999999999E-2,2E-3,-6.0000000000000001E-3,-1.4E-2,-1.4999999999999999E-2,0,1.4E-2]
[358,0.35599999999999998,4.0000000000000001E-3,0.09,0.32700000000000001,0.39500000000000002,0.17399999999999999,0.109,8.7999999999999995E-2,2.1999999999999999E-2,2E-3,-6.0000000000000001E-3,-1.4E-2,-1.4999999999999999E-2,0,1.4E-2]
[359,0.35699999999999998,4.0000000000000001E-3,9.2999999999999999E-2,0.33400000000000002,0.40400000000000003,0.17599999999999999,0.109,8.8999999999999996E-2,2.3E-2,3.0000000000000001E-3,-5.0000000000000001E-3,-1.2999999999999999E-2,-1.4E-2,1E-3,1.4E-2]
[360,0.35799999999999998,4.0000000000000001E-3,9.6000000000000002E-2,0.34100000000000003,0.41199999999999998,0.17699999999999999,0.109,8.8999999999999996E-2,2.4E-2,3.0000000000000001E-3,-5.0000000000000001E-3,-1.2999999999999999E-2,-1.4E-2,1E-3,1.4E-2]
[361,0.36,4.0000000000000001E-3,0.1,0.34799999999999998,0.42,0.17899999999999999,0.109,8.8999999999999996E-2,2.5999999999999999E-2,4.0000000000000001E-3,-5.0000000000000001E-3,-1.2999999999999999E-2,-1.4E-2,1E-3,1.6E-2]
[362,0.36099999999999999,5.0000000000000001E-3,0.10299999999999999,0.35599999999999998,0.43,0.18099999999999999,0.109,0.09,2.7E-2,4.0000000000000001E-3,-5.0000000000000001E-3,-1.2999999999999999E-2,-1.4E-2,2E-3,1.6E-2]
[363,0.36099999999999999,5.0000000000000001E-3,0.106,0.36399999999999999,0.438,0.18099999999999999,0.109,9.0999999999999998E-2,2.8000000000000001E-2,5.0000000000000001E-3,-4.0000000000000001E-3,-1.2999999999999999E-2,-1.4E-2,2E-3,1.7000000000000001E-2]
[364,0.36399999999999999,5.0000000000000001E-3,0.109,0.372,0.44700000000000001,0.183,0.109,9.1999999999999998E-2,2.9000000000000001E-2,6.0000000000000001E-3,-4.0000000000000001E-3,-1.2E-2,-1.2999999999999999E-2,2E-3,1.7999999999999999E-2]
[365,0.36599999999999999,5.0000000000000001E-3,0.112,0.38,0.45600000000000002,0.184,0.108,9.2999999999999999E-2,0.03,7.0000000000000001E-3,-4.0000000000000001E-3,-1.2E-2,-1.2E-2,3.0000000000000001E-3,1.7999999999999999E-2]
[366,0.36799999999999999,6.0000000000000001E-3,0.11600000000000001,0.38900000000000001,0.46700000000000003,0.186,0.108,9.2999999999999999E-2,3.2000000000000001E-2,8.0000000000000002E-3,-3.0000000000000001E-3,-1.2E-2,-1.2E-2,3.0000000000000001E-3,1.9E-2]
[367,0.36899999999999999,6.0000000000000001E-3,0.11799999999999999,0.39800000000000002,0.47699999999999998,0.187,0.107,9.4E-2,3.3000000000000002E-2,8.0000000000000002E-3,-4.0000000000000001E-3,-1.2E-2,-1.2999999999999999E-2,3.0000000000000001E-3,1.9E-2]
[368,0.37,7.0000000000000001E-3,0.12,0.40699999999999997,0.48499999999999999,0.188,0.106,9.5000000000000001E-2,3.4000000000000002E-2,8.9999999999999993E-3,-4.0000000000000001E-3,-1.2E-2,-1.2999999999999999E-2,3.0000000000000001E-3,1.9E-2]
[369,0.372,7.0000000000000001E-3,0.123,0.41599999999999998,0.49399999999999999,0.189,0.106,9.5000000000000001E-2,3.5000000000000003E-2,0.01,-3.0000000000000001E-3,-1.2E-2,-1.2E-2,4.0000000000000001E-3,1.9E-2]
[370,0.375,7.0000000000000001E-3,0.126,0.42499999999999999,0.505,0.19,0.106,9.6000000000000002E-2,3.7999999999999999E-2,1.0999999999999999E-2,-2E-3,-1.0999999999999999E-2,-1.0999999999999999E-2,4.0000000000000001E-3,2.1000000000000001E-2]
[371,0.378,7.0000000000000001E-3,0.128,0.434,0.51700000000000002,0.192,0.106,9.8000000000000004E-2,3.9E-2,1.2E-2,-2E-3,-1.0999999999999999E-2,-1.0999999999999999E-2,4.0000000000000001E-3,2.1000000000000001E-2]
[372,0.38,8.0000000000000002E-3,0.13,0.443,0.52700000000000002,0.19400000000000001,0.107,9.9000000000000005E-2,4.1000000000000002E-2,1.2E-2,-1E-3,-1.0999999999999999E-2,-1.0999999999999999E-2,5.0000000000000001E-3,2.1000000000000001E-2]
[373,0.38400000000000001,0.01,0.13300000000000001,0.45100000000000001,0.53600000000000003,0.19600000000000001,0.107,0.1,4.2999999999999997E-2,1.4E-2,0,-0.01,-0.01,5.0000000000000001E-3,2.1999999999999999E-2]
[374,0.38700000000000001,0.01,0.13500000000000001,0.45800000000000002,0.54400000000000004,0.19900000000000001,0.107,0.10199999999999999,4.4999999999999998E-2,1.4999999999999999E-2,0,-0.01,-0.01,6.0000000000000001E-3,2.1999999999999999E-2]
[375,0.39,1.0999999999999999E-2,0.13700000000000001,0.46400000000000002,0.55100000000000005,0.20100000000000001,0.108,0.10299999999999999,4.7E-2,1.6E-2,0,-0.01,-0.01,6.0000000000000001E-3,2.3E-2]
[376,0.39200000000000002,1.0999999999999999E-2,0.13800000000000001,0.46800000000000003,0.55600000000000005,0.20100000000000001,0.108,0.10299999999999999,4.7E-2,1.7000000000000001E-2,0,-0.01,-0.01,6.0000000000000001E-3,2.3E-2]
[377,0.39600000000000002,1.0999999999999999E-2,0.13900000000000001,0.47,0.55900000000000005,0.20100000000000001,0.108,0.105,4.9000000000000002E-2,1.7000000000000001E-2,1E-3,-8.9999999999999993E-3,-0.01,6.0000000000000001E-3,2.4E-2]
[378,0.4,1.2E-2,0.14099999999999999,0.47199999999999998,0.56399999999999995,0.20100000000000001,0.109,0.106,5.0999999999999997E-2,1.9E-2,1E-3,-8.9999999999999993E-3,-8.9999999999999993E-3,7.0000000000000001E-3,2.5000000000000001E-2]
[379,0.40400000000000003,1.4E-2,0.14399999999999999,0.47499999999999998,0.56699999999999995,0.20100000000000001,0.108,0.108,5.3999999999999999E-2,0.02,2E-3,-8.0000000000000002E-3,-8.0000000000000002E-3,8.9999999999999993E-3,2.5999999999999999E-2]
[380,0.40699999999999997,1.4E-2,0.14599999999999999,0.47599999999999998,0.56699999999999995,0.20100000000000001,0.107,0.109,5.5E-2,0.02,2E-3,-8.9999999999999993E-3,-8.0000000000000002E-3,8.9999999999999993E-3,2.5999999999999999E-2]
[381,0.41,1.2999999999999999E-2,0.14699999999999999,0.47599999999999998,0.56599999999999995,0.19900000000000001,0.106,0.109,5.6000000000000001E-2,2.1000000000000001E-2,2E-3,-8.9999999999999993E-3,-8.0000000000000002E-3,8.9999999999999993E-3,2.5999999999999999E-2]
[382,0.41399999999999998,1.4E-2,0.14899999999999999,0.47799999999999998,0.56499999999999995,0.19700000000000001,0.105,0.11,5.8000000000000003E-2,2.1999999999999999E-2,2E-3,-8.9999999999999993E-3,-8.0000000000000002E-3,0.01,2.7E-2]
[383,0.41899999999999998,1.6E-2,0.153,0.48,0.56599999999999995,0.19600000000000001,0.104,0.112,6.0999999999999999E-2,2.4E-2,3.0000000000000001E-3,-7.0000000000000001E-3,-7.0000000000000001E-3,1.0999999999999999E-2,2.9000000000000001E-2]
[384,0.42399999999999999,1.7000000000000001E-2,0.156,0.48,0.56499999999999995,0.193,0.10199999999999999,0.114,6.4000000000000001E-2,2.7E-2,4.0000000000000001E-3,-6.0000000000000001E-3,-6.0000000000000001E-3,1.2E-2,3.1E-2]
[385,0.42899999999999999,1.7999999999999999E-2,0.16,0.47899999999999998,0.56299999999999994,0.19,9.9000000000000005E-2,0.11600000000000001,6.8000000000000005E-2,2.9000000000000001E-2,5.0000000000000001E-3,-5.0000000000000001E-3,-5.0000000000000001E-3,1.2999999999999999E-2,3.3000000000000002E-2]
[386,0.434,1.7999999999999999E-2,0.16300000000000001,0.47699999999999998,0.56100000000000005,0.187,9.7000000000000003E-2,0.11700000000000001,7.0000000000000007E-2,0.03,6.0000000000000001E-3,-6.0000000000000001E-3,-5.0000000000000001E-3,1.4E-2,3.4000000000000002E-2]
[387,0.438,1.9E-2,0.16700000000000001,0.47499999999999998,0.55800000000000005,0.183,9.5000000000000001E-2,0.11799999999999999,7.2999999999999995E-2,3.1E-2,6.0000000000000001E-3,-6.0000000000000001E-3,-5.0000000000000001E-3,1.4999999999999999E-2,3.5000000000000003E-2]
[388,0.442,0.02,0.17,0.47299999999999998,0.55400000000000005,0.18,9.2999999999999999E-2,0.12,7.4999999999999997E-2,3.3000000000000002E-2,7.0000000000000001E-3,-6.0000000000000001E-3,-5.0000000000000001E-3,1.4999999999999999E-2,3.6999999999999998E-2]
[389,0.44700000000000001,2.1000000000000001E-2,0.17399999999999999,0.47199999999999998,0.55300000000000005,0.17799999999999999,9.0999999999999998E-2,0.121,7.9000000000000001E-2,3.5000000000000003E-2,7.0000000000000001E-3,-5.0000000000000001E-3,-5.0000000000000001E-3,1.6E-2,3.7999999999999999E-2]
[390,0.45300000000000001,2.1000000000000001E-2,0.17799999999999999,0.47199999999999998,0.55200000000000005,0.17499999999999999,0.09,0.123,8.3000000000000004E-2,3.6999999999999998E-2,8.0000000000000002E-3,-5.0000000000000001E-3,-4.0000000000000001E-3,1.7000000000000001E-2,3.9E-2]
[391,0.46,2.3E-2,0.182,0.47299999999999998,0.55400000000000005,0.17499999999999999,0.09,0.126,8.5999999999999993E-2,3.9E-2,8.9999999999999993E-3,-4.0000000000000001E-3,-3.0000000000000001E-3,1.7999999999999999E-2,0.04]
[392,0.46500000000000002,2.4E-2,0.186,0.47599999999999998,0.55700000000000005,0.17499999999999999,8.8999999999999996E-2,0.128,8.8999999999999996E-2,4.1000000000000002E-2,8.9999999999999993E-3,-4.0000000000000001E-3,-2E-3,1.9E-2,4.1000000000000002E-2]
[393,0.47,2.4E-2,0.19,0.48099999999999998,0.56000000000000005,0.17499999999999999,8.8999999999999996E-2,0.13,9.0999999999999998E-2,4.2000000000000003E-2,8.9999999999999993E-3,-4.0000000000000001E-3,-3.0000000000000001E-3,1.9E-2,0.04]
[394,0.47499999999999998,2.5000000000000001E-2,0.193,0.48799999999999999,0.56699999999999995,0.17599999999999999,0.09,0.13200000000000001,9.4E-2,4.3999999999999997E-2,0.01,-3.0000000000000001E-3,-3.0000000000000001E-3,1.9E-2,4.1000000000000002E-2]
[395,0.48,2.7E-2,0.19500000000000001,0.497,0.57899999999999996,0.18,9.1999999999999998E-2,0.13400000000000001,9.7000000000000003E-2,4.5999999999999999E-2,1.0999999999999999E-2,-3.0000000000000001E-3,-1E-3,0.02,4.2000000000000003E-2]
[396,0.48799999999999999,2.8000000000000001E-2,0.19700000000000001,0.51100000000000001,0.59499999999999997,0.183,9.4E-2,0.13700000000000001,0.10100000000000001,4.7E-2,1.2E-2,-2E-3,-2E-3,0.02,4.2000000000000003E-2]
[397,0.49399999999999999,0.03,0.2,0.52800000000000002,0.61499999999999999,0.189,9.7000000000000003E-2,0.14000000000000001,0.104,4.9000000000000002E-2,1.2E-2,-2E-3,-2E-3,0.02,4.2000000000000003E-2]
[398,0.498,3.2000000000000001E-2,0.20399999999999999,0.54800000000000004,0.63800000000000001,0.19700000000000001,0.1,0.14299999999999999,0.106,0.05,1.2999999999999999E-2,-1E-3,-1E-3,2.1000000000000001E-2,4.2999999999999997E-2]
[399,0.501,3.3000000000000002E-2,0.20699999999999999,0.56599999999999995,0.66100000000000003,0.20300000000000001,0.10199999999999999,0.14599999999999999,0.108,5.1999999999999998E-2,1.2999999999999999E-2,0,0,2.1999999999999999E-2,4.3999999999999997E-2]
[400,0.505,3.3000000000000002E-2,0.20899999999999999,0.58499999999999996,0.68500000000000005,0.21,0.105,0.14899999999999999,0.111,5.2999999999999999E-2,1.2999999999999999E-2,-1E-3,0,2.1999999999999999E-2,4.4999999999999998E-2]
[401,0.51200000000000001,3.3000000000000002E-2,0.21299999999999999,0.60899999999999999,0.71299999999999997,0.218,0.108,0.151,0.115,5.5E-2,1.4E-2,-1E-3,1E-3,2.3E-2,4.4999999999999998E-2]
[402,0.51800000000000002,3.4000000000000002E-2,0.217,0.63300000000000001,0.74,0.22600000000000001,0.112,0.154,0.11700000000000001,5.6000000000000001E-2,1.4999999999999999E-2,1E-3,1E-3,2.3E-2,4.5999999999999999E-2]
[403,0.52300000000000002,3.5000000000000003E-2,0.221,0.65400000000000003,0.76700000000000002,0.23400000000000001,0.11600000000000001,0.159,0.121,5.8000000000000003E-2,1.6E-2,1E-3,1E-3,2.4E-2,4.8000000000000001E-2]
[404,0.52700000000000002,3.5999999999999997E-2,0.22600000000000001,0.67200000000000004,0.78700000000000003,0.24,0.11899999999999999,0.16300000000000001,0.126,0.06,1.7000000000000001E-2,2E-3,2E-3,2.5999999999999999E-2,0.05]
[405,0.53100000000000003,3.6999999999999998E-2,0.22900000000000001,0.68799999999999994,0.80400000000000005,0.246,0.122,0.16600000000000001,0.129,6.2E-2,1.7000000000000001E-2,1E-3,2E-3,2.7E-2,5.1999999999999998E-2]
[406,0.53600000000000003,3.9E-2,0.23300000000000001,0.70199999999999996,0.82099999999999995,0.251,0.125,0.17100000000000001,0.13400000000000001,6.5000000000000002E-2,1.7999999999999999E-2,2E-3,3.0000000000000001E-3,2.9000000000000001E-2,5.5E-2]
[407,0.54500000000000004,0.04,0.23699999999999999,0.71499999999999997,0.83499999999999996,0.255,0.128,0.17599999999999999,0.14000000000000001,6.8000000000000005E-2,0.02,3.0000000000000001E-3,4.0000000000000001E-3,3.1E-2,5.8000000000000003E-2]
[408,0.55300000000000005,4.2000000000000003E-2,0.24099999999999999,0.72399999999999998,0.84799999999999998,0.26,0.13200000000000001,0.182,0.14599999999999999,7.0999999999999994E-2,0.02,3.0000000000000001E-3,6.0000000000000001E-3,3.2000000000000001E-2,6.0999999999999999E-2]
[409,0.56100000000000005,4.2999999999999997E-2,0.24099999999999999,0.73,0.85499999999999998,0.26500000000000001,0.13700000000000001,0.188,0.152,7.3999999999999996E-2,2.1000000000000001E-2,3.0000000000000001E-3,7.0000000000000001E-3,3.4000000000000002E-2,6.2E-2]
[410,0.56699999999999995,4.3999999999999997E-2,0.24099999999999999,0.73199999999999998,0.85699999999999998,0.26800000000000002,0.14199999999999999,0.19400000000000001,0.158,7.6999999999999999E-2,2.1999999999999999E-2,4.0000000000000001E-3,8.0000000000000002E-3,3.5000000000000003E-2,6.4000000000000001E-2]
[411,0.57399999999999995,4.4999999999999998E-2,0.24,0.73199999999999998,0.85699999999999998,0.27200000000000002,0.14499999999999999,0.2,0.16400000000000001,8.2000000000000003E-2,2.4E-2,5.0000000000000001E-3,8.9999999999999993E-3,3.6999999999999998E-2,6.7000000000000004E-2]
[412,0.58399999999999996,4.5999999999999999E-2,0.23599999999999999,0.72899999999999998,0.85399999999999998,0.27400000000000002,0.15,0.20699999999999999,0.17100000000000001,8.5999999999999993E-2,2.5999999999999999E-2,6.0000000000000001E-3,0.01,3.9E-2,7.0000000000000007E-2]
[413,0.59399999999999997,4.7E-2,0.22900000000000001,0.72499999999999998,0.85,0.27700000000000002,0.156,0.214,0.17699999999999999,8.8999999999999996E-2,2.7E-2,7.0000000000000001E-3,1.0999999999999999E-2,0.04,7.0999999999999994E-2]
[414,0.60599999999999998,4.8000000000000001E-2,0.222,0.71899999999999997,0.84599999999999997,0.28100000000000003,0.16200000000000001,0.22,0.184,9.1999999999999998E-2,2.8000000000000001E-2,7.0000000000000001E-3,1.0999999999999999E-2,4.1000000000000002E-2,7.1999999999999995E-2]
[415,0.61599999999999999,4.9000000000000002E-2,0.21299999999999999,0.71599999999999997,0.84299999999999997,0.28499999999999998,0.16800000000000001,0.22700000000000001,0.19,9.5000000000000001E-2,2.9000000000000001E-2,8.0000000000000002E-3,1.0999999999999999E-2,4.1000000000000002E-2,7.2999999999999995E-2]
[416,0.625,0.05,0.20399999999999999,0.71299999999999997,0.84299999999999997,0.29099999999999998,0.17499999999999999,0.23300000000000001,0.19600000000000001,9.8000000000000004E-2,0.03,8.9999999999999993E-3,1.2E-2,4.1000000000000002E-2,7.2999999999999995E-2]
[417,0.63600000000000001,5.0999999999999997E-2,0.19500000000000001,0.71299999999999997,0.84499999999999997,0.29599999999999999,0.184,0.24,0.20100000000000001,0.10100000000000001,3.2000000000000001E-2,0.01,1.2999999999999999E-2,4.2000000000000003E-2,7.2999999999999995E-2]
[418,0.64600000000000002,5.2999999999999999E-2,0.185,0.71699999999999997,0.85199999999999998,0.30499999999999999,0.19400000000000001,0.246,0.20499999999999999,0.10299999999999999,3.3000000000000002E-2,1.0999999999999999E-2,1.2999999999999999E-2,4.2000000000000003E-2,7.2999999999999995E-2]
[419,0.65500000000000003,5.2999999999999999E-2,0.17299999999999999,0.72599999999999998,0.86599999999999999,0.316,0.20300000000000001,0.252,0.20899999999999999,0.104,3.3000000000000002E-2,0.01,1.2999999999999999E-2,4.2000000000000003E-2,7.1999999999999995E-2]
[420,0.66500000000000004,5.3999999999999999E-2,0.16300000000000001,0.74099999999999999,0.88700000000000001,0.33,0.215,0.25900000000000001,0.21199999999999999,0.106,3.4000000000000002E-2,0.01,1.2999999999999999E-2,4.2000000000000003E-2,7.0999999999999994E-2]
[421,0.67,5.3999999999999999E-2,0.154,0.76,0.91300000000000003,0.34399999999999997,0.22600000000000001,0.26400000000000001,0.215,0.107,3.4000000000000002E-2,1.0999999999999999E-2,1.2999999999999999E-2,4.2000000000000003E-2,7.0999999999999994E-2]
[422,0.67300000000000004,5.3999999999999999E-2,0.14499999999999999,0.78100000000000003,0.94199999999999995,0.35799999999999998,0.23499999999999999,0.26800000000000002,0.217,0.108,3.4000000000000002E-2,1.0999999999999999E-2,1.2E-2,4.1000000000000002E-2,7.0000000000000007E-2]
[423,0.67700000000000005,5.3999999999999999E-2,0.13500000000000001,0.80900000000000005,0.97899999999999998,0.377,0.246,0.27200000000000002,0.218,0.108,3.4000000000000002E-2,1.0999999999999999E-2,1.0999999999999999E-2,3.9E-2,6.9000000000000006E-2]
[424,0.68300000000000005,5.3999999999999999E-2,0.128,0.84599999999999997,1.022,0.39700000000000002,0.25800000000000001,0.27800000000000002,0.22,0.109,3.5000000000000003E-2,1.0999999999999999E-2,1.0999999999999999E-2,3.9E-2,6.9000000000000006E-2]
[425,0.68700000000000006,5.6000000000000001E-2,0.121,0.88400000000000001,1.0660000000000001,0.41699999999999998,0.27,0.28299999999999997,0.221,0.11,3.5999999999999997E-2,1.2E-2,1.2E-2,0.04,7.0000000000000007E-2]
[426,0.69199999999999995,5.7000000000000002E-2,0.115,0.91900000000000004,1.109,0.436,0.28000000000000003,0.28699999999999998,0.223,0.112,3.5999999999999997E-2,1.2E-2,1.4E-2,4.1000000000000002E-2,7.0999999999999994E-2]
[427,0.69599999999999995,5.6000000000000001E-2,0.11,0.95,1.143,0.45300000000000001,0.28799999999999998,0.28999999999999998,0.22600000000000001,0.113,3.5999999999999997E-2,1.2999999999999999E-2,1.4E-2,4.2000000000000003E-2,7.0999999999999994E-2]
[428,0.69899999999999995,5.5E-2,0.104,0.97599999999999998,1.175,0.46600000000000003,0.29499999999999998,0.29399999999999998,0.22800000000000001,0.113,3.5999999999999997E-2,1.0999999999999999E-2,1.2999999999999999E-2,4.1000000000000002E-2,7.1999999999999995E-2]
[429,0.70199999999999996,5.5E-2,0.1,1.0009999999999999,1.208,0.47699999999999998,0.30199999999999999,0.29799999999999999,0.23100000000000001,0.114,3.6999999999999998E-2,1.0999999999999999E-2,1.4E-2,4.2999999999999997E-2,7.4999999999999997E-2]
[430,0.70299999999999996,5.6000000000000001E-2,9.7000000000000003E-2,1.014,1.2230000000000001,0.48299999999999998,0.307,0.30199999999999999,0.23499999999999999,0.11600000000000001,3.7999999999999999E-2,1.2E-2,1.4E-2,4.4999999999999998E-2,7.8E-2]
[431,0.70599999999999996,5.7000000000000002E-2,9.4E-2,1.0089999999999999,1.2150000000000001,0.48399999999999999,0.31,0.30599999999999999,0.23799999999999999,0.11700000000000001,3.7999999999999999E-2,1.2999999999999999E-2,1.4999999999999999E-2,4.7E-2,8.1000000000000003E-2]
[432,0.70699999999999996,5.6000000000000001E-2,9.0999999999999998E-2,0.99199999999999999,1.1879999999999999,0.47899999999999998,0.31,0.31,0.24299999999999999,0.12,3.9E-2,1.4E-2,1.7999999999999999E-2,0.05,8.4000000000000005E-2]
[433,0.70599999999999996,5.6000000000000001E-2,8.5999999999999993E-2,0.96099999999999997,1.149,0.47,0.309,0.314,0.248,0.123,0.04,1.2999999999999999E-2,1.9E-2,5.1999999999999998E-2,8.7999999999999995E-2]
[434,0.70899999999999996,5.7000000000000002E-2,8.1000000000000003E-2,0.92,1.103,0.45800000000000002,0.308,0.31900000000000001,0.254,0.126,4.1000000000000002E-2,1.2999999999999999E-2,1.9E-2,5.2999999999999999E-2,9.0999999999999998E-2]
[435,0.71299999999999997,5.8999999999999997E-2,7.5999999999999998E-2,0.86699999999999999,1.044,0.443,0.308,0.32400000000000001,0.26100000000000001,0.13,4.2000000000000003E-2,1.4999999999999999E-2,2.1000000000000001E-2,5.6000000000000001E-2,9.5000000000000001E-2]
[436,0.71799999999999997,6.0999999999999999E-2,7.1999999999999995E-2,0.79700000000000004,0.96499999999999997,0.42399999999999999,0.307,0.33100000000000002,0.26700000000000002,0.13400000000000001,4.2999999999999997E-2,1.6E-2,2.1999999999999999E-2,5.8999999999999997E-2,9.9000000000000005E-2]
[437,0.72399999999999998,6.0999999999999999E-2,6.5000000000000002E-2,0.71699999999999997,0.86899999999999999,0.40200000000000002,0.307,0.33600000000000002,0.27400000000000002,0.13700000000000001,4.3999999999999997E-2,1.7000000000000001E-2,2.1999999999999999E-2,0.06,0.10100000000000001]
[438,0.73199999999999998,6.2E-2,5.8999999999999997E-2,0.63100000000000001,0.76800000000000002,0.378,0.30599999999999999,0.34200000000000003,0.28199999999999997,0.14099999999999999,4.4999999999999998E-2,1.7999999999999999E-2,2.3E-2,6.0999999999999999E-2,0.10199999999999999]
[439,0.74399999999999999,6.4000000000000001E-2,5.2999999999999999E-2,0.54700000000000004,0.67,0.36,0.309,0.34899999999999998,0.28999999999999998,0.14599999999999999,4.5999999999999999E-2,1.7999999999999999E-2,2.4E-2,6.3E-2,0.10299999999999999]
[440,0.75700000000000001,6.6000000000000003E-2,4.9000000000000002E-2,0.47199999999999998,0.58499999999999996,0.34599999999999997,0.315,0.35499999999999998,0.29599999999999999,0.14899999999999999,4.8000000000000001E-2,1.9E-2,2.5000000000000001E-2,6.4000000000000001E-2,0.105]
[441,0.76800000000000002,6.7000000000000004E-2,4.2999999999999997E-2,0.40300000000000002,0.50600000000000001,0.33500000000000002,0.32100000000000001,0.36099999999999999,0.30199999999999999,0.151,4.9000000000000002E-2,1.9E-2,2.4E-2,6.3E-2,0.104]
[442,0.78,6.8000000000000005E-2,3.7999999999999999E-2,0.33400000000000002,0.42899999999999999,0.32700000000000001,0.33100000000000002,0.36799999999999999,0.307,0.153,4.9000000000000002E-2,1.7999999999999999E-2,2.3E-2,6.3E-2,0.10199999999999999]
[443,0.79300000000000004,7.0000000000000007E-2,3.5000000000000003E-2,0.27700000000000002,0.36399999999999999,0.32600000000000001,0.34499999999999997,0.377,0.314,0.157,0.05,1.9E-2,2.4E-2,6.2E-2,0.10199999999999999]
[444,0.80200000000000005,7.0999999999999994E-2,3.2000000000000001E-2,0.22700000000000001,0.31,0.32900000000000001,0.36199999999999999,0.38800000000000001,0.318,0.159,5.0999999999999997E-2,1.9E-2,2.3E-2,6.0999999999999999E-2,0.1]
[445,0.81,7.1999999999999995E-2,2.9000000000000001E-2,0.184,0.26500000000000001,0.33700000000000002,0.38200000000000001,0.39800000000000002,0.32,0.16,5.0999999999999997E-2,0.02,2.1999999999999999E-2,5.8999999999999997E-2,9.7000000000000003E-2]
[446,0.81599999999999995,7.1999999999999995E-2,2.7E-2,0.15,0.23,0.35099999999999998,0.40400000000000003,0.40699999999999997,0.32300000000000001,0.16,5.1999999999999998E-2,0.02,2.1999999999999999E-2,5.7000000000000002E-2,9.4E-2]
[447,0.82299999999999995,7.3999999999999996E-2,2.5000000000000001E-2,0.123,0.20399999999999999,0.36899999999999999,0.42899999999999999,0.41499999999999998,0.32500000000000001,0.161,5.0999999999999997E-2,0.02,2.1999999999999999E-2,5.5E-2,9.1999999999999998E-2]
[448,0.82699999999999996,7.3999999999999996E-2,2.4E-2,0.10299999999999999,0.186,0.38600000000000001,0.45300000000000001,0.42399999999999999,0.32500000000000001,0.16,5.0999999999999997E-2,1.9E-2,0.02,5.2999999999999999E-2,8.7999999999999995E-2]
[449,0.83,7.4999999999999997E-2,2.1999999999999999E-2,8.5999999999999993E-2,0.17299999999999999,0.40699999999999997,0.47699999999999998,0.432,0.32500000000000001,0.159,5.0999999999999997E-2,1.9E-2,1.9E-2,5.0999999999999997E-2,8.5999999999999993E-2]
[450,0.83199999999999996,7.5999999999999998E-2,0.02,7.2999999999999995E-2,0.16300000000000001,0.43,0.503,0.439,0.32400000000000001,0.157,5.0999999999999997E-2,1.9E-2,1.9E-2,4.9000000000000002E-2,8.3000000000000004E-2]
[451,0.83199999999999996,7.5999999999999998E-2,0.02,6.2E-2,0.157,0.45200000000000001,0.52700000000000002,0.44600000000000001,0.32100000000000001,0.156,5.0999999999999997E-2,1.9E-2,1.7999999999999999E-2,4.8000000000000001E-2,0.08]
[452,0.83099999999999996,7.4999999999999997E-2,1.7999999999999999E-2,5.1999999999999998E-2,0.151,0.47,0.54700000000000004,0.45,0.317,0.152,4.9000000000000002E-2,1.7999999999999999E-2,1.7000000000000001E-2,4.5999999999999999E-2,7.5999999999999998E-2]
[453,0.82799999999999996,7.4999999999999997E-2,1.7999999999999999E-2,4.5999999999999999E-2,0.14699999999999999,0.48699999999999999,0.56299999999999994,0.45200000000000001,0.313,0.15,4.8000000000000001E-2,1.7000000000000001E-2,1.6E-2,4.3999999999999997E-2,7.3999999999999996E-2]
[454,0.82399999999999995,7.3999999999999996E-2,1.6E-2,0.04,0.14499999999999999,0.498,0.57499999999999996,0.45100000000000001,0.308,0.14699999999999999,4.8000000000000001E-2,1.7000000000000001E-2,1.6E-2,4.2000000000000003E-2,7.0999999999999994E-2]
[455,0.82,7.3999999999999996E-2,1.6E-2,3.5999999999999997E-2,0.14299999999999999,0.504,0.58099999999999996,0.44900000000000001,0.30199999999999999,0.14399999999999999,4.7E-2,1.7000000000000001E-2,1.6E-2,4.1000000000000002E-2,6.9000000000000006E-2]
[456,0.81399999999999995,7.3999999999999996E-2,1.6E-2,3.3000000000000002E-2,0.14000000000000001,0.504,0.57899999999999996,0.443,0.29599999999999999,0.14099999999999999,4.4999999999999998E-2,1.6E-2,1.4999999999999999E-2,0.04,6.9000000000000006E-2]
[457,0.80600000000000005,7.2999999999999995E-2,1.4999999999999999E-2,0.03,0.13600000000000001,0.499,0.57399999999999995,0.436,0.29099999999999998,0.13700000000000001,4.3999999999999997E-2,1.4999999999999999E-2,1.4E-2,0.04,6.8000000000000005E-2]
[458,0.79900000000000004,7.0999999999999994E-2,1.4999999999999999E-2,2.8000000000000001E-2,0.13100000000000001,0.48899999999999999,0.56399999999999995,0.42799999999999999,0.28399999999999997,0.13400000000000001,4.2000000000000003E-2,1.4E-2,1.4E-2,0.04,6.7000000000000004E-2]
[459,0.79500000000000004,6.9000000000000006E-2,1.4999999999999999E-2,2.5999999999999999E-2,0.127,0.47499999999999998,0.54800000000000004,0.42,0.27800000000000002,0.13200000000000001,4.2000000000000003E-2,1.4999999999999999E-2,1.4E-2,4.1000000000000002E-2,6.8000000000000005E-2]
[460,0.78800000000000003,6.8000000000000005E-2,1.4999999999999999E-2,2.4E-2,0.121,0.45700000000000002,0.52800000000000002,0.40899999999999997,0.27300000000000002,0.129,4.2000000000000003E-2,1.4999999999999999E-2,1.4E-2,4.2000000000000003E-2,7.0000000000000007E-2]
[461,0.77900000000000003,6.8000000000000005E-2,1.4999999999999999E-2,2.3E-2,0.115,0.436,0.50600000000000001,0.39900000000000002,0.26800000000000002,0.127,4.1000000000000002E-2,1.4E-2,1.4999999999999999E-2,4.2999999999999997E-2,7.2999999999999995E-2]
[462,0.76800000000000002,6.5000000000000002E-2,1.4E-2,2.1000000000000001E-2,0.107,0.41,0.47799999999999998,0.38600000000000001,0.26400000000000001,0.125,3.9E-2,1.2999999999999999E-2,1.4999999999999999E-2,4.3999999999999997E-2,7.5999999999999998E-2]
[463,0.75800000000000001,6.4000000000000001E-2,1.2999999999999999E-2,0.02,0.1,0.38200000000000001,0.44900000000000001,0.375,0.26200000000000001,0.124,3.9E-2,1.2999999999999999E-2,1.6E-2,4.5999999999999999E-2,7.9000000000000001E-2]
[464,0.753,6.4000000000000001E-2,1.4E-2,0.02,9.4E-2,0.35499999999999998,0.42099999999999999,0.36499999999999999,0.26300000000000001,0.126,0.04,1.4999999999999999E-2,1.7999999999999999E-2,0.05,8.5000000000000006E-2]
[465,0.748,6.5000000000000002E-2,1.4999999999999999E-2,2.1000000000000001E-2,8.7999999999999995E-2,0.33300000000000002,0.39800000000000002,0.35699999999999998,0.26300000000000001,0.128,0.04,1.4999999999999999E-2,1.9E-2,5.2999999999999999E-2,8.8999999999999996E-2]
[466,0.74299999999999999,6.4000000000000001E-2,1.4999999999999999E-2,0.02,8.1000000000000003E-2,0.308,0.374,0.35,0.26300000000000001,0.128,0.04,1.4999999999999999E-2,0.02,5.5E-2,9.1999999999999998E-2]
[467,0.74399999999999999,6.3E-2,1.4999999999999999E-2,0.02,7.3999999999999996E-2,0.27900000000000003,0.34599999999999997,0.34300000000000003,0.26600000000000001,0.13,0.04,1.4999999999999999E-2,0.02,5.7000000000000002E-2,9.6000000000000002E-2]
[468,0.746,6.4000000000000001E-2,1.4E-2,1.9E-2,6.9000000000000006E-2,0.254,0.32,0.33500000000000002,0.26800000000000002,0.13200000000000001,4.2000000000000003E-2,1.6E-2,2.1999999999999999E-2,0.06,9.9000000000000005E-2]
[469,0.75,6.5000000000000002E-2,1.4E-2,1.9E-2,6.3E-2,0.23,0.29499999999999998,0.32800000000000001,0.27,0.13400000000000001,4.3999999999999997E-2,1.7000000000000001E-2,2.3E-2,6.0999999999999999E-2,0.10199999999999999]
[470,0.755,6.5000000000000002E-2,1.4E-2,1.7999999999999999E-2,5.7000000000000002E-2,0.20599999999999999,0.27100000000000002,0.32100000000000001,0.27100000000000002,0.13600000000000001,4.3999999999999997E-2,1.7999999999999999E-2,2.4E-2,6.0999999999999999E-2,0.10199999999999999]
[471,0.76100000000000001,6.6000000000000003E-2,1.4999999999999999E-2,1.7999999999999999E-2,5.0999999999999997E-2,0.184,0.247,0.314,0.27300000000000002,0.13700000000000001,4.3999999999999997E-2,1.7999999999999999E-2,2.3E-2,6.0999999999999999E-2,0.10100000000000001]
[472,0.76900000000000002,6.5000000000000002E-2,1.4999999999999999E-2,1.7999999999999999E-2,4.5999999999999999E-2,0.16300000000000001,0.22600000000000001,0.307,0.27300000000000002,0.13800000000000001,4.3999999999999997E-2,1.7999999999999999E-2,2.1999999999999999E-2,0.06,9.9000000000000005E-2]
[473,0.77600000000000002,6.7000000000000004E-2,1.6E-2,1.7999999999999999E-2,4.2000000000000003E-2,0.14499999999999999,0.20599999999999999,0.3,0.27200000000000002,0.13800000000000001,4.4999999999999998E-2,1.7999999999999999E-2,2.1999999999999999E-2,5.8000000000000003E-2,9.5000000000000001E-2]
[474,0.77700000000000002,6.7000000000000004E-2,1.4999999999999999E-2,1.7000000000000001E-2,3.7999999999999999E-2,0.126,0.187,0.29199999999999998,0.26900000000000002,0.13600000000000001,4.3999999999999997E-2,1.7000000000000001E-2,0.02,5.5E-2,9.0999999999999998E-2]
[475,0.77900000000000003,6.6000000000000003E-2,1.4999999999999999E-2,1.7000000000000001E-2,3.4000000000000002E-2,0.11,0.17100000000000001,0.28199999999999997,0.26400000000000001,0.13400000000000001,4.2000000000000003E-2,1.4999999999999999E-2,1.9E-2,5.1999999999999998E-2,8.5000000000000006E-2]
[476,0.78300000000000003,6.6000000000000003E-2,1.4999999999999999E-2,1.7000000000000001E-2,3.2000000000000001E-2,9.8000000000000004E-2,0.157,0.27300000000000002,0.25900000000000001,0.13200000000000001,4.1000000000000002E-2,1.4999999999999999E-2,1.7000000000000001E-2,4.8000000000000001E-2,0.08]
[477,0.78400000000000003,6.7000000000000004E-2,1.6E-2,1.7000000000000001E-2,2.9000000000000001E-2,8.7999999999999995E-2,0.14399999999999999,0.26400000000000001,0.253,0.129,4.1000000000000002E-2,1.4999999999999999E-2,1.6E-2,4.4999999999999998E-2,7.4999999999999997E-2]
[478,0.78200000000000003,6.8000000000000005E-2,1.6E-2,1.7000000000000001E-2,2.7E-2,7.6999999999999999E-2,0.13100000000000001,0.253,0.24399999999999999,0.125,0.04,1.2999999999999999E-2,1.4E-2,0.04,6.8000000000000005E-2]
[479,0.78100000000000003,6.8000000000000005E-2,1.4999999999999999E-2,1.7999999999999999E-2,2.5000000000000001E-2,6.7000000000000004E-2,0.11799999999999999,0.24199999999999999,0.23400000000000001,0.121,3.7999999999999999E-2,1.2999999999999999E-2,1.2E-2,3.5999999999999997E-2,6.2E-2]
[480,0.77700000000000002,6.7000000000000004E-2,1.4999999999999999E-2,1.9E-2,2.3E-2,0.06,0.108,0.23,0.222,0.115,3.5999999999999997E-2,1.0999999999999999E-2,0.01,3.2000000000000001E-2,5.5E-2]
[481,0.77100000000000002,6.5000000000000002E-2,1.4E-2,1.7999999999999999E-2,2.1999999999999999E-2,5.1999999999999998E-2,9.8000000000000004E-2,0.217,0.21099999999999999,0.108,3.3000000000000002E-2,0.01,7.0000000000000001E-3,2.7E-2,4.9000000000000002E-2]
[482,0.76500000000000001,6.5000000000000002E-2,1.4E-2,1.9E-2,2.1999999999999999E-2,4.5999999999999999E-2,8.8999999999999996E-2,0.20499999999999999,0.19800000000000001,0.10199999999999999,3.2000000000000001E-2,8.9999999999999993E-3,6.0000000000000001E-3,2.4E-2,4.3999999999999997E-2]
[483,0.75700000000000001,6.3E-2,1.4E-2,1.9E-2,2.1000000000000001E-2,4.1000000000000002E-2,0.08,0.191,0.185,9.5000000000000001E-2,2.9000000000000001E-2,7.0000000000000001E-3,4.0000000000000001E-3,2.1000000000000001E-2,3.9E-2]
[484,0.749,6.0999999999999999E-2,1.4E-2,1.9E-2,0.02,3.5999999999999997E-2,7.1999999999999995E-2,0.17799999999999999,0.17100000000000001,8.7999999999999995E-2,2.7E-2,6.0000000000000001E-3,2E-3,1.7999999999999999E-2,3.5000000000000003E-2]
[485,0.73799999999999999,5.8999999999999997E-2,1.4E-2,1.9E-2,0.02,3.2000000000000001E-2,6.5000000000000002E-2,0.16500000000000001,0.157,0.08,2.4E-2,4.0000000000000001E-3,0,1.4999999999999999E-2,3.1E-2]
[486,0.72399999999999998,5.7000000000000002E-2,1.4E-2,1.9E-2,1.9E-2,2.9000000000000001E-2,5.8000000000000003E-2,0.153,0.14299999999999999,7.1999999999999995E-2,2.1999999999999999E-2,2E-3,0,1.2E-2,2.7E-2]
[487,0.70799999999999996,5.5E-2,1.4E-2,1.9E-2,1.9E-2,2.7E-2,5.2999999999999999E-2,0.14199999999999999,0.13100000000000001,6.6000000000000003E-2,0.02,2E-3,-1E-3,1.0999999999999999E-2,2.4E-2]
[488,0.69199999999999995,5.2999999999999999E-2,1.4999999999999999E-2,2.1000000000000001E-2,0.02,2.5000000000000001E-2,4.8000000000000001E-2,0.13100000000000001,0.11899999999999999,0.06,1.7999999999999999E-2,1E-3,-3.0000000000000001E-3,0.01,2.3E-2]
[489,0.67500000000000004,0.05,1.4999999999999999E-2,2.1000000000000001E-2,0.02,2.3E-2,4.2999999999999997E-2,0.11899999999999999,0.107,5.3999999999999999E-2,1.4999999999999999E-2,0,-4.0000000000000001E-3,8.0000000000000002E-3,2.1000000000000001E-2]
[490,0.65800000000000003,4.8000000000000001E-2,1.6E-2,2.1000000000000001E-2,2.1000000000000001E-2,2.1999999999999999E-2,0.04,0.11,9.7000000000000003E-2,4.8000000000000001E-2,1.4E-2,-1E-3,-4.0000000000000001E-3,7.0000000000000001E-3,0.02]
[491,0.64200000000000002,4.3999999999999997E-2,1.6E-2,2.1999999999999999E-2,2.1000000000000001E-2,2.1000000000000001E-2,3.5999999999999997E-2,0.10199999999999999,8.6999999999999994E-2,4.2999999999999997E-2,1.2E-2,-2E-3,-5.0000000000000001E-3,6.0000000000000001E-3,1.9E-2]
[492,0.623,4.2000000000000003E-2,1.7000000000000001E-2,2.1999999999999999E-2,2.1000000000000001E-2,0.02,3.2000000000000001E-2,9.2999999999999999E-2,7.6999999999999999E-2,3.6999999999999998E-2,1.0999999999999999E-2,-3.0000000000000001E-3,-6.0000000000000001E-3,6.0000000000000001E-3,1.7999999999999999E-2]
[493,0.60299999999999998,3.9E-2,1.7000000000000001E-2,2.1999999999999999E-2,0.02,1.9E-2,0.03,8.5000000000000006E-2,6.7000000000000004E-2,3.2000000000000001E-2,8.9999999999999993E-3,-3.0000000000000001E-3,-7.0000000000000001E-3,5.0000000000000001E-3,1.6E-2]
[494,0.58499999999999996,3.6999999999999998E-2,1.7999999999999999E-2,2.1999999999999999E-2,2.1000000000000001E-2,1.7999999999999999E-2,2.7E-2,7.8E-2,0.06,2.9000000000000001E-2,8.0000000000000002E-3,-4.0000000000000001E-3,-6.0000000000000001E-3,4.0000000000000001E-3,1.7000000000000001E-2]
[495,0.56599999999999995,3.4000000000000002E-2,0.02,2.1999999999999999E-2,2.1000000000000001E-2,1.7999999999999999E-2,2.5000000000000001E-2,7.1999999999999995E-2,5.2999999999999999E-2,2.5999999999999999E-2,7.0000000000000001E-3,-4.0000000000000001E-3,-7.0000000000000001E-3,4.0000000000000001E-3,1.6E-2]
[496,0.54600000000000004,0.03,0.02,2.1000000000000001E-2,2.1000000000000001E-2,1.7000000000000001E-2,2.1999999999999999E-2,6.6000000000000003E-2,4.5999999999999999E-2,2.1000000000000001E-2,4.0000000000000001E-3,-4.0000000000000001E-3,-8.0000000000000002E-3,3.0000000000000001E-3,1.4999999999999999E-2]
[497,0.52700000000000002,2.7E-2,2.1000000000000001E-2,2.1000000000000001E-2,2.1000000000000001E-2,1.6E-2,2.1000000000000001E-2,6.0999999999999999E-2,0.04,1.7999999999999999E-2,3.0000000000000001E-3,-5.0000000000000001E-3,-8.0000000000000002E-3,3.0000000000000001E-3,1.4E-2]
[498,0.51,2.5000000000000001E-2,2.1999999999999999E-2,2.1999999999999999E-2,2.1000000000000001E-2,1.6E-2,0.02,5.7000000000000002E-2,3.5999999999999997E-2,1.6E-2,3.0000000000000001E-3,-5.0000000000000001E-3,-8.0000000000000002E-3,4.0000000000000001E-3,1.4E-2]
[499,0.49299999999999999,2.3E-2,2.1999999999999999E-2,2.1999999999999999E-2,2.1000000000000001E-2,1.6E-2,1.7999999999999999E-2,5.1999999999999998E-2,3.1E-2,1.2999999999999999E-2,3.0000000000000001E-3,-6.0000000000000001E-3,-8.0000000000000002E-3,3.0000000000000001E-3,1.4E-2]
[500,0.47699999999999998,2.1000000000000001E-2,2.3E-2,2.3E-2,2.1000000000000001E-2,1.4999999999999999E-2,1.7000000000000001E-2,4.9000000000000002E-2,2.7E-2,1.0999999999999999E-2,2E-3,-6.0000000000000001E-3,-8.0000000000000002E-3,3.0000000000000001E-3,1.2999999999999999E-2]
[501,0.46100000000000002,1.7999999999999999E-2,2.3E-2,2.3E-2,2.1000000000000001E-2,1.6E-2,1.6E-2,4.5999999999999999E-2,2.3E-2,0.01,2E-3,-6.0000000000000001E-3,-8.0000000000000002E-3,3.0000000000000001E-3,1.4E-2]
[502,0.44700000000000001,1.6E-2,2.3E-2,2.1999999999999999E-2,2.1000000000000001E-2,1.6E-2,1.4999999999999999E-2,4.3999999999999997E-2,0.02,8.0000000000000002E-3,1E-3,-7.0000000000000001E-3,-8.9999999999999993E-3,3.0000000000000001E-3,1.2999999999999999E-2]
[503,0.434,1.4E-2,2.3E-2,2.1999999999999999E-2,2.1000000000000001E-2,1.4999999999999999E-2,1.4E-2,4.1000000000000002E-2,1.7000000000000001E-2,6.0000000000000001E-3,1E-3,-7.0000000000000001E-3,-8.9999999999999993E-3,3.0000000000000001E-3,1.2999999999999999E-2]
[504,0.42099999999999999,1.2999999999999999E-2,2.3E-2,2.1999999999999999E-2,2.1000000000000001E-2,1.4999999999999999E-2,1.4E-2,0.04,1.4999999999999999E-2,6.0000000000000001E-3,1E-3,-7.0000000000000001E-3,-8.9999999999999993E-3,3.0000000000000001E-3,1.2999999999999999E-2]
[505,0.40699999999999997,1.2E-2,2.3E-2,2.3E-2,2.1000000000000001E-2,1.6E-2,1.2999999999999999E-2,3.9E-2,1.4E-2,5.0000000000000001E-3,0,-7.0000000000000001E-3,-8.0000000000000002E-3,3.0000000000000001E-3,1.2999999999999999E-2]
[506,0.39600000000000002,0.01,2.3E-2,2.1999999999999999E-2,2.1000000000000001E-2,1.4999999999999999E-2,1.2999999999999999E-2,3.6999999999999998E-2,1.2E-2,3.0000000000000001E-3,0,-7.0000000000000001E-3,-8.0000000000000002E-3,2E-3,1.2999999999999999E-2]
[507,0.38800000000000001,8.0000000000000002E-3,2.1999999999999999E-2,2.1999999999999999E-2,2.1999999999999999E-2,1.4E-2,1.2999999999999999E-2,3.5000000000000003E-2,0.01,2E-3,-1E-3,-8.0000000000000002E-3,-8.9999999999999993E-3,1E-3,1.2E-2]
[508,0.38100000000000001,7.0000000000000001E-3,2.1999999999999999E-2,2.3E-2,2.1999999999999999E-2,1.4999999999999999E-2,1.2999999999999999E-2,3.4000000000000002E-2,8.9999999999999993E-3,2E-3,-1E-3,-7.0000000000000001E-3,-8.9999999999999993E-3,2E-3,1.2E-2]
[509,0.376,7.0000000000000001E-3,2.1999999999999999E-2,2.3E-2,2.1999999999999999E-2,1.7000000000000001E-2,1.4E-2,3.4000000000000002E-2,8.0000000000000002E-3,2E-3,0,-5.0000000000000001E-3,-8.0000000000000002E-3,3.0000000000000001E-3,1.2999999999999999E-2]
[510,0.372,6.0000000000000001E-3,0.02,2.3E-2,2.1999999999999999E-2,1.7000000000000001E-2,1.2999999999999999E-2,3.3000000000000002E-2,7.0000000000000001E-3,1E-3,-1E-3,-6.0000000000000001E-3,-8.9999999999999993E-3,2E-3,1.2E-2]
[511,0.36899999999999999,5.0000000000000001E-3,1.9E-2,2.3E-2,2.1999999999999999E-2,1.6E-2,1.2E-2,3.1E-2,6.0000000000000001E-3,0,-1E-3,-7.0000000000000001E-3,-8.9999999999999993E-3,2E-3,1.2E-2]
[512,0.36699999999999999,4.0000000000000001E-3,1.7000000000000001E-2,2.3E-2,2.3E-2,1.6E-2,1.2E-2,0.03,5.0000000000000001E-3,-1E-3,-1E-3,-6.0000000000000001E-3,-8.9999999999999993E-3,2E-3,1.2E-2]
[513,0.36299999999999999,4.0000000000000001E-3,1.6E-2,2.4E-2,2.4E-2,1.7000000000000001E-2,1.2999999999999999E-2,0.03,5.0000000000000001E-3,-1E-3,-1E-3,-6.0000000000000001E-3,-8.9999999999999993E-3,2E-3,1.2E-2]
[514,0.35799999999999998,4.0000000000000001E-3,1.4E-2,2.4E-2,2.5000000000000001E-2,1.7000000000000001E-2,1.2999999999999999E-2,0.03,4.0000000000000001E-3,-1E-3,0,-6.0000000000000001E-3,-8.0000000000000002E-3,2E-3,1.2E-2]
[515,0.35499999999999998,3.0000000000000001E-3,1.2999999999999999E-2,2.5000000000000001E-2,2.5999999999999999E-2,1.7999999999999999E-2,1.2999999999999999E-2,2.9000000000000001E-2,4.0000000000000001E-3,-1E-3,-1E-3,-6.0000000000000001E-3,-8.0000000000000002E-3,2E-3,1.2E-2]
[516,0.35199999999999998,3.0000000000000001E-3,1.2999999999999999E-2,2.5000000000000001E-2,2.7E-2,1.9E-2,1.2999999999999999E-2,2.9000000000000001E-2,4.0000000000000001E-3,-1E-3,-1E-3,-6.0000000000000001E-3,-8.0000000000000002E-3,2E-3,1.2E-2]
[517,0.34899999999999998,2E-3,1.2E-2,2.5999999999999999E-2,2.8000000000000001E-2,1.9E-2,1.4E-2,2.9000000000000001E-2,4.0000000000000001E-3,-1E-3,0,-6.0000000000000001E-3,-8.0000000000000002E-3,2E-3,1.2E-2]
[518,0.34499999999999997,0,1.0999999999999999E-2,2.7E-2,2.8000000000000001E-2,1.7999999999999999E-2,1.2999999999999999E-2,2.8000000000000001E-2,3.0000000000000001E-3,-2E-3,0,-7.0000000000000001E-3,-8.9999999999999993E-3,2E-3,1.2E-2]
[519,0.34300000000000003,1E-3,0.01,2.9000000000000001E-2,0.03,1.9E-2,1.4E-2,2.8000000000000001E-2,2E-3,-2E-3,0,-6.0000000000000001E-3,-8.0000000000000002E-3,2E-3,1.0999999999999999E-2]
[520,0.34,1E-3,1.0999999999999999E-2,3.1E-2,3.2000000000000001E-2,0.02,1.4999999999999999E-2,2.8000000000000001E-2,2E-3,-1E-3,0,-6.0000000000000001E-3,-8.0000000000000002E-3,3.0000000000000001E-3,1.2E-2]
[521,0.33800000000000002,0,1.0999999999999999E-2,3.1E-2,3.4000000000000002E-2,2.1000000000000001E-2,1.4999999999999999E-2,2.8000000000000001E-2,2E-3,-1E-3,0,-5.0000000000000001E-3,-8.0000000000000002E-3,3.0000000000000001E-3,1.2E-2]
[522,0.33700000000000002,0,1.0999999999999999E-2,3.2000000000000001E-2,3.5999999999999997E-2,2.1000000000000001E-2,1.4999999999999999E-2,2.8000000000000001E-2,2E-3,-1E-3,1E-3,-6.0000000000000001E-3,-8.0000000000000002E-3,3.0000000000000001E-3,1.2E-2]
[523,0.33600000000000002,0,1.0999999999999999E-2,3.3000000000000002E-2,3.7999999999999999E-2,2.1999999999999999E-2,1.4999999999999999E-2,2.9000000000000001E-2,2E-3,-1E-3,2E-3,-6.0000000000000001E-3,-7.0000000000000001E-3,3.0000000000000001E-3,1.2E-2]
[524,0.33300000000000002,0,1.0999999999999999E-2,3.4000000000000002E-2,3.7999999999999999E-2,2.1999999999999999E-2,1.4999999999999999E-2,2.8000000000000001E-2,1E-3,-2E-3,1E-3,-6.0000000000000001E-3,-7.0000000000000001E-3,3.0000000000000001E-3,1.2E-2]
[525,0.33200000000000002,0,1.2E-2,3.5000000000000003E-2,3.9E-2,2.3E-2,1.6E-2,2.8000000000000001E-2,1E-3,-2E-3,1E-3,-6.0000000000000001E-3,-8.0000000000000002E-3,2E-3,1.0999999999999999E-2]
[526,0.33100000000000002,0,1.2999999999999999E-2,3.5999999999999997E-2,4.1000000000000002E-2,2.4E-2,1.7000000000000001E-2,2.9000000000000001E-2,1E-3,-2E-3,1E-3,-6.0000000000000001E-3,-7.0000000000000001E-3,3.0000000000000001E-3,1.2E-2]
[527,0.33100000000000002,0,1.4E-2,3.7999999999999999E-2,4.2000000000000003E-2,2.5999999999999999E-2,1.7999999999999999E-2,2.9000000000000001E-2,2E-3,-1E-3,1E-3,-5.0000000000000001E-3,-6.0000000000000001E-3,4.0000000000000001E-3,1.2E-2]
[528,0.33,1E-3,1.6E-2,3.9E-2,4.2999999999999997E-2,2.7E-2,1.9E-2,2.9000000000000001E-2,2E-3,-1E-3,2E-3,-5.0000000000000001E-3,-6.0000000000000001E-3,4.0000000000000001E-3,1.2E-2]
[529,0.33,1E-3,1.7000000000000001E-2,0.04,4.3999999999999997E-2,2.7E-2,1.9E-2,2.9000000000000001E-2,2E-3,-1E-3,2E-3,-5.0000000000000001E-3,-6.0000000000000001E-3,4.0000000000000001E-3,1.2E-2]
[530,0.32800000000000001,1E-3,1.7999999999999999E-2,0.04,4.5999999999999999E-2,2.8000000000000001E-2,2.1000000000000001E-2,2.9000000000000001E-2,2E-3,-1E-3,2E-3,-4.0000000000000001E-3,-6.0000000000000001E-3,4.0000000000000001E-3,1.2E-2]
[531,0.32600000000000001,1E-3,0.02,4.1000000000000002E-2,4.5999999999999999E-2,2.9000000000000001E-2,2.1000000000000001E-2,2.9000000000000001E-2,2E-3,-1E-3,2E-3,-4.0000000000000001E-3,-6.0000000000000001E-3,3.0000000000000001E-3,1.2E-2]
[532,0.32700000000000001,1E-3,2.1999999999999999E-2,4.2000000000000003E-2,4.7E-2,2.9000000000000001E-2,2.1999999999999999E-2,2.9000000000000001E-2,2E-3,-1E-3,2E-3,-4.0000000000000001E-3,-6.0000000000000001E-3,4.0000000000000001E-3,1.2E-2]
[533,0.32700000000000001,1E-3,2.1999999999999999E-2,4.1000000000000002E-2,4.8000000000000001E-2,0.03,2.1000000000000001E-2,2.9000000000000001E-2,2E-3,-1E-3,2E-3,-4.0000000000000001E-3,-6.0000000000000001E-3,4.0000000000000001E-3,1.2E-2]
[534,0.32700000000000001,0,2.3E-2,4.1000000000000002E-2,4.7E-2,0.03,2.1999999999999999E-2,2.9000000000000001E-2,2E-3,-1E-3,1E-3,-4.0000000000000001E-3,-6.0000000000000001E-3,4.0000000000000001E-3,1.0999999999999999E-2]
[535,0.32600000000000001,0,2.3E-2,4.2000000000000003E-2,4.7E-2,0.03,2.1999999999999999E-2,2.9000000000000001E-2,3.0000000000000001E-3,-2E-3,2E-3,-4.0000000000000001E-3,-6.0000000000000001E-3,3.0000000000000001E-3,1.0999999999999999E-2]
[536,0.32500000000000001,0,2.1000000000000001E-2,4.1000000000000002E-2,4.7E-2,3.1E-2,2.4E-2,2.9000000000000001E-2,2E-3,-1E-3,2E-3,-5.0000000000000001E-3,-7.0000000000000001E-3,3.0000000000000001E-3,1.2E-2]
[537,0.32600000000000001,-1E-3,0.02,0.04,4.7E-2,3.2000000000000001E-2,2.4E-2,2.9000000000000001E-2,2E-3,-1E-3,2E-3,-5.0000000000000001E-3,-6.0000000000000001E-3,3.0000000000000001E-3,1.2E-2]
[538,0.32600000000000001,0,1.7999999999999999E-2,0.04,4.7E-2,3.2000000000000001E-2,2.4E-2,0.03,2E-3,-1E-3,2E-3,-5.0000000000000001E-3,-6.0000000000000001E-3,3.0000000000000001E-3,1.2E-2]
[539,0.32500000000000001,0,1.6E-2,0.04,4.7E-2,3.3000000000000002E-2,2.4E-2,0.03,2E-3,-2E-3,2E-3,-5.0000000000000001E-3,-6.0000000000000001E-3,3.0000000000000001E-3,1.2E-2]
[540,0.32400000000000001,0,1.2999999999999999E-2,3.9E-2,4.5999999999999999E-2,3.3000000000000002E-2,2.4E-2,2.9000000000000001E-2,1E-3,-2E-3,2E-3,-5.0000000000000001E-3,-6.0000000000000001E-3,3.0000000000000001E-3,1.0999999999999999E-2]
[541,0.32500000000000001,0,1.2E-2,3.9E-2,4.5999999999999999E-2,3.3000000000000002E-2,2.5000000000000001E-2,2.9000000000000001E-2,2E-3,-1E-3,2E-3,-4.0000000000000001E-3,-6.0000000000000001E-3,4.0000000000000001E-3,1.0999999999999999E-2]
[542,0.32400000000000001,0,1.0999999999999999E-2,3.7999999999999999E-2,4.5999999999999999E-2,3.3000000000000002E-2,2.5999999999999999E-2,0.03,2E-3,-1E-3,2E-3,-4.0000000000000001E-3,-5.0000000000000001E-3,4.0000000000000001E-3,1.0999999999999999E-2]
[543,0.32300000000000001,0,0.01,3.6999999999999998E-2,4.4999999999999998E-2,3.3000000000000002E-2,2.5999999999999999E-2,0.03,1E-3,0,2E-3,-4.0000000000000001E-3,-6.0000000000000001E-3,4.0000000000000001E-3,1.2E-2]
[544,0.32300000000000001,0,8.9999999999999993E-3,3.6999999999999998E-2,4.4999999999999998E-2,3.4000000000000002E-2,2.5999999999999999E-2,2.9000000000000001E-2,1E-3,0,2E-3,-4.0000000000000001E-3,-6.0000000000000001E-3,4.0000000000000001E-3,1.2E-2]
[545,0.32300000000000001,1E-3,8.9999999999999993E-3,3.6999999999999998E-2,4.3999999999999997E-2,3.5000000000000003E-2,2.7E-2,0.03,1E-3,0,2E-3,-3.0000000000000001E-3,-5.0000000000000001E-3,4.0000000000000001E-3,1.2E-2]
[546,0.32400000000000001,1E-3,8.0000000000000002E-3,3.6999999999999998E-2,4.3999999999999997E-2,3.5000000000000003E-2,2.7E-2,0.03,2E-3,0,3.0000000000000001E-3,-3.0000000000000001E-3,-5.0000000000000001E-3,5.0000000000000001E-3,1.2E-2]
[547,0.32400000000000001,0,8.0000000000000002E-3,3.5999999999999997E-2,4.3999999999999997E-2,3.4000000000000002E-2,2.7E-2,0.03,2E-3,0,2E-3,-4.0000000000000001E-3,-5.0000000000000001E-3,5.0000000000000001E-3,1.2E-2]
[548,0.32300000000000001,0,8.0000000000000002E-3,3.5000000000000003E-2,4.3999999999999997E-2,3.4000000000000002E-2,2.5999999999999999E-2,2.9000000000000001E-2,1E-3,-1E-3,2E-3,-4.0000000000000001E-3,-6.0000000000000001E-3,4.0000000000000001E-3,1.0999999999999999E-2]
[549,0.32100000000000001,-1E-3,7.0000000000000001E-3,3.5000000000000003E-2,4.2999999999999997E-2,3.4000000000000002E-2,2.7E-2,2.9000000000000001E-2,1E-3,-1E-3,2E-3,-4.0000000000000001E-3,-5.0000000000000001E-3,4.0000000000000001E-3,1.0999999999999999E-2]
[550,0.32200000000000001,-1E-3,8.0000000000000002E-3,3.5999999999999997E-2,4.3999999999999997E-2,3.5000000000000003E-2,2.8000000000000001E-2,0.03,2E-3,-1E-3,3.0000000000000001E-3,-3.0000000000000001E-3,-5.0000000000000001E-3,5.0000000000000001E-3,1.2E-2]
[551,0.32300000000000001,0,8.0000000000000002E-3,3.5999999999999997E-2,4.3999999999999997E-2,3.5000000000000003E-2,2.8000000000000001E-2,0.03,2E-3,0,4.0000000000000001E-3,-3.0000000000000001E-3,-5.0000000000000001E-3,5.0000000000000001E-3,1.2E-2]
[552,0.32300000000000001,0,7.0000000000000001E-3,3.5999999999999997E-2,4.4999999999999998E-2,3.5000000000000003E-2,2.8000000000000001E-2,0.03,2E-3,0,3.0000000000000001E-3,-3.0000000000000001E-3,-5.0000000000000001E-3,5.0000000000000001E-3,1.2E-2]
[553,0.32200000000000001,0,8.0000000000000002E-3,3.6999999999999998E-2,4.5999999999999999E-2,3.5000000000000003E-2,2.8000000000000001E-2,0.03,2E-3,-1E-3,3.0000000000000001E-3,-3.0000000000000001E-3,-5.0000000000000001E-3,5.0000000000000001E-3,1.0999999999999999E-2]
[554,0.32200000000000001,0,8.0000000000000002E-3,3.7999999999999999E-2,4.5999999999999999E-2,3.5999999999999997E-2,2.8000000000000001E-2,2.9000000000000001E-2,2E-3,-1E-3,3.0000000000000001E-3,-3.0000000000000001E-3,-5.0000000000000001E-3,4.0000000000000001E-3,1.0999999999999999E-2]
[555,0.32,0,8.0000000000000002E-3,3.9E-2,4.8000000000000001E-2,3.6999999999999998E-2,2.8000000000000001E-2,2.9000000000000001E-2,1E-3,-1E-3,3.0000000000000001E-3,-3.0000000000000001E-3,-5.0000000000000001E-3,4.0000000000000001E-3,1.0999999999999999E-2]
[556,0.318,1E-3,8.9999999999999993E-3,0.04,0.05,3.6999999999999998E-2,2.8000000000000001E-2,2.9000000000000001E-2,1E-3,-1E-3,3.0000000000000001E-3,-3.0000000000000001E-3,-5.0000000000000001E-3,5.0000000000000001E-3,1.2E-2]
[557,0.318,0,8.9999999999999993E-3,4.2000000000000003E-2,5.0999999999999997E-2,3.6999999999999998E-2,2.8000000000000001E-2,2.9000000000000001E-2,1E-3,-1E-3,3.0000000000000001E-3,-2E-3,-4.0000000000000001E-3,5.0000000000000001E-3,1.2E-2]
[558,0.318,0,8.9999999999999993E-3,4.3999999999999997E-2,5.3999999999999999E-2,3.7999999999999999E-2,2.9000000000000001E-2,2.9000000000000001E-2,1E-3,-1E-3,4.0000000000000001E-3,-2E-3,-4.0000000000000001E-3,5.0000000000000001E-3,1.2E-2]
[559,0.31900000000000001,0,8.9999999999999993E-3,4.5999999999999999E-2,5.6000000000000001E-2,0.04,0.03,0.03,2E-3,-1E-3,4.0000000000000001E-3,-2E-3,-4.0000000000000001E-3,5.0000000000000001E-3,1.2E-2]
[560,0.32,0,8.9999999999999993E-3,4.8000000000000001E-2,5.8999999999999997E-2,0.04,0.03,0.03,2E-3,-1E-3,4.0000000000000001E-3,-3.0000000000000001E-3,-4.0000000000000001E-3,6.0000000000000001E-3,1.2E-2]
[561,0.31900000000000001,0,8.9999999999999993E-3,0.05,6.2E-2,4.1000000000000002E-2,0.03,0.03,1E-3,-2E-3,3.0000000000000001E-3,-4.0000000000000001E-3,-4.0000000000000001E-3,5.0000000000000001E-3,1.2E-2]
[562,0.31900000000000001,0,0.01,5.2999999999999999E-2,6.6000000000000003E-2,4.2000000000000003E-2,3.2000000000000001E-2,0.03,1E-3,-1E-3,3.0000000000000001E-3,-3.0000000000000001E-3,-4.0000000000000001E-3,5.0000000000000001E-3,1.2E-2]
[563,0.31900000000000001,0,0.01,5.6000000000000001E-2,7.0000000000000007E-2,4.3999999999999997E-2,3.3000000000000002E-2,3.1E-2,1E-3,-1E-3,3.0000000000000001E-3,-2E-3,-4.0000000000000001E-3,5.0000000000000001E-3,1.2E-2]
[564,0.316,1E-3,0.01,5.8000000000000003E-2,7.1999999999999995E-2,4.3999999999999997E-2,3.2000000000000001E-2,0.03,0,-1E-3,3.0000000000000001E-3,-3.0000000000000001E-3,-4.0000000000000001E-3,5.0000000000000001E-3,1.0999999999999999E-2]
[565,0.315,0,8.9999999999999993E-3,0.06,7.4999999999999997E-2,4.5999999999999999E-2,3.3000000000000002E-2,0.03,0,-2E-3,3.0000000000000001E-3,-3.0000000000000001E-3,-3.0000000000000001E-3,5.0000000000000001E-3,1.0999999999999999E-2]
[566,0.316,0,8.9999999999999993E-3,6.3E-2,7.8E-2,4.7E-2,3.4000000000000002E-2,0.03,1E-3,-1E-3,4.0000000000000001E-3,-2E-3,-3.0000000000000001E-3,5.0000000000000001E-3,1.2E-2]
[567,0.317,-1E-3,8.9999999999999993E-3,6.6000000000000003E-2,8.1000000000000003E-2,4.8000000000000001E-2,3.4000000000000002E-2,0.03,1E-3,-1E-3,4.0000000000000001E-3,-2E-3,-4.0000000000000001E-3,5.0000000000000001E-3,1.2E-2]
[568,0.318,-2E-3,8.0000000000000002E-3,6.8000000000000005E-2,8.4000000000000005E-2,4.9000000000000002E-2,3.4000000000000002E-2,3.1E-2,2E-3,-1E-3,4.0000000000000001E-3,-3.0000000000000001E-3,-4.0000000000000001E-3,5.0000000000000001E-3,1.2E-2]
[569,0.32,-1E-3,8.0000000000000002E-3,7.0000000000000007E-2,8.6999999999999994E-2,4.9000000000000002E-2,3.4000000000000002E-2,3.1E-2,2E-3,-1E-3,4.0000000000000001E-3,-3.0000000000000001E-3,-5.0000000000000001E-3,4.0000000000000001E-3,1.2E-2]
[570,0.32100000000000001,-2E-3,8.0000000000000002E-3,7.0999999999999994E-2,8.7999999999999995E-2,4.8000000000000001E-2,3.3000000000000002E-2,0.03,1E-3,-1E-3,2E-3,-4.0000000000000001E-3,-6.0000000000000001E-3,4.0000000000000001E-3,0.01]
[571,0.32100000000000001,-2E-3,7.0000000000000001E-3,7.2999999999999995E-2,0.09,4.8000000000000001E-2,3.2000000000000001E-2,2.9000000000000001E-2,1E-3,-2E-3,1E-3,-4.0000000000000001E-3,-6.0000000000000001E-3,3.0000000000000001E-3,0.01]
[572,0.32100000000000001,-2E-3,6.0000000000000001E-3,7.4999999999999997E-2,9.1999999999999998E-2,4.9000000000000002E-2,3.3000000000000002E-2,2.9000000000000001E-2,1E-3,-2E-3,0,-5.0000000000000001E-3,-7.0000000000000001E-3,2E-3,0.01]
[573,0.32200000000000001,-3.0000000000000001E-3,6.0000000000000001E-3,7.5999999999999998E-2,9.4E-2,4.9000000000000002E-2,3.3000000000000002E-2,2.9000000000000001E-2,1E-3,-2E-3,1E-3,-5.0000000000000001E-3,-6.0000000000000001E-3,3.0000000000000001E-3,0.01]
[574,0.32300000000000001,-1E-3,6.0000000000000001E-3,7.9000000000000001E-2,9.7000000000000003E-2,0.05,3.3000000000000002E-2,0.03,1E-3,-2E-3,1E-3,-4.0000000000000001E-3,-6.0000000000000001E-3,3.0000000000000001E-3,0.01]
[575,0.32300000000000001,-1E-3,6.0000000000000001E-3,0.08,9.9000000000000005E-2,5.0999999999999997E-2,3.3000000000000002E-2,0.03,1E-3,-2E-3,1E-3,-4.0000000000000001E-3,-6.0000000000000001E-3,3.0000000000000001E-3,0.01]
[576,0.32400000000000001,-3.0000000000000001E-3,5.0000000000000001E-3,0.08,0.1,5.0999999999999997E-2,3.2000000000000001E-2,0.03,0,-2E-3,0,-5.0000000000000001E-3,-7.0000000000000001E-3,2E-3,8.9999999999999993E-3]
[577,0.32500000000000001,-2E-3,6.0000000000000001E-3,8.2000000000000003E-2,0.10199999999999999,5.0999999999999997E-2,3.3000000000000002E-2,0.03,1E-3,-2E-3,0,-5.0000000000000001E-3,-7.0000000000000001E-3,2E-3,0.01]
[578,0.32400000000000001,-2E-3,6.0000000000000001E-3,8.4000000000000005E-2,0.104,5.1999999999999998E-2,3.3000000000000002E-2,0.03,1E-3,-3.0000000000000001E-3,0,-5.0000000000000001E-3,-7.0000000000000001E-3,3.0000000000000001E-3,0.01]
[579,0.32300000000000001,-2E-3,6.0000000000000001E-3,8.4000000000000005E-2,0.105,5.1999999999999998E-2,3.4000000000000002E-2,0.03,0,-4.0000000000000001E-3,0,-5.0000000000000001E-3,-7.0000000000000001E-3,3.0000000000000001E-3,8.9999999999999993E-3]
[580,0.32600000000000001,-3.0000000000000001E-3,5.0000000000000001E-3,8.4000000000000005E-2,0.104,5.1999999999999998E-2,3.5000000000000003E-2,0.03,0,-2E-3,0,-5.0000000000000001E-3,-7.0000000000000001E-3,3.0000000000000001E-3,8.9999999999999993E-3]
[581,0.32500000000000001,-3.0000000000000001E-3,5.0000000000000001E-3,8.3000000000000004E-2,0.104,5.2999999999999999E-2,3.4000000000000002E-2,0.03,1E-3,-2E-3,-1E-3,-5.0000000000000001E-3,-7.0000000000000001E-3,1E-3,8.9999999999999993E-3]
[582,0.32200000000000001,-2E-3,6.0000000000000001E-3,8.3000000000000004E-2,0.10299999999999999,5.3999999999999999E-2,3.5000000000000003E-2,0.03,0,-3.0000000000000001E-3,-1E-3,-5.0000000000000001E-3,-7.0000000000000001E-3,2E-3,8.0000000000000002E-3]
[583,0.32100000000000001,-3.0000000000000001E-3,5.0000000000000001E-3,8.2000000000000003E-2,0.10299999999999999,5.5E-2,3.5999999999999997E-2,3.1E-2,0,-4.0000000000000001E-3,-1E-3,-5.0000000000000001E-3,-7.0000000000000001E-3,2E-3,8.0000000000000002E-3]
[584,0.32300000000000001,-3.0000000000000001E-3,5.0000000000000001E-3,0.08,0.10100000000000001,5.5E-2,3.6999999999999998E-2,3.1E-2,1E-3,-3.0000000000000001E-3,0,-5.0000000000000001E-3,-7.0000000000000001E-3,2E-3,8.9999999999999993E-3]
[585,0.32300000000000001,-2E-3,6.0000000000000001E-3,7.9000000000000001E-2,0.1,5.6000000000000001E-2,3.9E-2,3.2000000000000001E-2,2E-3,-2E-3,0,-4.0000000000000001E-3,-6.0000000000000001E-3,3.0000000000000001E-3,8.9999999999999993E-3]
[586,0.32100000000000001,-2E-3,7.0000000000000001E-3,7.8E-2,9.8000000000000004E-2,5.6000000000000001E-2,4.1000000000000002E-2,3.2000000000000001E-2,1E-3,-2E-3,0,-4.0000000000000001E-3,-6.0000000000000001E-3,3.0000000000000001E-3,8.9999999999999993E-3]
[587,0.32,-3.0000000000000001E-3,6.0000000000000001E-3,7.5999999999999998E-2,9.6000000000000002E-2,5.7000000000000002E-2,4.1000000000000002E-2,3.2000000000000001E-2,1E-3,-2E-3,1E-3,-4.0000000000000001E-3,-6.0000000000000001E-3,3.0000000000000001E-3,8.9999999999999993E-3]
[588,0.318,-2E-3,7.0000000000000001E-3,7.3999999999999996E-2,9.4E-2,5.8000000000000003E-2,4.2000000000000003E-2,3.3000000000000002E-2,1E-3,-2E-3,1E-3,-4.0000000000000001E-3,-6.0000000000000001E-3,3.0000000000000001E-3,8.9999999999999993E-3]
[589,0.317,-2E-3,7.0000000000000001E-3,7.2999999999999995E-2,9.4E-2,5.8999999999999997E-2,4.3999999999999997E-2,3.3000000000000002E-2,1E-3,-2E-3,2E-3,-3.0000000000000001E-3,-6.0000000000000001E-3,3.0000000000000001E-3,0.01]
[590,0.316,-2E-3,8.0000000000000002E-3,7.1999999999999995E-2,9.2999999999999999E-2,0.06,4.4999999999999998E-2,3.3000000000000002E-2,1E-3,-2E-3,2E-3,-4.0000000000000001E-3,-5.0000000000000001E-3,4.0000000000000001E-3,0.01]
[591,0.317,-2E-3,8.0000000000000002E-3,7.1999999999999995E-2,9.1999999999999998E-2,6.0999999999999999E-2,4.5999999999999999E-2,3.4000000000000002E-2,2E-3,-1E-3,2E-3,-3.0000000000000001E-3,-4.0000000000000001E-3,4.0000000000000001E-3,8.9999999999999993E-3]
[592,0.32,-2E-3,8.0000000000000002E-3,7.0999999999999994E-2,9.0999999999999998E-2,6.0999999999999999E-2,4.5999999999999999E-2,3.4000000000000002E-2,3.0000000000000001E-3,-1E-3,2E-3,-3.0000000000000001E-3,-5.0000000000000001E-3,4.0000000000000001E-3,0.01]
[593,0.31900000000000001,-1E-3,8.9999999999999993E-3,7.1999999999999995E-2,9.0999999999999998E-2,6.0999999999999999E-2,4.5999999999999999E-2,3.4000000000000002E-2,2E-3,-2E-3,1E-3,-4.0000000000000001E-3,-5.0000000000000001E-3,4.0000000000000001E-3,8.9999999999999993E-3]
[594,0.316,-1E-3,0.01,7.2999999999999995E-2,9.4E-2,6.3E-2,4.7E-2,3.4000000000000002E-2,1E-3,-2E-3,2E-3,-3.0000000000000001E-3,-4.0000000000000001E-3,4.0000000000000001E-3,8.9999999999999993E-3]
[595,0.315,-1E-3,1.0999999999999999E-2,7.4999999999999997E-2,9.6000000000000002E-2,6.4000000000000001E-2,4.8000000000000001E-2,3.4000000000000002E-2,1E-3,-1E-3,2E-3,-2E-3,-4.0000000000000001E-3,5.0000000000000001E-3,8.9999999999999993E-3]
[596,0.314,-1E-3,1.2E-2,7.8E-2,0.1,6.4000000000000001E-2,4.9000000000000002E-2,3.4000000000000002E-2,2E-3,-1E-3,2E-3,-2E-3,-3.0000000000000001E-3,6.0000000000000001E-3,0.01]
[597,0.316,-2E-3,1.2E-2,8.1000000000000003E-2,0.10299999999999999,6.4000000000000001E-2,4.8000000000000001E-2,3.4000000000000002E-2,2E-3,-1E-3,2E-3,-4.0000000000000001E-3,-5.0000000000000001E-3,4.0000000000000001E-3,0.01]
[598,0.318,-2E-3,1.2E-2,8.4000000000000005E-2,0.107,6.4000000000000001E-2,4.7E-2,3.4000000000000002E-2,2E-3,-1E-3,2E-3,-4.0000000000000001E-3,-6.0000000000000001E-3,4.0000000000000001E-3,0.01]
[599,0.31900000000000001,-1E-3,1.2999999999999999E-2,8.8999999999999996E-2,0.111,6.5000000000000002E-2,4.5999999999999999E-2,3.4000000000000002E-2,2E-3,-1E-3,2E-3,-4.0000000000000001E-3,-6.0000000000000001E-3,4.0000000000000001E-3,8.9999999999999993E-3]
[600,0.317,-1E-3,1.4999999999999999E-2,9.2999999999999999E-2,0.11700000000000001,6.6000000000000003E-2,4.5999999999999999E-2,3.4000000000000002E-2,1E-3,-2E-3,1E-3,-4.0000000000000001E-3,-6.0000000000000001E-3,4.0000000000000001E-3,8.9999999999999993E-3]
[601,0.315,-1E-3,1.7000000000000001E-2,9.9000000000000005E-2,0.123,6.8000000000000005E-2,4.7E-2,3.4000000000000002E-2,2E-3,-2E-3,2E-3,-2E-3,-4.0000000000000001E-3,5.0000000000000001E-3,8.9999999999999993E-3]
[602,0.315,-1E-3,1.7999999999999999E-2,0.105,0.13,6.9000000000000006E-2,4.7E-2,3.4000000000000002E-2,2E-3,-1E-3,3.0000000000000001E-3,-1E-3,-4.0000000000000001E-3,5.0000000000000001E-3,0.01]
[603,0.316,-1E-3,1.9E-2,0.111,0.13700000000000001,7.0000000000000007E-2,4.5999999999999999E-2,3.3000000000000002E-2,2E-3,-1E-3,3.0000000000000001E-3,-2E-3,-4.0000000000000001E-3,5.0000000000000001E-3,0.01]
[604,0.316,-1E-3,0.02,0.11600000000000001,0.14299999999999999,7.0000000000000007E-2,4.5999999999999999E-2,3.3000000000000002E-2,2E-3,-1E-3,3.0000000000000001E-3,-2E-3,-4.0000000000000001E-3,5.0000000000000001E-3,0.01]
[605,0.317,-1E-3,2.1999999999999999E-2,0.121,0.14899999999999999,7.0999999999999994E-2,4.4999999999999998E-2,3.3000000000000002E-2,2E-3,0,3.0000000000000001E-3,-1E-3,-4.0000000000000001E-3,5.0000000000000001E-3,0.01]
[606,0.318,0,2.1000000000000001E-2,0.125,0.154,7.0999999999999994E-2,4.3999999999999997E-2,3.2000000000000001E-2,2E-3,-1E-3,2E-3,-2E-3,-4.0000000000000001E-3,5.0000000000000001E-3,0.01]
[607,0.317,0,2.1999999999999999E-2,0.13,0.16,7.1999999999999995E-2,4.2999999999999997E-2,3.1E-2,1E-3,-2E-3,2E-3,-3.0000000000000001E-3,-4.0000000000000001E-3,5.0000000000000001E-3,8.9999999999999993E-3]
[608,0.315,-1E-3,2.3E-2,0.13500000000000001,0.16500000000000001,7.2999999999999995E-2,4.3999999999999997E-2,3.1E-2,1E-3,-2E-3,2E-3,-2E-3,-4.0000000000000001E-3,5.0000000000000001E-3,8.9999999999999993E-3]
[609,0.313,-1E-3,2.1999999999999999E-2,0.13800000000000001,0.17,7.3999999999999996E-2,4.3999999999999997E-2,3.1E-2,1E-3,-2E-3,3.0000000000000001E-3,-2E-3,-3.0000000000000001E-3,6.0000000000000001E-3,8.9999999999999993E-3]
[610,0.312,0,2.3E-2,0.14199999999999999,0.17499999999999999,7.4999999999999997E-2,4.3999999999999997E-2,3.1E-2,1E-3,-1E-3,4.0000000000000001E-3,-2E-3,-3.0000000000000001E-3,6.0000000000000001E-3,0.01]
[611,0.312,0,2.3E-2,0.14499999999999999,0.17899999999999999,7.5999999999999998E-2,4.4999999999999998E-2,3.1E-2,1E-3,-1E-3,4.0000000000000001E-3,-2E-3,-3.0000000000000001E-3,6.0000000000000001E-3,0.01]
[612,0.312,0,2.3E-2,0.14799999999999999,0.182,7.6999999999999999E-2,4.4999999999999998E-2,3.1E-2,1E-3,-1E-3,4.0000000000000001E-3,-2E-3,-2E-3,5.0000000000000001E-3,0.01]
[613,0.313,0,2.3E-2,0.15,0.184,7.8E-2,4.4999999999999998E-2,3.2000000000000001E-2,2E-3,-1E-3,4.0000000000000001E-3,-1E-3,-2E-3,6.0000000000000001E-3,1.0999999999999999E-2]
[614,0.314,1E-3,2.3E-2,0.151,0.186,7.6999999999999999E-2,4.3999999999999997E-2,3.3000000000000002E-2,2E-3,0,4.0000000000000001E-3,-2E-3,-3.0000000000000001E-3,6.0000000000000001E-3,0.01]
[615,0.312,1E-3,2.1999999999999999E-2,0.152,0.186,7.6999999999999999E-2,4.3999999999999997E-2,3.2000000000000001E-2,1E-3,-1E-3,4.0000000000000001E-3,-2E-3,-4.0000000000000001E-3,6.0000000000000001E-3,0.01]
[616,0.309,0,2.1000000000000001E-2,0.153,0.187,7.8E-2,4.3999999999999997E-2,3.1E-2,1E-3,-1E-3,3.0000000000000001E-3,-1E-3,-3.0000000000000001E-3,6.0000000000000001E-3,8.9999999999999993E-3]
[617,0.308,-1E-3,2.1000000000000001E-2,0.152,0.188,7.8E-2,4.4999999999999998E-2,3.1E-2,1E-3,-2E-3,4.0000000000000001E-3,-1E-3,-2E-3,6.0000000000000001E-3,0.01]
[618,0.308,0,2.1000000000000001E-2,0.153,0.188,7.9000000000000001E-2,4.5999999999999999E-2,3.1E-2,2E-3,-1E-3,5.0000000000000001E-3,-1E-3,-2E-3,7.0000000000000001E-3,0.01]
[619,0.307,0,0.02,0.152,0.187,7.9000000000000001E-2,4.5999999999999999E-2,3.1E-2,1E-3,-1E-3,5.0000000000000001E-3,-1E-3,-2E-3,6.0000000000000001E-3,0.01]
[620,0.30599999999999999,0,1.9E-2,0.15,0.185,7.9000000000000001E-2,4.5999999999999999E-2,3.1E-2,1E-3,-1E-3,5.0000000000000001E-3,0,-2E-3,6.0000000000000001E-3,0.01]
[621,0.30599999999999999,0,1.7999999999999999E-2,0.14799999999999999,0.182,7.8E-2,4.5999999999999999E-2,3.1E-2,1E-3,-1E-3,5.0000000000000001E-3,0,-1E-3,7.0000000000000001E-3,0.01]
[622,0.307,-1E-3,1.7999999999999999E-2,0.14499999999999999,0.17899999999999999,7.8E-2,4.5999999999999999E-2,3.1E-2,1E-3,-1E-3,5.0000000000000001E-3,0,-1E-3,6.0000000000000001E-3,0.01]
[623,0.307,0,1.7000000000000001E-2,0.14199999999999999,0.17599999999999999,7.6999999999999999E-2,4.7E-2,3.2000000000000001E-2,1E-3,-1E-3,5.0000000000000001E-3,0,-1E-3,7.0000000000000001E-3,0.01]
[624,0.30499999999999999,0,1.7000000000000001E-2,0.13800000000000001,0.17100000000000001,7.8E-2,4.8000000000000001E-2,3.2000000000000001E-2,1E-3,-1E-3,6.0000000000000001E-3,1E-3,-1E-3,7.0000000000000001E-3,8.9999999999999993E-3]
[625,0.30299999999999999,0,1.7000000000000001E-2,0.13400000000000001,0.16600000000000001,7.8E-2,4.9000000000000002E-2,3.3000000000000002E-2,1E-3,-1E-3,5.0000000000000001E-3,0,-1E-3,7.0000000000000001E-3,8.9999999999999993E-3]
[626,0.30299999999999999,1E-3,1.6E-2,0.13,0.16200000000000001,0.08,5.1999999999999998E-2,3.3000000000000002E-2,2E-3,0,6.0000000000000001E-3,0,-1E-3,8.0000000000000002E-3,0.01]
[627,0.30399999999999999,1E-3,1.7000000000000001E-2,0.126,0.158,8.2000000000000003E-2,5.5E-2,3.5000000000000003E-2,2E-3,0,6.0000000000000001E-3,1E-3,-1E-3,8.0000000000000002E-3,1.0999999999999999E-2]
[628,0.30399999999999999,1E-3,1.6E-2,0.121,0.155,8.3000000000000004E-2,5.8000000000000003E-2,3.5999999999999997E-2,3.0000000000000001E-3,0,6.0000000000000001E-3,1E-3,-1E-3,8.0000000000000002E-3,0.01]
[629,0.30299999999999999,1E-3,1.6E-2,0.11700000000000001,0.15,8.5999999999999993E-2,6.3E-2,3.7999999999999999E-2,3.0000000000000001E-3,0,6.0000000000000001E-3,1E-3,-1E-3,8.0000000000000002E-3,0.01]
[630,0.30199999999999999,1E-3,1.6E-2,0.113,0.14599999999999999,0.09,6.8000000000000005E-2,0.04,4.0000000000000001E-3,0,6.0000000000000001E-3,1E-3,-1E-3,8.0000000000000002E-3,0.01]
[631,0.30099999999999999,1E-3,1.6E-2,0.111,0.14499999999999999,9.5000000000000001E-2,7.3999999999999996E-2,4.2000000000000003E-2,4.0000000000000001E-3,1E-3,6.0000000000000001E-3,1E-3,0,8.0000000000000002E-3,0.01]
[632,0.29899999999999999,1E-3,1.6E-2,0.108,0.14299999999999999,0.10100000000000001,8.1000000000000003E-2,4.5999999999999999E-2,5.0000000000000001E-3,1E-3,7.0000000000000001E-3,1E-3,0,8.0000000000000002E-3,0.01]
[633,0.29799999999999999,1E-3,1.6E-2,0.107,0.14299999999999999,0.109,8.8999999999999996E-2,4.9000000000000002E-2,7.0000000000000001E-3,2E-3,7.0000000000000001E-3,2E-3,0,8.9999999999999993E-3,8.9999999999999993E-3]
[634,0.29799999999999999,1E-3,1.6E-2,0.105,0.14299999999999999,0.11799999999999999,9.9000000000000005E-2,5.3999999999999999E-2,8.0000000000000002E-3,2E-3,8.0000000000000002E-3,2E-3,0,8.9999999999999993E-3,0.01]
[635,0.29899999999999999,1E-3,1.7000000000000001E-2,0.105,0.14499999999999999,0.128,0.11,5.8000000000000003E-2,8.9999999999999993E-3,3.0000000000000001E-3,8.0000000000000002E-3,2E-3,1E-3,8.9999999999999993E-3,1.0999999999999999E-2]
[636,0.29799999999999999,0,1.6E-2,0.105,0.14699999999999999,0.13700000000000001,0.12,6.3E-2,1.0999999999999999E-2,3.0000000000000001E-3,8.0000000000000002E-3,2E-3,0,8.0000000000000002E-3,1.0999999999999999E-2]
[637,0.29699999999999999,0,1.7000000000000001E-2,0.106,0.151,0.14799999999999999,0.13100000000000001,6.7000000000000004E-2,1.2E-2,3.0000000000000001E-3,7.0000000000000001E-3,2E-3,0,8.0000000000000002E-3,0.01]
[638,0.29599999999999999,0,1.7000000000000001E-2,0.109,0.156,0.16,0.14299999999999999,7.1999999999999995E-2,1.2999999999999999E-2,3.0000000000000001E-3,8.0000000000000002E-3,2E-3,0,8.0000000000000002E-3,0.01]
[639,0.29599999999999999,1E-3,1.7999999999999999E-2,0.113,0.16400000000000001,0.17399999999999999,0.158,7.8E-2,1.4999999999999999E-2,4.0000000000000001E-3,8.0000000000000002E-3,2E-3,1E-3,8.9999999999999993E-3,0.01]
[640,0.29499999999999998,1E-3,1.9E-2,0.11799999999999999,0.17299999999999999,0.187,0.17,8.4000000000000005E-2,1.7000000000000001E-2,5.0000000000000001E-3,8.9999999999999993E-3,3.0000000000000001E-3,1E-3,8.9999999999999993E-3,0.01]
[641,0.29399999999999998,0,1.9E-2,0.124,0.184,0.19900000000000001,0.18099999999999999,8.7999999999999995E-2,1.9E-2,6.0000000000000001E-3,8.9999999999999993E-3,3.0000000000000001E-3,1E-3,8.9999999999999993E-3,0.01]
[642,0.29399999999999998,1E-3,0.02,0.13300000000000001,0.19600000000000001,0.21,0.19,9.1999999999999998E-2,0.02,6.0000000000000001E-3,8.9999999999999993E-3,3.0000000000000001E-3,1E-3,8.0000000000000002E-3,0.01]
[643,0.29399999999999998,1E-3,2.1000000000000001E-2,0.14499999999999999,0.21099999999999999,0.22,0.19800000000000001,9.5000000000000001E-2,2.1000000000000001E-2,6.0000000000000001E-3,8.9999999999999993E-3,4.0000000000000001E-3,1E-3,8.9999999999999993E-3,0.01]
[644,0.29499999999999998,1E-3,2.3E-2,0.158,0.22800000000000001,0.22800000000000001,0.20399999999999999,9.8000000000000004E-2,2.1999999999999999E-2,6.0000000000000001E-3,0.01,3.0000000000000001E-3,1E-3,0.01,0.01]
[645,0.29399999999999998,1E-3,2.4E-2,0.17299999999999999,0.247,0.23300000000000001,0.20599999999999999,9.8000000000000004E-2,2.1999999999999999E-2,6.0000000000000001E-3,8.9999999999999993E-3,3.0000000000000001E-3,1E-3,8.9999999999999993E-3,0.01]
[646,0.29199999999999998,1E-3,2.5999999999999999E-2,0.192,0.26800000000000002,0.23699999999999999,0.20399999999999999,9.8000000000000004E-2,2.1999999999999999E-2,7.0000000000000001E-3,0.01,3.0000000000000001E-3,1E-3,8.9999999999999993E-3,0.01]
[647,0.29199999999999998,0,2.8000000000000001E-2,0.21299999999999999,0.29199999999999998,0.23899999999999999,0.2,9.6000000000000002E-2,2.1000000000000001E-2,7.0000000000000001E-3,8.9999999999999993E-3,3.0000000000000001E-3,1E-3,8.9999999999999993E-3,0.01]
[648,0.29399999999999998,1E-3,3.1E-2,0.24099999999999999,0.32400000000000001,0.23899999999999999,0.19400000000000001,9.2999999999999999E-2,2.1000000000000001E-2,7.0000000000000001E-3,8.9999999999999993E-3,3.0000000000000001E-3,1E-3,8.9999999999999993E-3,0.01]
[649,0.29499999999999998,2E-3,3.5000000000000003E-2,0.27200000000000002,0.35899999999999999,0.23899999999999999,0.185,8.8999999999999996E-2,0.02,6.0000000000000001E-3,8.9999999999999993E-3,3.0000000000000001E-3,1E-3,8.0000000000000002E-3,0.01]
[650,0.29399999999999998,1E-3,3.9E-2,0.30499999999999999,0.39600000000000002,0.23699999999999999,0.17399999999999999,8.5000000000000006E-2,1.7999999999999999E-2,5.0000000000000001E-3,8.9999999999999993E-3,3.0000000000000001E-3,1E-3,8.0000000000000002E-3,0.01]
[651,0.29399999999999998,1E-3,4.2000000000000003E-2,0.34399999999999997,0.439,0.23599999999999999,0.16400000000000001,0.08,1.6E-2,5.0000000000000001E-3,8.9999999999999993E-3,3.0000000000000001E-3,1E-3,8.9999999999999993E-3,0.01]
[652,0.29499999999999998,1E-3,4.7E-2,0.39200000000000002,0.49199999999999999,0.23599999999999999,0.153,7.3999999999999996E-2,1.4999999999999999E-2,5.0000000000000001E-3,8.9999999999999993E-3,3.0000000000000001E-3,1E-3,8.9999999999999993E-3,0.01]
[653,0.29399999999999998,2E-3,5.2999999999999999E-2,0.44400000000000001,0.55100000000000005,0.23799999999999999,0.14099999999999999,6.9000000000000006E-2,1.4E-2,5.0000000000000001E-3,8.9999999999999993E-3,4.0000000000000001E-3,1E-3,8.9999999999999993E-3,0.01]
[654,0.29499999999999998,0,5.8000000000000003E-2,0.496,0.61199999999999999,0.24,0.13,6.3E-2,1.2E-2,4.0000000000000001E-3,8.9999999999999993E-3,3.0000000000000001E-3,0,8.0000000000000002E-3,0.01]
[655,0.30299999999999999,-1E-3,6.3E-2,0.55300000000000005,0.67600000000000005,0.24099999999999999,0.11700000000000001,5.8000000000000003E-2,1.0999999999999999E-2,4.0000000000000001E-3,7.0000000000000001E-3,1E-3,-2E-3,6.0000000000000001E-3,8.9999999999999993E-3]
[656,0.30599999999999999,1E-3,7.0000000000000007E-2,0.60299999999999998,0.73199999999999998,0.245,0.11,5.3999999999999999E-2,8.9999999999999993E-3,3.0000000000000001E-3,6.0000000000000001E-3,0,-2E-3,5.0000000000000001E-3,8.9999999999999993E-3]
[657,0.30199999999999999,2E-3,7.8E-2,0.65500000000000003,0.79300000000000004,0.254,0.106,5.1999999999999998E-2,8.0000000000000002E-3,2E-3,5.0000000000000001E-3,2E-3,0,8.0000000000000002E-3,8.9999999999999993E-3]
[658,0.29799999999999999,1E-3,8.5000000000000006E-2,0.70399999999999996,0.85,0.26200000000000001,0.10100000000000001,0.05,8.0000000000000002E-3,3.0000000000000001E-3,6.0000000000000001E-3,3.0000000000000001E-3,1E-3,8.0000000000000002E-3,8.9999999999999993E-3]
[659,0.29599999999999999,2E-3,9.5000000000000001E-2,0.755,0.90700000000000003,0.27,9.6000000000000002E-2,4.8000000000000001E-2,8.0000000000000002E-3,4.0000000000000001E-3,8.0000000000000002E-3,3.0000000000000001E-3,1E-3,8.9999999999999993E-3,8.9999999999999993E-3]
[660,0.29299999999999998,3.0000000000000001E-3,0.104,0.79600000000000004,0.95399999999999996,0.27600000000000002,9.2999999999999999E-2,4.5999999999999999E-2,8.0000000000000002E-3,3.0000000000000001E-3,8.9999999999999993E-3,4.0000000000000001E-3,1E-3,8.9999999999999993E-3,0.01]
[661,0.29299999999999998,4.0000000000000001E-3,0.111,0.82099999999999995,0.98099999999999998,0.27800000000000002,8.8999999999999996E-2,4.3999999999999997E-2,7.0000000000000001E-3,3.0000000000000001E-3,8.9999999999999993E-3,4.0000000000000001E-3,2E-3,8.9999999999999993E-3,0.01]
[662,0.29199999999999998,4.0000000000000001E-3,0.11700000000000001,0.83299999999999996,0.99399999999999999,0.27600000000000002,8.5999999999999993E-2,4.2000000000000003E-2,6.0000000000000001E-3,3.0000000000000001E-3,8.9999999999999993E-3,4.0000000000000001E-3,2E-3,8.9999999999999993E-3,0.01]
[663,0.29199999999999998,5.0000000000000001E-3,0.123,0.83399999999999996,0.99399999999999999,0.27200000000000002,8.1000000000000003E-2,0.04,6.0000000000000001E-3,2E-3,8.0000000000000002E-3,3.0000000000000001E-3,1E-3,8.9999999999999993E-3,0.01]
[664,0.29299999999999998,5.0000000000000001E-3,0.129,0.82,0.97599999999999998,0.26500000000000001,7.5999999999999998E-2,3.7999999999999999E-2,5.0000000000000001E-3,2E-3,8.0000000000000002E-3,3.0000000000000001E-3,1E-3,8.9999999999999993E-3,0.01]
[665,0.29399999999999998,5.0000000000000001E-3,0.13100000000000001,0.79600000000000004,0.94399999999999995,0.25600000000000001,7.2999999999999995E-2,3.6999999999999998E-2,5.0000000000000001E-3,2E-3,8.0000000000000002E-3,3.0000000000000001E-3,1E-3,8.9999999999999993E-3,0.01]
[666,0.29299999999999998,5.0000000000000001E-3,0.13200000000000001,0.76100000000000001,0.90100000000000002,0.24399999999999999,6.9000000000000006E-2,3.5999999999999997E-2,4.0000000000000001E-3,2E-3,8.9999999999999993E-3,3.0000000000000001E-3,2E-3,8.9999999999999993E-3,0.01]
[667,0.29199999999999998,5.0000000000000001E-3,0.13100000000000001,0.71199999999999997,0.84199999999999997,0.22700000000000001,6.4000000000000001E-2,3.4000000000000002E-2,3.0000000000000001E-3,2E-3,8.0000000000000002E-3,4.0000000000000001E-3,2E-3,0.01,0.01]
[668,0.29099999999999998,5.0000000000000001E-3,0.128,0.65400000000000003,0.77300000000000002,0.20799999999999999,5.8999999999999997E-2,3.2000000000000001E-2,2E-3,1E-3,8.0000000000000002E-3,4.0000000000000001E-3,1E-3,8.9999999999999993E-3,0.01]
[669,0.29199999999999998,5.0000000000000001E-3,0.123,0.59699999999999998,0.70699999999999996,0.19,5.2999999999999999E-2,0.03,2E-3,1E-3,8.0000000000000002E-3,3.0000000000000001E-3,1E-3,8.9999999999999993E-3,0.01]
[670,0.29299999999999998,4.0000000000000001E-3,0.11600000000000001,0.53200000000000003,0.629,0.16900000000000001,4.7E-2,2.8000000000000001E-2,1E-3,1E-3,7.0000000000000001E-3,3.0000000000000001E-3,1E-3,8.0000000000000002E-3,0.01]
[671,0.29399999999999998,3.0000000000000001E-3,0.108,0.46600000000000003,0.55100000000000005,0.14799999999999999,4.2000000000000003E-2,2.5999999999999999E-2,0,0,6.0000000000000001E-3,2E-3,0,8.0000000000000002E-3,8.9999999999999993E-3]
[672,0.29399999999999998,3.0000000000000001E-3,9.9000000000000005E-2,0.41099999999999998,0.48499999999999999,0.13100000000000001,3.9E-2,2.5000000000000001E-2,0,-1E-3,6.0000000000000001E-3,2E-3,0,8.0000000000000002E-3,8.9999999999999993E-3]
[673,0.29399999999999998,3.0000000000000001E-3,0.09,0.35699999999999998,0.42199999999999999,0.11600000000000001,3.5000000000000003E-2,2.3E-2,-1E-3,-1E-3,6.0000000000000001E-3,2E-3,0,8.0000000000000002E-3,8.9999999999999993E-3]
[674,0.29299999999999998,3.0000000000000001E-3,0.08,0.30199999999999999,0.35599999999999998,9.9000000000000005E-2,3.1E-2,2.1999999999999999E-2,-2E-3,-1E-3,6.0000000000000001E-3,2E-3,0,8.9999999999999993E-3,8.9999999999999993E-3]
[675,0.29299999999999998,3.0000000000000001E-3,7.0000000000000007E-2,0.252,0.29799999999999999,8.5000000000000006E-2,2.8000000000000001E-2,2.1000000000000001E-2,-2E-3,-1E-3,6.0000000000000001E-3,3.0000000000000001E-3,0,8.9999999999999993E-3,0.01]
[676,0.29399999999999998,3.0000000000000001E-3,6.0999999999999999E-2,0.21299999999999999,0.252,7.1999999999999995E-2,2.5000000000000001E-2,0.02,-2E-3,-1E-3,6.0000000000000001E-3,3.0000000000000001E-3,0,8.9999999999999993E-3,0.01]
[677,0.29499999999999998,2E-3,5.1999999999999998E-2,0.17599999999999999,0.20799999999999999,6.0999999999999999E-2,2.1999999999999999E-2,1.9E-2,-3.0000000000000001E-3,-1E-3,6.0000000000000001E-3,2E-3,0,8.0000000000000002E-3,8.9999999999999993E-3]
[678,0.29399999999999998,1E-3,4.3999999999999997E-2,0.14399999999999999,0.17,5.0999999999999997E-2,1.9E-2,1.7999999999999999E-2,-3.0000000000000001E-3,-1E-3,5.0000000000000001E-3,2E-3,0,8.0000000000000002E-3,8.9999999999999993E-3]
[679,0.29399999999999998,1E-3,3.6999999999999998E-2,0.12,0.14199999999999999,4.3999999999999997E-2,1.7000000000000001E-2,1.7000000000000001E-2,-3.0000000000000001E-3,-2E-3,5.0000000000000001E-3,1E-3,0,8.0000000000000002E-3,8.9999999999999993E-3]
[680,0.29399999999999998,1E-3,3.1E-2,9.8000000000000004E-2,0.11600000000000001,3.6999999999999998E-2,1.4999999999999999E-2,1.6E-2,-4.0000000000000001E-3,-2E-3,4.0000000000000001E-3,1E-3,0,8.0000000000000002E-3,8.9999999999999993E-3]
[681,0.29399999999999998,0,2.5000000000000001E-2,0.08,9.5000000000000001E-2,3.2000000000000001E-2,1.4E-2,1.6E-2,-4.0000000000000001E-3,-3.0000000000000001E-3,5.0000000000000001E-3,2E-3,0,8.0000000000000002E-3,8.0000000000000002E-3]
[682,0.29299999999999998,0,2.1999999999999999E-2,6.8000000000000005E-2,0.08,2.9000000000000001E-2,1.2999999999999999E-2,1.4999999999999999E-2,-4.0000000000000001E-3,-3.0000000000000001E-3,5.0000000000000001E-3,2E-3,0,8.0000000000000002E-3,8.9999999999999993E-3]
[683,0.29299999999999998,0,1.7999999999999999E-2,5.5E-2,6.6000000000000003E-2,2.5000000000000001E-2,1.2E-2,1.4999999999999999E-2,-4.0000000000000001E-3,-3.0000000000000001E-3,5.0000000000000001E-3,2E-3,0,8.0000000000000002E-3,8.9999999999999993E-3]
[684,0.29399999999999998,-1E-3,1.4999999999999999E-2,4.4999999999999998E-2,5.3999999999999999E-2,2.1999999999999999E-2,1.0999999999999999E-2,1.4999999999999999E-2,-4.0000000000000001E-3,-3.0000000000000001E-3,5.0000000000000001E-3,1E-3,-1E-3,8.0000000000000002E-3,8.9999999999999993E-3]
[685,0.29399999999999998,0,1.2999999999999999E-2,3.7999999999999999E-2,4.5999999999999999E-2,1.9E-2,0.01,1.4999999999999999E-2,-5.0000000000000001E-3,-3.0000000000000001E-3,5.0000000000000001E-3,1E-3,-1E-3,8.0000000000000002E-3,8.9999999999999993E-3]
[686,0.29399999999999998,0,1.0999999999999999E-2,3.3000000000000002E-2,3.9E-2,1.7999999999999999E-2,0.01,1.4999999999999999E-2,-5.0000000000000001E-3,-3.0000000000000001E-3,4.0000000000000001E-3,1E-3,0,8.0000000000000002E-3,8.9999999999999993E-3]
[687,0.29299999999999998,-1E-3,0.01,2.8000000000000001E-2,3.3000000000000002E-2,1.7000000000000001E-2,0.01,1.4E-2,-5.0000000000000001E-3,-3.0000000000000001E-3,4.0000000000000001E-3,2E-3,0,8.0000000000000002E-3,8.0000000000000002E-3]
[688,0.29299999999999998,-1E-3,8.9999999999999993E-3,2.4E-2,2.9000000000000001E-2,1.6E-2,8.9999999999999993E-3,1.4E-2,-5.0000000000000001E-3,-3.0000000000000001E-3,4.0000000000000001E-3,2E-3,0,8.0000000000000002E-3,8.0000000000000002E-3]
[689,0.29299999999999998,-1E-3,8.0000000000000002E-3,2.1000000000000001E-2,2.5000000000000001E-2,1.4999999999999999E-2,8.9999999999999993E-3,1.4E-2,-6.0000000000000001E-3,-3.0000000000000001E-3,4.0000000000000001E-3,2E-3,0,8.0000000000000002E-3,8.9999999999999993E-3]
[690,0.29299999999999998,-1E-3,7.0000000000000001E-3,1.7999999999999999E-2,2.1999999999999999E-2,1.2999999999999999E-2,8.9999999999999993E-3,1.2999999999999999E-2,-6.0000000000000001E-3,-3.0000000000000001E-3,4.0000000000000001E-3,1E-3,-1E-3,8.0000000000000002E-3,8.0000000000000002E-3]
[691,0.29399999999999998,-1E-3,6.0000000000000001E-3,1.6E-2,0.02,1.2E-2,8.9999999999999993E-3,1.2999999999999999E-2,-6.0000000000000001E-3,-4.0000000000000001E-3,4.0000000000000001E-3,0,-1E-3,7.0000000000000001E-3,8.0000000000000002E-3]
[692,0.29299999999999998,-1E-3,5.0000000000000001E-3,1.4E-2,1.7000000000000001E-2,1.2E-2,8.0000000000000002E-3,1.2999999999999999E-2,-6.0000000000000001E-3,-4.0000000000000001E-3,4.0000000000000001E-3,0,-1E-3,7.0000000000000001E-3,8.0000000000000002E-3]
[693,0.29199999999999998,-1E-3,6.0000000000000001E-3,1.2999999999999999E-2,1.6E-2,1.2E-2,8.9999999999999993E-3,1.2999999999999999E-2,-6.0000000000000001E-3,-3.0000000000000001E-3,4.0000000000000001E-3,1E-3,0,8.0000000000000002E-3,8.0000000000000002E-3]
[694,0.29199999999999998,-1E-3,6.0000000000000001E-3,1.2E-2,1.4999999999999999E-2,1.0999999999999999E-2,8.0000000000000002E-3,1.2999999999999999E-2,-6.0000000000000001E-3,-4.0000000000000001E-3,4.0000000000000001E-3,1E-3,-1E-3,7.0000000000000001E-3,8.0000000000000002E-3]
[695,0.29199999999999998,-2E-3,5.0000000000000001E-3,1.0999999999999999E-2,1.4E-2,1.0999999999999999E-2,8.0000000000000002E-3,1.2999999999999999E-2,-6.0000000000000001E-3,-4.0000000000000001E-3,3.0000000000000001E-3,1E-3,-1E-3,7.0000000000000001E-3,8.0000000000000002E-3]
[696,0.29299999999999998,-2E-3,4.0000000000000001E-3,0.01,1.2999999999999999E-2,0.01,8.0000000000000002E-3,1.2999999999999999E-2,-6.0000000000000001E-3,-4.0000000000000001E-3,3.0000000000000001E-3,1E-3,-1E-3,7.0000000000000001E-3,8.0000000000000002E-3]
[697,0.29399999999999998,-1E-3,4.0000000000000001E-3,0.01,1.2E-2,0.01,8.0000000000000002E-3,1.2E-2,-6.0000000000000001E-3,-4.0000000000000001E-3,3.0000000000000001E-3,1E-3,-1E-3,7.0000000000000001E-3,8.0000000000000002E-3]
[698,0.29299999999999998,-1E-3,4.0000000000000001E-3,0.01,1.0999999999999999E-2,0.01,8.0000000000000002E-3,1.2999999999999999E-2,-6.0000000000000001E-3,-4.0000000000000001E-3,3.0000000000000001E-3,1E-3,-1E-3,7.0000000000000001E-3,8.0000000000000002E-3]
[699,0.29099999999999998,-2E-3,4.0000000000000001E-3,8.9999999999999993E-3,1.0999999999999999E-2,0.01,8.0000000000000002E-3,1.2999999999999999E-2,-6.0000000000000001E-3,-4.0000000000000001E-3,3.0000000000000001E-3,1E-3,-1E-3,7.0000000000000001E-3,8.0000000000000002E-3]
[700,0.28999999999999998,-1E-3,4.0000000000000001E-3,8.9999999999999993E-3,0.01,0.01,8.0000000000000002E-3,1.2999999999999999E-2,-6.0000000000000001E-3,-4.0000000000000001E-3,3.0000000000000001E-3,2E-3,0,7.0000000000000001E-3,8.0000000000000002E-3]
[701,0.28999999999999998,-1E-3,4.0000000000000001E-3,8.0000000000000002E-3,0.01,0.01,8.0000000000000002E-3,1.2999999999999999E-2,-6.0000000000000001E-3,-4.0000000000000001E-3,4.0000000000000001E-3,2E-3,-1E-3,8.0000000000000002E-3,8.0000000000000002E-3]
[702,0.28999999999999998,-1E-3,4.0000000000000001E-3,8.0000000000000002E-3,8.9999999999999993E-3,0.01,8.0000000000000002E-3,1.2999999999999999E-2,-6.0000000000000001E-3,-4.0000000000000001E-3,4.0000000000000001E-3,2E-3,-1E-3,8.0000000000000002E-3,8.0000000000000002E-3]
[703,0.28999999999999998,-1E-3,4.0000000000000001E-3,8.0000000000000002E-3,8.9999999999999993E-3,0.01,8.0000000000000002E-3,1.2999999999999999E-2,-6.0000000000000001E-3,-4.0000000000000001E-3,4.0000000000000001E-3,1E-3,0,8.0000000000000002E-3,8.0000000000000002E-3]
[704,0.28899999999999998,-1E-3,4.0000000000000001E-3,7.0000000000000001E-3,8.0000000000000002E-3,8.9999999999999993E-3,8.0000000000000002E-3,1.2E-2,-6.0000000000000001E-3,-5.0000000000000001E-3,4.0000000000000001E-3,1E-3,-1E-3,8.0000000000000002E-3,8.0000000000000002E-3]
[705,0.28899999999999998,-1E-3,4.0000000000000001E-3,7.0000000000000001E-3,8.0000000000000002E-3,8.9999999999999993E-3,8.0000000000000002E-3,1.2999999999999999E-2,-6.0000000000000001E-3,-4.0000000000000001E-3,3.0000000000000001E-3,1E-3,0,8.0000000000000002E-3,8.0000000000000002E-3]
[706,0.28899999999999998,-2E-3,3.0000000000000001E-3,6.0000000000000001E-3,8.0000000000000002E-3,8.9999999999999993E-3,7.0000000000000001E-3,1.2E-2,-6.0000000000000001E-3,-4.0000000000000001E-3,3.0000000000000001E-3,1E-3,0,7.0000000000000001E-3,8.0000000000000002E-3]
[707,0.28999999999999998,-2E-3,3.0000000000000001E-3,6.0000000000000001E-3,7.0000000000000001E-3,8.9999999999999993E-3,6.0000000000000001E-3,1.2E-2,-6.0000000000000001E-3,-4.0000000000000001E-3,3.0000000000000001E-3,0,-1E-3,7.0000000000000001E-3,7.0000000000000001E-3]
[708,0.29099999999999998,-2E-3,4.0000000000000001E-3,6.0000000000000001E-3,7.0000000000000001E-3,8.9999999999999993E-3,7.0000000000000001E-3,1.2E-2,-6.0000000000000001E-3,-4.0000000000000001E-3,3.0000000000000001E-3,1E-3,-1E-3,7.0000000000000001E-3,7.0000000000000001E-3]
[709,0.29099999999999998,-3.0000000000000001E-3,3.0000000000000001E-3,6.0000000000000001E-3,7.0000000000000001E-3,8.0000000000000002E-3,6.0000000000000001E-3,1.0999999999999999E-2,-7.0000000000000001E-3,-5.0000000000000001E-3,3.0000000000000001E-3,1E-3,-1E-3,6.0000000000000001E-3,7.0000000000000001E-3]
[710,0.28899999999999998,-3.0000000000000001E-3,3.0000000000000001E-3,5.0000000000000001E-3,6.0000000000000001E-3,8.0000000000000002E-3,6.0000000000000001E-3,1.0999999999999999E-2,-7.0000000000000001E-3,-5.0000000000000001E-3,2E-3,1E-3,-1E-3,7.0000000000000001E-3,7.0000000000000001E-3]
[711,0.28899999999999998,-2E-3,3.0000000000000001E-3,5.0000000000000001E-3,6.0000000000000001E-3,8.0000000000000002E-3,6.0000000000000001E-3,1.0999999999999999E-2,-7.0000000000000001E-3,-5.0000000000000001E-3,2E-3,1E-3,-1E-3,7.0000000000000001E-3,7.0000000000000001E-3]
[712,0.28899999999999998,-2E-3,3.0000000000000001E-3,5.0000000000000001E-3,7.0000000000000001E-3,8.0000000000000002E-3,7.0000000000000001E-3,1.2E-2,-7.0000000000000001E-3,-5.0000000000000001E-3,2E-3,1E-3,-1E-3,7.0000000000000001E-3,8.0000000000000002E-3]
[713,0.28999999999999998,-2E-3,3.0000000000000001E-3,5.0000000000000001E-3,7.0000000000000001E-3,8.9999999999999993E-3,7.0000000000000001E-3,1.2999999999999999E-2,-6.0000000000000001E-3,-4.0000000000000001E-3,2E-3,1E-3,-1E-3,7.0000000000000001E-3,8.0000000000000002E-3]
[714,0.28999999999999998,-2E-3,4.0000000000000001E-3,6.0000000000000001E-3,7.0000000000000001E-3,8.9999999999999993E-3,7.0000000000000001E-3,1.2999999999999999E-2,-6.0000000000000001E-3,-4.0000000000000001E-3,3.0000000000000001E-3,1E-3,-1E-3,7.0000000000000001E-3,8.0000000000000002E-3]
[715,0.28999999999999998,-2E-3,4.0000000000000001E-3,5.0000000000000001E-3,6.0000000000000001E-3,8.9999999999999993E-3,7.0000000000000001E-3,1.2E-2,-6.0000000000000001E-3,-4.0000000000000001E-3,3.0000000000000001E-3,1E-3,-1E-3,7.0000000000000001E-3,8.0000000000000002E-3]
[716,0.28899999999999998,-2E-3,3.0000000000000001E-3,5.0000000000000001E-3,6.0000000000000001E-3,8.9999999999999993E-3,7.0000000000000001E-3,1.2E-2,-6.0000000000000001E-3,-5.0000000000000001E-3,3.0000000000000001E-3,1E-3,-1E-3,7.0000000000000001E-3,8.0000000000000002E-3]
[717,0.28899999999999998,-3.0000000000000001E-3,3.0000000000000001E-3,5.0000000000000001E-3,6.0000000000000001E-3,8.0000000000000002E-3,7.0000000000000001E-3,1.2E-2,-7.0000000000000001E-3,-5.0000000000000001E-3,3.0000000000000001E-3,1E-3,-1E-3,7.0000000000000001E-3,7.0000000000000001E-3]
[718,0.28999999999999998,-3.0000000000000001E-3,3.0000000000000001E-3,5.0000000000000001E-3,6.0000000000000001E-3,8.0000000000000002E-3,7.0000000000000001E-3,1.2E-2,-7.0000000000000001E-3,-5.0000000000000001E-3,2E-3,1E-3,-1E-3,7.0000000000000001E-3,7.0000000000000001E-3]
[719,0.28899999999999998,-2E-3,3.0000000000000001E-3,5.0000000000000001E-3,6.0000000000000001E-3,8.0000000000000002E-3,7.0000000000000001E-3,1.2E-2,-7.0000000000000001E-3,-4.0000000000000001E-3,2E-3,1E-3,-1E-3,7.0000000000000001E-3,7.0000000000000001E-3]
[720,0.28799999999999998,-2E-3,3.0000000000000001E-3,5.0000000000000001E-3,6.0000000000000001E-3,8.0000000000000002E-3,7.0000000000000001E-3,1.2E-2,-6.0000000000000001E-3,-4.0000000000000001E-3,2E-3,1E-3,-1E-3,7.0000000000000001E-3,7.0000000000000001E-3]
[721,0.28799999999999998,-2E-3,3.0000000000000001E-3,4.0000000000000001E-3,5.0000000000000001E-3,8.0000000000000002E-3,6.0000000000000001E-3,1.2E-2,-6.0000000000000001E-3,-4.0000000000000001E-3,3.0000000000000001E-3,1E-3,-1E-3,7.0000000000000001E-3,7.0000000000000001E-3]
[722,0.28799999999999998,-3.0000000000000001E-3,3.0000000000000001E-3,4.0000000000000001E-3,4.0000000000000001E-3,8.0000000000000002E-3,6.0000000000000001E-3,1.0999999999999999E-2,-7.0000000000000001E-3,-5.0000000000000001E-3,2E-3,0,-1E-3,6.0000000000000001E-3,6.0000000000000001E-3]
[723,0.28799999999999998,-3.0000000000000001E-3,3.0000000000000001E-3,4.0000000000000001E-3,5.0000000000000001E-3,8.0000000000000002E-3,6.0000000000000001E-3,1.0999999999999999E-2,-7.0000000000000001E-3,-5.0000000000000001E-3,2E-3,1E-3,-1E-3,7.0000000000000001E-3,7.0000000000000001E-3]
[724,0.28899999999999998,-2E-3,3.0000000000000001E-3,5.0000000000000001E-3,6.0000000000000001E-3,8.9999999999999993E-3,7.0000000000000001E-3,1.2E-2,-6.0000000000000001E-3,-4.0000000000000001E-3,2E-3,2E-3,0,7.0000000000000001E-3,7.0000000000000001E-3]
[725,0.28899999999999998,-2E-3,3.0000000000000001E-3,5.0000000000000001E-3,6.0000000000000001E-3,8.9999999999999993E-3,7.0000000000000001E-3,1.2E-2,-6.0000000000000001E-3,-5.0000000000000001E-3,2E-3,2E-3,0,7.0000000000000001E-3,8.0000000000000002E-3]
[726,0.28799999999999998,-3.0000000000000001E-3,2E-3,5.0000000000000001E-3,5.0000000000000001E-3,8.0000000000000002E-3,7.0000000000000001E-3,1.2E-2,-7.0000000000000001E-3,-5.0000000000000001E-3,2E-3,1E-3,-1E-3,7.0000000000000001E-3,7.0000000000000001E-3]
[727,0.28799999999999998,-3.0000000000000001E-3,3.0000000000000001E-3,4.0000000000000001E-3,5.0000000000000001E-3,8.0000000000000002E-3,6.0000000000000001E-3,1.2E-2,-7.0000000000000001E-3,-5.0000000000000001E-3,2E-3,1E-3,-1E-3,7.0000000000000001E-3,7.0000000000000001E-3]
[728,0.28999999999999998,-3.0000000000000001E-3,3.0000000000000001E-3,4.0000000000000001E-3,5.0000000000000001E-3,8.0000000000000002E-3,6.0000000000000001E-3,1.2E-2,-7.0000000000000001E-3,-5.0000000000000001E-3,3.0000000000000001E-3,0,-1E-3,7.0000000000000001E-3,7.0000000000000001E-3]
[729,0.28999999999999998,-3.0000000000000001E-3,3.0000000000000001E-3,5.0000000000000001E-3,5.0000000000000001E-3,8.0000000000000002E-3,7.0000000000000001E-3,1.2E-2,-6.0000000000000001E-3,-4.0000000000000001E-3,3.0000000000000001E-3,1E-3,-1E-3,7.0000000000000001E-3,8.0000000000000002E-3]
[730,0.28999999999999998,-4.0000000000000001E-3,2E-3,4.0000000000000001E-3,4.0000000000000001E-3,7.0000000000000001E-3,6.0000000000000001E-3,1.0999999999999999E-2,-6.0000000000000001E-3,-5.0000000000000001E-3,2E-3,0,-2E-3,6.0000000000000001E-3,7.0000000000000001E-3]
[731,0.29099999999999998,-3.0000000000000001E-3,2E-3,4.0000000000000001E-3,4.0000000000000001E-3,7.0000000000000001E-3,5.0000000000000001E-3,1.0999999999999999E-2,-7.0000000000000001E-3,-5.0000000000000001E-3,1E-3,0,-2E-3,6.0000000000000001E-3,6.0000000000000001E-3]
[732,0.29099999999999998,-3.0000000000000001E-3,2E-3,3.0000000000000001E-3,4.0000000000000001E-3,6.0000000000000001E-3,5.0000000000000001E-3,1.0999999999999999E-2,-7.0000000000000001E-3,-5.0000000000000001E-3,1E-3,0,-2E-3,6.0000000000000001E-3,6.0000000000000001E-3]
[733,0.29099999999999998,-3.0000000000000001E-3,1E-3,3.0000000000000001E-3,4.0000000000000001E-3,7.0000000000000001E-3,5.0000000000000001E-3,1.0999999999999999E-2,-7.0000000000000001E-3,-5.0000000000000001E-3,1E-3,-1E-3,-3.0000000000000001E-3,6.0000000000000001E-3,6.0000000000000001E-3]
[734,0.29099999999999998,-3.0000000000000001E-3,1E-3,3.0000000000000001E-3,4.0000000000000001E-3,7.0000000000000001E-3,6.0000000000000001E-3,1.0999999999999999E-2,-7.0000000000000001E-3,-5.0000000000000001E-3,2E-3,0,-2E-3,6.0000000000000001E-3,7.0000000000000001E-3]
[735,0.29199999999999998,-3.0000000000000001E-3,2E-3,4.0000000000000001E-3,4.0000000000000001E-3,7.0000000000000001E-3,6.0000000000000001E-3,1.0999999999999999E-2,-7.0000000000000001E-3,-5.0000000000000001E-3,2E-3,0,-2E-3,6.0000000000000001E-3,7.0000000000000001E-3]
[736,0.29299999999999998,-4.0000000000000001E-3,2E-3,3.0000000000000001E-3,4.0000000000000001E-3,7.0000000000000001E-3,5.0000000000000001E-3,1.0999999999999999E-2,-7.0000000000000001E-3,-6.0000000000000001E-3,1E-3,0,-2E-3,7.0000000000000001E-3,7.0000000000000001E-3]
[737,0.29299999999999998,-3.0000000000000001E-3,2E-3,4.0000000000000001E-3,4.0000000000000001E-3,7.0000000000000001E-3,6.0000000000000001E-3,1.0999999999999999E-2,-7.0000000000000001E-3,-6.0000000000000001E-3,1E-3,0,-2E-3,6.0000000000000001E-3,7.0000000000000001E-3]
[738,0.29199999999999998,-3.0000000000000001E-3,2E-3,4.0000000000000001E-3,4.0000000000000001E-3,7.0000000000000001E-3,6.0000000000000001E-3,1.0999999999999999E-2,-7.0000000000000001E-3,-5.0000000000000001E-3,1E-3,0,-2E-3,6.0000000000000001E-3,7.0000000000000001E-3]
[739,0.29199999999999998,-3.0000000000000001E-3,2E-3,3.0000000000000001E-3,4.0000000000000001E-3,7.0000000000000001E-3,5.0000000000000001E-3,1.0999999999999999E-2,-7.0000000000000001E-3,-5.0000000000000001E-3,2E-3,0,-2E-3,6.0000000000000001E-3,7.0000000000000001E-3]
[740,0.29199999999999998,-2E-3,3.0000000000000001E-3,4.0000000000000001E-3,5.0000000000000001E-3,8.0000000000000002E-3,6.0000000000000001E-3,1.0999999999999999E-2,-7.0000000000000001E-3,-5.0000000000000001E-3,2E-3,1E-3,-1E-3,7.0000000000000001E-3,7.0000000000000001E-3]
[741,0.28999999999999998,-3.0000000000000001E-3,2E-3,4.0000000000000001E-3,4.0000000000000001E-3,7.0000000000000001E-3,6.0000000000000001E-3,1.0999999999999999E-2,-7.0000000000000001E-3,-5.0000000000000001E-3,2E-3,1E-3,-1E-3,7.0000000000000001E-3,7.0000000000000001E-3]
[742,0.28999999999999998,-3.0000000000000001E-3,2E-3,4.0000000000000001E-3,5.0000000000000001E-3,7.0000000000000001E-3,6.0000000000000001E-3,1.0999999999999999E-2,-7.0000000000000001E-3,-5.0000000000000001E-3,2E-3,0,-1E-3,6.0000000000000001E-3,7.0000000000000001E-3]
[743,0.29099999999999998,-2E-3,3.0000000000000001E-3,4.0000000000000001E-3,5.0000000000000001E-3,7.0000000000000001E-3,6.0000000000000001E-3,1.0999999999999999E-2,-6.0000000000000001E-3,-4.0000000000000001E-3,2E-3,1E-3,-1E-3,7.0000000000000001E-3,7.0000000000000001E-3]
[744,0.28999999999999998,-3.0000000000000001E-3,3.0000000000000001E-3,3.0000000000000001E-3,5.0000000000000001E-3,8.0000000000000002E-3,6.0000000000000001E-3,1.0999999999999999E-2,-7.0000000000000001E-3,-5.0000000000000001E-3,2E-3,0,-1E-3,7.0000000000000001E-3,7.0000000000000001E-3]
[745,0.28899999999999998,-3.0000000000000001E-3,2E-3,3.0000000000000001E-3,4.0000000000000001E-3,8.0000000000000002E-3,6.0000000000000001E-3,1.0999999999999999E-2,-7.0000000000000001E-3,-5.0000000000000001E-3,2E-3,1E-3,-1E-3,7.0000000000000001E-3,7.0000000000000001E-3]
[746,0.28899999999999998,-3.0000000000000001E-3,2E-3,4.0000000000000001E-3,4.0000000000000001E-3,8.0000000000000002E-3,6.0000000000000001E-3,1.0999999999999999E-2,-7.0000000000000001E-3,-5.0000000000000001E-3,2E-3,1E-3,-1E-3,7.0000000000000001E-3,7.0000000000000001E-3]
[747,0.28899999999999998,-3.0000000000000001E-3,3.0000000000000001E-3,4.0000000000000001E-3,5.0000000000000001E-3,8.9999999999999993E-3,7.0000000000000001E-3,1.0999999999999999E-2,-7.0000000000000001E-3,-5.0000000000000001E-3,2E-3,1E-3,0,7.0000000000000001E-3,7.0000000000000001E-3]
[748,0.28899999999999998,-3.0000000000000001E-3,3.0000000000000001E-3,4.0000000000000001E-3,6.0000000000000001E-3,8.0000000000000002E-3,7.0000000000000001E-3,1.2E-2,-7.0000000000000001E-3,-5.0000000000000001E-3,3.0000000000000001E-3,1E-3,-1E-3,8.0000000000000002E-3,7.0000000000000001E-3]
[749,0.28999999999999998,-3.0000000000000001E-3,2E-3,4.0000000000000001E-3,4.0000000000000001E-3,8.0000000000000002E-3,7.0000000000000001E-3,1.0999999999999999E-2,-7.0000000000000001E-3,-4.0000000000000001E-3,3.0000000000000001E-3,0,-2E-3,7.0000000000000001E-3,7.0000000000000001E-3]
[750,0.29099999999999998,-3.0000000000000001E-3,2E-3,4.0000000000000001E-3,4.0000000000000001E-3,8.0000000000000002E-3,6.0000000000000001E-3,1.0999999999999999E-2,-7.0000000000000001E-3,-4.0000000000000001E-3,2E-3,0,-2E-3,7.0000000000000001E-3,7.0000000000000001E-3]
[751,0.29099999999999998,-2E-3,2E-3,4.0000000000000001E-3,5.0000000000000001E-3,8.0000000000000002E-3,6.0000000000000001E-3,1.0999999999999999E-2,-6.0000000000000001E-3,-5.0000000000000001E-3,3.0000000000000001E-3,1E-3,-1E-3,7.0000000000000001E-3,7.0000000000000001E-3]
[752,0.28999999999999998,-3.0000000000000001E-3,2E-3,4.0000000000000001E-3,5.0000000000000001E-3,8.0000000000000002E-3,7.0000000000000001E-3,1.0999999999999999E-2,-6.0000000000000001E-3,-4.0000000000000001E-3,3.0000000000000001E-3,1E-3,-1E-3,7.0000000000000001E-3,7.0000000000000001E-3]
[753,0.28999999999999998,-3.0000000000000001E-3,2E-3,4.0000000000000001E-3,4.0000000000000001E-3,8.0000000000000002E-3,7.0000000000000001E-3,1.0999999999999999E-2,-7.0000000000000001E-3,-5.0000000000000001E-3,2E-3,1E-3,-1E-3,7.0000000000000001E-3,7.0000000000000001E-3]
[754,0.29099999999999998,-3.0000000000000001E-3,3.0000000000000001E-3,4.0000000000000001E-3,4.0000000000000001E-3,7.0000000000000001E-3,7.0000000000000001E-3,1.0999999999999999E-2,-6.0000000000000001E-3,-5.0000000000000001E-3,2E-3,1E-3,-1E-3,7.0000000000000001E-3,7.0000000000000001E-3]
[755,0.29199999999999998,-3.0000000000000001E-3,3.0000000000000001E-3,3.0000000000000001E-3,5.0000000000000001E-3,8.0000000000000002E-3,7.0000000000000001E-3,1.0999999999999999E-2,-7.0000000000000001E-3,-5.0000000000000001E-3,2E-3,1E-3,-1E-3,7.0000000000000001E-3,7.0000000000000001E-3]
[756,0.29299999999999998,-3.0000000000000001E-3,2E-3,3.0000000000000001E-3,4.0000000000000001E-3,7.0000000000000001E-3,6.0000000000000001E-3,1.0999999999999999E-2,-6.0000000000000001E-3,-5.0000000000000001E-3,2E-3,0,-1E-3,7.0000000000000001E-3,7.0000000000000001E-3]
[757,0.29499999999999998,-3.0000000000000001E-3,2E-3,3.0000000000000001E-3,4.0000000000000001E-3,7.0000000000000001E-3,5.0000000000000001E-3,1.0999999999999999E-2,-6.0000000000000001E-3,-5.0000000000000001E-3,2E-3,0,-1E-3,7.0000000000000001E-3,7.0000000000000001E-3]
[758,0.29699999999999999,-2E-3,3.0000000000000001E-3,4.0000000000000001E-3,5.0000000000000001E-3,8.0000000000000002E-3,6.0000000000000001E-3,1.0999999999999999E-2,-5.0000000000000001E-3,-5.0000000000000001E-3,2E-3,0,-1E-3,7.0000000000000001E-3,8.0000000000000002E-3]
[759,0.29499999999999998,-2E-3,3.0000000000000001E-3,4.0000000000000001E-3,5.0000000000000001E-3,7.0000000000000001E-3,6.0000000000000001E-3,1.0999999999999999E-2,-6.0000000000000001E-3,-5.0000000000000001E-3,2E-3,1E-3,-1E-3,7.0000000000000001E-3,8.0000000000000002E-3]
[760,0.29399999999999998,-3.0000000000000001E-3,2E-3,4.0000000000000001E-3,4.0000000000000001E-3,6.0000000000000001E-3,6.0000000000000001E-3,1.0999999999999999E-2,-7.0000000000000001E-3,-5.0000000000000001E-3,1E-3,0,-1E-3,6.0000000000000001E-3,7.0000000000000001E-3]
[761,0.29399999999999998,-3.0000000000000001E-3,2E-3,3.0000000000000001E-3,4.0000000000000001E-3,7.0000000000000001E-3,6.0000000000000001E-3,1.0999999999999999E-2,-6.0000000000000001E-3,-5.0000000000000001E-3,1E-3,0,-2E-3,6.0000000000000001E-3,7.0000000000000001E-3]
[762,0.29299999999999998,-3.0000000000000001E-3,2E-3,3.0000000000000001E-3,4.0000000000000001E-3,7.0000000000000001E-3,6.0000000000000001E-3,0.01,-6.0000000000000001E-3,-5.0000000000000001E-3,2E-3,0,-2E-3,6.0000000000000001E-3,6.0000000000000001E-3]
[763,0.29199999999999998,-3.0000000000000001E-3,2E-3,3.0000000000000001E-3,4.0000000000000001E-3,7.0000000000000001E-3,6.0000000000000001E-3,0.01,-6.0000000000000001E-3,-5.0000000000000001E-3,2E-3,1E-3,-2E-3,6.0000000000000001E-3,7.0000000000000001E-3]
[764,0.29299999999999998,-4.0000000000000001E-3,2E-3,3.0000000000000001E-3,3.0000000000000001E-3,6.0000000000000001E-3,5.0000000000000001E-3,0.01,-6.0000000000000001E-3,-5.0000000000000001E-3,1E-3,0,-2E-3,6.0000000000000001E-3,7.0000000000000001E-3]
[765,0.29299999999999998,-3.0000000000000001E-3,2E-3,3.0000000000000001E-3,4.0000000000000001E-3,7.0000000000000001E-3,5.0000000000000001E-3,1.0999999999999999E-2,-6.0000000000000001E-3,-5.0000000000000001E-3,1E-3,0,-2E-3,6.0000000000000001E-3,7.0000000000000001E-3]
[766,0.29199999999999998,-3.0000000000000001E-3,2E-3,3.0000000000000001E-3,4.0000000000000001E-3,8.0000000000000002E-3,6.0000000000000001E-3,1.0999999999999999E-2,-6.0000000000000001E-3,-4.0000000000000001E-3,2E-3,1E-3,-1E-3,7.0000000000000001E-3,7.0000000000000001E-3]
[767,0.28999999999999998,-3.0000000000000001E-3,2E-3,3.0000000000000001E-3,4.0000000000000001E-3,8.0000000000000002E-3,6.0000000000000001E-3,1.0999999999999999E-2,-6.0000000000000001E-3,-5.0000000000000001E-3,2E-3,1E-3,-1E-3,7.0000000000000001E-3,7.0000000000000001E-3]
[768,0.28999999999999998,-3.0000000000000001E-3,2E-3,3.0000000000000001E-3,4.0000000000000001E-3,7.0000000000000001E-3,6.0000000000000001E-3,1.0999999999999999E-2,-6.0000000000000001E-3,-4.0000000000000001E-3,2E-3,1E-3,-1E-3,7.0000000000000001E-3,7.0000000000000001E-3]
[769,0.28999999999999998,-3.0000000000000001E-3,2E-3,2E-3,4.0000000000000001E-3,7.0000000000000001E-3,6.0000000000000001E-3,0.01,-6.0000000000000001E-3,-5.0000000000000001E-3,2E-3,1E-3,-1E-3,7.0000000000000001E-3,7.0000000000000001E-3]
[770,0.28899999999999998,-3.0000000000000001E-3,1E-3,2E-3,4.0000000000000001E-3,7.0000000000000001E-3,6.0000000000000001E-3,0.01,-6.0000000000000001E-3,-5.0000000000000001E-3,2E-3,0,-1E-3,6.0000000000000001E-3,7.0000000000000001E-3]
[771,0.28899999999999998,-3.0000000000000001E-3,2E-3,3.0000000000000001E-3,4.0000000000000001E-3,7.0000000000000001E-3,6.0000000000000001E-3,1.0999999999999999E-2,-6.0000000000000001E-3,-4.0000000000000001E-3,2E-3,1E-3,-1E-3,6.0000000000000001E-3,7.0000000000000001E-3]
[772,0.28899999999999998,-3.0000000000000001E-3,3.0000000000000001E-3,3.0000000000000001E-3,4.0000000000000001E-3,8.0000000000000002E-3,7.0000000000000001E-3,1.0999999999999999E-2,-6.0000000000000001E-3,-4.0000000000000001E-3,2E-3,1E-3,-1E-3,7.0000000000000001E-3,7.0000000000000001E-3]
[773,0.28899999999999998,-3.0000000000000001E-3,2E-3,3.0000000000000001E-3,4.0000000000000001E-3,8.0000000000000002E-3,6.0000000000000001E-3,1.0999999999999999E-2,-6.0000000000000001E-3,-4.0000000000000001E-3,2E-3,0,-1E-3,6.0000000000000001E-3,7.0000000000000001E-3]
[774,0.28799999999999998,-3.0000000000000001E-3,2E-3,3.0000000000000001E-3,4.0000000000000001E-3,7.0000000000000001E-3,7.0000000000000001E-3,1.0999999999999999E-2,-6.0000000000000001E-3,-5.0000000000000001E-3,2E-3,0,-1E-3,6.0000000000000001E-3,8.0000000000000002E-3]
[775,0.28899999999999998,-3.0000000000000001E-3,2E-3,3.0000000000000001E-3,4.0000000000000001E-3,8.0000000000000002E-3,7.0000000000000001E-3,1.0999999999999999E-2,-6.0000000000000001E-3,-4.0000000000000001E-3,2E-3,1E-3,-1E-3,7.0000000000000001E-3,8.0000000000000002E-3]
[776,0.28899999999999998,-3.0000000000000001E-3,2E-3,3.0000000000000001E-3,4.0000000000000001E-3,7.0000000000000001E-3,7.0000000000000001E-3,1.0999999999999999E-2,-6.0000000000000001E-3,-4.0000000000000001E-3,2E-3,1E-3,-1E-3,7.0000000000000001E-3,8.0000000000000002E-3]
[777,0.28899999999999998,-3.0000000000000001E-3,2E-3,3.0000000000000001E-3,4.0000000000000001E-3,8.0000000000000002E-3,7.0000000000000001E-3,1.0999999999999999E-2,-6.0000000000000001E-3,-4.0000000000000001E-3,2E-3,1E-3,-1E-3,7.0000000000000001E-3,8.0000000000000002E-3]
[778,0.28899999999999998,-3.0000000000000001E-3,2E-3,3.0000000000000001E-3,4.0000000000000001E-3,8.0000000000000002E-3,6.0000000000000001E-3,1.0999999999999999E-2,-6.0000000000000001E-3,-5.0000000000000001E-3,2E-3,1E-3,-1E-3,6.0000000000000001E-3,8.0000000000000002E-3]
[779,0.28999999999999998,-3.0000000000000001E-3,2E-3,3.0000000000000001E-3,4.0000000000000001E-3,7.0000000000000001E-3,6.0000000000000001E-3,1.0999999999999999E-2,-6.0000000000000001E-3,-5.0000000000000001E-3,2E-3,1E-3,-1E-3,7.0000000000000001E-3,8.0000000000000002E-3]
[780,0.28999999999999998,-3.0000000000000001E-3,2E-3,2E-3,3.0000000000000001E-3,7.0000000000000001E-3,6.0000000000000001E-3,0.01,-6.0000000000000001E-3,-5.0000000000000001E-3,2E-3,0,-1E-3,7.0000000000000001E-3,7.0000000000000001E-3]
[781,0.28999999999999998,-3.0000000000000001E-3,2E-3,2E-3,3.0000000000000001E-3,7.0000000000000001E-3,6.0000000000000001E-3,0.01,-6.0000000000000001E-3,-5.0000000000000001E-3,1E-3,0,-1E-3,7.0000000000000001E-3,8.0000000000000002E-3]
[782,0.29199999999999998,-3.0000000000000001E-3,2E-3,2E-3,3.0000000000000001E-3,8.0000000000000002E-3,6.0000000000000001E-3,1.0999999999999999E-2,-6.0000000000000001E-3,-5.0000000000000001E-3,1E-3,1E-3,-1E-3,7.0000000000000001E-3,8.0000000000000002E-3]
[783,0.29199999999999998,-3.0000000000000001E-3,2E-3,3.0000000000000001E-3,4.0000000000000001E-3,8.0000000000000002E-3,6.0000000000000001E-3,1.0999999999999999E-2,-6.0000000000000001E-3,-5.0000000000000001E-3,2E-3,1E-3,-1E-3,7.0000000000000001E-3,8.0000000000000002E-3]
[784,0.29199999999999998,-3.0000000000000001E-3,2E-3,3.0000000000000001E-3,4.0000000000000001E-3,8.0000000000000002E-3,7.0000000000000001E-3,1.0999999999999999E-2,-6.0000000000000001E-3,-5.0000000000000001E-3,1E-3,1E-3,-1E-3,7.0000000000000001E-3,8.0000000000000002E-3]
[785,0.29199999999999998,-4.0000000000000001E-3,1E-3,2E-3,3.0000000000000001E-3,7.0000000000000001E-3,6.0000000000000001E-3,0.01,-7.0000000000000001E-3,-6.0000000000000001E-3,1E-3,1E-3,-1E-3,6.0000000000000001E-3,7.0000000000000001E-3]
[786,0.29299999999999998,-4.0000000000000001E-3,2E-3,2E-3,3.0000000000000001E-3,7.0000000000000001E-3,6.0000000000000001E-3,0.01,-6.0000000000000001E-3,-5.0000000000000001E-3,1E-3,1E-3,-1E-3,6.0000000000000001E-3,7.0000000000000001E-3]
[787,0.29199999999999998,-4.0000000000000001E-3,2E-3,2E-3,3.0000000000000001E-3,6.0000000000000001E-3,6.0000000000000001E-3,0.01,-7.0000000000000001E-3,-5.0000000000000001E-3,1E-3,1E-3,-1E-3,6.0000000000000001E-3,7.0000000000000001E-3]
[788,0.29299999999999998,-4.0000000000000001E-3,1E-3,2E-3,3.0000000000000001E-3,6.0000000000000001E-3,5.0000000000000001E-3,0.01,-7.0000000000000001E-3,-6.0000000000000001E-3,1E-3,0,-2E-3,6.0000000000000001E-3,7.0000000000000001E-3]
[789,0.29399999999999998,-4.0000000000000001E-3,2E-3,3.0000000000000001E-3,3.0000000000000001E-3,7.0000000000000001E-3,6.0000000000000001E-3,1.0999999999999999E-2,-7.0000000000000001E-3,-6.0000000000000001E-3,1E-3,1E-3,-1E-3,7.0000000000000001E-3,7.0000000000000001E-3]
[790,0.29299999999999998,-4.0000000000000001E-3,2E-3,3.0000000000000001E-3,3.0000000000000001E-3,7.0000000000000001E-3,6.0000000000000001E-3,1.0999999999999999E-2,-6.0000000000000001E-3,-6.0000000000000001E-3,1E-3,0,-1E-3,7.0000000000000001E-3,7.0000000000000001E-3]
[791,0.29299999999999998,-4.0000000000000001E-3,2E-3,2E-3,3.0000000000000001E-3,6.0000000000000001E-3,5.0000000000000001E-3,1.0999999999999999E-2,-7.0000000000000001E-3,-6.0000000000000001E-3,1E-3,0,-2E-3,6.0000000000000001E-3,7.0000000000000001E-3]
[792,0.29299999999999998,-4.0000000000000001E-3,1E-3,2E-3,3.0000000000000001E-3,6.0000000000000001E-3,6.0000000000000001E-3,1.0999999999999999E-2,-7.0000000000000001E-3,-7.0000000000000001E-3,0,0,-2E-3,6.0000000000000001E-3,6.0000000000000001E-3]
[793,0.29399999999999998,-4.0000000000000001E-3,1E-3,2E-3,3.0000000000000001E-3,7.0000000000000001E-3,6.0000000000000001E-3,0.01,-7.0000000000000001E-3,-6.0000000000000001E-3,1E-3,1E-3,-2E-3,6.0000000000000001E-3,7.0000000000000001E-3]
[794,0.29599999999999999,-4.0000000000000001E-3,1E-3,2E-3,3.0000000000000001E-3,6.0000000000000001E-3,5.0000000000000001E-3,0.01,-7.0000000000000001E-3,-6.0000000000000001E-3,0,0,-2E-3,6.0000000000000001E-3,6.0000000000000001E-3]
[795,0.29699999999999999,-4.0000000000000001E-3,1E-3,2E-3,3.0000000000000001E-3,6.0000000000000001E-3,5.0000000000000001E-3,0.01,-7.0000000000000001E-3,-7.0000000000000001E-3,0,0,-2E-3,6.0000000000000001E-3,6.0000000000000001E-3]
[796,0.29499999999999998,-5.0000000000000001E-3,1E-3,1E-3,2E-3,6.0000000000000001E-3,5.0000000000000001E-3,0.01,-8.0000000000000002E-3,-7.0000000000000001E-3,0,0,-3.0000000000000001E-3,6.0000000000000001E-3,6.0000000000000001E-3]
[797,0.29399999999999998,-5.0000000000000001E-3,1E-3,1E-3,2E-3,6.0000000000000001E-3,5.0000000000000001E-3,0.01,-8.0000000000000002E-3,-8.0000000000000002E-3,0,0,-3.0000000000000001E-3,6.0000000000000001E-3,6.0000000000000001E-3]
[798,0.29499999999999998,-5.0000000000000001E-3,1E-3,1E-3,2E-3,6.0000000000000001E-3,6.0000000000000001E-3,0.01,-8.0000000000000002E-3,-8.0000000000000002E-3,0,0,-2E-3,6.0000000000000001E-3,6.0000000000000001E-3]
[799,0.29499999999999998,-4.0000000000000001E-3,1E-3,1E-3,2E-3,6.0000000000000001E-3,6.0000000000000001E-3,0.01,-8.0000000000000002E-3,-8.0000000000000002E-3,0,0,-1E-3,6.0000000000000001E-3,7.0000000000000001E-3]
[800,0.29399999999999998,-5.0000000000000001E-3,1E-3,1E-3,2E-3,6.0000000000000001E-3,5.0000000000000001E-3,0.01,-8.0000000000000002E-3,-8.0000000000000002E-3,0,0,-1E-3,6.0000000000000001E-3,6.0000000000000001E-3]

{"sheet":"補正トマト","index":3,"n_rows":504,"n_cols":9,"rows_kept":504,"cut":false,"hidden":false,"merged":[]}
[]
["770 nm吸光度",{"$f":"元トマト!B474","v":3.0000000000000001E-3},{"$f":"元トマト!C474","v":8.0000000000000002E-3},{"$f":"元トマト!D474","v":-8.9999999999999993E-3},{"$f":"元トマト!E474","v":-7.0000000000000001E-3},{"$f":"元トマト!F474","v":-2E-3},{"$f":"元トマト!G474","v":6.0000000000000001E-3},{"$f":"元トマト!H474","v":0.01},{"$f":"元トマト!I474","v":-2E-3}]
["波長/nm","E:\\spectrum1125\\トマト０１.txt","E:\\spectrum1125\\トマト０２.txt","E:\\spectrum1125\\トマト０３.txt","E:\\spectrum1125\\トマト０４.txt","E:\\spectrum1125\\トマト０５.txt","E:\\spectrum1125\\トマト０６.txt","E:\\spectrum1125\\トマト０７.txt","E:\\spectrum1125\\トマト０８.txt"]
[300,{"$f":"元トマト!B4-B$2","v":-1.0839999999999999},{"$f":"元トマト!C4-C$2","v":-0.70199999999999996},{"$f":"元トマト!D4-D$2","v":-0.49},{"$f":"元トマト!E4-E$2","v":-0.58599999999999997},{"$f":"元トマト!F4-F$2","v":-0.40300000000000002},{"$f":"元トマト!G4-G$2","v":5.1000000000000004E-2},{"$f":"元トマト!H4-H$2","v":-5.0000000000000001E-3},{"$f":"元トマト!I4-I$2","v":7.0000000000000007E-2}]
[301,{"$f":"元トマト!B5-B$2","v":-1.1439999999999999},{"$f":"元トマト!C5-C$2","v":-0.77700000000000002},{"$f":"元トマト!D5-D$2","v":-0.55699999999999994},{"$f":"元トマト!E5-E$2","v":-0.65200000000000002},{"$f":"元トマト!F5-F$2","v":-0.46500000000000002},{"$f":"元トマト!G5-G$2","v":6.3E-2},{"$f":"元トマト!H5-H$2","v":2.9999999999999992E-3},{"$f":"元トマト!I5-I$2","v":8.4000000000000005E-2}]
[302,{"$f":"元トマト!B6-B$2","v":-1.1989999999999998},{"$f":"元トマト!C6-C$2","v":-0.84799999999999998},{"$f":"元トマト!D6-D$2","v":-0.63100000000000001},{"$f":"元トマト!E6-E$2","v":-0.71899999999999997},{"$f":"元トマト!F6-F$2","v":-0.53400000000000003},{"$f":"元トマト!G6-G$2","v":6.3E-2},{"$f":"元トマト!H6-H$2","v":4.9999999999999992E-3},{"$f":"元トマト!I6-I$2","v":0.09}]
[303,{"$f":"元トマト!B7-B$2","v":-1.252},{"$f":"元トマト!C7-C$2","v":-0.92600000000000005},{"$f":"元トマト!D7-D$2","v":-0.71099999999999997},{"$f":"元トマト!E7-E$2","v":-0.79200000000000004},{"$f":"元トマト!F7-F$2","v":-0.60699999999999998},{"$f":"元トマト!G7-G$2","v":7.9000000000000001E-2},{"$f":"元トマト!H7-H$2","v":6.0000000000000001E-3},{"$f":"元トマト!I7-I$2","v":0.105}]
[304,{"$f":"元トマト!B8-B$2","v":-1.3009999999999999},{"$f":"元トマト!C8-C$2","v":-0.996},{"$f":"元トマト!D8-D$2","v":-0.78600000000000003},{"$f":"元トマト!E8-E$2","v":-0.86199999999999999},{"$f":"元トマト!F8-F$2","v":-0.67700000000000005},{"$f":"元トマト!G8-G$2","v":0.11699999999999999},{"$f":"元トマト!H8-H$2","v":2.5999999999999995E-2},{"$f":"元トマト!I8-I$2","v":0.13100000000000001}]
[305,{"$f":"元トマト!B9-B$2","v":-1.319},{"$f":"元トマト!C9-C$2","v":-1.0349999999999999},{"$f":"元トマト!D9-D$2","v":-0.83399999999999996},{"$f":"元トマト!E9-E$2","v":-0.90400000000000003},{"$f":"元トマト!F9-F$2","v":-0.72499999999999998},{"$f":"元トマト!G9-G$2","v":0.14499999999999999},{"$f":"元トマト!H9-H$2","v":4.2999999999999997E-2},{"$f":"元トマト!I9-I$2","v":0.17100000000000001}]
[306,{"$f":"元トマト!B10-B$2","v":-1.325},{"$f":"元トマト!C10-C$2","v":-1.0620000000000001},{"$f":"元トマト!D10-D$2","v":-0.876},{"$f":"元トマト!E10-E$2","v":-0.93699999999999994},{"$f":"元トマト!F10-F$2","v":-0.76900000000000002},{"$f":"元トマト!G10-G$2","v":0.16699999999999998},{"$f":"元トマト!H10-H$2","v":4.2999999999999997E-2},{"$f":"元トマト!I10-I$2","v":0.216}]
[307,{"$f":"元トマト!B11-B$2","v":-1.3069999999999999},{"$f":"元トマト!C11-C$2","v":-1.0649999999999999},{"$f":"元トマト!D11-D$2","v":-0.89200000000000002},{"$f":"元トマト!E11-E$2","v":-0.94799999999999995},{"$f":"元トマト!F11-F$2","v":-0.79100000000000004},{"$f":"元トマト!G11-G$2","v":0.23399999999999999},{"$f":"元トマト!H11-H$2","v":5.5E-2},{"$f":"元トマト!I11-I$2","v":0.29599999999999999}]
[308,{"$f":"元トマト!B12-B$2","v":-1.2839999999999998},{"$f":"元トマト!C12-C$2","v":-1.0589999999999999},{"$f":"元トマト!D12-D$2","v":-0.89800000000000002},{"$f":"元トマト!E12-E$2","v":-0.95099999999999996},{"$f":"元トマト!F12-F$2","v":-0.80200000000000005},{"$f":"元トマト!G12-G$2","v":0.31900000000000001},{"$f":"元トマト!H12-H$2","v":6.4000000000000001E-2},{"$f":"元トマト!I12-I$2","v":0.38700000000000001}]
[309,{"$f":"元トマト!B13-B$2","v":-1.2409999999999999},{"$f":"元トマト!C13-C$2","v":-1.032},{"$f":"元トマト!D13-D$2","v":-0.88200000000000001},{"$f":"元トマト!E13-E$2","v":-0.93299999999999994},{"$f":"元トマト!F13-F$2","v":-0.79300000000000004},{"$f":"元トマト!G13-G$2","v":0.40299999999999997},{"$f":"元トマト!H13-H$2","v":7.1000000000000008E-2},{"$f":"元トマト!I13-I$2","v":0.47699999999999998}]
[310,{"$f":"元トマト!B14-B$2","v":-1.1709999999999998},{"$f":"元トマト!C14-C$2","v":-0.97699999999999998},{"$f":"元トマト!D14-D$2","v":-0.84299999999999997},{"$f":"元トマト!E14-E$2","v":-0.89},{"$f":"元トマト!F14-F$2","v":-0.76},{"$f":"元トマト!G14-G$2","v":0.48899999999999999},{"$f":"元トマト!H14-H$2","v":7.9000000000000001E-2},{"$f":"元トマト!I14-I$2","v":0.57899999999999996}]
[311,{"$f":"元トマト!B15-B$2","v":-1.0979999999999999},{"$f":"元トマト!C15-C$2","v":-0.91600000000000004},{"$f":"元トマト!D15-D$2","v":-0.79600000000000004},{"$f":"元トマト!E15-E$2","v":-0.84},{"$f":"元トマト!F15-F$2","v":-0.72},{"$f":"元トマト!G15-G$2","v":0.57299999999999995},{"$f":"元トマト!H15-H$2","v":7.8E-2},{"$f":"元トマト!I15-I$2","v":0.68800000000000006}]
[312,{"$f":"元トマト!B16-B$2","v":-1.0189999999999999},{"$f":"元トマト!C16-C$2","v":-0.85099999999999998},{"$f":"元トマト!D16-D$2","v":-0.74399999999999999},{"$f":"元トマト!E16-E$2","v":-0.78300000000000003},{"$f":"元トマト!F16-F$2","v":-0.67300000000000004},{"$f":"元トマト!G16-G$2","v":0.65100000000000002},{"$f":"元トマト!H16-H$2","v":7.400000000000001E-2},{"$f":"元トマト!I16-I$2","v":0.80300000000000005}]
[313,{"$f":"元トマト!B17-B$2","v":-0.92500000000000004},{"$f":"元トマト!C17-C$2","v":-0.77200000000000002},{"$f":"元トマト!D17-D$2","v":-0.67800000000000005},{"$f":"元トマト!E17-E$2","v":-0.71499999999999997},{"$f":"元トマト!F17-F$2","v":-0.61499999999999999},{"$f":"元トマト!G17-G$2","v":0.69599999999999995},{"$f":"元トマト!H17-H$2","v":6.7000000000000004E-2},{"$f":"元トマト!I17-I$2","v":0.92300000000000004}]
[314,{"$f":"元トマト!B18-B$2","v":-0.83799999999999997},{"$f":"元トマト!C18-C$2","v":-0.69500000000000006},{"$f":"元トマト!D18-D$2","v":-0.61399999999999999},{"$f":"元トマト!E18-E$2","v":-0.64900000000000002},{"$f":"元トマト!F18-F$2","v":-0.55800000000000005},{"$f":"元トマト!G18-G$2","v":0.70799999999999996},{"$f":"元トマト!H18-H$2","v":5.9000000000000004E-2},{"$f":"元トマト!I18-I$2","v":1.014}]
[315,{"$f":"元トマト!B19-B$2","v":-0.748},{"$f":"元トマト!C19-C$2","v":-0.61699999999999999},{"$f":"元トマト!D19-D$2","v":-0.54700000000000004},{"$f":"元トマト!E19-E$2","v":-0.57999999999999996},{"$f":"元トマト!F19-F$2","v":-0.498},{"$f":"元トマト!G19-G$2","v":0.69399999999999995},{"$f":"元トマト!H19-H$2","v":5.3999999999999999E-2},{"$f":"元トマト!I19-I$2","v":1.1260000000000001}]
[316,{"$f":"元トマト!B20-B$2","v":-0.65},{"$f":"元トマト!C20-C$2","v":-0.53200000000000003},{"$f":"元トマト!D20-D$2","v":-0.47399999999999998},{"$f":"元トマト!E20-E$2","v":-0.50600000000000001},{"$f":"元トマト!F20-F$2","v":-0.434},{"$f":"元トマト!G20-G$2","v":0.65600000000000003},{"$f":"元トマト!H20-H$2","v":4.5999999999999999E-2},{"$f":"元トマト!I20-I$2","v":1.258}]
[317,{"$f":"元トマト!B21-B$2","v":-0.56000000000000005},{"$f":"元トマト!C21-C$2","v":-0.45400000000000001},{"$f":"元トマト!D21-D$2","v":-0.40799999999999997},{"$f":"元トマト!E21-E$2","v":-0.437},{"$f":"元トマト!F21-F$2","v":-0.373},{"$f":"元トマト!G21-G$2","v":0.59199999999999997},{"$f":"元トマト!H21-H$2","v":3.6999999999999998E-2},{"$f":"元トマト!I21-I$2","v":1.3660000000000001}]
[318,{"$f":"元トマト!B22-B$2","v":-0.48399999999999999},{"$f":"元トマト!C22-C$2","v":-0.38700000000000001},{"$f":"元トマト!D22-D$2","v":-0.35199999999999998},{"$f":"元トマト!E22-E$2","v":-0.379},{"$f":"元トマト!F22-F$2","v":-0.32300000000000001},{"$f":"元トマト!G22-G$2","v":0.52600000000000002},{"$f":"元トマト!H22-H$2","v":3.1E-2},{"$f":"元トマト!I22-I$2","v":1.423}]
[319,{"$f":"元トマト!B23-B$2","v":-0.41399999999999998},{"$f":"元トマト!C23-C$2","v":-0.32200000000000001},{"$f":"元トマト!D23-D$2","v":-0.29899999999999999},{"$f":"元トマト!E23-E$2","v":-0.32400000000000001},{"$f":"元トマト!F23-F$2","v":-0.27500000000000002},{"$f":"元トマト!G23-G$2","v":0.45900000000000002},{"$f":"元トマト!H23-H$2","v":2.4E-2},{"$f":"元トマト!I23-I$2","v":1.425}]
[320,{"$f":"元トマト!B24-B$2","v":-0.34200000000000003},{"$f":"元トマト!C24-C$2","v":-0.25900000000000001},{"$f":"元トマト!D24-D$2","v":-0.246},{"$f":"元トマト!E24-E$2","v":-0.27},{"$f":"元トマト!F24-F$2","v":-0.22800000000000001},{"$f":"元トマト!G24-G$2","v":0.38900000000000001},{"$f":"元トマト!H24-H$2","v":1.7000000000000001E-2},{"$f":"元トマト!I24-I$2","v":1.3560000000000001}]
[321,{"$f":"元トマト!B25-B$2","v":-0.27900000000000003},{"$f":"元トマト!C25-C$2","v":-0.20400000000000001},{"$f":"元トマト!D25-D$2","v":-0.19799999999999998},{"$f":"元トマト!E25-E$2","v":-0.221},{"$f":"元トマト!F25-F$2","v":-0.186},{"$f":"元トマト!G25-G$2","v":0.32500000000000001},{"$f":"元トマト!H25-H$2","v":1.1000000000000001E-2},{"$f":"元トマト!I25-I$2","v":1.23}]
[322,{"$f":"元トマト!B26-B$2","v":-0.22700000000000001},{"$f":"元トマト!C26-C$2","v":-0.158},{"$f":"元トマト!D26-D$2","v":-0.158},{"$f":"元トマト!E26-E$2","v":-0.18099999999999999},{"$f":"元トマト!F26-F$2","v":-0.151},{"$f":"元トマト!G26-G$2","v":0.27300000000000002},{"$f":"元トマト!H26-H$2","v":7.9999999999999984E-3},{"$f":"元トマト!I26-I$2","v":1.0780000000000001}]
[323,{"$f":"元トマト!B27-B$2","v":-0.182},{"$f":"元トマト!C27-C$2","v":-0.11499999999999999},{"$f":"元トマト!D27-D$2","v":-0.12400000000000001},{"$f":"元トマト!E27-E$2","v":-0.14599999999999999},{"$f":"元トマト!F27-F$2","v":-0.12},{"$f":"元トマト!G27-G$2","v":0.22899999999999998},{"$f":"元トマト!H27-H$2","v":6.0000000000000001E-3},{"$f":"元トマト!I27-I$2","v":0.91300000000000003}]
[324,{"$f":"元トマト!B28-B$2","v":-0.13900000000000001},{"$f":"元トマト!C28-C$2","v":-7.5000000000000011E-2},{"$f":"元トマト!D28-D$2","v":-9.2000000000000012E-2},{"$f":"元トマト!E28-E$2","v":-0.11499999999999999},{"$f":"元トマト!F28-F$2","v":-9.0999999999999998E-2},{"$f":"元トマト!G28-G$2","v":0.186},{"$f":"元トマト!H28-H$2","v":2E-3},{"$f":"元トマト!I28-I$2","v":0.74199999999999999}]
[325,{"$f":"元トマト!B29-B$2","v":-0.105},{"$f":"元トマト!C29-C$2","v":-4.3000000000000003E-2},{"$f":"元トマト!D29-D$2","v":-6.7000000000000004E-2},{"$f":"元トマト!E29-E$2","v":-0.09},{"$f":"元トマト!F29-F$2","v":-6.8999999999999992E-2},{"$f":"元トマト!G29-G$2","v":0.152},{"$f":"元トマト!H29-H$2","v":-1.0000000000000009E-3},{"$f":"元トマト!I29-I$2","v":0.60499999999999998}]
[326,{"$f":"元トマト!B30-B$2","v":-7.5999999999999998E-2},{"$f":"元トマト!C30-C$2","v":-1.7000000000000001E-2},{"$f":"元トマト!D30-D$2","v":-4.4999999999999998E-2},{"$f":"元トマト!E30-E$2","v":-6.7999999999999991E-2},{"$f":"元トマト!F30-F$2","v":-5.0999999999999997E-2},{"$f":"元トマト!G30-G$2","v":0.124},{"$f":"元トマト!H30-H$2","v":-3.0000000000000001E-3},{"$f":"元トマト!I30-I$2","v":0.49}]
[327,{"$f":"元トマト!B31-B$2","v":-5.1000000000000004E-2},{"$f":"元トマト!C31-C$2","v":6.9999999999999993E-3},{"$f":"元トマト!D31-D$2","v":-2.6000000000000002E-2},{"$f":"元トマト!E31-E$2","v":-0.05},{"$f":"元トマト!F31-F$2","v":-3.4999999999999996E-2},{"$f":"元トマト!G31-G$2","v":9.8999999999999991E-2},{"$f":"元トマト!H31-H$2","v":-5.0000000000000001E-3},{"$f":"元トマト!I31-I$2","v":0.38700000000000001}]
[328,{"$f":"元トマト!B32-B$2","v":-3.1E-2},{"$f":"元トマト!C32-C$2","v":2.6000000000000002E-2},{"$f":"元トマト!D32-D$2","v":-1.1000000000000001E-2},{"$f":"元トマト!E32-E$2","v":-3.5000000000000003E-2},{"$f":"元トマト!F32-F$2","v":-2.3E-2},{"$f":"元トマト!G32-G$2","v":7.9999999999999988E-2},{"$f":"元トマト!H32-H$2","v":-6.0000000000000001E-3},{"$f":"元トマト!I32-I$2","v":0.30499999999999999}]
[329,{"$f":"元トマト!B33-B$2","v":-1.6E-2},{"$f":"元トマト!C33-C$2","v":4.1000000000000002E-2},{"$f":"元トマト!D33-D$2","v":9.9999999999999915E-4},{"$f":"元トマト!E33-E$2","v":-2.4E-2},{"$f":"元トマト!F33-F$2","v":-1.2999999999999999E-2},{"$f":"元トマト!G33-G$2","v":6.699999999999999E-2},{"$f":"元トマト!H33-H$2","v":-6.0000000000000001E-3},{"$f":"元トマト!I33-I$2","v":0.246}]
[330,{"$f":"元トマト!B34-B$2","v":-5.0000000000000001E-3},{"$f":"元トマト!C34-C$2","v":5.1999999999999998E-2},{"$f":"元トマト!D34-D$2","v":8.9999999999999993E-3},{"$f":"元トマト!E34-E$2","v":-1.6E-2},{"$f":"元トマト!F34-F$2","v":-5.0000000000000001E-3},{"$f":"元トマト!G34-G$2","v":5.7000000000000002E-2},{"$f":"元トマト!H34-H$2","v":-8.0000000000000002E-3},{"$f":"元トマト!I34-I$2","v":0.2}]
[331,{"$f":"元トマト!B35-B$2","v":3.0000000000000001E-3},{"$f":"元トマト!C35-C$2","v":6.1000000000000006E-2},{"$f":"元トマト!D35-D$2","v":1.7000000000000001E-2},{"$f":"元トマト!E35-E$2","v":-9.0000000000000011E-3},{"$f":"元トマト!F35-F$2","v":0},{"$f":"元トマト!G35-G$2","v":4.7E-2},{"$f":"元トマト!H35-H$2","v":-9.0000000000000011E-3},{"$f":"元トマト!I35-I$2","v":0.158}]
[332,{"$f":"元トマト!B36-B$2","v":9.9999999999999985E-3},{"$f":"元トマト!C36-C$2","v":6.9000000000000006E-2},{"$f":"元トマト!D36-D$2","v":2.3E-2},{"$f":"元トマト!E36-E$2","v":-3.9999999999999992E-3},{"$f":"元トマト!F36-F$2","v":4.0000000000000001E-3},{"$f":"元トマト!G36-G$2","v":3.9E-2},{"$f":"元トマト!H36-H$2","v":-0.01},{"$f":"元トマト!I36-I$2","v":0.126}]
[333,{"$f":"元トマト!B37-B$2","v":1.6E-2},{"$f":"元トマト!C37-C$2","v":7.5000000000000011E-2},{"$f":"元トマト!D37-D$2","v":2.8999999999999998E-2},{"$f":"元トマト!E37-E$2","v":1E-3},{"$f":"元トマト!F37-F$2","v":8.0000000000000002E-3},{"$f":"元トマト!G37-G$2","v":3.5000000000000003E-2},{"$f":"元トマト!H37-H$2","v":-0.01},{"$f":"元トマト!I37-I$2","v":0.10300000000000001}]
[334,{"$f":"元トマト!B38-B$2","v":1.9E-2},{"$f":"元トマト!C38-C$2","v":8.0999999999999989E-2},{"$f":"元トマト!D38-D$2","v":3.3000000000000002E-2},{"$f":"元トマト!E38-E$2","v":4.0000000000000001E-3},{"$f":"元トマト!F38-F$2","v":1.0999999999999999E-2},{"$f":"元トマト!G38-G$2","v":0.03},{"$f":"元トマト!H38-H$2","v":-0.01},{"$f":"元トマト!I38-I$2","v":8.4000000000000005E-2}]
[335,{"$f":"元トマト!B39-B$2","v":2.2000000000000002E-2},{"$f":"元トマト!C39-C$2","v":8.6999999999999994E-2},{"$f":"元トマト!D39-D$2","v":3.6999999999999998E-2},{"$f":"元トマト!E39-E$2","v":7.0000000000000001E-3},{"$f":"元トマト!F39-F$2","v":1.2999999999999999E-2},{"$f":"元トマト!G39-G$2","v":2.7000000000000003E-2},{"$f":"元トマト!H39-H$2","v":-0.01},{"$f":"元トマト!I39-I$2","v":6.8000000000000005E-2}]
[336,{"$f":"元トマト!B40-B$2","v":2.4E-2},{"$f":"元トマト!C40-C$2","v":9.1999999999999998E-2},{"$f":"元トマト!D40-D$2","v":0.04},{"$f":"元トマト!E40-E$2","v":0.01},{"$f":"元トマト!F40-F$2","v":1.4999999999999999E-2},{"$f":"元トマト!G40-G$2","v":2.4E-2},{"$f":"元トマト!H40-H$2","v":-0.01},{"$f":"元トマト!I40-I$2","v":5.6000000000000001E-2}]
[337,{"$f":"元トマト!B41-B$2","v":2.7E-2},{"$f":"元トマト!C41-C$2","v":9.7000000000000003E-2},{"$f":"元トマト!D41-D$2","v":4.4000000000000004E-2},{"$f":"元トマト!E41-E$2","v":1.0999999999999999E-2},{"$f":"元トマト!F41-F$2","v":1.6E-2},{"$f":"元トマト!G41-G$2","v":2.1999999999999999E-2},{"$f":"元トマト!H41-H$2","v":-0.01},{"$f":"元トマト!I41-I$2","v":4.7E-2}]
[338,{"$f":"元トマト!B42-B$2","v":2.9000000000000001E-2},{"$f":"元トマト!C42-C$2","v":0.10300000000000001},{"$f":"元トマト!D42-D$2","v":4.8000000000000001E-2},{"$f":"元トマト!E42-E$2","v":1.3000000000000001E-2},{"$f":"元トマト!F42-F$2","v":1.7000000000000001E-2},{"$f":"元トマト!G42-G$2","v":1.9999999999999997E-2},{"$f":"元トマト!H42-H$2","v":-0.01},{"$f":"元トマト!I42-I$2","v":3.9E-2}]
[339,{"$f":"元トマト!B43-B$2","v":3.2000000000000001E-2},{"$f":"元トマト!C43-C$2","v":0.10900000000000001},{"$f":"元トマト!D43-D$2","v":5.1999999999999998E-2},{"$f":"元トマト!E43-E$2","v":1.3000000000000001E-2},{"$f":"元トマト!F43-F$2","v":1.8000000000000002E-2},{"$f":"元トマト!G43-G$2","v":1.8000000000000002E-2},{"$f":"元トマト!H43-H$2","v":-1.0999999999999999E-2},{"$f":"元トマト!I43-I$2","v":3.2000000000000001E-2}]
[340,{"$f":"元トマト!B44-B$2","v":3.3999999999999996E-2},{"$f":"元トマト!C44-C$2","v":0.11499999999999999},{"$f":"元トマト!D44-D$2","v":5.5E-2},{"$f":"元トマト!E44-E$2","v":1.4E-2},{"$f":"元トマト!F44-F$2","v":1.9000000000000003E-2},{"$f":"元トマト!G44-G$2","v":1.7000000000000001E-2},{"$f":"元トマト!H44-H$2","v":-0.01},{"$f":"元トマト!I44-I$2","v":2.7999999999999997E-2}]
[341,{"$f":"元トマト!B45-B$2","v":3.7999999999999999E-2},{"$f":"元トマト!C45-C$2","v":0.121},{"$f":"元トマト!D45-D$2","v":5.8000000000000003E-2},{"$f":"元トマト!E45-E$2","v":1.4999999999999999E-2},{"$f":"元トマト!F45-F$2","v":1.9999999999999997E-2},{"$f":"元トマト!G45-G$2","v":1.6E-2},{"$f":"元トマト!H45-H$2","v":-0.01},{"$f":"元トマト!I45-I$2","v":2.5000000000000001E-2}]
[342,{"$f":"元トマト!B46-B$2","v":4.1999999999999996E-2},{"$f":"元トマト!C46-C$2","v":0.127},{"$f":"元トマト!D46-D$2","v":0.06},{"$f":"元トマト!E46-E$2","v":1.6E-2},{"$f":"元トマト!F46-F$2","v":2.0999999999999998E-2},{"$f":"元トマト!G46-G$2","v":1.6E-2},{"$f":"元トマト!H46-H$2","v":-9.0000000000000011E-3},{"$f":"元トマト!I46-I$2","v":2.1999999999999999E-2}]
[343,{"$f":"元トマト!B47-B$2","v":4.4999999999999998E-2},{"$f":"元トマト!C47-C$2","v":0.13200000000000001},{"$f":"元トマト!D47-D$2","v":6.2E-2},{"$f":"元トマト!E47-E$2","v":1.7000000000000001E-2},{"$f":"元トマト!F47-F$2","v":2.1999999999999999E-2},{"$f":"元トマト!G47-G$2","v":1.6E-2},{"$f":"元トマト!H47-H$2","v":-9.0000000000000011E-3},{"$f":"元トマト!I47-I$2","v":1.9999999999999997E-2}]
[344,{"$f":"元トマト!B48-B$2","v":4.7E-2},{"$f":"元トマト!C48-C$2","v":0.13499999999999998},{"$f":"元トマト!D48-D$2","v":6.4000000000000001E-2},{"$f":"元トマト!E48-E$2","v":1.7000000000000001E-2},{"$f":"元トマト!F48-F$2","v":2.1999999999999999E-2},{"$f":"元トマト!G48-G$2","v":1.5000000000000001E-2},{"$f":"元トマト!H48-H$2","v":-9.0000000000000011E-3},{"$f":"元トマト!I48-I$2","v":1.8000000000000002E-2}]
[345,{"$f":"元トマト!B49-B$2","v":4.7999999999999994E-2},{"$f":"元トマト!C49-C$2","v":0.13699999999999998},{"$f":"元トマト!D49-D$2","v":6.5000000000000002E-2},{"$f":"元トマト!E49-E$2","v":1.7999999999999999E-2},{"$f":"元トマト!F49-F$2","v":2.1999999999999999E-2},{"$f":"元トマト!G49-G$2","v":1.5000000000000001E-2},{"$f":"元トマト!H49-H$2","v":-9.0000000000000011E-3},{"$f":"元トマト!I49-I$2","v":1.7000000000000001E-2}]
[346,{"$f":"元トマト!B50-B$2","v":4.9999999999999996E-2},{"$f":"元トマト!C50-C$2","v":0.13899999999999998},{"$f":"元トマト!D50-D$2","v":6.5000000000000002E-2},{"$f":"元トマト!E50-E$2","v":1.7999999999999999E-2},{"$f":"元トマト!F50-F$2","v":2.3E-2},{"$f":"元トマト!G50-G$2","v":1.5000000000000001E-2},{"$f":"元トマト!H50-H$2","v":-9.0000000000000011E-3},{"$f":"元トマト!I50-I$2","v":1.6E-2}]
[347,{"$f":"元トマト!B51-B$2","v":4.9999999999999996E-2},{"$f":"元トマト!C51-C$2","v":0.13899999999999998},{"$f":"元トマト!D51-D$2","v":6.5000000000000002E-2},{"$f":"元トマト!E51-E$2","v":1.9E-2},{"$f":"元トマト!F51-F$2","v":2.3E-2},{"$f":"元トマト!G51-G$2","v":1.5000000000000001E-2},{"$f":"元トマト!H51-H$2","v":-9.0000000000000011E-3},{"$f":"元トマト!I51-I$2","v":1.6E-2}]
[348,{"$f":"元トマト!B52-B$2","v":4.8999999999999995E-2},{"$f":"元トマト!C52-C$2","v":0.13799999999999998},{"$f":"元トマト!D52-D$2","v":6.5000000000000002E-2},{"$f":"元トマト!E52-E$2","v":1.9E-2},{"$f":"元トマト!F52-F$2","v":2.3E-2},{"$f":"元トマト!G52-G$2","v":1.5000000000000001E-2},{"$f":"元トマト!H52-H$2","v":-9.0000000000000011E-3},{"$f":"元トマト!I52-I$2","v":1.4999999999999999E-2}]
[349,{"$f":"元トマト!B53-B$2","v":4.7999999999999994E-2},{"$f":"元トマト!C53-C$2","v":0.13699999999999998},{"$f":"元トマト!D53-D$2","v":6.5000000000000002E-2},{"$f":"元トマト!E53-E$2","v":1.9E-2},{"$f":"元トマト!F53-F$2","v":2.1999999999999999E-2},{"$f":"元トマト!G53-G$2","v":1.5000000000000001E-2},{"$f":"元トマト!H53-H$2","v":-9.0000000000000011E-3},{"$f":"元トマト!I53-I$2","v":1.4999999999999999E-2}]
[350,{"$f":"元トマト!B54-B$2","v":4.7E-2},{"$f":"元トマト!C54-C$2","v":0.13599999999999998},{"$f":"元トマト!D54-D$2","v":6.5000000000000002E-2},{"$f":"元トマト!E54-E$2","v":1.9E-2},{"$f":"元トマト!F54-F$2","v":2.1999999999999999E-2},{"$f":"元トマト!G54-G$2","v":1.5000000000000001E-2},{"$f":"元トマト!H54-H$2","v":-9.0000000000000011E-3},{"$f":"元トマト!I54-I$2","v":1.4E-2}]
[351,{"$f":"元トマト!B55-B$2","v":4.3999999999999997E-2},{"$f":"元トマト!C55-C$2","v":0.13599999999999998},{"$f":"元トマト!D55-D$2","v":6.5000000000000002E-2},{"$f":"元トマト!E55-E$2","v":1.9E-2},{"$f":"元トマト!F55-F$2","v":2.1999999999999999E-2},{"$f":"元トマト!G55-G$2","v":1.6E-2},{"$f":"元トマト!H55-H$2","v":-9.0000000000000011E-3},{"$f":"元トマト!I55-I$2","v":1.4E-2}]
[352,{"$f":"元トマト!B56-B$2","v":4.1999999999999996E-2},{"$f":"元トマト!C56-C$2","v":0.13599999999999998},{"$f":"元トマト!D56-D$2","v":6.6000000000000003E-2},{"$f":"元トマト!E56-E$2","v":1.9E-2},{"$f":"元トマト!F56-F$2","v":2.1999999999999999E-2},{"$f":"元トマト!G56-G$2","v":1.5000000000000001E-2},{"$f":"元トマト!H56-H$2","v":-8.0000000000000002E-3},{"$f":"元トマト!I56-I$2","v":1.4E-2}]
[353,{"$f":"元トマト!B57-B$2","v":4.0999999999999995E-2},{"$f":"元トマト!C57-C$2","v":0.13699999999999998},{"$f":"元トマト!D57-D$2","v":6.7999999999999991E-2},{"$f":"元トマト!E57-E$2","v":1.9E-2},{"$f":"元トマト!F57-F$2","v":2.0999999999999998E-2},{"$f":"元トマト!G57-G$2","v":1.5000000000000001E-2},{"$f":"元トマト!H57-H$2","v":-9.0000000000000011E-3},{"$f":"元トマト!I57-I$2","v":1.4E-2}]
[354,{"$f":"元トマト!B58-B$2","v":3.9E-2},{"$f":"元トマト!C58-C$2","v":0.13999999999999999},{"$f":"元トマト!D58-D$2","v":7.0999999999999994E-2},{"$f":"元トマト!E58-E$2","v":1.9E-2},{"$f":"元トマト!F58-F$2","v":2.0999999999999998E-2},{"$f":"元トマト!G58-G$2","v":1.5000000000000001E-2},{"$f":"元トマト!H58-H$2","v":-9.0000000000000011E-3},{"$f":"元トマト!I58-I$2","v":1.4E-2}]
[355,{"$f":"元トマト!B59-B$2","v":3.7999999999999999E-2},{"$f":"元トマト!C59-C$2","v":0.14499999999999999},{"$f":"元トマト!D59-D$2","v":7.2999999999999995E-2},{"$f":"元トマト!E59-E$2","v":0.02},{"$f":"元トマト!F59-F$2","v":2.0999999999999998E-2},{"$f":"元トマト!G59-G$2","v":1.5000000000000001E-2},{"$f":"元トマト!H59-H$2","v":-9.0000000000000011E-3},{"$f":"元トマト!I59-I$2","v":1.4E-2}]
[356,{"$f":"元トマト!B60-B$2","v":3.7999999999999999E-2},{"$f":"元トマト!C60-C$2","v":0.151},{"$f":"元トマト!D60-D$2","v":7.6999999999999999E-2},{"$f":"元トマト!E60-E$2","v":0.02},{"$f":"元トマト!F60-F$2","v":2.0999999999999998E-2},{"$f":"元トマト!G60-G$2","v":1.6E-2},{"$f":"元トマト!H60-H$2","v":-9.0000000000000011E-3},{"$f":"元トマト!I60-I$2","v":1.4E-2}]
[357,{"$f":"元トマト!B61-B$2","v":3.7999999999999999E-2},{"$f":"元トマト!C61-C$2","v":0.157},{"$f":"元トマト!D61-D$2","v":8.0999999999999989E-2},{"$f":"元トマト!E61-E$2","v":0.02},{"$f":"元トマト!F61-F$2","v":1.9999999999999997E-2},{"$f":"元トマト!G61-G$2","v":1.6E-2},{"$f":"元トマト!H61-H$2","v":-9.0000000000000011E-3},{"$f":"元トマト!I61-I$2","v":1.4E-2}]
[358,{"$f":"元トマト!B62-B$2","v":3.9E-2},{"$f":"元トマト!C62-C$2","v":0.16200000000000001},{"$f":"元トマト!D62-D$2","v":8.3999999999999991E-2},{"$f":"元トマト!E62-E$2","v":0.02},{"$f":"元トマト!F62-F$2","v":1.9999999999999997E-2},{"$f":"元トマト!G62-G$2","v":1.5000000000000001E-2},{"$f":"元トマト!H62-H$2","v":-9.0000000000000011E-3},{"$f":"元トマト!I62-I$2","v":1.4E-2}]
[359,{"$f":"元トマト!B63-B$2","v":4.0999999999999995E-2},{"$f":"元トマト!C63-C$2","v":0.16699999999999998},{"$f":"元トマト!D63-D$2","v":8.5999999999999993E-2},{"$f":"元トマト!E63-E$2","v":2.1000000000000001E-2},{"$f":"元トマト!F63-F$2","v":2.0999999999999998E-2},{"$f":"元トマト!G63-G$2","v":1.6E-2},{"$f":"元トマト!H63-H$2","v":-8.0000000000000002E-3},{"$f":"元トマト!I63-I$2","v":1.4E-2}]
[360,{"$f":"元トマト!B64-B$2","v":4.2999999999999997E-2},{"$f":"元トマト!C64-C$2","v":0.16999999999999998},{"$f":"元トマト!D64-D$2","v":8.6999999999999994E-2},{"$f":"元トマト!E64-E$2","v":2.1000000000000001E-2},{"$f":"元トマト!F64-F$2","v":2.0999999999999998E-2},{"$f":"元トマト!G64-G$2","v":1.6E-2},{"$f":"元トマト!H64-H$2","v":-8.0000000000000002E-3},{"$f":"元トマト!I64-I$2","v":1.4E-2}]
[361,{"$f":"元トマト!B65-B$2","v":4.5999999999999999E-2},{"$f":"元トマト!C65-C$2","v":0.16999999999999998},{"$f":"元トマト!D65-D$2","v":8.6999999999999994E-2},{"$f":"元トマト!E65-E$2","v":2.1000000000000001E-2},{"$f":"元トマト!F65-F$2","v":2.1999999999999999E-2},{"$f":"元トマト!G65-G$2","v":1.6E-2},{"$f":"元トマト!H65-H$2","v":-7.0000000000000001E-3},{"$f":"元トマト!I65-I$2","v":1.4E-2}]
[362,{"$f":"元トマト!B66-B$2","v":4.7999999999999994E-2},{"$f":"元トマト!C66-C$2","v":0.16899999999999998},{"$f":"元トマト!D66-D$2","v":8.4999999999999992E-2},{"$f":"元トマト!E66-E$2","v":2.1000000000000001E-2},{"$f":"元トマト!F66-F$2","v":2.1999999999999999E-2},{"$f":"元トマト!G66-G$2","v":1.6E-2},{"$f":"元トマト!H66-H$2","v":-8.0000000000000002E-3},{"$f":"元トマト!I66-I$2","v":1.4E-2}]
[363,{"$f":"元トマト!B67-B$2","v":4.9999999999999996E-2},{"$f":"元トマト!C67-C$2","v":0.16599999999999998},{"$f":"元トマト!D67-D$2","v":8.199999999999999E-2},{"$f":"元トマト!E67-E$2","v":2.1000000000000001E-2},{"$f":"元トマト!F67-F$2","v":2.3E-2},{"$f":"元トマト!G67-G$2","v":1.6E-2},{"$f":"元トマト!H67-H$2","v":-8.0000000000000002E-3},{"$f":"元トマト!I67-I$2","v":1.4E-2}]
[364,{"$f":"元トマト!B68-B$2","v":5.0999999999999997E-2},{"$f":"元トマト!C68-C$2","v":0.161},{"$f":"元トマト!D68-D$2","v":7.8E-2},{"$f":"元トマト!E68-E$2","v":2.1000000000000001E-2},{"$f":"元トマト!F68-F$2","v":2.3E-2},{"$f":"元トマト!G68-G$2","v":1.6E-2},{"$f":"元トマト!H68-H$2","v":-8.0000000000000002E-3},{"$f":"元トマト!I68-I$2","v":1.4E-2}]
[365,{"$f":"元トマト!B69-B$2","v":5.1999999999999998E-2},{"$f":"元トマト!C69-C$2","v":0.156},{"$f":"元トマト!D69-D$2","v":7.4999999999999997E-2},{"$f":"元トマト!E69-E$2","v":2.1000000000000001E-2},{"$f":"元トマト!F69-F$2","v":2.3E-2},{"$f":"元トマト!G69-G$2","v":1.6E-2},{"$f":"元トマト!H69-H$2","v":-8.0000000000000002E-3},{"$f":"元トマト!I69-I$2","v":1.4999999999999999E-2}]
[366,{"$f":"元トマト!B70-B$2","v":5.1999999999999998E-2},{"$f":"元トマト!C70-C$2","v":0.15},{"$f":"元トマト!D70-D$2","v":7.0999999999999994E-2},{"$f":"元トマト!E70-E$2","v":2.1000000000000001E-2},{"$f":"元トマト!F70-F$2","v":2.3E-2},{"$f":"元トマト!G70-G$2","v":1.6E-2},{"$f":"元トマト!H70-H$2","v":-7.0000000000000001E-3},{"$f":"元トマト!I70-I$2","v":1.4999999999999999E-2}]
[367,{"$f":"元トマト!B71-B$2","v":5.1999999999999998E-2},{"$f":"元トマト!C71-C$2","v":0.14399999999999999},{"$f":"元トマト!D71-D$2","v":6.7000000000000004E-2},{"$f":"元トマト!E71-E$2","v":2.1000000000000001E-2},{"$f":"元トマト!F71-F$2","v":2.3E-2},{"$f":"元トマト!G71-G$2","v":1.7000000000000001E-2},{"$f":"元トマト!H71-H$2","v":-7.0000000000000001E-3},{"$f":"元トマト!I71-I$2","v":1.4999999999999999E-2}]
[368,{"$f":"元トマト!B72-B$2","v":4.9999999999999996E-2},{"$f":"元トマト!C72-C$2","v":0.13699999999999998},{"$f":"元トマト!D72-D$2","v":6.4000000000000001E-2},{"$f":"元トマト!E72-E$2","v":2.1000000000000001E-2},{"$f":"元トマト!F72-F$2","v":2.3E-2},{"$f":"元トマト!G72-G$2","v":1.8000000000000002E-2},{"$f":"元トマト!H72-H$2","v":-7.0000000000000001E-3},{"$f":"元トマト!I72-I$2","v":1.6E-2}]
[369,{"$f":"元トマト!B73-B$2","v":4.7999999999999994E-2},{"$f":"元トマト!C73-C$2","v":0.13200000000000001},{"$f":"元トマト!D73-D$2","v":6.0999999999999999E-2},{"$f":"元トマト!E73-E$2","v":0.02},{"$f":"元トマト!F73-F$2","v":2.1999999999999999E-2},{"$f":"元トマト!G73-G$2","v":1.7000000000000001E-2},{"$f":"元トマト!H73-H$2","v":-7.0000000000000001E-3},{"$f":"元トマト!I73-I$2","v":1.6E-2}]
[370,{"$f":"元トマト!B74-B$2","v":4.5999999999999999E-2},{"$f":"元トマト!C74-C$2","v":0.128},{"$f":"元トマト!D74-D$2","v":5.9000000000000004E-2},{"$f":"元トマト!E74-E$2","v":0.02},{"$f":"元トマト!F74-F$2","v":2.0999999999999998E-2},{"$f":"元トマト!G74-G$2","v":1.8000000000000002E-2},{"$f":"元トマト!H74-H$2","v":-7.0000000000000001E-3},{"$f":"元トマト!I74-I$2","v":1.6E-2}]
[371,{"$f":"元トマト!B75-B$2","v":4.2999999999999997E-2},{"$f":"元トマト!C75-C$2","v":0.123},{"$f":"元トマト!D75-D$2","v":5.7000000000000002E-2},{"$f":"元トマト!E75-E$2","v":1.9E-2},{"$f":"元トマト!F75-F$2","v":2.0999999999999998E-2},{"$f":"元トマト!G75-G$2","v":1.8000000000000002E-2},{"$f":"元トマト!H75-H$2","v":-8.0000000000000002E-3},{"$f":"元トマト!I75-I$2","v":1.6E-2}]
[372,{"$f":"元トマト!B76-B$2","v":3.9999999999999994E-2},{"$f":"元トマト!C76-C$2","v":0.12},{"$f":"元トマト!D76-D$2","v":5.5E-2},{"$f":"元トマト!E76-E$2","v":1.9E-2},{"$f":"元トマト!F76-F$2","v":2.0999999999999998E-2},{"$f":"元トマト!G76-G$2","v":1.8000000000000002E-2},{"$f":"元トマト!H76-H$2","v":-8.0000000000000002E-3},{"$f":"元トマト!I76-I$2","v":1.6E-2}]
[373,{"$f":"元トマト!B77-B$2","v":3.9E-2},{"$f":"元トマト!C77-C$2","v":0.11799999999999999},{"$f":"元トマト!D77-D$2","v":5.3999999999999999E-2},{"$f":"元トマト!E77-E$2","v":1.7999999999999999E-2},{"$f":"元トマト!F77-F$2","v":1.9999999999999997E-2},{"$f":"元トマト!G77-G$2","v":1.8000000000000002E-2},{"$f":"元トマト!H77-H$2","v":-8.0000000000000002E-3},{"$f":"元トマト!I77-I$2","v":1.6E-2}]
[374,{"$f":"元トマト!B78-B$2","v":3.6999999999999998E-2},{"$f":"元トマト!C78-C$2","v":0.11699999999999999},{"$f":"元トマト!D78-D$2","v":5.3999999999999999E-2},{"$f":"元トマト!E78-E$2","v":1.7999999999999999E-2},{"$f":"元トマト!F78-F$2","v":1.9999999999999997E-2},{"$f":"元トマト!G78-G$2","v":1.8000000000000002E-2},{"$f":"元トマト!H78-H$2","v":-8.0000000000000002E-3},{"$f":"元トマト!I78-I$2","v":1.6E-2}]
[375,{"$f":"元トマト!B79-B$2","v":3.5999999999999997E-2},{"$f":"元トマト!C79-C$2","v":0.11699999999999999},{"$f":"元トマト!D79-D$2","v":5.3999999999999999E-2},{"$f":"元トマト!E79-E$2","v":1.7999999999999999E-2},{"$f":"元トマト!F79-F$2","v":1.9000000000000003E-2},{"$f":"元トマト!G79-G$2","v":1.9000000000000003E-2},{"$f":"元トマト!H79-H$2","v":-7.0000000000000001E-3},{"$f":"元トマト!I79-I$2","v":1.6E-2}]
[376,{"$f":"元トマト!B80-B$2","v":3.5999999999999997E-2},{"$f":"元トマト!C80-C$2","v":0.11799999999999999},{"$f":"元トマト!D80-D$2","v":5.5E-2},{"$f":"元トマト!E80-E$2","v":1.7999999999999999E-2},{"$f":"元トマト!F80-F$2","v":1.9000000000000003E-2},{"$f":"元トマト!G80-G$2","v":1.9000000000000003E-2},{"$f":"元トマト!H80-H$2","v":-7.0000000000000001E-3},{"$f":"元トマト!I80-I$2","v":1.7000000000000001E-2}]
[377,{"$f":"元トマト!B81-B$2","v":3.5999999999999997E-2},{"$f":"元トマト!C81-C$2","v":0.12},{"$f":"元トマト!D81-D$2","v":5.6000000000000001E-2},{"$f":"元トマト!E81-E$2","v":1.9E-2},{"$f":"元トマト!F81-F$2","v":1.9000000000000003E-2},{"$f":"元トマト!G81-G$2","v":1.9000000000000003E-2},{"$f":"元トマト!H81-H$2","v":-7.0000000000000001E-3},{"$f":"元トマト!I81-I$2","v":1.7000000000000001E-2}]
[378,{"$f":"元トマト!B82-B$2","v":3.5999999999999997E-2},{"$f":"元トマト!C82-C$2","v":0.122},{"$f":"元トマト!D82-D$2","v":5.7000000000000002E-2},{"$f":"元トマト!E82-E$2","v":1.9E-2},{"$f":"元トマト!F82-F$2","v":1.9000000000000003E-2},{"$f":"元トマト!G82-G$2","v":1.9000000000000003E-2},{"$f":"元トマト!H82-H$2","v":-7.0000000000000001E-3},{"$f":"元トマト!I82-I$2","v":1.7000000000000001E-2}]
[379,{"$f":"元トマト!B83-B$2","v":3.4999999999999996E-2},{"$f":"元トマト!C83-C$2","v":0.124},{"$f":"元トマト!D83-D$2","v":5.8000000000000003E-2},{"$f":"元トマト!E83-E$2","v":1.9E-2},{"$f":"元トマト!F83-F$2","v":1.9000000000000003E-2},{"$f":"元トマト!G83-G$2","v":1.9000000000000003E-2},{"$f":"元トマト!H83-H$2","v":-7.0000000000000001E-3},{"$f":"元トマト!I83-I$2","v":1.7000000000000001E-2}]
[380,{"$f":"元トマト!B84-B$2","v":3.4999999999999996E-2},{"$f":"元トマト!C84-C$2","v":0.126},{"$f":"元トマト!D84-D$2","v":5.9000000000000004E-2},{"$f":"元トマト!E84-E$2","v":1.9E-2},{"$f":"元トマト!F84-F$2","v":1.9000000000000003E-2},{"$f":"元トマト!G84-G$2","v":1.9000000000000003E-2},{"$f":"元トマト!H84-H$2","v":-7.0000000000000001E-3},{"$f":"元トマト!I84-I$2","v":1.7000000000000001E-2}]
[381,{"$f":"元トマト!B85-B$2","v":3.4999999999999996E-2},{"$f":"元トマト!C85-C$2","v":0.13},{"$f":"元トマト!D85-D$2","v":6.0999999999999999E-2},{"$f":"元トマト!E85-E$2","v":1.9E-2},{"$f":"元トマト!F85-F$2","v":1.9000000000000003E-2},{"$f":"元トマト!G85-G$2","v":1.9000000000000003E-2},{"$f":"元トマト!H85-H$2","v":-7.0000000000000001E-3},{"$f":"元トマト!I85-I$2","v":1.7000000000000001E-2}]
[382,{"$f":"元トマト!B86-B$2","v":3.6999999999999998E-2},{"$f":"元トマト!C86-C$2","v":0.13399999999999998},{"$f":"元トマト!D86-D$2","v":6.3E-2},{"$f":"元トマト!E86-E$2","v":0.02},{"$f":"元トマト!F86-F$2","v":1.9000000000000003E-2},{"$f":"元トマト!G86-G$2","v":1.9000000000000003E-2},{"$f":"元トマト!H86-H$2","v":-6.0000000000000001E-3},{"$f":"元トマト!I86-I$2","v":1.7000000000000001E-2}]
[383,{"$f":"元トマト!B87-B$2","v":3.7999999999999999E-2},{"$f":"元トマト!C87-C$2","v":0.13899999999999998},{"$f":"元トマト!D87-D$2","v":6.6000000000000003E-2},{"$f":"元トマト!E87-E$2","v":0.02},{"$f":"元トマト!F87-F$2","v":1.8000000000000002E-2},{"$f":"元トマト!G87-G$2","v":1.9999999999999997E-2},{"$f":"元トマト!H87-H$2","v":-6.0000000000000001E-3},{"$f":"元トマト!I87-I$2","v":1.8000000000000002E-2}]
[384,{"$f":"元トマト!B88-B$2","v":3.9E-2},{"$f":"元トマト!C88-C$2","v":0.14399999999999999},{"$f":"元トマト!D88-D$2","v":6.7999999999999991E-2},{"$f":"元トマト!E88-E$2","v":2.1000000000000001E-2},{"$f":"元トマト!F88-F$2","v":1.8000000000000002E-2},{"$f":"元トマト!G88-G$2","v":1.9999999999999997E-2},{"$f":"元トマト!H88-H$2","v":-6.0000000000000001E-3},{"$f":"元トマト!I88-I$2","v":1.8000000000000002E-2}]
[385,{"$f":"元トマト!B89-B$2","v":3.9999999999999994E-2},{"$f":"元トマト!C89-C$2","v":0.14899999999999999},{"$f":"元トマト!D89-D$2","v":7.0999999999999994E-2},{"$f":"元トマト!E89-E$2","v":2.1000000000000001E-2},{"$f":"元トマト!F89-F$2","v":1.8000000000000002E-2},{"$f":"元トマト!G89-G$2","v":1.9000000000000003E-2},{"$f":"元トマト!H89-H$2","v":-6.0000000000000001E-3},{"$f":"元トマト!I89-I$2","v":1.7000000000000001E-2}]
[386,{"$f":"元トマト!B90-B$2","v":4.1999999999999996E-2},{"$f":"元トマト!C90-C$2","v":0.155},{"$f":"元トマト!D90-D$2","v":7.4999999999999997E-2},{"$f":"元トマト!E90-E$2","v":2.1000000000000001E-2},{"$f":"元トマト!F90-F$2","v":1.9000000000000003E-2},{"$f":"元トマト!G90-G$2","v":1.9999999999999997E-2},{"$f":"元トマト!H90-H$2","v":-6.0000000000000001E-3},{"$f":"元トマト!I90-I$2","v":1.8000000000000002E-2}]
[387,{"$f":"元トマト!B91-B$2","v":4.3999999999999997E-2},{"$f":"元トマト!C91-C$2","v":0.16200000000000001},{"$f":"元トマト!D91-D$2","v":7.8E-2},{"$f":"元トマト!E91-E$2","v":2.1999999999999999E-2},{"$f":"元トマト!F91-F$2","v":1.9000000000000003E-2},{"$f":"元トマト!G91-G$2","v":2.0999999999999998E-2},{"$f":"元トマト!H91-H$2","v":-5.0000000000000001E-3},{"$f":"元トマト!I91-I$2","v":1.9000000000000003E-2}]
[388,{"$f":"元トマト!B92-B$2","v":4.5999999999999999E-2},{"$f":"元トマト!C92-C$2","v":0.16899999999999998},{"$f":"元トマト!D92-D$2","v":8.199999999999999E-2},{"$f":"元トマト!E92-E$2","v":2.1999999999999999E-2},{"$f":"元トマト!F92-F$2","v":1.9000000000000003E-2},{"$f":"元トマト!G92-G$2","v":2.0999999999999998E-2},{"$f":"元トマト!H92-H$2","v":-5.0000000000000001E-3},{"$f":"元トマト!I92-I$2","v":1.9000000000000003E-2}]
[389,{"$f":"元トマト!B93-B$2","v":4.7E-2},{"$f":"元トマト!C93-C$2","v":0.17399999999999999},{"$f":"元トマト!D93-D$2","v":8.3999999999999991E-2},{"$f":"元トマト!E93-E$2","v":2.1999999999999999E-2},{"$f":"元トマト!F93-F$2","v":1.9000000000000003E-2},{"$f":"元トマト!G93-G$2","v":2.1999999999999999E-2},{"$f":"元トマト!H93-H$2","v":-5.0000000000000001E-3},{"$f":"元トマト!I93-I$2","v":1.9000000000000003E-2}]
[390,{"$f":"元トマト!B94-B$2","v":4.8999999999999995E-2},{"$f":"元トマト!C94-C$2","v":0.18099999999999999},{"$f":"元トマト!D94-D$2","v":8.5999999999999993E-2},{"$f":"元トマト!E94-E$2","v":2.3E-2},{"$f":"元トマト!F94-F$2","v":1.9000000000000003E-2},{"$f":"元トマト!G94-G$2","v":2.1999999999999999E-2},{"$f":"元トマト!H94-H$2","v":-5.0000000000000001E-3},{"$f":"元トマト!I94-I$2","v":1.9000000000000003E-2}]
[391,{"$f":"元トマト!B95-B$2","v":5.0999999999999997E-2},{"$f":"元トマト!C95-C$2","v":0.188},{"$f":"元トマト!D95-D$2","v":0.09},{"$f":"元トマト!E95-E$2","v":2.3E-2},{"$f":"元トマト!F95-F$2","v":1.9999999999999997E-2},{"$f":"元トマト!G95-G$2","v":2.1999999999999999E-2},{"$f":"元トマト!H95-H$2","v":-5.0000000000000001E-3},{"$f":"元トマト!I95-I$2","v":1.9999999999999997E-2}]
[392,{"$f":"元トマト!B96-B$2","v":5.2999999999999999E-2},{"$f":"元トマト!C96-C$2","v":0.19400000000000001},{"$f":"元トマト!D96-D$2","v":9.2999999999999999E-2},{"$f":"元トマト!E96-E$2","v":2.4E-2},{"$f":"元トマト!F96-F$2","v":1.9999999999999997E-2},{"$f":"元トマト!G96-G$2","v":2.3E-2},{"$f":"元トマト!H96-H$2","v":-4.0000000000000001E-3},{"$f":"元トマト!I96-I$2","v":2.0999999999999998E-2}]
[393,{"$f":"元トマト!B97-B$2","v":5.5999999999999994E-2},{"$f":"元トマト!C97-C$2","v":0.20099999999999998},{"$f":"元トマト!D97-D$2","v":9.5999999999999988E-2},{"$f":"元トマト!E97-E$2","v":2.4E-2},{"$f":"元トマト!F97-F$2","v":1.9000000000000003E-2},{"$f":"元トマト!G97-G$2","v":2.3E-2},{"$f":"元トマト!H97-H$2","v":-4.0000000000000001E-3},{"$f":"元トマト!I97-I$2","v":2.0999999999999998E-2}]
[394,{"$f":"元トマト!B98-B$2","v":5.7999999999999996E-2},{"$f":"元トマト!C98-C$2","v":0.20699999999999999},{"$f":"元トマト!D98-D$2","v":9.8999999999999991E-2},{"$f":"元トマト!E98-E$2","v":2.4E-2},{"$f":"元トマト!F98-F$2","v":1.9000000000000003E-2},{"$f":"元トマト!G98-G$2","v":2.3E-2},{"$f":"元トマト!H98-H$2","v":-4.0000000000000001E-3},{"$f":"元トマト!I98-I$2","v":2.1999999999999999E-2}]
[395,{"$f":"元トマト!B99-B$2","v":0.06},{"$f":"元トマト!C99-C$2","v":0.214},{"$f":"元トマト!D99-D$2","v":0.10199999999999999},{"$f":"元トマト!E99-E$2","v":2.4999999999999998E-2},{"$f":"元トマト!F99-F$2","v":1.9999999999999997E-2},{"$f":"元トマト!G99-G$2","v":2.4E-2},{"$f":"元トマト!H99-H$2","v":-4.0000000000000001E-3},{"$f":"元トマト!I99-I$2","v":2.1999999999999999E-2}]
[396,{"$f":"元トマト!B100-B$2","v":6.2E-2},{"$f":"元トマト!C100-C$2","v":0.22},{"$f":"元トマト!D100-D$2","v":0.104},{"$f":"元トマト!E100-E$2","v":2.4999999999999998E-2},{"$f":"元トマト!F100-F$2","v":1.9999999999999997E-2},{"$f":"元トマト!G100-G$2","v":2.4E-2},{"$f":"元トマト!H100-H$2","v":-4.0000000000000001E-3},{"$f":"元トマト!I100-I$2","v":2.1999999999999999E-2}]
[397,{"$f":"元トマト!B101-B$2","v":6.3E-2},{"$f":"元トマト!C101-C$2","v":0.22600000000000001},{"$f":"元トマト!D101-D$2","v":0.106},{"$f":"元トマト!E101-E$2","v":2.4999999999999998E-2},{"$f":"元トマト!F101-F$2","v":1.9999999999999997E-2},{"$f":"元トマト!G101-G$2","v":2.4E-2},{"$f":"元トマト!H101-H$2","v":-4.0000000000000001E-3},{"$f":"元トマト!I101-I$2","v":2.3E-2}]
[398,{"$f":"元トマト!B102-B$2","v":6.5000000000000002E-2},{"$f":"元トマト!C102-C$2","v":0.23099999999999998},{"$f":"元トマト!D102-D$2","v":0.109},{"$f":"元トマト!E102-E$2","v":2.4999999999999998E-2},{"$f":"元トマト!F102-F$2","v":1.9999999999999997E-2},{"$f":"元トマト!G102-G$2","v":2.5000000000000001E-2},{"$f":"元トマト!H102-H$2","v":-3.0000000000000001E-3},{"$f":"元トマト!I102-I$2","v":2.3E-2}]
[399,{"$f":"元トマト!B103-B$2","v":6.7000000000000004E-2},{"$f":"元トマト!C103-C$2","v":0.23699999999999999},{"$f":"元トマト!D103-D$2","v":0.11199999999999999},{"$f":"元トマト!E103-E$2","v":2.5999999999999999E-2},{"$f":"元トマト!F103-F$2","v":1.9999999999999997E-2},{"$f":"元トマト!G103-G$2","v":2.5000000000000001E-2},{"$f":"元トマト!H103-H$2","v":-3.0000000000000001E-3},{"$f":"元トマト!I103-I$2","v":2.3E-2}]
[400,{"$f":"元トマト!B104-B$2","v":6.7999999999999991E-2},{"$f":"元トマト!C104-C$2","v":0.24399999999999999},{"$f":"元トマト!D104-D$2","v":0.11599999999999999},{"$f":"元トマト!E104-E$2","v":2.5999999999999999E-2},{"$f":"元トマト!F104-F$2","v":1.9999999999999997E-2},{"$f":"元トマト!G104-G$2","v":2.6000000000000002E-2},{"$f":"元トマト!H104-H$2","v":-3.0000000000000001E-3},{"$f":"元トマト!I104-I$2","v":2.4E-2}]
[401,{"$f":"元トマト!B105-B$2","v":6.8999999999999992E-2},{"$f":"元トマト!C105-C$2","v":0.251},{"$f":"元トマト!D105-D$2","v":0.11899999999999999},{"$f":"元トマト!E105-E$2","v":2.7E-2},{"$f":"元トマト!F105-F$2","v":2.0999999999999998E-2},{"$f":"元トマト!G105-G$2","v":2.6000000000000002E-2},{"$f":"元トマト!H105-H$2","v":-2E-3},{"$f":"元トマト!I105-I$2","v":2.4E-2}]
[402,{"$f":"元トマト!B106-B$2","v":7.0999999999999994E-2},{"$f":"元トマト!C106-C$2","v":0.25900000000000001},{"$f":"元トマト!D106-D$2","v":0.124},{"$f":"元トマト!E106-E$2","v":2.7E-2},{"$f":"元トマト!F106-F$2","v":1.9999999999999997E-2},{"$f":"元トマト!G106-G$2","v":2.6000000000000002E-2},{"$f":"元トマト!H106-H$2","v":-2E-3},{"$f":"元トマト!I106-I$2","v":2.3E-2}]
[403,{"$f":"元トマト!B107-B$2","v":7.1999999999999995E-2},{"$f":"元トマト!C107-C$2","v":0.26900000000000002},{"$f":"元トマト!D107-D$2","v":0.129},{"$f":"元トマト!E107-E$2","v":2.7E-2},{"$f":"元トマト!F107-F$2","v":1.9999999999999997E-2},{"$f":"元トマト!G107-G$2","v":2.6000000000000002E-2},{"$f":"元トマト!H107-H$2","v":-2E-3},{"$f":"元トマト!I107-I$2","v":2.3E-2}]
[404,{"$f":"元トマト!B108-B$2","v":7.3999999999999996E-2},{"$f":"元トマト!C108-C$2","v":0.27899999999999997},{"$f":"元トマト!D108-D$2","v":0.13500000000000001},{"$f":"元トマト!E108-E$2","v":2.8000000000000001E-2},{"$f":"元トマト!F108-F$2","v":1.9999999999999997E-2},{"$f":"元トマト!G108-G$2","v":2.7000000000000003E-2},{"$f":"元トマト!H108-H$2","v":-2E-3},{"$f":"元トマト!I108-I$2","v":2.4E-2}]
[405,{"$f":"元トマト!B109-B$2","v":7.5999999999999998E-2},{"$f":"元トマト!C109-C$2","v":0.28899999999999998},{"$f":"元トマト!D109-D$2","v":0.14100000000000001},{"$f":"元トマト!E109-E$2","v":2.8999999999999998E-2},{"$f":"元トマト!F109-F$2","v":1.9999999999999997E-2},{"$f":"元トマト!G109-G$2","v":2.7000000000000003E-2},{"$f":"元トマト!H109-H$2","v":-2E-3},{"$f":"元トマト!I109-I$2","v":2.4E-2}]
[406,{"$f":"元トマト!B110-B$2","v":7.8E-2},{"$f":"元トマト!C110-C$2","v":0.29899999999999999},{"$f":"元トマト!D110-D$2","v":0.14800000000000002},{"$f":"元トマト!E110-E$2","v":0.03},{"$f":"元トマト!F110-F$2","v":1.9999999999999997E-2},{"$f":"元トマト!G110-G$2","v":2.7000000000000003E-2},{"$f":"元トマト!H110-H$2","v":-1.0000000000000009E-3},{"$f":"元トマト!I110-I$2","v":2.5000000000000001E-2}]
[407,{"$f":"元トマト!B111-B$2","v":0.08},{"$f":"元トマト!C111-C$2","v":0.311},{"$f":"元トマト!D111-D$2","v":0.154},{"$f":"元トマト!E111-E$2","v":3.1E-2},{"$f":"元トマト!F111-F$2","v":2.0999999999999998E-2},{"$f":"元トマト!G111-G$2","v":2.8000000000000004E-2},{"$f":"元トマト!H111-H$2","v":0},{"$f":"元トマト!I111-I$2","v":2.5000000000000001E-2}]
[408,{"$f":"元トマト!B112-B$2","v":8.1000000000000003E-2},{"$f":"元トマト!C112-C$2","v":0.32300000000000001},{"$f":"元トマト!D112-D$2","v":0.16},{"$f":"元トマト!E112-E$2","v":3.1E-2},{"$f":"元トマト!F112-F$2","v":2.0999999999999998E-2},{"$f":"元トマト!G112-G$2","v":2.7000000000000003E-2},{"$f":"元トマト!H112-H$2","v":0},{"$f":"元トマト!I112-I$2","v":2.5000000000000001E-2}]
[409,{"$f":"元トマト!B113-B$2","v":8.4999999999999992E-2},{"$f":"元トマト!C113-C$2","v":0.33599999999999997},{"$f":"元トマト!D113-D$2","v":0.16700000000000001},{"$f":"元トマト!E113-E$2","v":3.2000000000000001E-2},{"$f":"元トマト!F113-F$2","v":1.9999999999999997E-2},{"$f":"元トマト!G113-G$2","v":2.7000000000000003E-2},{"$f":"元トマト!H113-H$2","v":0},{"$f":"元トマト!I113-I$2","v":2.5000000000000001E-2}]
[410,{"$f":"元トマト!B114-B$2","v":8.7999999999999995E-2},{"$f":"元トマト!C114-C$2","v":0.35},{"$f":"元トマト!D114-D$2","v":0.17500000000000002},{"$f":"元トマト!E114-E$2","v":3.3000000000000002E-2},{"$f":"元トマト!F114-F$2","v":1.9999999999999997E-2},{"$f":"元トマト!G114-G$2","v":2.8000000000000004E-2},{"$f":"元トマト!H114-H$2","v":0},{"$f":"元トマト!I114-I$2","v":2.6000000000000002E-2}]
[411,{"$f":"元トマト!B115-B$2","v":9.0999999999999998E-2},{"$f":"元トマト!C115-C$2","v":0.36399999999999999},{"$f":"元トマト!D115-D$2","v":0.182},{"$f":"元トマト!E115-E$2","v":3.4000000000000002E-2},{"$f":"元トマト!F115-F$2","v":2.0999999999999998E-2},{"$f":"元トマト!G115-G$2","v":2.8000000000000004E-2},{"$f":"元トマト!H115-H$2","v":9.9999999999999915E-4},{"$f":"元トマト!I115-I$2","v":2.6000000000000002E-2}]
[412,{"$f":"元トマト!B116-B$2","v":9.2999999999999999E-2},{"$f":"元トマト!C116-C$2","v":0.375},{"$f":"元トマト!D116-D$2","v":0.188},{"$f":"元トマト!E116-E$2","v":3.5000000000000003E-2},{"$f":"元トマト!F116-F$2","v":2.0999999999999998E-2},{"$f":"元トマト!G116-G$2","v":2.8000000000000004E-2},{"$f":"元トマト!H116-H$2","v":9.9999999999999915E-4},{"$f":"元トマト!I116-I$2","v":2.6000000000000002E-2}]
[413,{"$f":"元トマト!B117-B$2","v":9.6000000000000002E-2},{"$f":"元トマト!C117-C$2","v":0.38700000000000001},{"$f":"元トマト!D117-D$2","v":0.19400000000000001},{"$f":"元トマト!E117-E$2","v":3.6000000000000004E-2},{"$f":"元トマト!F117-F$2","v":2.0999999999999998E-2},{"$f":"元トマト!G117-G$2","v":2.9000000000000005E-2},{"$f":"元トマト!H117-H$2","v":9.9999999999999915E-4},{"$f":"元トマト!I117-I$2","v":2.7000000000000003E-2}]
[414,{"$f":"元トマト!B118-B$2","v":9.9999999999999992E-2},{"$f":"元トマト!C118-C$2","v":0.39800000000000002},{"$f":"元トマト!D118-D$2","v":0.2},{"$f":"元トマト!E118-E$2","v":3.6000000000000004E-2},{"$f":"元トマト!F118-F$2","v":2.0999999999999998E-2},{"$f":"元トマト!G118-G$2","v":2.9000000000000005E-2},{"$f":"元トマト!H118-H$2","v":2E-3},{"$f":"元トマト!I118-I$2","v":2.7000000000000003E-2}]
[415,{"$f":"元トマト!B119-B$2","v":0.10199999999999999},{"$f":"元トマト!C119-C$2","v":0.40799999999999997},{"$f":"元トマト!D119-D$2","v":0.20400000000000001},{"$f":"元トマト!E119-E$2","v":3.5000000000000003E-2},{"$f":"元トマト!F119-F$2","v":2.0999999999999998E-2},{"$f":"元トマト!G119-G$2","v":2.8000000000000004E-2},{"$f":"元トマト!H119-H$2","v":2E-3},{"$f":"元トマト!I119-I$2","v":2.7000000000000003E-2}]
[416,{"$f":"元トマト!B120-B$2","v":0.106},{"$f":"元トマト!C120-C$2","v":0.41699999999999998},{"$f":"元トマト!D120-D$2","v":0.20900000000000002},{"$f":"元トマト!E120-E$2","v":3.6000000000000004E-2},{"$f":"元トマト!F120-F$2","v":2.1999999999999999E-2},{"$f":"元トマト!G120-G$2","v":2.9000000000000005E-2},{"$f":"元トマト!H120-H$2","v":2.9999999999999992E-3},{"$f":"元トマト!I120-I$2","v":2.7999999999999997E-2}]
[417,{"$f":"元トマト!B121-B$2","v":0.11},{"$f":"元トマト!C121-C$2","v":0.42499999999999999},{"$f":"元トマト!D121-D$2","v":0.21299999999999999},{"$f":"元トマト!E121-E$2","v":3.6000000000000004E-2},{"$f":"元トマト!F121-F$2","v":2.1999999999999999E-2},{"$f":"元トマト!G121-G$2","v":0.03},{"$f":"元トマト!H121-H$2","v":2.9999999999999992E-3},{"$f":"元トマト!I121-I$2","v":2.8999999999999998E-2}]
[418,{"$f":"元トマト!B122-B$2","v":0.112},{"$f":"元トマト!C122-C$2","v":0.433},{"$f":"元トマト!D122-D$2","v":0.215},{"$f":"元トマト!E122-E$2","v":3.6999999999999998E-2},{"$f":"元トマト!F122-F$2","v":2.1999999999999999E-2},{"$f":"元トマト!G122-G$2","v":0.03},{"$f":"元トマト!H122-H$2","v":2.9999999999999992E-3},{"$f":"元トマト!I122-I$2","v":2.8999999999999998E-2}]
[419,{"$f":"元トマト!B123-B$2","v":0.114},{"$f":"元トマト!C123-C$2","v":0.438},{"$f":"元トマト!D123-D$2","v":0.217},{"$f":"元トマト!E123-E$2","v":3.7999999999999999E-2},{"$f":"元トマト!F123-F$2","v":2.1999999999999999E-2},{"$f":"元トマト!G123-G$2","v":0.03},{"$f":"元トマト!H123-H$2","v":2.9999999999999992E-3},{"$f":"元トマト!I123-I$2","v":2.8999999999999998E-2}]
[420,{"$f":"元トマト!B124-B$2","v":0.11699999999999999},{"$f":"元トマト!C124-C$2","v":0.44400000000000001},{"$f":"元トマト!D124-D$2","v":0.219},{"$f":"元トマト!E124-E$2","v":3.7999999999999999E-2},{"$f":"元トマト!F124-F$2","v":2.1999999999999999E-2},{"$f":"元トマト!G124-G$2","v":0.03},{"$f":"元トマト!H124-H$2","v":2.9999999999999992E-3},{"$f":"元トマト!I124-I$2","v":2.8999999999999998E-2}]
[421,{"$f":"元トマト!B125-B$2","v":0.12},{"$f":"元トマト!C125-C$2","v":0.45100000000000001},{"$f":"元トマト!D125-D$2","v":0.223},{"$f":"元トマト!E125-E$2","v":3.9E-2},{"$f":"元トマト!F125-F$2","v":2.1999999999999999E-2},{"$f":"元トマト!G125-G$2","v":3.1E-2},{"$f":"元トマト!H125-H$2","v":4.0000000000000001E-3},{"$f":"元トマト!I125-I$2","v":0.03}]
[422,{"$f":"元トマト!B126-B$2","v":0.121},{"$f":"元トマト!C126-C$2","v":0.45700000000000002},{"$f":"元トマト!D126-D$2","v":0.22600000000000001},{"$f":"元トマト!E126-E$2","v":3.9E-2},{"$f":"元トマト!F126-F$2","v":2.1999999999999999E-2},{"$f":"元トマト!G126-G$2","v":3.1E-2},{"$f":"元トマト!H126-H$2","v":2.9999999999999992E-3},{"$f":"元トマト!I126-I$2","v":2.8999999999999998E-2}]
[423,{"$f":"元トマト!B127-B$2","v":0.123},{"$f":"元トマト!C127-C$2","v":0.46399999999999997},{"$f":"元トマト!D127-D$2","v":0.22800000000000001},{"$f":"元トマト!E127-E$2","v":3.9E-2},{"$f":"元トマト!F127-F$2","v":2.1999999999999999E-2},{"$f":"元トマト!G127-G$2","v":3.1E-2},{"$f":"元トマト!H127-H$2","v":4.0000000000000001E-3},{"$f":"元トマト!I127-I$2","v":2.8999999999999998E-2}]
[424,{"$f":"元トマト!B128-B$2","v":0.124},{"$f":"元トマト!C128-C$2","v":0.47199999999999998},{"$f":"元トマト!D128-D$2","v":0.23300000000000001},{"$f":"元トマト!E128-E$2","v":0.04},{"$f":"元トマト!F128-F$2","v":2.3E-2},{"$f":"元トマト!G128-G$2","v":3.1E-2},{"$f":"元トマト!H128-H$2","v":4.0000000000000001E-3},{"$f":"元トマト!I128-I$2","v":2.8999999999999998E-2}]
[425,{"$f":"元トマト!B129-B$2","v":0.125},{"$f":"元トマト!C129-C$2","v":0.47899999999999998},{"$f":"元トマト!D129-D$2","v":0.23700000000000002},{"$f":"元トマト!E129-E$2","v":0.04},{"$f":"元トマト!F129-F$2","v":2.1999999999999999E-2},{"$f":"元トマト!G129-G$2","v":0.03},{"$f":"元トマト!H129-H$2","v":4.0000000000000001E-3},{"$f":"元トマト!I129-I$2","v":2.8999999999999998E-2}]
[426,{"$f":"元トマト!B130-B$2","v":0.126},{"$f":"元トマト!C130-C$2","v":0.48799999999999999},{"$f":"元トマト!D130-D$2","v":0.24200000000000002},{"$f":"元トマト!E130-E$2","v":0.04},{"$f":"元トマト!F130-F$2","v":2.1999999999999999E-2},{"$f":"元トマト!G130-G$2","v":0.03},{"$f":"元トマト!H130-H$2","v":4.0000000000000001E-3},{"$f":"元トマト!I130-I$2","v":2.8999999999999998E-2}]
[427,{"$f":"元トマト!B131-B$2","v":0.127},{"$f":"元トマト!C131-C$2","v":0.499},{"$f":"元トマト!D131-D$2","v":0.25},{"$f":"元トマト!E131-E$2","v":4.1000000000000002E-2},{"$f":"元トマト!F131-F$2","v":2.1999999999999999E-2},{"$f":"元トマト!G131-G$2","v":2.9000000000000005E-2},{"$f":"元トマト!H131-H$2","v":4.0000000000000001E-3},{"$f":"元トマト!I131-I$2","v":2.8999999999999998E-2}]
[428,{"$f":"元トマト!B132-B$2","v":0.129},{"$f":"元トマト!C132-C$2","v":0.51400000000000001},{"$f":"元トマト!D132-D$2","v":0.25800000000000001},{"$f":"元トマト!E132-E$2","v":4.2000000000000003E-2},{"$f":"元トマト!F132-F$2","v":2.3E-2},{"$f":"元トマト!G132-G$2","v":0.03},{"$f":"元トマト!H132-H$2","v":4.9999999999999992E-3},{"$f":"元トマト!I132-I$2","v":2.8999999999999998E-2}]
[429,{"$f":"元トマト!B133-B$2","v":0.13100000000000001},{"$f":"元トマト!C133-C$2","v":0.53100000000000003},{"$f":"元トマト!D133-D$2","v":0.26800000000000002},{"$f":"元トマト!E133-E$2","v":4.2999999999999997E-2},{"$f":"元トマト!F133-F$2","v":2.3E-2},{"$f":"元トマト!G133-G$2","v":0.03},{"$f":"元トマト!H133-H$2","v":4.9999999999999992E-3},{"$f":"元トマト!I133-I$2","v":0.03}]
[430,{"$f":"元トマト!B134-B$2","v":0.13300000000000001},{"$f":"元トマト!C134-C$2","v":0.55000000000000004},{"$f":"元トマト!D134-D$2","v":0.27900000000000003},{"$f":"元トマト!E134-E$2","v":4.4999999999999998E-2},{"$f":"元トマト!F134-F$2","v":2.3E-2},{"$f":"元トマト!G134-G$2","v":3.1E-2},{"$f":"元トマト!H134-H$2","v":4.9999999999999992E-3},{"$f":"元トマト!I134-I$2","v":0.03}]
[431,{"$f":"元トマト!B135-B$2","v":0.13400000000000001},{"$f":"元トマト!C135-C$2","v":0.56799999999999995},{"$f":"元トマト!D135-D$2","v":0.29000000000000004},{"$f":"元トマト!E135-E$2","v":4.4999999999999998E-2},{"$f":"元トマト!F135-F$2","v":2.1999999999999999E-2},{"$f":"元トマト!G135-G$2","v":0.03},{"$f":"元トマト!H135-H$2","v":4.9999999999999992E-3},{"$f":"元トマト!I135-I$2","v":2.8999999999999998E-2}]
[432,{"$f":"元トマト!B136-B$2","v":0.13700000000000001},{"$f":"元トマト!C136-C$2","v":0.58599999999999997},{"$f":"元トマト!D136-D$2","v":0.30199999999999999},{"$f":"元トマト!E136-E$2","v":4.5999999999999999E-2},{"$f":"元トマト!F136-F$2","v":2.1999999999999999E-2},{"$f":"元トマト!G136-G$2","v":0.03},{"$f":"元トマト!H136-H$2","v":4.9999999999999992E-3},{"$f":"元トマト!I136-I$2","v":2.7999999999999997E-2}]
[433,{"$f":"元トマト!B137-B$2","v":0.13899999999999998},{"$f":"元トマト!C137-C$2","v":0.60499999999999998},{"$f":"元トマト!D137-D$2","v":0.314},{"$f":"元トマト!E137-E$2","v":4.8000000000000001E-2},{"$f":"元トマト!F137-F$2","v":2.0999999999999998E-2},{"$f":"元トマト!G137-G$2","v":0.03},{"$f":"元トマト!H137-H$2","v":6.0000000000000001E-3},{"$f":"元トマト!I137-I$2","v":2.7999999999999997E-2}]
[434,{"$f":"元トマト!B138-B$2","v":0.14199999999999999},{"$f":"元トマト!C138-C$2","v":0.629},{"$f":"元トマト!D138-D$2","v":0.32900000000000001},{"$f":"元トマト!E138-E$2","v":4.9999999999999996E-2},{"$f":"元トマト!F138-F$2","v":2.1999999999999999E-2},{"$f":"元トマト!G138-G$2","v":0.03},{"$f":"元トマト!H138-H$2","v":6.0000000000000001E-3},{"$f":"元トマト!I138-I$2","v":2.7999999999999997E-2}]
[435,{"$f":"元トマト!B139-B$2","v":0.14499999999999999},{"$f":"元トマト!C139-C$2","v":0.65100000000000002},{"$f":"元トマト!D139-D$2","v":0.34100000000000003},{"$f":"元トマト!E139-E$2","v":5.1999999999999998E-2},{"$f":"元トマト!F139-F$2","v":2.1999999999999999E-2},{"$f":"元トマト!G139-G$2","v":0.03},{"$f":"元トマト!H139-H$2","v":7.000000000000001E-3},{"$f":"元トマト!I139-I$2","v":2.8999999999999998E-2}]
[436,{"$f":"元トマト!B140-B$2","v":0.14899999999999999},{"$f":"元トマト!C140-C$2","v":0.67100000000000004},{"$f":"元トマト!D140-D$2","v":0.35299999999999998},{"$f":"元トマト!E140-E$2","v":5.2999999999999999E-2},{"$f":"元トマト!F140-F$2","v":2.3E-2},{"$f":"元トマト!G140-G$2","v":3.1E-2},{"$f":"元トマト!H140-H$2","v":7.9999999999999984E-3},{"$f":"元トマト!I140-I$2","v":0.03}]
[437,{"$f":"元トマト!B141-B$2","v":0.152},{"$f":"元トマト!C141-C$2","v":0.69},{"$f":"元トマト!D141-D$2","v":0.36399999999999999},{"$f":"元トマト!E141-E$2","v":5.3999999999999999E-2},{"$f":"元トマト!F141-F$2","v":2.4E-2},{"$f":"元トマト!G141-G$2","v":3.1E-2},{"$f":"元トマト!H141-H$2","v":8.9999999999999993E-3},{"$f":"元トマト!I141-I$2","v":0.03}]
[438,{"$f":"元トマト!B142-B$2","v":0.155},{"$f":"元トマト!C142-C$2","v":0.70499999999999996},{"$f":"元トマト!D142-D$2","v":0.372},{"$f":"元トマト!E142-E$2","v":5.3999999999999999E-2},{"$f":"元トマト!F142-F$2","v":2.3E-2},{"$f":"元トマト!G142-G$2","v":0.03},{"$f":"元トマト!H142-H$2","v":8.9999999999999993E-3},{"$f":"元トマト!I142-I$2","v":2.8999999999999998E-2}]
[439,{"$f":"元トマト!B143-B$2","v":0.158},{"$f":"元トマト!C143-C$2","v":0.71599999999999997},{"$f":"元トマト!D143-D$2","v":0.379},{"$f":"元トマト!E143-E$2","v":5.3999999999999999E-2},{"$f":"元トマト!F143-F$2","v":2.1999999999999999E-2},{"$f":"元トマト!G143-G$2","v":2.9000000000000005E-2},{"$f":"元トマト!H143-H$2","v":8.9999999999999993E-3},{"$f":"元トマト!I143-I$2","v":2.7999999999999997E-2}]
[440,{"$f":"元トマト!B144-B$2","v":0.161},{"$f":"元トマト!C144-C$2","v":0.72499999999999998},{"$f":"元トマト!D144-D$2","v":0.38300000000000001},{"$f":"元トマト!E144-E$2","v":5.5E-2},{"$f":"元トマト!F144-F$2","v":2.1999999999999999E-2},{"$f":"元トマト!G144-G$2","v":0.03},{"$f":"元トマト!H144-H$2","v":8.9999999999999993E-3},{"$f":"元トマト!I144-I$2","v":2.8999999999999998E-2}]
[441,{"$f":"元トマト!B145-B$2","v":0.16300000000000001},{"$f":"元トマト!C145-C$2","v":0.73399999999999999},{"$f":"元トマト!D145-D$2","v":0.38700000000000001},{"$f":"元トマト!E145-E$2","v":5.7000000000000002E-2},{"$f":"元トマト!F145-F$2","v":2.3E-2},{"$f":"元トマト!G145-G$2","v":3.1E-2},{"$f":"元トマト!H145-H$2","v":0.01},{"$f":"元トマト!I145-I$2","v":2.8999999999999998E-2}]
[442,{"$f":"元トマト!B146-B$2","v":0.16500000000000001},{"$f":"元トマト!C146-C$2","v":0.73799999999999999},{"$f":"元トマト!D146-D$2","v":0.38900000000000001},{"$f":"元トマト!E146-E$2","v":5.7000000000000002E-2},{"$f":"元トマト!F146-F$2","v":2.3E-2},{"$f":"元トマト!G146-G$2","v":3.1E-2},{"$f":"元トマト!H146-H$2","v":0.01},{"$f":"元トマト!I146-I$2","v":2.8999999999999998E-2}]
[443,{"$f":"元トマト!B147-B$2","v":0.16700000000000001},{"$f":"元トマト!C147-C$2","v":0.73799999999999999},{"$f":"元トマト!D147-D$2","v":0.38900000000000001},{"$f":"元トマト!E147-E$2","v":5.6000000000000001E-2},{"$f":"元トマト!F147-F$2","v":2.1999999999999999E-2},{"$f":"元トマト!G147-G$2","v":3.1E-2},{"$f":"元トマト!H147-H$2","v":0.01},{"$f":"元トマト!I147-I$2","v":0.03}]
[444,{"$f":"元トマト!B148-B$2","v":0.16899999999999998},{"$f":"元トマト!C148-C$2","v":0.73699999999999999},{"$f":"元トマト!D148-D$2","v":0.38700000000000001},{"$f":"元トマト!E148-E$2","v":5.6000000000000001E-2},{"$f":"元トマト!F148-F$2","v":2.3E-2},{"$f":"元トマト!G148-G$2","v":0.03},{"$f":"元トマト!H148-H$2","v":0.01},{"$f":"元トマト!I148-I$2","v":2.8999999999999998E-2}]
[445,{"$f":"元トマト!B149-B$2","v":0.16899999999999998},{"$f":"元トマト!C149-C$2","v":0.73499999999999999},{"$f":"元トマト!D149-D$2","v":0.38400000000000001},{"$f":"元トマト!E149-E$2","v":5.6000000000000001E-2},{"$f":"元トマト!F149-F$2","v":2.3E-2},{"$f":"元トマト!G149-G$2","v":3.1E-2},{"$f":"元トマト!H149-H$2","v":0.01},{"$f":"元トマト!I149-I$2","v":0.03}]
[446,{"$f":"元トマト!B150-B$2","v":0.16999999999999998},{"$f":"元トマト!C150-C$2","v":0.73},{"$f":"元トマト!D150-D$2","v":0.38},{"$f":"元トマト!E150-E$2","v":5.5E-2},{"$f":"元トマト!F150-F$2","v":2.3E-2},{"$f":"元トマト!G150-G$2","v":3.1E-2},{"$f":"元トマト!H150-H$2","v":0.01},{"$f":"元トマト!I150-I$2","v":0.03}]
[447,{"$f":"元トマト!B151-B$2","v":0.17099999999999999},{"$f":"元トマト!C151-C$2","v":0.72199999999999998},{"$f":"元トマト!D151-D$2","v":0.375},{"$f":"元トマト!E151-E$2","v":5.5E-2},{"$f":"元トマト!F151-F$2","v":2.3E-2},{"$f":"元トマト!G151-G$2","v":3.1E-2},{"$f":"元トマト!H151-H$2","v":1.1000000000000001E-2},{"$f":"元トマト!I151-I$2","v":3.1E-2}]
[448,{"$f":"元トマト!B152-B$2","v":0.16999999999999998},{"$f":"元トマト!C152-C$2","v":0.71599999999999997},{"$f":"元トマト!D152-D$2","v":0.372},{"$f":"元トマト!E152-E$2","v":5.5E-2},{"$f":"元トマト!F152-F$2","v":2.3E-2},{"$f":"元トマト!G152-G$2","v":3.1E-2},{"$f":"元トマト!H152-H$2","v":0.01},{"$f":"元トマト!I152-I$2","v":0.03}]
[449,{"$f":"元トマト!B153-B$2","v":0.16899999999999998},{"$f":"元トマト!C153-C$2","v":0.71099999999999997},{"$f":"元トマト!D153-D$2","v":0.36799999999999999},{"$f":"元トマト!E153-E$2","v":5.2999999999999999E-2},{"$f":"元トマト!F153-F$2","v":2.1999999999999999E-2},{"$f":"元トマト!G153-G$2","v":0.03},{"$f":"元トマト!H153-H$2","v":8.9999999999999993E-3},{"$f":"元トマト!I153-I$2","v":2.8999999999999998E-2}]
[450,{"$f":"元トマト!B154-B$2","v":0.16800000000000001},{"$f":"元トマト!C154-C$2","v":0.70599999999999996},{"$f":"元トマト!D154-D$2","v":0.36399999999999999},{"$f":"元トマト!E154-E$2","v":5.2999999999999999E-2},{"$f":"元トマト!F154-F$2","v":2.1999999999999999E-2},{"$f":"元トマト!G154-G$2","v":0.03},{"$f":"元トマト!H154-H$2","v":8.9999999999999993E-3},{"$f":"元トマト!I154-I$2","v":2.7999999999999997E-2}]
[451,{"$f":"元トマト!B155-B$2","v":0.16800000000000001},{"$f":"元トマト!C155-C$2","v":0.70199999999999996},{"$f":"元トマト!D155-D$2","v":0.36099999999999999},{"$f":"元トマト!E155-E$2","v":5.2999999999999999E-2},{"$f":"元トマト!F155-F$2","v":2.1999999999999999E-2},{"$f":"元トマト!G155-G$2","v":0.03},{"$f":"元トマト!H155-H$2","v":8.9999999999999993E-3},{"$f":"元トマト!I155-I$2","v":2.7999999999999997E-2}]
[452,{"$f":"元トマト!B156-B$2","v":0.16700000000000001},{"$f":"元トマト!C156-C$2","v":0.7},{"$f":"元トマト!D156-D$2","v":0.35899999999999999},{"$f":"元トマト!E156-E$2","v":5.1999999999999998E-2},{"$f":"元トマト!F156-F$2","v":2.0999999999999998E-2},{"$f":"元トマト!G156-G$2","v":2.8000000000000004E-2},{"$f":"元トマト!H156-H$2","v":8.9999999999999993E-3},{"$f":"元トマト!I156-I$2","v":2.7999999999999997E-2}]
[453,{"$f":"元トマト!B157-B$2","v":0.16700000000000001},{"$f":"元トマト!C157-C$2","v":0.70099999999999996},{"$f":"元トマト!D157-D$2","v":0.36199999999999999},{"$f":"元トマト!E157-E$2","v":5.2999999999999999E-2},{"$f":"元トマト!F157-F$2","v":2.1999999999999999E-2},{"$f":"元トマト!G157-G$2","v":2.8000000000000004E-2},{"$f":"元トマト!H157-H$2","v":0.01},{"$f":"元トマト!I157-I$2","v":2.7000000000000003E-2}]
[454,{"$f":"元トマト!B158-B$2","v":0.16600000000000001},{"$f":"元トマト!C158-C$2","v":0.70599999999999996},{"$f":"元トマト!D158-D$2","v":0.36699999999999999},{"$f":"元トマト!E158-E$2","v":5.2999999999999999E-2},{"$f":"元トマト!F158-F$2","v":2.1999999999999999E-2},{"$f":"元トマト!G158-G$2","v":2.8000000000000004E-2},{"$f":"元トマト!H158-H$2","v":8.9999999999999993E-3},{"$f":"元トマト!I158-I$2","v":2.7000000000000003E-2}]
[455,{"$f":"元トマト!B159-B$2","v":0.16500000000000001},{"$f":"元トマト!C159-C$2","v":0.71799999999999997},{"$f":"元トマト!D159-D$2","v":0.374},{"$f":"元トマト!E159-E$2","v":5.3999999999999999E-2},{"$f":"元トマト!F159-F$2","v":2.1999999999999999E-2},{"$f":"元トマト!G159-G$2","v":2.8000000000000004E-2},{"$f":"元トマト!H159-H$2","v":8.9999999999999993E-3},{"$f":"元トマト!I159-I$2","v":2.6000000000000002E-2}]
[456,{"$f":"元トマト!B160-B$2","v":0.16600000000000001},{"$f":"元トマト!C160-C$2","v":0.73399999999999999},{"$f":"元トマト!D160-D$2","v":0.38400000000000001},{"$f":"元トマト!E160-E$2","v":5.5E-2},{"$f":"元トマト!F160-F$2","v":2.0999999999999998E-2},{"$f":"元トマト!G160-G$2","v":2.7000000000000003E-2},{"$f":"元トマト!H160-H$2","v":0.01},{"$f":"元トマト!I160-I$2","v":2.6000000000000002E-2}]
[457,{"$f":"元トマト!B161-B$2","v":0.16600000000000001},{"$f":"元トマト!C161-C$2","v":0.752},{"$f":"元トマト!D161-D$2","v":0.39600000000000002},{"$f":"元トマト!E161-E$2","v":5.6000000000000001E-2},{"$f":"元トマト!F161-F$2","v":2.1999999999999999E-2},{"$f":"元トマト!G161-G$2","v":2.7000000000000003E-2},{"$f":"元トマト!H161-H$2","v":8.9999999999999993E-3},{"$f":"元トマト!I161-I$2","v":2.6000000000000002E-2}]
[458,{"$f":"元トマト!B162-B$2","v":0.16600000000000001},{"$f":"元トマト!C162-C$2","v":0.77100000000000002},{"$f":"元トマト!D162-D$2","v":0.40900000000000003},{"$f":"元トマト!E162-E$2","v":5.7999999999999996E-2},{"$f":"元トマト!F162-F$2","v":2.0999999999999998E-2},{"$f":"元トマト!G162-G$2","v":2.7000000000000003E-2},{"$f":"元トマト!H162-H$2","v":0.01},{"$f":"元トマト!I162-I$2","v":2.5000000000000001E-2}]
[459,{"$f":"元トマト!B163-B$2","v":0.16700000000000001},{"$f":"元トマト!C163-C$2","v":0.79600000000000004},{"$f":"元トマト!D163-D$2","v":0.42399999999999999},{"$f":"元トマト!E163-E$2","v":5.8999999999999997E-2},{"$f":"元トマト!F163-F$2","v":2.0999999999999998E-2},{"$f":"元トマト!G163-G$2","v":2.7000000000000003E-2},{"$f":"元トマト!H163-H$2","v":1.1000000000000001E-2},{"$f":"元トマト!I163-I$2","v":2.5000000000000001E-2}]
[460,{"$f":"元トマト!B164-B$2","v":0.16800000000000001},{"$f":"元トマト!C164-C$2","v":0.82099999999999995},{"$f":"元トマト!D164-D$2","v":0.442},{"$f":"元トマト!E164-E$2","v":6.0999999999999999E-2},{"$f":"元トマト!F164-F$2","v":2.1999999999999999E-2},{"$f":"元トマト!G164-G$2","v":2.7000000000000003E-2},{"$f":"元トマト!H164-H$2","v":1.1999999999999999E-2},{"$f":"元トマト!I164-I$2","v":2.5000000000000001E-2}]
[461,{"$f":"元トマト!B165-B$2","v":0.16800000000000001},{"$f":"元トマト!C165-C$2","v":0.85},{"$f":"元トマト!D165-D$2","v":0.46100000000000002},{"$f":"元トマト!E165-E$2","v":6.3E-2},{"$f":"元トマト!F165-F$2","v":2.0999999999999998E-2},{"$f":"元トマト!G165-G$2","v":2.6000000000000002E-2},{"$f":"元トマト!H165-H$2","v":1.2999999999999999E-2},{"$f":"元トマト!I165-I$2","v":2.5000000000000001E-2}]
[462,{"$f":"元トマト!B166-B$2","v":0.17099999999999999},{"$f":"元トマト!C166-C$2","v":0.88200000000000001},{"$f":"元トマト!D166-D$2","v":0.48199999999999998},{"$f":"元トマト!E166-E$2","v":6.6000000000000003E-2},{"$f":"元トマト!F166-F$2","v":2.1999999999999999E-2},{"$f":"元トマト!G166-G$2","v":2.7000000000000003E-2},{"$f":"元トマト!H166-H$2","v":1.4E-2},{"$f":"元トマト!I166-I$2","v":2.5000000000000001E-2}]
[463,{"$f":"元トマト!B167-B$2","v":0.17299999999999999},{"$f":"元トマト!C167-C$2","v":0.91100000000000003},{"$f":"元トマト!D167-D$2","v":0.502},{"$f":"元トマト!E167-E$2","v":6.8000000000000005E-2},{"$f":"元トマト!F167-F$2","v":2.1999999999999999E-2},{"$f":"元トマト!G167-G$2","v":2.7000000000000003E-2},{"$f":"元トマト!H167-H$2","v":1.4E-2},{"$f":"元トマト!I167-I$2","v":2.4E-2}]
[464,{"$f":"元トマト!B168-B$2","v":0.17499999999999999},{"$f":"元トマト!C168-C$2","v":0.93499999999999994},{"$f":"元トマト!D168-D$2","v":0.51900000000000002},{"$f":"元トマト!E168-E$2","v":6.9000000000000006E-2},{"$f":"元トマト!F168-F$2","v":2.0999999999999998E-2},{"$f":"元トマト!G168-G$2","v":2.7000000000000003E-2},{"$f":"元トマト!H168-H$2","v":1.4E-2},{"$f":"元トマト!I168-I$2","v":2.4E-2}]
[465,{"$f":"元トマト!B169-B$2","v":0.17599999999999999},{"$f":"元トマト!C169-C$2","v":0.95599999999999996},{"$f":"元トマト!D169-D$2","v":0.53200000000000003},{"$f":"元トマト!E169-E$2","v":7.1000000000000008E-2},{"$f":"元トマト!F169-F$2","v":2.0999999999999998E-2},{"$f":"元トマト!G169-G$2","v":2.6000000000000002E-2},{"$f":"元トマト!H169-H$2","v":1.5000000000000001E-2},{"$f":"元トマト!I169-I$2","v":2.4E-2}]
[466,{"$f":"元トマト!B170-B$2","v":0.17799999999999999},{"$f":"元トマト!C170-C$2","v":0.97499999999999998},{"$f":"元トマト!D170-D$2","v":0.54500000000000004},{"$f":"元トマト!E170-E$2","v":7.3000000000000009E-2},{"$f":"元トマト!F170-F$2","v":2.0999999999999998E-2},{"$f":"元トマト!G170-G$2","v":2.7000000000000003E-2},{"$f":"元トマト!H170-H$2","v":1.6E-2},{"$f":"元トマト!I170-I$2","v":2.5000000000000001E-2}]
[467,{"$f":"元トマト!B171-B$2","v":0.18},{"$f":"元トマト!C171-C$2","v":0.98799999999999999},{"$f":"元トマト!D171-D$2","v":0.55400000000000005},{"$f":"元トマト!E171-E$2","v":7.400000000000001E-2},{"$f":"元トマト!F171-F$2","v":2.1999999999999999E-2},{"$f":"元トマト!G171-G$2","v":2.7000000000000003E-2},{"$f":"元トマト!H171-H$2","v":1.7000000000000001E-2},{"$f":"元トマト!I171-I$2","v":2.5000000000000001E-2}]
[468,{"$f":"元トマト!B172-B$2","v":0.18099999999999999},{"$f":"元トマト!C172-C$2","v":0.99299999999999988},{"$f":"元トマト!D172-D$2","v":0.55900000000000005},{"$f":"元トマト!E172-E$2","v":7.5000000000000011E-2},{"$f":"元トマト!F172-F$2","v":2.1999999999999999E-2},{"$f":"元トマト!G172-G$2","v":2.8000000000000004E-2},{"$f":"元トマト!H172-H$2","v":1.8000000000000002E-2},{"$f":"元トマト!I172-I$2","v":2.4E-2}]
[469,{"$f":"元トマト!B173-B$2","v":0.182},{"$f":"元トマト!C173-C$2","v":0.99299999999999988},{"$f":"元トマト!D173-D$2","v":0.56000000000000005},{"$f":"元トマト!E173-E$2","v":7.5000000000000011E-2},{"$f":"元トマト!F173-F$2","v":2.1999999999999999E-2},{"$f":"元トマト!G173-G$2","v":2.7000000000000003E-2},{"$f":"元トマト!H173-H$2","v":1.8000000000000002E-2},{"$f":"元トマト!I173-I$2","v":2.4E-2}]
[470,{"$f":"元トマト!B174-B$2","v":0.182},{"$f":"元トマト!C174-C$2","v":0.98799999999999999},{"$f":"元トマト!D174-D$2","v":0.55700000000000005},{"$f":"元トマト!E174-E$2","v":7.5000000000000011E-2},{"$f":"元トマト!F174-F$2","v":2.1999999999999999E-2},{"$f":"元トマト!G174-G$2","v":2.6000000000000002E-2},{"$f":"元トマト!H174-H$2","v":1.7000000000000001E-2},{"$f":"元トマト!I174-I$2","v":2.4E-2}]
[471,{"$f":"元トマト!B175-B$2","v":0.18099999999999999},{"$f":"元トマト!C175-C$2","v":0.97699999999999998},{"$f":"元トマト!D175-D$2","v":0.55000000000000004},{"$f":"元トマト!E175-E$2","v":7.3000000000000009E-2},{"$f":"元トマト!F175-F$2","v":2.0999999999999998E-2},{"$f":"元トマト!G175-G$2","v":2.5000000000000001E-2},{"$f":"元トマト!H175-H$2","v":1.7000000000000001E-2},{"$f":"元トマト!I175-I$2","v":2.3E-2}]
[472,{"$f":"元トマト!B176-B$2","v":0.18},{"$f":"元トマト!C176-C$2","v":0.96099999999999997},{"$f":"元トマト!D176-D$2","v":0.54},{"$f":"元トマト!E176-E$2","v":7.2000000000000008E-2},{"$f":"元トマト!F176-F$2","v":2.0999999999999998E-2},{"$f":"元トマト!G176-G$2","v":2.5000000000000001E-2},{"$f":"元トマト!H176-H$2","v":1.7000000000000001E-2},{"$f":"元トマト!I176-I$2","v":2.3E-2}]
[473,{"$f":"元トマト!B177-B$2","v":0.17899999999999999},{"$f":"元トマト!C177-C$2","v":0.94099999999999995},{"$f":"元トマト!D177-D$2","v":0.52500000000000002},{"$f":"元トマト!E177-E$2","v":7.0000000000000007E-2},{"$f":"元トマト!F177-F$2","v":2.0999999999999998E-2},{"$f":"元トマト!G177-G$2","v":2.4E-2},{"$f":"元トマト!H177-H$2","v":1.6E-2},{"$f":"元トマト!I177-I$2","v":2.3E-2}]
[474,{"$f":"元トマト!B178-B$2","v":0.17599999999999999},{"$f":"元トマト!C178-C$2","v":0.91600000000000004},{"$f":"元トマト!D178-D$2","v":0.50700000000000001},{"$f":"元トマト!E178-E$2","v":6.9000000000000006E-2},{"$f":"元トマト!F178-F$2","v":2.0999999999999998E-2},{"$f":"元トマト!G178-G$2","v":2.4E-2},{"$f":"元トマト!H178-H$2","v":1.5000000000000001E-2},{"$f":"元トマト!I178-I$2","v":2.1999999999999999E-2}]
[475,{"$f":"元トマト!B179-B$2","v":0.17299999999999999},{"$f":"元トマト!C179-C$2","v":0.88500000000000001},{"$f":"元トマト!D179-D$2","v":0.48799999999999999},{"$f":"元トマト!E179-E$2","v":6.6000000000000003E-2},{"$f":"元トマト!F179-F$2","v":1.9999999999999997E-2},{"$f":"元トマト!G179-G$2","v":2.4E-2},{"$f":"元トマト!H179-H$2","v":1.4E-2},{"$f":"元トマト!I179-I$2","v":2.0999999999999998E-2}]
[476,{"$f":"元トマト!B180-B$2","v":0.17099999999999999},{"$f":"元トマト!C180-C$2","v":0.85299999999999998},{"$f":"元トマト!D180-D$2","v":0.46600000000000003},{"$f":"元トマト!E180-E$2","v":6.3E-2},{"$f":"元トマト!F180-F$2","v":1.9999999999999997E-2},{"$f":"元トマト!G180-G$2","v":2.3E-2},{"$f":"元トマト!H180-H$2","v":1.2999999999999999E-2},{"$f":"元トマト!I180-I$2","v":1.9999999999999997E-2}]
[477,{"$f":"元トマト!B181-B$2","v":0.16700000000000001},{"$f":"元トマト!C181-C$2","v":0.82},{"$f":"元トマト!D181-D$2","v":0.44500000000000001},{"$f":"元トマト!E181-E$2","v":0.06},{"$f":"元トマト!F181-F$2","v":1.9999999999999997E-2},{"$f":"元トマト!G181-G$2","v":2.1999999999999999E-2},{"$f":"元トマト!H181-H$2","v":1.1999999999999999E-2},{"$f":"元トマト!I181-I$2","v":1.9999999999999997E-2}]
[478,{"$f":"元トマト!B182-B$2","v":0.16300000000000001},{"$f":"元トマト!C182-C$2","v":0.78500000000000003},{"$f":"元トマト!D182-D$2","v":0.42399999999999999},{"$f":"元トマト!E182-E$2","v":5.7999999999999996E-2},{"$f":"元トマト!F182-F$2","v":1.9999999999999997E-2},{"$f":"元トマト!G182-G$2","v":2.1999999999999999E-2},{"$f":"元トマト!H182-H$2","v":1.1999999999999999E-2},{"$f":"元トマト!I182-I$2","v":1.9000000000000003E-2}]
[479,{"$f":"元トマト!B183-B$2","v":0.159},{"$f":"元トマト!C183-C$2","v":0.751},{"$f":"元トマト!D183-D$2","v":0.40400000000000003},{"$f":"元トマト!E183-E$2","v":5.6000000000000001E-2},{"$f":"元トマト!F183-F$2","v":1.9999999999999997E-2},{"$f":"元トマト!G183-G$2","v":2.0999999999999998E-2},{"$f":"元トマト!H183-H$2","v":1.1000000000000001E-2},{"$f":"元トマト!I183-I$2","v":1.9000000000000003E-2}]
[480,{"$f":"元トマト!B184-B$2","v":0.154},{"$f":"元トマト!C184-C$2","v":0.72},{"$f":"元トマト!D184-D$2","v":0.38600000000000001},{"$f":"元トマト!E184-E$2","v":5.3999999999999999E-2},{"$f":"元トマト!F184-F$2","v":1.9000000000000003E-2},{"$f":"元トマト!G184-G$2","v":2.0999999999999998E-2},{"$f":"元トマト!H184-H$2","v":0.01},{"$f":"元トマト!I184-I$2","v":1.8000000000000002E-2}]
[481,{"$f":"元トマト!B185-B$2","v":0.14899999999999999},{"$f":"元トマト!C185-C$2","v":0.69299999999999995},{"$f":"元トマト!D185-D$2","v":0.37},{"$f":"元トマト!E185-E$2","v":5.1999999999999998E-2},{"$f":"元トマト!F185-F$2","v":1.8000000000000002E-2},{"$f":"元トマト!G185-G$2","v":1.9999999999999997E-2},{"$f":"元トマト!H185-H$2","v":8.9999999999999993E-3},{"$f":"元トマト!I185-I$2","v":1.8000000000000002E-2}]
[482,{"$f":"元トマト!B186-B$2","v":0.14499999999999999},{"$f":"元トマト!C186-C$2","v":0.67100000000000004},{"$f":"元トマト!D186-D$2","v":0.35699999999999998},{"$f":"元トマト!E186-E$2","v":4.9999999999999996E-2},{"$f":"元トマト!F186-F$2","v":1.8000000000000002E-2},{"$f":"元トマト!G186-G$2","v":1.9999999999999997E-2},{"$f":"元トマト!H186-H$2","v":7.9999999999999984E-3},{"$f":"元トマト!I186-I$2","v":1.6E-2}]
[483,{"$f":"元トマト!B187-B$2","v":0.14099999999999999},{"$f":"元トマト!C187-C$2","v":0.65400000000000003},{"$f":"元トマト!D187-D$2","v":0.34500000000000003},{"$f":"元トマト!E187-E$2","v":4.9000000000000002E-2},{"$f":"元トマト!F187-F$2","v":1.8000000000000002E-2},{"$f":"元トマト!G187-G$2","v":1.9000000000000003E-2},{"$f":"元トマト!H187-H$2","v":7.000000000000001E-3},{"$f":"元トマト!I187-I$2","v":1.6E-2}]
[484,{"$f":"元トマト!B188-B$2","v":0.13700000000000001},{"$f":"元トマト!C188-C$2","v":0.63900000000000001},{"$f":"元トマト!D188-D$2","v":0.33600000000000002},{"$f":"元トマト!E188-E$2","v":4.8000000000000001E-2},{"$f":"元トマト!F188-F$2","v":1.8000000000000002E-2},{"$f":"元トマト!G188-G$2","v":1.9000000000000003E-2},{"$f":"元トマト!H188-H$2","v":7.000000000000001E-3},{"$f":"元トマト!I188-I$2","v":1.4999999999999999E-2}]
[485,{"$f":"元トマト!B189-B$2","v":0.13300000000000001},{"$f":"元トマト!C189-C$2","v":0.629},{"$f":"元トマト!D189-D$2","v":0.33100000000000002},{"$f":"元トマト!E189-E$2","v":4.5999999999999999E-2},{"$f":"元トマト!F189-F$2","v":1.8000000000000002E-2},{"$f":"元トマト!G189-G$2","v":1.8000000000000002E-2},{"$f":"元トマト!H189-H$2","v":6.0000000000000001E-3},{"$f":"元トマト!I189-I$2","v":1.4999999999999999E-2}]
[486,{"$f":"元トマト!B190-B$2","v":0.129},{"$f":"元トマト!C190-C$2","v":0.624},{"$f":"元トマト!D190-D$2","v":0.32900000000000001},{"$f":"元トマト!E190-E$2","v":4.5999999999999999E-2},{"$f":"元トマト!F190-F$2","v":1.7000000000000001E-2},{"$f":"元トマト!G190-G$2","v":1.7000000000000001E-2},{"$f":"元トマト!H190-H$2","v":6.0000000000000001E-3},{"$f":"元トマト!I190-I$2","v":1.4E-2}]
[487,{"$f":"元トマト!B191-B$2","v":0.126},{"$f":"元トマト!C191-C$2","v":0.625},{"$f":"元トマト!D191-D$2","v":0.33200000000000002},{"$f":"元トマト!E191-E$2","v":4.5999999999999999E-2},{"$f":"元トマト!F191-F$2","v":1.7000000000000001E-2},{"$f":"元トマト!G191-G$2","v":1.7000000000000001E-2},{"$f":"元トマト!H191-H$2","v":6.0000000000000001E-3},{"$f":"元トマト!I191-I$2","v":1.4E-2}]
[488,{"$f":"元トマト!B192-B$2","v":0.123},{"$f":"元トマト!C192-C$2","v":0.63100000000000001},{"$f":"元トマト!D192-D$2","v":0.33800000000000002},{"$f":"元トマト!E192-E$2","v":4.5999999999999999E-2},{"$f":"元トマト!F192-F$2","v":1.6E-2},{"$f":"元トマト!G192-G$2","v":1.7000000000000001E-2},{"$f":"元トマト!H192-H$2","v":6.0000000000000001E-3},{"$f":"元トマト!I192-I$2","v":1.2999999999999999E-2}]
[489,{"$f":"元トマト!B193-B$2","v":0.12},{"$f":"元トマト!C193-C$2","v":0.64100000000000001},{"$f":"元トマト!D193-D$2","v":0.34700000000000003},{"$f":"元トマト!E193-E$2","v":4.7E-2},{"$f":"元トマト!F193-F$2","v":1.7000000000000001E-2},{"$f":"元トマト!G193-G$2","v":1.7000000000000001E-2},{"$f":"元トマト!H193-H$2","v":7.000000000000001E-3},{"$f":"元トマト!I193-I$2","v":1.2999999999999999E-2}]
[490,{"$f":"元トマト!B194-B$2","v":0.11799999999999999},{"$f":"元トマト!C194-C$2","v":0.65700000000000003},{"$f":"元トマト!D194-D$2","v":0.35899999999999999},{"$f":"元トマト!E194-E$2","v":4.9000000000000002E-2},{"$f":"元トマト!F194-F$2","v":1.7000000000000001E-2},{"$f":"元トマト!G194-G$2","v":1.7000000000000001E-2},{"$f":"元トマト!H194-H$2","v":7.9999999999999984E-3},{"$f":"元トマト!I194-I$2","v":1.2999999999999999E-2}]
[491,{"$f":"元トマト!B195-B$2","v":0.11699999999999999},{"$f":"元トマト!C195-C$2","v":0.67600000000000005},{"$f":"元トマト!D195-D$2","v":0.374},{"$f":"元トマト!E195-E$2","v":5.0999999999999997E-2},{"$f":"元トマト!F195-F$2","v":1.7000000000000001E-2},{"$f":"元トマト!G195-G$2","v":1.7000000000000001E-2},{"$f":"元トマト!H195-H$2","v":8.9999999999999993E-3},{"$f":"元トマト!I195-I$2","v":1.2999999999999999E-2}]
[492,{"$f":"元トマト!B196-B$2","v":0.114},{"$f":"元トマト!C196-C$2","v":0.69699999999999995},{"$f":"元トマト!D196-D$2","v":0.39},{"$f":"元トマト!E196-E$2","v":5.1999999999999998E-2},{"$f":"元トマト!F196-F$2","v":1.7000000000000001E-2},{"$f":"元トマト!G196-G$2","v":1.7000000000000001E-2},{"$f":"元トマト!H196-H$2","v":8.9999999999999993E-3},{"$f":"元トマト!I196-I$2","v":1.2E-2}]
[493,{"$f":"元トマト!B197-B$2","v":0.113},{"$f":"元トマト!C197-C$2","v":0.72},{"$f":"元トマト!D197-D$2","v":0.40800000000000003},{"$f":"元トマト!E197-E$2","v":5.5E-2},{"$f":"元トマト!F197-F$2","v":1.7000000000000001E-2},{"$f":"元トマト!G197-G$2","v":1.6E-2},{"$f":"元トマト!H197-H$2","v":8.9999999999999993E-3},{"$f":"元トマト!I197-I$2","v":1.0999999999999999E-2}]
[494,{"$f":"元トマト!B198-B$2","v":0.111},{"$f":"元トマト!C198-C$2","v":0.745},{"$f":"元トマト!D198-D$2","v":0.42499999999999999},{"$f":"元トマト!E198-E$2","v":5.7000000000000002E-2},{"$f":"元トマト!F198-F$2","v":1.6E-2},{"$f":"元トマト!G198-G$2","v":1.5000000000000001E-2},{"$f":"元トマト!H198-H$2","v":0.01},{"$f":"元トマト!I198-I$2","v":1.0999999999999999E-2}]
[495,{"$f":"元トマト!B199-B$2","v":0.11},{"$f":"元トマト!C199-C$2","v":0.76700000000000002},{"$f":"元トマト!D199-D$2","v":0.442},{"$f":"元トマト!E199-E$2","v":5.7999999999999996E-2},{"$f":"元トマト!F199-F$2","v":1.7000000000000001E-2},{"$f":"元トマト!G199-G$2","v":1.5000000000000001E-2},{"$f":"元トマト!H199-H$2","v":1.1000000000000001E-2},{"$f":"元トマト!I199-I$2","v":1.0999999999999999E-2}]
[496,{"$f":"元トマト!B200-B$2","v":0.109},{"$f":"元トマト!C200-C$2","v":0.78700000000000003},{"$f":"元トマト!D200-D$2","v":0.45700000000000002},{"$f":"元トマト!E200-E$2","v":0.06},{"$f":"元トマト!F200-F$2","v":1.7000000000000001E-2},{"$f":"元トマト!G200-G$2","v":1.5000000000000001E-2},{"$f":"元トマト!H200-H$2","v":1.1999999999999999E-2},{"$f":"元トマト!I200-I$2","v":1.0999999999999999E-2}]
[497,{"$f":"元トマト!B201-B$2","v":0.108},{"$f":"元トマト!C201-C$2","v":0.80400000000000005},{"$f":"元トマト!D201-D$2","v":0.47100000000000003},{"$f":"元トマト!E201-E$2","v":6.2E-2},{"$f":"元トマト!F201-F$2","v":1.7000000000000001E-2},{"$f":"元トマト!G201-G$2","v":1.5000000000000001E-2},{"$f":"元トマト!H201-H$2","v":1.1999999999999999E-2},{"$f":"元トマト!I201-I$2","v":0.01}]
[498,{"$f":"元トマト!B202-B$2","v":0.106},{"$f":"元トマト!C202-C$2","v":0.81599999999999995},{"$f":"元トマト!D202-D$2","v":0.48099999999999998},{"$f":"元トマト!E202-E$2","v":6.3E-2},{"$f":"元トマト!F202-F$2","v":1.7000000000000001E-2},{"$f":"元トマト!G202-G$2","v":1.5000000000000001E-2},{"$f":"元トマト!H202-H$2","v":1.2999999999999999E-2},{"$f":"元トマト!I202-I$2","v":0.01}]
[499,{"$f":"元トマト!B203-B$2","v":0.10199999999999999},{"$f":"元トマト!C203-C$2","v":0.82199999999999995},{"$f":"元トマト!D203-D$2","v":0.48799999999999999},{"$f":"元トマト!E203-E$2","v":6.3E-2},{"$f":"元トマト!F203-F$2","v":1.7000000000000001E-2},{"$f":"元トマト!G203-G$2","v":1.2999999999999999E-2},{"$f":"元トマト!H203-H$2","v":1.2999999999999999E-2},{"$f":"元トマト!I203-I$2","v":9.0000000000000011E-3}]
[500,{"$f":"元トマト!B204-B$2","v":9.8999999999999991E-2},{"$f":"元トマト!C204-C$2","v":0.82},{"$f":"元トマト!D204-D$2","v":0.48899999999999999},{"$f":"元トマト!E204-E$2","v":6.3E-2},{"$f":"元トマト!F204-F$2","v":1.7000000000000001E-2},{"$f":"元トマト!G204-G$2","v":1.2999999999999999E-2},{"$f":"元トマト!H204-H$2","v":1.2999999999999999E-2},{"$f":"元トマト!I204-I$2","v":9.0000000000000011E-3}]
[501,{"$f":"元トマト!B205-B$2","v":9.7000000000000003E-2},{"$f":"元トマト!C205-C$2","v":0.81199999999999994},{"$f":"元トマト!D205-D$2","v":0.48799999999999999},{"$f":"元トマト!E205-E$2","v":6.3E-2},{"$f":"元トマト!F205-F$2","v":1.7000000000000001E-2},{"$f":"元トマト!G205-G$2","v":1.4E-2},{"$f":"元トマト!H205-H$2","v":1.2999999999999999E-2},{"$f":"元トマト!I205-I$2","v":9.0000000000000011E-3}]
[502,{"$f":"元トマト!B206-B$2","v":9.4E-2},{"$f":"元トマト!C206-C$2","v":0.79600000000000004},{"$f":"元トマト!D206-D$2","v":0.48099999999999998},{"$f":"元トマト!E206-E$2","v":6.2E-2},{"$f":"元トマト!F206-F$2","v":1.7000000000000001E-2},{"$f":"元トマト!G206-G$2","v":1.2999999999999999E-2},{"$f":"元トマト!H206-H$2","v":1.2999999999999999E-2},{"$f":"元トマト!I206-I$2","v":9.0000000000000011E-3}]
[503,{"$f":"元トマト!B207-B$2","v":8.8999999999999996E-2},{"$f":"元トマト!C207-C$2","v":0.77200000000000002},{"$f":"元トマト!D207-D$2","v":0.46800000000000003},{"$f":"元トマト!E207-E$2","v":0.06},{"$f":"元トマト!F207-F$2","v":1.7000000000000001E-2},{"$f":"元トマト!G207-G$2","v":1.1999999999999999E-2},{"$f":"元トマト!H207-H$2","v":1.1999999999999999E-2},{"$f":"元トマト!I207-I$2","v":8.0000000000000002E-3}]
[504,{"$f":"元トマト!B208-B$2","v":8.3999999999999991E-2},{"$f":"元トマト!C208-C$2","v":0.74199999999999999},{"$f":"元トマト!D208-D$2","v":0.45100000000000001},{"$f":"元トマト!E208-E$2","v":5.8999999999999997E-2},{"$f":"元トマト!F208-F$2","v":1.6E-2},{"$f":"元トマト!G208-G$2","v":1.1999999999999999E-2},{"$f":"元トマト!H208-H$2","v":1.1999999999999999E-2},{"$f":"元トマト!I208-I$2","v":8.0000000000000002E-3}]
[505,{"$f":"元トマト!B209-B$2","v":0.08},{"$f":"元トマト!C209-C$2","v":0.71},{"$f":"元トマト!D209-D$2","v":0.43099999999999999},{"$f":"元トマト!E209-E$2","v":5.7000000000000002E-2},{"$f":"元トマト!F209-F$2","v":1.4999999999999999E-2},{"$f":"元トマト!G209-G$2","v":1.1999999999999999E-2},{"$f":"元トマト!H209-H$2","v":1.1000000000000001E-2},{"$f":"元トマト!I209-I$2","v":7.0000000000000001E-3}]
[506,{"$f":"元トマト!B210-B$2","v":7.3999999999999996E-2},{"$f":"元トマト!C210-C$2","v":0.67400000000000004},{"$f":"元トマト!D210-D$2","v":0.41000000000000003},{"$f":"元トマト!E210-E$2","v":5.3999999999999999E-2},{"$f":"元トマト!F210-F$2","v":1.4999999999999999E-2},{"$f":"元トマト!G210-G$2","v":1.1000000000000001E-2},{"$f":"元トマト!H210-H$2","v":1.1000000000000001E-2},{"$f":"元トマト!I210-I$2","v":6.0000000000000001E-3}]
[507,{"$f":"元トマト!B211-B$2","v":6.8999999999999992E-2},{"$f":"元トマト!C211-C$2","v":0.63300000000000001},{"$f":"元トマト!D211-D$2","v":0.38500000000000001},{"$f":"元トマト!E211-E$2","v":5.0999999999999997E-2},{"$f":"元トマト!F211-F$2","v":1.4999999999999999E-2},{"$f":"元トマト!G211-G$2","v":1.1000000000000001E-2},{"$f":"元トマト!H211-H$2","v":8.9999999999999993E-3},{"$f":"元トマト!I211-I$2","v":6.0000000000000001E-3}]
[508,{"$f":"元トマト!B212-B$2","v":6.4000000000000001E-2},{"$f":"元トマト!C212-C$2","v":0.58899999999999997},{"$f":"元トマト!D212-D$2","v":0.35899999999999999},{"$f":"元トマト!E212-E$2","v":4.9000000000000002E-2},{"$f":"元トマト!F212-F$2","v":1.4999999999999999E-2},{"$f":"元トマト!G212-G$2","v":1.1000000000000001E-2},{"$f":"元トマト!H212-H$2","v":7.9999999999999984E-3},{"$f":"元トマト!I212-I$2","v":7.0000000000000001E-3}]
[509,{"$f":"元トマト!B213-B$2","v":5.8999999999999997E-2},{"$f":"元トマト!C213-C$2","v":0.54400000000000004},{"$f":"元トマト!D213-D$2","v":0.33200000000000002},{"$f":"元トマト!E213-E$2","v":4.5999999999999999E-2},{"$f":"元トマト!F213-F$2","v":1.4E-2},{"$f":"元トマト!G213-G$2","v":1.1000000000000001E-2},{"$f":"元トマト!H213-H$2","v":7.9999999999999984E-3},{"$f":"元トマト!I213-I$2","v":6.0000000000000001E-3}]
[510,{"$f":"元トマト!B214-B$2","v":5.2999999999999999E-2},{"$f":"元トマト!C214-C$2","v":0.498},{"$f":"元トマト!D214-D$2","v":0.30399999999999999},{"$f":"元トマト!E214-E$2","v":4.2999999999999997E-2},{"$f":"元トマト!F214-F$2","v":1.4E-2},{"$f":"元トマト!G214-G$2","v":1.1000000000000001E-2},{"$f":"元トマト!H214-H$2","v":7.000000000000001E-3},{"$f":"元トマト!I214-I$2","v":6.0000000000000001E-3}]
[511,{"$f":"元トマト!B215-B$2","v":4.7999999999999994E-2},{"$f":"元トマト!C215-C$2","v":0.45300000000000001},{"$f":"元トマト!D215-D$2","v":0.27700000000000002},{"$f":"元トマト!E215-E$2","v":3.9E-2},{"$f":"元トマト!F215-F$2","v":1.2999999999999999E-2},{"$f":"元トマト!G215-G$2","v":0.01},{"$f":"元トマト!H215-H$2","v":4.9999999999999992E-3},{"$f":"元トマト!I215-I$2","v":6.0000000000000001E-3}]
[512,{"$f":"元トマト!B216-B$2","v":4.2999999999999997E-2},{"$f":"元トマト!C216-C$2","v":0.41},{"$f":"元トマト!D216-D$2","v":0.251},{"$f":"元トマト!E216-E$2","v":3.6000000000000004E-2},{"$f":"元トマト!F216-F$2","v":1.2999999999999999E-2},{"$f":"元トマト!G216-G$2","v":0.01},{"$f":"元トマト!H216-H$2","v":4.0000000000000001E-3},{"$f":"元トマト!I216-I$2","v":5.0000000000000001E-3}]
[513,{"$f":"元トマト!B217-B$2","v":3.9E-2},{"$f":"元トマト!C217-C$2","v":0.37},{"$f":"元トマト!D217-D$2","v":0.22600000000000001},{"$f":"元トマト!E217-E$2","v":3.2000000000000001E-2},{"$f":"元トマト!F217-F$2","v":1.2999999999999999E-2},{"$f":"元トマト!G217-G$2","v":8.9999999999999993E-3},{"$f":"元トマト!H217-H$2","v":2.9999999999999992E-3},{"$f":"元トマト!I217-I$2","v":5.0000000000000001E-3}]
[514,{"$f":"元トマト!B218-B$2","v":3.3999999999999996E-2},{"$f":"元トマト!C218-C$2","v":0.33200000000000002},{"$f":"元トマト!D218-D$2","v":0.20300000000000001},{"$f":"元トマト!E218-E$2","v":0.03},{"$f":"元トマト!F218-F$2","v":1.2999999999999999E-2},{"$f":"元トマト!G218-G$2","v":8.9999999999999993E-3},{"$f":"元トマト!H218-H$2","v":2.9999999999999992E-3},{"$f":"元トマト!I218-I$2","v":5.0000000000000001E-3}]
[515,{"$f":"元トマト!B219-B$2","v":3.1000000000000003E-2},{"$f":"元トマト!C219-C$2","v":0.29699999999999999},{"$f":"元トマト!D219-D$2","v":0.182},{"$f":"元トマト!E219-E$2","v":2.8000000000000001E-2},{"$f":"元トマト!F219-F$2","v":1.2999999999999999E-2},{"$f":"元トマト!G219-G$2","v":8.9999999999999993E-3},{"$f":"元トマト!H219-H$2","v":2.9999999999999992E-3},{"$f":"元トマト!I219-I$2","v":5.0000000000000001E-3}]
[516,{"$f":"元トマト!B220-B$2","v":2.8000000000000001E-2},{"$f":"元トマト!C220-C$2","v":0.26600000000000001},{"$f":"元トマト!D220-D$2","v":0.16200000000000001},{"$f":"元トマト!E220-E$2","v":2.5999999999999999E-2},{"$f":"元トマト!F220-F$2","v":1.2999999999999999E-2},{"$f":"元トマト!G220-G$2","v":8.9999999999999993E-3},{"$f":"元トマト!H220-H$2","v":2E-3},{"$f":"元トマト!I220-I$2","v":5.0000000000000001E-3}]
[517,{"$f":"元トマト!B221-B$2","v":2.4E-2},{"$f":"元トマト!C221-C$2","v":0.23699999999999999},{"$f":"元トマト!D221-D$2","v":0.14300000000000002},{"$f":"元トマト!E221-E$2","v":2.4E-2},{"$f":"元トマト!F221-F$2","v":1.2E-2},{"$f":"元トマト!G221-G$2","v":8.0000000000000002E-3},{"$f":"元トマト!H221-H$2","v":9.9999999999999915E-4},{"$f":"元トマト!I221-I$2","v":4.0000000000000001E-3}]
[518,{"$f":"元トマト!B222-B$2","v":2.2000000000000002E-2},{"$f":"元トマト!C222-C$2","v":0.21099999999999999},{"$f":"元トマト!D222-D$2","v":0.128},{"$f":"元トマト!E222-E$2","v":2.1999999999999999E-2},{"$f":"元トマト!F222-F$2","v":1.2E-2},{"$f":"元トマト!G222-G$2","v":8.0000000000000002E-3},{"$f":"元トマト!H222-H$2","v":9.9999999999999915E-4},{"$f":"元トマト!I222-I$2","v":4.0000000000000001E-3}]
[519,{"$f":"元トマト!B223-B$2","v":1.9E-2},{"$f":"元トマト!C223-C$2","v":0.189},{"$f":"元トマト!D223-D$2","v":0.11399999999999999},{"$f":"元トマト!E223-E$2","v":0.02},{"$f":"元トマト!F223-F$2","v":1.2E-2},{"$f":"元トマト!G223-G$2","v":8.0000000000000002E-3},{"$f":"元トマト!H223-H$2","v":0},{"$f":"元トマト!I223-I$2","v":4.0000000000000001E-3}]
[520,{"$f":"元トマト!B224-B$2","v":1.7000000000000001E-2},{"$f":"元トマト!C224-C$2","v":0.16699999999999998},{"$f":"元トマト!D224-D$2","v":0.10099999999999999},{"$f":"元トマト!E224-E$2","v":1.9E-2},{"$f":"元トマト!F224-F$2","v":1.0999999999999999E-2},{"$f":"元トマト!G224-G$2","v":8.0000000000000002E-3},{"$f":"元トマト!H224-H$2","v":-1.0000000000000009E-3},{"$f":"元トマト!I224-I$2","v":3.0000000000000001E-3}]
[521,{"$f":"元トマト!B225-B$2","v":1.4000000000000002E-2},{"$f":"元トマト!C225-C$2","v":0.14799999999999999},{"$f":"元トマト!D225-D$2","v":8.8999999999999996E-2},{"$f":"元トマト!E225-E$2","v":1.7000000000000001E-2},{"$f":"元トマト!F225-F$2","v":1.0999999999999999E-2},{"$f":"元トマト!G225-G$2","v":8.0000000000000002E-3},{"$f":"元トマト!H225-H$2","v":-2E-3},{"$f":"元トマト!I225-I$2","v":3.0000000000000001E-3}]
[522,{"$f":"元トマト!B226-B$2","v":1.2E-2},{"$f":"元トマト!C226-C$2","v":0.13299999999999998},{"$f":"元トマト!D226-D$2","v":7.8E-2},{"$f":"元トマト!E226-E$2","v":1.6E-2},{"$f":"元トマト!F226-F$2","v":1.0999999999999999E-2},{"$f":"元トマト!G226-G$2","v":8.0000000000000002E-3},{"$f":"元トマト!H226-H$2","v":-2E-3},{"$f":"元トマト!I226-I$2","v":3.0000000000000001E-3}]
[523,{"$f":"元トマト!B227-B$2","v":1.2E-2},{"$f":"元トマト!C227-C$2","v":0.11899999999999999},{"$f":"元トマト!D227-D$2","v":7.0999999999999994E-2},{"$f":"元トマト!E227-E$2","v":1.4999999999999999E-2},{"$f":"元トマト!F227-F$2","v":1.0999999999999999E-2},{"$f":"元トマト!G227-G$2","v":6.9999999999999993E-3},{"$f":"元トマト!H227-H$2","v":-1.0000000000000009E-3},{"$f":"元トマト!I227-I$2","v":3.0000000000000001E-3}]
[524,{"$f":"元トマト!B228-B$2","v":9.9999999999999985E-3},{"$f":"元トマト!C228-C$2","v":0.10600000000000001},{"$f":"元トマト!D228-D$2","v":6.3E-2},{"$f":"元トマト!E228-E$2","v":1.4E-2},{"$f":"元トマト!F228-F$2","v":1.0999999999999999E-2},{"$f":"元トマト!G228-G$2","v":6.9999999999999993E-3},{"$f":"元トマト!H228-H$2","v":-2E-3},{"$f":"元トマト!I228-I$2","v":3.0000000000000001E-3}]
[525,{"$f":"元トマト!B229-B$2","v":9.0000000000000011E-3},{"$f":"元トマト!C229-C$2","v":9.5000000000000001E-2},{"$f":"元トマト!D229-D$2","v":5.6000000000000001E-2},{"$f":"元トマト!E229-E$2","v":1.3000000000000001E-2},{"$f":"元トマト!F229-F$2","v":1.0999999999999999E-2},{"$f":"元トマト!G229-G$2","v":6.9999999999999993E-3},{"$f":"元トマト!H229-H$2","v":-2E-3},{"$f":"元トマト!I229-I$2","v":3.0000000000000001E-3}]
[526,{"$f":"元トマト!B230-B$2","v":8.0000000000000002E-3},{"$f":"元トマト!C230-C$2","v":8.4999999999999992E-2},{"$f":"元トマト!D230-D$2","v":0.05},{"$f":"元トマト!E230-E$2","v":1.3000000000000001E-2},{"$f":"元トマト!F230-F$2","v":0.01},{"$f":"元トマト!G230-G$2","v":8.0000000000000002E-3},{"$f":"元トマト!H230-H$2","v":-2E-3},{"$f":"元トマト!I230-I$2","v":3.0000000000000001E-3}]
[527,{"$f":"元トマト!B231-B$2","v":7.0000000000000001E-3},{"$f":"元トマト!C231-C$2","v":7.7000000000000013E-2},{"$f":"元トマト!D231-D$2","v":4.4000000000000004E-2},{"$f":"元トマト!E231-E$2","v":1.0999999999999999E-2},{"$f":"元トマト!F231-F$2","v":0.01},{"$f":"元トマト!G231-G$2","v":6.9999999999999993E-3},{"$f":"元トマト!H231-H$2","v":-3.0000000000000001E-3},{"$f":"元トマト!I231-I$2","v":3.0000000000000001E-3}]
[528,{"$f":"元トマト!B232-B$2","v":5.9999999999999993E-3},{"$f":"元トマト!C232-C$2","v":7.0000000000000007E-2},{"$f":"元トマト!D232-D$2","v":3.9E-2},{"$f":"元トマト!E232-E$2","v":0.01},{"$f":"元トマト!F232-F$2","v":0.01},{"$f":"元トマト!G232-G$2","v":6.9999999999999993E-3},{"$f":"元トマト!H232-H$2","v":-3.0000000000000001E-3},{"$f":"元トマト!I232-I$2","v":3.0000000000000001E-3}]
[529,{"$f":"元トマト!B233-B$2","v":5.0000000000000001E-3},{"$f":"元トマト!C233-C$2","v":6.3E-2},{"$f":"元トマト!D233-D$2","v":3.5999999999999997E-2},{"$f":"元トマト!E233-E$2","v":0.01},{"$f":"元トマト!F233-F$2","v":0.01},{"$f":"元トマト!G233-G$2","v":6.9999999999999993E-3},{"$f":"元トマト!H233-H$2","v":-3.0000000000000001E-3},{"$f":"元トマト!I233-I$2","v":3.0000000000000001E-3}]
[530,{"$f":"元トマト!B234-B$2","v":5.0000000000000001E-3},{"$f":"元トマト!C234-C$2","v":5.8000000000000003E-2},{"$f":"元トマト!D234-D$2","v":3.2000000000000001E-2},{"$f":"元トマト!E234-E$2","v":0.01},{"$f":"元トマト!F234-F$2","v":0.01},{"$f":"元トマト!G234-G$2","v":6.9999999999999993E-3},{"$f":"元トマト!H234-H$2","v":-2E-3},{"$f":"元トマト!I234-I$2","v":3.0000000000000001E-3}]
[531,{"$f":"元トマト!B235-B$2","v":5.0000000000000001E-3},{"$f":"元トマト!C235-C$2","v":5.1999999999999998E-2},{"$f":"元トマト!D235-D$2","v":2.7999999999999997E-2},{"$f":"元トマト!E235-E$2","v":0.01},{"$f":"元トマト!F235-F$2","v":0.01},{"$f":"元トマト!G235-G$2","v":6.0000000000000001E-3},{"$f":"元トマト!H235-H$2","v":-3.0000000000000001E-3},{"$f":"元トマト!I235-I$2","v":2E-3}]
[532,{"$f":"元トマト!B236-B$2","v":4.0000000000000001E-3},{"$f":"元トマト!C236-C$2","v":4.7E-2},{"$f":"元トマト!D236-D$2","v":2.6000000000000002E-2},{"$f":"元トマト!E236-E$2","v":9.0000000000000011E-3},{"$f":"元トマト!F236-F$2","v":0.01},{"$f":"元トマト!G236-G$2","v":6.0000000000000001E-3},{"$f":"元トマト!H236-H$2","v":-4.0000000000000001E-3},{"$f":"元トマト!I236-I$2","v":2E-3}]
[533,{"$f":"元トマト!B237-B$2","v":3.0000000000000001E-3},{"$f":"元トマト!C237-C$2","v":4.3999999999999997E-2},{"$f":"元トマト!D237-D$2","v":2.4E-2},{"$f":"元トマト!E237-E$2","v":9.0000000000000011E-3},{"$f":"元トマト!F237-F$2","v":9.0000000000000011E-3},{"$f":"元トマト!G237-G$2","v":6.0000000000000001E-3},{"$f":"元トマト!H237-H$2","v":-4.0000000000000001E-3},{"$f":"元トマト!I237-I$2","v":2E-3}]
[534,{"$f":"元トマト!B238-B$2","v":3.0000000000000001E-3},{"$f":"元トマト!C238-C$2","v":0.04},{"$f":"元トマト!D238-D$2","v":2.1999999999999999E-2},{"$f":"元トマト!E238-E$2","v":9.0000000000000011E-3},{"$f":"元トマト!F238-F$2","v":9.0000000000000011E-3},{"$f":"元トマト!G238-G$2","v":6.0000000000000001E-3},{"$f":"元トマト!H238-H$2","v":-3.0000000000000001E-3},{"$f":"元トマト!I238-I$2","v":3.0000000000000001E-3}]
[535,{"$f":"元トマト!B239-B$2","v":2E-3},{"$f":"元トマト!C239-C$2","v":3.6999999999999998E-2},{"$f":"元トマト!D239-D$2","v":1.9999999999999997E-2},{"$f":"元トマト!E239-E$2","v":8.0000000000000002E-3},{"$f":"元トマト!F239-F$2","v":0.01},{"$f":"元トマト!G239-G$2","v":6.0000000000000001E-3},{"$f":"元トマト!H239-H$2","v":-3.0000000000000001E-3},{"$f":"元トマト!I239-I$2","v":3.0000000000000001E-3}]
[536,{"$f":"元トマト!B240-B$2","v":2E-3},{"$f":"元トマト!C240-C$2","v":3.4000000000000002E-2},{"$f":"元トマト!D240-D$2","v":1.7999999999999999E-2},{"$f":"元トマト!E240-E$2","v":9.0000000000000011E-3},{"$f":"元トマト!F240-F$2","v":0.01},{"$f":"元トマト!G240-G$2","v":6.0000000000000001E-3},{"$f":"元トマト!H240-H$2","v":-3.0000000000000001E-3},{"$f":"元トマト!I240-I$2","v":3.0000000000000001E-3}]
[537,{"$f":"元トマト!B241-B$2","v":2E-3},{"$f":"元トマト!C241-C$2","v":3.2000000000000001E-2},{"$f":"元トマト!D241-D$2","v":1.7000000000000001E-2},{"$f":"元トマト!E241-E$2","v":8.0000000000000002E-3},{"$f":"元トマト!F241-F$2","v":0.01},{"$f":"元トマト!G241-G$2","v":6.0000000000000001E-3},{"$f":"元トマト!H241-H$2","v":-3.0000000000000001E-3},{"$f":"元トマト!I241-I$2","v":2E-3}]
[538,{"$f":"元トマト!B242-B$2","v":1E-3},{"$f":"元トマト!C242-C$2","v":2.8999999999999998E-2},{"$f":"元トマト!D242-D$2","v":1.4999999999999999E-2},{"$f":"元トマト!E242-E$2","v":7.0000000000000001E-3},{"$f":"元トマト!F242-F$2","v":9.0000000000000011E-3},{"$f":"元トマト!G242-G$2","v":6.0000000000000001E-3},{"$f":"元トマト!H242-H$2","v":-4.0000000000000001E-3},{"$f":"元トマト!I242-I$2","v":1E-3}]
[539,{"$f":"元トマト!B243-B$2","v":2E-3},{"$f":"元トマト!C243-C$2","v":2.7999999999999997E-2},{"$f":"元トマト!D243-D$2","v":1.3999999999999999E-2},{"$f":"元トマト!E243-E$2","v":7.0000000000000001E-3},{"$f":"元トマト!F243-F$2","v":9.0000000000000011E-3},{"$f":"元トマト!G243-G$2","v":6.0000000000000001E-3},{"$f":"元トマト!H243-H$2","v":-5.0000000000000001E-3},{"$f":"元トマト!I243-I$2","v":0}]
[540,{"$f":"元トマト!B244-B$2","v":2E-3},{"$f":"元トマト!C244-C$2","v":2.6000000000000002E-2},{"$f":"元トマト!D244-D$2","v":1.2E-2},{"$f":"元トマト!E244-E$2","v":7.0000000000000001E-3},{"$f":"元トマト!F244-F$2","v":9.0000000000000011E-3},{"$f":"元トマト!G244-G$2","v":4.9999999999999992E-3},{"$f":"元トマト!H244-H$2","v":-6.0000000000000001E-3},{"$f":"元トマト!I244-I$2","v":-1E-3}]
[541,{"$f":"元トマト!B245-B$2","v":2E-3},{"$f":"元トマト!C245-C$2","v":2.4E-2},{"$f":"元トマト!D245-D$2","v":1.2E-2},{"$f":"元トマト!E245-E$2","v":7.0000000000000001E-3},{"$f":"元トマト!F245-F$2","v":9.0000000000000011E-3},{"$f":"元トマト!G245-G$2","v":4.9999999999999992E-3},{"$f":"元トマト!H245-H$2","v":-6.0000000000000001E-3},{"$f":"元トマト!I245-I$2","v":-2E-3}]
[542,{"$f":"元トマト!B246-B$2","v":1E-3},{"$f":"元トマト!C246-C$2","v":2.3E-2},{"$f":"元トマト!D246-D$2","v":1.0999999999999999E-2},{"$f":"元トマト!E246-E$2","v":6.0000000000000001E-3},{"$f":"元トマト!F246-F$2","v":9.0000000000000011E-3},{"$f":"元トマト!G246-G$2","v":6.0000000000000001E-3},{"$f":"元トマト!H246-H$2","v":-7.0000000000000001E-3},{"$f":"元トマト!I246-I$2","v":-2E-3}]
[543,{"$f":"元トマト!B247-B$2","v":1E-3},{"$f":"元トマト!C247-C$2","v":2.1999999999999999E-2},{"$f":"元トマト!D247-D$2","v":1.0999999999999999E-2},{"$f":"元トマト!E247-E$2","v":6.0000000000000001E-3},{"$f":"元トマト!F247-F$2","v":0.01},{"$f":"元トマト!G247-G$2","v":6.0000000000000001E-3},{"$f":"元トマト!H247-H$2","v":-7.0000000000000001E-3},{"$f":"元トマト!I247-I$2","v":-2E-3}]
[544,{"$f":"元トマト!B248-B$2","v":1E-3},{"$f":"元トマト!C248-C$2","v":2.1999999999999999E-2},{"$f":"元トマト!D248-D$2","v":9.9999999999999985E-3},{"$f":"元トマト!E248-E$2","v":7.0000000000000001E-3},{"$f":"元トマト!F248-F$2","v":0.01},{"$f":"元トマト!G248-G$2","v":6.0000000000000001E-3},{"$f":"元トマト!H248-H$2","v":-6.0000000000000001E-3},{"$f":"元トマト!I248-I$2","v":-1E-3}]
[545,{"$f":"元トマト!B249-B$2","v":0},{"$f":"元トマト!C249-C$2","v":2.1000000000000001E-2},{"$f":"元トマト!D249-D$2","v":9.9999999999999985E-3},{"$f":"元トマト!E249-E$2","v":6.0000000000000001E-3},{"$f":"元トマト!F249-F$2","v":9.0000000000000011E-3},{"$f":"元トマト!G249-G$2","v":6.0000000000000001E-3},{"$f":"元トマト!H249-H$2","v":-5.0000000000000001E-3},{"$f":"元トマト!I249-I$2","v":0}]
[546,{"$f":"元トマト!B250-B$2","v":0},{"$f":"元トマト!C250-C$2","v":0.02},{"$f":"元トマト!D250-D$2","v":8.9999999999999993E-3},{"$f":"元トマト!E250-E$2","v":6.0000000000000001E-3},{"$f":"元トマト!F250-F$2","v":9.0000000000000011E-3},{"$f":"元トマト!G250-G$2","v":6.0000000000000001E-3},{"$f":"元トマト!H250-H$2","v":-5.0000000000000001E-3},{"$f":"元トマト!I250-I$2","v":1E-3}]
[547,{"$f":"元トマト!B251-B$2","v":1E-3},{"$f":"元トマト!C251-C$2","v":1.9E-2},{"$f":"元トマト!D251-D$2","v":8.9999999999999993E-3},{"$f":"元トマト!E251-E$2","v":7.0000000000000001E-3},{"$f":"元トマト!F251-F$2","v":9.0000000000000011E-3},{"$f":"元トマト!G251-G$2","v":6.0000000000000001E-3},{"$f":"元トマト!H251-H$2","v":-4.0000000000000001E-3},{"$f":"元トマト!I251-I$2","v":1E-3}]
[548,{"$f":"元トマト!B252-B$2","v":1E-3},{"$f":"元トマト!C252-C$2","v":1.7999999999999999E-2},{"$f":"元トマト!D252-D$2","v":8.0000000000000002E-3},{"$f":"元トマト!E252-E$2","v":6.0000000000000001E-3},{"$f":"元トマト!F252-F$2","v":9.0000000000000011E-3},{"$f":"元トマト!G252-G$2","v":6.0000000000000001E-3},{"$f":"元トマト!H252-H$2","v":-3.0000000000000001E-3},{"$f":"元トマト!I252-I$2","v":1E-3}]
[549,{"$f":"元トマト!B253-B$2","v":1E-3},{"$f":"元トマト!C253-C$2","v":1.7000000000000001E-2},{"$f":"元トマト!D253-D$2","v":8.0000000000000002E-3},{"$f":"元トマト!E253-E$2","v":6.0000000000000001E-3},{"$f":"元トマト!F253-F$2","v":8.0000000000000002E-3},{"$f":"元トマト!G253-G$2","v":6.0000000000000001E-3},{"$f":"元トマト!H253-H$2","v":-3.0000000000000001E-3},{"$f":"元トマト!I253-I$2","v":1E-3}]
[550,{"$f":"元トマト!B254-B$2","v":0},{"$f":"元トマト!C254-C$2","v":1.6E-2},{"$f":"元トマト!D254-D$2","v":5.9999999999999993E-3},{"$f":"元トマト!E254-E$2","v":5.0000000000000001E-3},{"$f":"元トマト!F254-F$2","v":8.0000000000000002E-3},{"$f":"元トマト!G254-G$2","v":4.9999999999999992E-3},{"$f":"元トマト!H254-H$2","v":-3.0000000000000001E-3},{"$f":"元トマト!I254-I$2","v":1E-3}]
[551,{"$f":"元トマト!B255-B$2","v":0},{"$f":"元トマト!C255-C$2","v":1.4999999999999999E-2},{"$f":"元トマト!D255-D$2","v":5.9999999999999993E-3},{"$f":"元トマト!E255-E$2","v":5.0000000000000001E-3},{"$f":"元トマト!F255-F$2","v":8.0000000000000002E-3},{"$f":"元トマト!G255-G$2","v":4.0000000000000001E-3},{"$f":"元トマト!H255-H$2","v":-3.0000000000000001E-3},{"$f":"元トマト!I255-I$2","v":1E-3}]
[552,{"$f":"元トマト!B256-B$2","v":0},{"$f":"元トマト!C256-C$2","v":1.4999999999999999E-2},{"$f":"元トマト!D256-D$2","v":5.9999999999999993E-3},{"$f":"元トマト!E256-E$2","v":5.0000000000000001E-3},{"$f":"元トマト!F256-F$2","v":8.0000000000000002E-3},{"$f":"元トマト!G256-G$2","v":4.0000000000000001E-3},{"$f":"元トマト!H256-H$2","v":-4.0000000000000001E-3},{"$f":"元トマト!I256-I$2","v":0}]
[553,{"$f":"元トマト!B257-B$2","v":0},{"$f":"元トマト!C257-C$2","v":1.4999999999999999E-2},{"$f":"元トマト!D257-D$2","v":5.9999999999999993E-3},{"$f":"元トマト!E257-E$2","v":5.0000000000000001E-3},{"$f":"元トマト!F257-F$2","v":7.0000000000000001E-3},{"$f":"元トマト!G257-G$2","v":4.9999999999999992E-3},{"$f":"元トマト!H257-H$2","v":-4.0000000000000001E-3},{"$f":"元トマト!I257-I$2","v":1E-3}]
[554,{"$f":"元トマト!B258-B$2","v":0},{"$f":"元トマト!C258-C$2","v":1.4999999999999999E-2},{"$f":"元トマト!D258-D$2","v":5.9999999999999993E-3},{"$f":"元トマト!E258-E$2","v":5.0000000000000001E-3},{"$f":"元トマト!F258-F$2","v":7.0000000000000001E-3},{"$f":"元トマト!G258-G$2","v":4.0000000000000001E-3},{"$f":"元トマト!H258-H$2","v":-3.0000000000000001E-3},{"$f":"元トマト!I258-I$2","v":1E-3}]
[555,{"$f":"元トマト!B259-B$2","v":1E-3},{"$f":"元トマト!C259-C$2","v":1.3999999999999999E-2},{"$f":"元トマト!D259-D$2","v":5.9999999999999993E-3},{"$f":"元トマト!E259-E$2","v":5.0000000000000001E-3},{"$f":"元トマト!F259-F$2","v":7.0000000000000001E-3},{"$f":"元トマト!G259-G$2","v":4.0000000000000001E-3},{"$f":"元トマト!H259-H$2","v":-2E-3},{"$f":"元トマト!I259-I$2","v":1E-3}]
[556,{"$f":"元トマト!B260-B$2","v":1E-3},{"$f":"元トマト!C260-C$2","v":1.3999999999999999E-2},{"$f":"元トマト!D260-D$2","v":4.9999999999999992E-3},{"$f":"元トマト!E260-E$2","v":5.0000000000000001E-3},{"$f":"元トマト!F260-F$2","v":7.0000000000000001E-3},{"$f":"元トマト!G260-G$2","v":4.0000000000000001E-3},{"$f":"元トマト!H260-H$2","v":-2E-3},{"$f":"元トマト!I260-I$2","v":0}]
[557,{"$f":"元トマト!B261-B$2","v":0},{"$f":"元トマト!C261-C$2","v":1.3000000000000001E-2},{"$f":"元トマト!D261-D$2","v":4.9999999999999992E-3},{"$f":"元トマト!E261-E$2","v":4.0000000000000001E-3},{"$f":"元トマト!F261-F$2","v":7.0000000000000001E-3},{"$f":"元トマト!G261-G$2","v":4.9999999999999992E-3},{"$f":"元トマト!H261-H$2","v":-2E-3},{"$f":"元トマト!I261-I$2","v":0}]
[558,{"$f":"元トマト!B262-B$2","v":0},{"$f":"元トマト!C262-C$2","v":1.2E-2},{"$f":"元トマト!D262-D$2","v":4.9999999999999992E-3},{"$f":"元トマト!E262-E$2","v":5.0000000000000001E-3},{"$f":"元トマト!F262-F$2","v":7.0000000000000001E-3},{"$f":"元トマト!G262-G$2","v":4.9999999999999992E-3},{"$f":"元トマト!H262-H$2","v":-2E-3},{"$f":"元トマト!I262-I$2","v":1E-3}]
[559,{"$f":"元トマト!B263-B$2","v":1E-3},{"$f":"元トマト!C263-C$2","v":1.3000000000000001E-2},{"$f":"元トマト!D263-D$2","v":5.9999999999999993E-3},{"$f":"元トマト!E263-E$2","v":6.0000000000000001E-3},{"$f":"元トマト!F263-F$2","v":8.0000000000000002E-3},{"$f":"元トマト!G263-G$2","v":4.9999999999999992E-3},{"$f":"元トマト!H263-H$2","v":-2E-3},{"$f":"元トマト!I263-I$2","v":1E-3}]
[560,{"$f":"元トマト!B264-B$2","v":0},{"$f":"元トマト!C264-C$2","v":1.3000000000000001E-2},{"$f":"元トマト!D264-D$2","v":4.9999999999999992E-3},{"$f":"元トマト!E264-E$2","v":5.0000000000000001E-3},{"$f":"元トマト!F264-F$2","v":8.0000000000000002E-3},{"$f":"元トマト!G264-G$2","v":4.9999999999999992E-3},{"$f":"元トマト!H264-H$2","v":-2E-3},{"$f":"元トマト!I264-I$2","v":1E-3}]
[561,{"$f":"元トマト!B265-B$2","v":-1E-3},{"$f":"元トマト!C265-C$2","v":1.2E-2},{"$f":"元トマト!D265-D$2","v":3.9999999999999992E-3},{"$f":"元トマト!E265-E$2","v":5.0000000000000001E-3},{"$f":"元トマト!F265-F$2","v":8.0000000000000002E-3},{"$f":"元トマト!G265-G$2","v":4.9999999999999992E-3},{"$f":"元トマト!H265-H$2","v":-2E-3},{"$f":"元トマト!I265-I$2","v":1E-3}]
[562,{"$f":"元トマト!B266-B$2","v":-1E-3},{"$f":"元トマト!C266-C$2","v":1.2E-2},{"$f":"元トマト!D266-D$2","v":3.9999999999999992E-3},{"$f":"元トマト!E266-E$2","v":5.0000000000000001E-3},{"$f":"元トマト!F266-F$2","v":7.0000000000000001E-3},{"$f":"元トマト!G266-G$2","v":4.0000000000000001E-3},{"$f":"元トマト!H266-H$2","v":-2E-3},{"$f":"元トマト!I266-I$2","v":1E-3}]
[563,{"$f":"元トマト!B267-B$2","v":-1E-3},{"$f":"元トマト!C267-C$2","v":1.0999999999999999E-2},{"$f":"元トマト!D267-D$2","v":2.9999999999999992E-3},{"$f":"元トマト!E267-E$2","v":4.0000000000000001E-3},{"$f":"元トマト!F267-F$2","v":6.0000000000000001E-3},{"$f":"元トマト!G267-G$2","v":2.9999999999999992E-3},{"$f":"元トマト!H267-H$2","v":-3.0000000000000001E-3},{"$f":"元トマト!I267-I$2","v":0}]
[564,{"$f":"元トマト!B268-B$2","v":-1E-3},{"$f":"元トマト!C268-C$2","v":9.9999999999999985E-3},{"$f":"元トマト!D268-D$2","v":3.9999999999999992E-3},{"$f":"元トマト!E268-E$2","v":3.0000000000000001E-3},{"$f":"元トマト!F268-F$2","v":6.0000000000000001E-3},{"$f":"元トマト!G268-G$2","v":2.9999999999999992E-3},{"$f":"元トマト!H268-H$2","v":-2E-3},{"$f":"元トマト!I268-I$2","v":1E-3}]
[565,{"$f":"元トマト!B269-B$2","v":0},{"$f":"元トマト!C269-C$2","v":1.0999999999999999E-2},{"$f":"元トマト!D269-D$2","v":3.9999999999999992E-3},{"$f":"元トマト!E269-E$2","v":4.0000000000000001E-3},{"$f":"元トマト!F269-F$2","v":7.0000000000000001E-3},{"$f":"元トマト!G269-G$2","v":4.0000000000000001E-3},{"$f":"元トマト!H269-H$2","v":-1.0000000000000009E-3},{"$f":"元トマト!I269-I$2","v":2E-3}]
[566,{"$f":"元トマト!B270-B$2","v":1E-3},{"$f":"元トマト!C270-C$2","v":1.0999999999999999E-2},{"$f":"元トマト!D270-D$2","v":4.9999999999999992E-3},{"$f":"元トマト!E270-E$2","v":5.0000000000000001E-3},{"$f":"元トマト!F270-F$2","v":7.0000000000000001E-3},{"$f":"元トマト!G270-G$2","v":4.9999999999999992E-3},{"$f":"元トマト!H270-H$2","v":-1.0000000000000009E-3},{"$f":"元トマト!I270-I$2","v":2E-3}]
[567,{"$f":"元トマト!B271-B$2","v":0},{"$f":"元トマト!C271-C$2","v":1.2E-2},{"$f":"元トマト!D271-D$2","v":3.9999999999999992E-3},{"$f":"元トマト!E271-E$2","v":5.0000000000000001E-3},{"$f":"元トマト!F271-F$2","v":8.0000000000000002E-3},{"$f":"元トマト!G271-G$2","v":4.9999999999999992E-3},{"$f":"元トマト!H271-H$2","v":-2E-3},{"$f":"元トマト!I271-I$2","v":1E-3}]
[568,{"$f":"元トマト!B272-B$2","v":0},{"$f":"元トマト!C272-C$2","v":1.2E-2},{"$f":"元トマト!D272-D$2","v":3.9999999999999992E-3},{"$f":"元トマト!E272-E$2","v":6.0000000000000001E-3},{"$f":"元トマト!F272-F$2","v":8.0000000000000002E-3},{"$f":"元トマト!G272-G$2","v":4.9999999999999992E-3},{"$f":"元トマト!H272-H$2","v":-3.0000000000000001E-3},{"$f":"元トマト!I272-I$2","v":1E-3}]
[569,{"$f":"元トマト!B273-B$2","v":0},{"$f":"元トマト!C273-C$2","v":1.2E-2},{"$f":"元トマト!D273-D$2","v":3.9999999999999992E-3},{"$f":"元トマト!E273-E$2","v":6.0000000000000001E-3},{"$f":"元トマト!F273-F$2","v":8.0000000000000002E-3},{"$f":"元トマト!G273-G$2","v":4.9999999999999992E-3},{"$f":"元トマト!H273-H$2","v":-3.0000000000000001E-3},{"$f":"元トマト!I273-I$2","v":1E-3}]
[570,{"$f":"元トマト!B274-B$2","v":-1E-3},{"$f":"元トマト!C274-C$2","v":1.2E-2},{"$f":"元トマト!D274-D$2","v":3.9999999999999992E-3},{"$f":"元トマト!E274-E$2","v":5.0000000000000001E-3},{"$f":"元トマト!F274-F$2","v":7.0000000000000001E-3},{"$f":"元トマト!G274-G$2","v":4.0000000000000001E-3},{"$f":"元トマト!H274-H$2","v":-4.0000000000000001E-3},{"$f":"元トマト!I274-I$2","v":0}]
[571,{"$f":"元トマト!B275-B$2","v":-1E-3},{"$f":"元トマト!C275-C$2","v":1.2E-2},{"$f":"元トマト!D275-D$2","v":4.9999999999999992E-3},{"$f":"元トマト!E275-E$2","v":6.0000000000000001E-3},{"$f":"元トマト!F275-F$2","v":8.0000000000000002E-3},{"$f":"元トマト!G275-G$2","v":4.0000000000000001E-3},{"$f":"元トマト!H275-H$2","v":-4.0000000000000001E-3},{"$f":"元トマト!I275-I$2","v":0}]
[572,{"$f":"元トマト!B276-B$2","v":0},{"$f":"元トマト!C276-C$2","v":1.2E-2},{"$f":"元トマト!D276-D$2","v":4.9999999999999992E-3},{"$f":"元トマト!E276-E$2","v":6.0000000000000001E-3},{"$f":"元トマト!F276-F$2","v":8.0000000000000002E-3},{"$f":"元トマト!G276-G$2","v":4.0000000000000001E-3},{"$f":"元トマト!H276-H$2","v":-4.0000000000000001E-3},{"$f":"元トマト!I276-I$2","v":1E-3}]
[573,{"$f":"元トマト!B277-B$2","v":-1E-3},{"$f":"元トマト!C277-C$2","v":1.0999999999999999E-2},{"$f":"元トマト!D277-D$2","v":4.9999999999999992E-3},{"$f":"元トマト!E277-E$2","v":5.0000000000000001E-3},{"$f":"元トマト!F277-F$2","v":8.0000000000000002E-3},{"$f":"元トマト!G277-G$2","v":4.0000000000000001E-3},{"$f":"元トマト!H277-H$2","v":-4.0000000000000001E-3},{"$f":"元トマト!I277-I$2","v":1E-3}]
[574,{"$f":"元トマト!B278-B$2","v":0},{"$f":"元トマト!C278-C$2","v":1.0999999999999999E-2},{"$f":"元トマト!D278-D$2","v":4.9999999999999992E-3},{"$f":"元トマト!E278-E$2","v":5.0000000000000001E-3},{"$f":"元トマト!F278-F$2","v":8.0000000000000002E-3},{"$f":"元トマト!G278-G$2","v":4.0000000000000001E-3},{"$f":"元トマト!H278-H$2","v":-4.0000000000000001E-3},{"$f":"元トマト!I278-I$2","v":1E-3}]
[575,{"$f":"元トマト!B279-B$2","v":0},{"$f":"元トマト!C279-C$2","v":1.0999999999999999E-2},{"$f":"元トマト!D279-D$2","v":4.9999999999999992E-3},{"$f":"元トマト!E279-E$2","v":6.0000000000000001E-3},{"$f":"元トマト!F279-F$2","v":9.0000000000000011E-3},{"$f":"元トマト!G279-G$2","v":4.0000000000000001E-3},{"$f":"元トマト!H279-H$2","v":-4.0000000000000001E-3},{"$f":"元トマト!I279-I$2","v":1E-3}]
[576,{"$f":"元トマト!B280-B$2","v":-1E-3},{"$f":"元トマト!C280-C$2","v":1.0999999999999999E-2},{"$f":"元トマト!D280-D$2","v":4.9999999999999992E-3},{"$f":"元トマト!E280-E$2","v":6.0000000000000001E-3},{"$f":"元トマト!F280-F$2","v":8.0000000000000002E-3},{"$f":"元トマト!G280-G$2","v":4.0000000000000001E-3},{"$f":"元トマト!H280-H$2","v":-5.0000000000000001E-3},{"$f":"元トマト!I280-I$2","v":1E-3}]
[577,{"$f":"元トマト!B281-B$2","v":-1E-3},{"$f":"元トマト!C281-C$2","v":1.0999999999999999E-2},{"$f":"元トマト!D281-D$2","v":3.9999999999999992E-3},{"$f":"元トマト!E281-E$2","v":5.0000000000000001E-3},{"$f":"元トマト!F281-F$2","v":8.0000000000000002E-3},{"$f":"元トマト!G281-G$2","v":4.0000000000000001E-3},{"$f":"元トマト!H281-H$2","v":-5.0000000000000001E-3},{"$f":"元トマト!I281-I$2","v":0}]
[578,{"$f":"元トマト!B282-B$2","v":-1E-3},{"$f":"元トマト!C282-C$2","v":1.0999999999999999E-2},{"$f":"元トマト!D282-D$2","v":3.9999999999999992E-3},{"$f":"元トマト!E282-E$2","v":6.0000000000000001E-3},{"$f":"元トマト!F282-F$2","v":7.0000000000000001E-3},{"$f":"元トマト!G282-G$2","v":4.0000000000000001E-3},{"$f":"元トマト!H282-H$2","v":-5.0000000000000001E-3},{"$f":"元トマト!I282-I$2","v":0}]
[579,{"$f":"元トマト!B283-B$2","v":-1E-3},{"$f":"元トマト!C283-C$2","v":9.9999999999999985E-3},{"$f":"元トマト!D283-D$2","v":3.9999999999999992E-3},{"$f":"元トマト!E283-E$2","v":6.0000000000000001E-3},{"$f":"元トマト!F283-F$2","v":7.0000000000000001E-3},{"$f":"元トマト!G283-G$2","v":4.0000000000000001E-3},{"$f":"元トマト!H283-H$2","v":-5.0000000000000001E-3},{"$f":"元トマト!I283-I$2","v":0}]
[580,{"$f":"元トマト!B284-B$2","v":-1E-3},{"$f":"元トマト!C284-C$2","v":1.0999999999999999E-2},{"$f":"元トマト!D284-D$2","v":3.9999999999999992E-3},{"$f":"元トマト!E284-E$2","v":6.0000000000000001E-3},{"$f":"元トマト!F284-F$2","v":7.0000000000000001E-3},{"$f":"元トマト!G284-G$2","v":4.0000000000000001E-3},{"$f":"元トマト!H284-H$2","v":-6.0000000000000001E-3},{"$f":"元トマト!I284-I$2","v":0}]
[581,{"$f":"元トマト!B285-B$2","v":-2E-3},{"$f":"元トマト!C285-C$2","v":1.0999999999999999E-2},{"$f":"元トマト!D285-D$2","v":3.9999999999999992E-3},{"$f":"元トマト!E285-E$2","v":5.0000000000000001E-3},{"$f":"元トマト!F285-F$2","v":6.0000000000000001E-3},{"$f":"元トマト!G285-G$2","v":2.9999999999999992E-3},{"$f":"元トマト!H285-H$2","v":-5.0000000000000001E-3},{"$f":"元トマト!I285-I$2","v":0}]
[582,{"$f":"元トマト!B286-B$2","v":-1E-3},{"$f":"元トマト!C286-C$2","v":9.9999999999999985E-3},{"$f":"元トマト!D286-D$2","v":3.9999999999999992E-3},{"$f":"元トマト!E286-E$2","v":5.0000000000000001E-3},{"$f":"元トマト!F286-F$2","v":7.0000000000000001E-3},{"$f":"元トマト!G286-G$2","v":4.0000000000000001E-3},{"$f":"元トマト!H286-H$2","v":-4.0000000000000001E-3},{"$f":"元トマト!I286-I$2","v":1E-3}]
[583,{"$f":"元トマト!B287-B$2","v":-1E-3},{"$f":"元トマト!C287-C$2","v":9.9999999999999985E-3},{"$f":"元トマト!D287-D$2","v":3.9999999999999992E-3},{"$f":"元トマト!E287-E$2","v":5.0000000000000001E-3},{"$f":"元トマト!F287-F$2","v":7.0000000000000001E-3},{"$f":"元トマト!G287-G$2","v":2.9999999999999992E-3},{"$f":"元トマト!H287-H$2","v":-5.0000000000000001E-3},{"$f":"元トマト!I287-I$2","v":1E-3}]
[584,{"$f":"元トマト!B288-B$2","v":-1E-3},{"$f":"元トマト!C288-C$2","v":9.9999999999999985E-3},{"$f":"元トマト!D288-D$2","v":2.9999999999999992E-3},{"$f":"元トマト!E288-E$2","v":6.0000000000000001E-3},{"$f":"元トマト!F288-F$2","v":7.0000000000000001E-3},{"$f":"元トマト!G288-G$2","v":2.9999999999999992E-3},{"$f":"元トマト!H288-H$2","v":-5.0000000000000001E-3},{"$f":"元トマト!I288-I$2","v":0}]
[585,{"$f":"元トマト!B289-B$2","v":0},{"$f":"元トマト!C289-C$2","v":9.9999999999999985E-3},{"$f":"元トマト!D289-D$2","v":3.9999999999999992E-3},{"$f":"元トマト!E289-E$2","v":6.0000000000000001E-3},{"$f":"元トマト!F289-F$2","v":7.0000000000000001E-3},{"$f":"元トマト!G289-G$2","v":4.0000000000000001E-3},{"$f":"元トマト!H289-H$2","v":-5.0000000000000001E-3},{"$f":"元トマト!I289-I$2","v":0}]
[586,{"$f":"元トマト!B290-B$2","v":0},{"$f":"元トマト!C290-C$2","v":9.0000000000000011E-3},{"$f":"元トマト!D290-D$2","v":3.9999999999999992E-3},{"$f":"元トマト!E290-E$2","v":5.0000000000000001E-3},{"$f":"元トマト!F290-F$2","v":7.0000000000000001E-3},{"$f":"元トマト!G290-G$2","v":4.0000000000000001E-3},{"$f":"元トマト!H290-H$2","v":-5.0000000000000001E-3},{"$f":"元トマト!I290-I$2","v":0}]
[587,{"$f":"元トマト!B291-B$2","v":-1E-3},{"$f":"元トマト!C291-C$2","v":9.0000000000000011E-3},{"$f":"元トマト!D291-D$2","v":2.9999999999999992E-3},{"$f":"元トマト!E291-E$2","v":5.0000000000000001E-3},{"$f":"元トマト!F291-F$2","v":7.0000000000000001E-3},{"$f":"元トマト!G291-G$2","v":4.0000000000000001E-3},{"$f":"元トマト!H291-H$2","v":-4.0000000000000001E-3},{"$f":"元トマト!I291-I$2","v":0}]
[588,{"$f":"元トマト!B292-B$2","v":0},{"$f":"元トマト!C292-C$2","v":8.0000000000000002E-3},{"$f":"元トマト!D292-D$2","v":2.9999999999999992E-3},{"$f":"元トマト!E292-E$2","v":5.0000000000000001E-3},{"$f":"元トマト!F292-F$2","v":6.0000000000000001E-3},{"$f":"元トマト!G292-G$2","v":4.0000000000000001E-3},{"$f":"元トマト!H292-H$2","v":-4.0000000000000001E-3},{"$f":"元トマト!I292-I$2","v":0}]
[589,{"$f":"元トマト!B293-B$2","v":0},{"$f":"元トマト!C293-C$2","v":8.0000000000000002E-3},{"$f":"元トマト!D293-D$2","v":2.9999999999999992E-3},{"$f":"元トマト!E293-E$2","v":4.0000000000000001E-3},{"$f":"元トマト!F293-F$2","v":7.0000000000000001E-3},{"$f":"元トマト!G293-G$2","v":4.0000000000000001E-3},{"$f":"元トマト!H293-H$2","v":-3.0000000000000001E-3},{"$f":"元トマト!I293-I$2","v":1E-3}]
[590,{"$f":"元トマト!B294-B$2","v":0},{"$f":"元トマト!C294-C$2","v":8.0000000000000002E-3},{"$f":"元トマト!D294-D$2","v":2.9999999999999992E-3},{"$f":"元トマト!E294-E$2","v":5.0000000000000001E-3},{"$f":"元トマト!F294-F$2","v":7.0000000000000001E-3},{"$f":"元トマト!G294-G$2","v":4.9999999999999992E-3},{"$f":"元トマト!H294-H$2","v":-2E-3},{"$f":"元トマト!I294-I$2","v":1E-3}]
[591,{"$f":"元トマト!B295-B$2","v":-1E-3},{"$f":"元トマト!C295-C$2","v":9.0000000000000011E-3},{"$f":"元トマト!D295-D$2","v":2.9999999999999992E-3},{"$f":"元トマト!E295-E$2","v":6.0000000000000001E-3},{"$f":"元トマト!F295-F$2","v":7.0000000000000001E-3},{"$f":"元トマト!G295-G$2","v":4.9999999999999992E-3},{"$f":"元トマト!H295-H$2","v":-4.0000000000000001E-3},{"$f":"元トマト!I295-I$2","v":1E-3}]
[592,{"$f":"元トマト!B296-B$2","v":-1E-3},{"$f":"元トマト!C296-C$2","v":9.0000000000000011E-3},{"$f":"元トマト!D296-D$2","v":2.9999999999999992E-3},{"$f":"元トマト!E296-E$2","v":5.0000000000000001E-3},{"$f":"元トマト!F296-F$2","v":6.0000000000000001E-3},{"$f":"元トマト!G296-G$2","v":4.0000000000000001E-3},{"$f":"元トマト!H296-H$2","v":-4.0000000000000001E-3},{"$f":"元トマト!I296-I$2","v":0}]
[593,{"$f":"元トマト!B297-B$2","v":0},{"$f":"元トマト!C297-C$2","v":9.0000000000000011E-3},{"$f":"元トマト!D297-D$2","v":2.9999999999999992E-3},{"$f":"元トマト!E297-E$2","v":4.0000000000000001E-3},{"$f":"元トマト!F297-F$2","v":6.0000000000000001E-3},{"$f":"元トマト!G297-G$2","v":4.0000000000000001E-3},{"$f":"元トマト!H297-H$2","v":-3.0000000000000001E-3},{"$f":"元トマト!I297-I$2","v":1E-3}]
[594,{"$f":"元トマト!B298-B$2","v":0},{"$f":"元トマト!C298-C$2","v":9.0000000000000011E-3},{"$f":"元トマト!D298-D$2","v":2.9999999999999992E-3},{"$f":"元トマト!E298-E$2","v":5.0000000000000001E-3},{"$f":"元トマト!F298-F$2","v":7.0000000000000001E-3},{"$f":"元トマト!G298-G$2","v":4.0000000000000001E-3},{"$f":"元トマト!H298-H$2","v":-2E-3},{"$f":"元トマト!I298-I$2","v":1E-3}]
[595,{"$f":"元トマト!B299-B$2","v":0},{"$f":"元トマト!C299-C$2","v":8.0000000000000002E-3},{"$f":"元トマト!D299-D$2","v":1.9999999999999992E-3},{"$f":"元トマト!E299-E$2","v":5.0000000000000001E-3},{"$f":"元トマト!F299-F$2","v":7.0000000000000001E-3},{"$f":"元トマト!G299-G$2","v":4.0000000000000001E-3},{"$f":"元トマト!H299-H$2","v":-2E-3},{"$f":"元トマト!I299-I$2","v":1E-3}]
[596,{"$f":"元トマト!B300-B$2","v":0},{"$f":"元トマト!C300-C$2","v":8.0000000000000002E-3},{"$f":"元トマト!D300-D$2","v":2.9999999999999992E-3},{"$f":"元トマト!E300-E$2","v":5.0000000000000001E-3},{"$f":"元トマト!F300-F$2","v":7.0000000000000001E-3},{"$f":"元トマト!G300-G$2","v":4.9999999999999992E-3},{"$f":"元トマト!H300-H$2","v":-2E-3},{"$f":"元トマト!I300-I$2","v":1E-3}]
[597,{"$f":"元トマト!B301-B$2","v":0},{"$f":"元トマト!C301-C$2","v":9.0000000000000011E-3},{"$f":"元トマト!D301-D$2","v":2.9999999999999992E-3},{"$f":"元トマト!E301-E$2","v":6.0000000000000001E-3},{"$f":"元トマト!F301-F$2","v":7.0000000000000001E-3},{"$f":"元トマト!G301-G$2","v":4.0000000000000001E-3},{"$f":"元トマト!H301-H$2","v":-3.0000000000000001E-3},{"$f":"元トマト!I301-I$2","v":1E-3}]
[598,{"$f":"元トマト!B302-B$2","v":-1E-3},{"$f":"元トマト!C302-C$2","v":9.0000000000000011E-3},{"$f":"元トマト!D302-D$2","v":2.9999999999999992E-3},{"$f":"元トマト!E302-E$2","v":5.0000000000000001E-3},{"$f":"元トマト!F302-F$2","v":7.0000000000000001E-3},{"$f":"元トマト!G302-G$2","v":4.0000000000000001E-3},{"$f":"元トマト!H302-H$2","v":-4.0000000000000001E-3},{"$f":"元トマト!I302-I$2","v":1E-3}]
[599,{"$f":"元トマト!B303-B$2","v":-1E-3},{"$f":"元トマト!C303-C$2","v":8.0000000000000002E-3},{"$f":"元トマト!D303-D$2","v":1.9999999999999992E-3},{"$f":"元トマト!E303-E$2","v":4.0000000000000001E-3},{"$f":"元トマト!F303-F$2","v":6.0000000000000001E-3},{"$f":"元トマト!G303-G$2","v":2.9999999999999992E-3},{"$f":"元トマト!H303-H$2","v":-4.0000000000000001E-3},{"$f":"元トマト!I303-I$2","v":0}]
[600,{"$f":"元トマト!B304-B$2","v":-1E-3},{"$f":"元トマト!C304-C$2","v":6.9999999999999993E-3},{"$f":"元トマト!D304-D$2","v":1.9999999999999992E-3},{"$f":"元トマト!E304-E$2","v":3.0000000000000001E-3},{"$f":"元トマト!F304-F$2","v":5.0000000000000001E-3},{"$f":"元トマト!G304-G$2","v":2.9999999999999992E-3},{"$f":"元トマト!H304-H$2","v":-3.0000000000000001E-3},{"$f":"元トマト!I304-I$2","v":0}]
[601,{"$f":"元トマト!B305-B$2","v":-1E-3},{"$f":"元トマト!C305-C$2","v":6.0000000000000001E-3},{"$f":"元トマト!D305-D$2","v":1.9999999999999992E-3},{"$f":"元トマト!E305-E$2","v":3.0000000000000001E-3},{"$f":"元トマト!F305-F$2","v":6.0000000000000001E-3},{"$f":"元トマト!G305-G$2","v":2.9999999999999992E-3},{"$f":"元トマト!H305-H$2","v":-3.0000000000000001E-3},{"$f":"元トマト!I305-I$2","v":1E-3}]
[602,{"$f":"元トマト!B306-B$2","v":0},{"$f":"元トマト!C306-C$2","v":6.9999999999999993E-3},{"$f":"元トマト!D306-D$2","v":1.9999999999999992E-3},{"$f":"元トマト!E306-E$2","v":3.0000000000000001E-3},{"$f":"元トマト!F306-F$2","v":6.0000000000000001E-3},{"$f":"元トマト!G306-G$2","v":2.9999999999999992E-3},{"$f":"元トマト!H306-H$2","v":-2E-3},{"$f":"元トマト!I306-I$2","v":1E-3}]
[603,{"$f":"元トマト!B307-B$2","v":-1E-3},{"$f":"元トマト!C307-C$2","v":6.9999999999999993E-3},{"$f":"元トマト!D307-D$2","v":1.9999999999999992E-3},{"$f":"元トマト!E307-E$2","v":3.0000000000000001E-3},{"$f":"元トマト!F307-F$2","v":6.0000000000000001E-3},{"$f":"元トマト!G307-G$2","v":4.0000000000000001E-3},{"$f":"元トマト!H307-H$2","v":-3.0000000000000001E-3},{"$f":"元トマト!I307-I$2","v":0}]
[604,{"$f":"元トマト!B308-B$2","v":-1E-3},{"$f":"元トマト!C308-C$2","v":6.9999999999999993E-3},{"$f":"元トマト!D308-D$2","v":1.9999999999999992E-3},{"$f":"元トマト!E308-E$2","v":4.0000000000000001E-3},{"$f":"元トマト!F308-F$2","v":6.0000000000000001E-3},{"$f":"元トマト!G308-G$2","v":4.0000000000000001E-3},{"$f":"元トマト!H308-H$2","v":-3.0000000000000001E-3},{"$f":"元トマト!I308-I$2","v":0}]
[605,{"$f":"元トマト!B309-B$2","v":-1E-3},{"$f":"元トマト!C309-C$2","v":6.9999999999999993E-3},{"$f":"元トマト!D309-D$2","v":1.9999999999999992E-3},{"$f":"元トマト!E309-E$2","v":4.0000000000000001E-3},{"$f":"元トマト!F309-F$2","v":6.0000000000000001E-3},{"$f":"元トマト!G309-G$2","v":4.0000000000000001E-3},{"$f":"元トマト!H309-H$2","v":-4.0000000000000001E-3},{"$f":"元トマト!I309-I$2","v":0}]
[606,{"$f":"元トマト!B310-B$2","v":-1E-3},{"$f":"元トマト!C310-C$2","v":6.9999999999999993E-3},{"$f":"元トマト!D310-D$2","v":1.9999999999999992E-3},{"$f":"元トマト!E310-E$2","v":4.0000000000000001E-3},{"$f":"元トマト!F310-F$2","v":5.0000000000000001E-3},{"$f":"元トマト!G310-G$2","v":2.9999999999999992E-3},{"$f":"元トマト!H310-H$2","v":-4.0000000000000001E-3},{"$f":"元トマト!I310-I$2","v":0}]
[607,{"$f":"元トマト!B311-B$2","v":-1E-3},{"$f":"元トマト!C311-C$2","v":6.9999999999999993E-3},{"$f":"元トマト!D311-D$2","v":1.9999999999999992E-3},{"$f":"元トマト!E311-E$2","v":3.0000000000000001E-3},{"$f":"元トマト!F311-F$2","v":5.0000000000000001E-3},{"$f":"元トマト!G311-G$2","v":4.0000000000000001E-3},{"$f":"元トマト!H311-H$2","v":-3.0000000000000001E-3},{"$f":"元トマト!I311-I$2","v":0}]
[608,{"$f":"元トマト!B312-B$2","v":-1E-3},{"$f":"元トマト!C312-C$2","v":6.0000000000000001E-3},{"$f":"元トマト!D312-D$2","v":1.9999999999999992E-3},{"$f":"元トマト!E312-E$2","v":3.0000000000000001E-3},{"$f":"元トマト!F312-F$2","v":6.0000000000000001E-3},{"$f":"元トマト!G312-G$2","v":4.9999999999999992E-3},{"$f":"元トマト!H312-H$2","v":-2E-3},{"$f":"元トマト!I312-I$2","v":0}]
[609,{"$f":"元トマト!B313-B$2","v":0},{"$f":"元トマト!C313-C$2","v":6.0000000000000001E-3},{"$f":"元トマト!D313-D$2","v":9.9999999999999915E-4},{"$f":"元トマト!E313-E$2","v":3.0000000000000001E-3},{"$f":"元トマト!F313-F$2","v":6.0000000000000001E-3},{"$f":"元トマト!G313-G$2","v":4.0000000000000001E-3},{"$f":"元トマト!H313-H$2","v":-3.0000000000000001E-3},{"$f":"元トマト!I313-I$2","v":-1E-3}]
[610,{"$f":"元トマト!B314-B$2","v":0},{"$f":"元トマト!C314-C$2","v":4.9999999999999992E-3},{"$f":"元トマト!D314-D$2","v":9.9999999999999915E-4},{"$f":"元トマト!E314-E$2","v":3.0000000000000001E-3},{"$f":"元トマト!F314-F$2","v":5.0000000000000001E-3},{"$f":"元トマト!G314-G$2","v":4.0000000000000001E-3},{"$f":"元トマト!H314-H$2","v":-4.0000000000000001E-3},{"$f":"元トマト!I314-I$2","v":-1E-3}]
[611,{"$f":"元トマト!B315-B$2","v":0},{"$f":"元トマト!C315-C$2","v":4.9999999999999992E-3},{"$f":"元トマト!D315-D$2","v":1.9999999999999992E-3},{"$f":"元トマト!E315-E$2","v":3.0000000000000001E-3},{"$f":"元トマト!F315-F$2","v":6.0000000000000001E-3},{"$f":"元トマト!G315-G$2","v":4.0000000000000001E-3},{"$f":"元トマト!H315-H$2","v":-3.0000000000000001E-3},{"$f":"元トマト!I315-I$2","v":-1E-3}]
[612,{"$f":"元トマト!B316-B$2","v":0},{"$f":"元トマト!C316-C$2","v":6.0000000000000001E-3},{"$f":"元トマト!D316-D$2","v":1.9999999999999992E-3},{"$f":"元トマト!E316-E$2","v":4.0000000000000001E-3},{"$f":"元トマト!F316-F$2","v":6.0000000000000001E-3},{"$f":"元トマト!G316-G$2","v":4.0000000000000001E-3},{"$f":"元トマト!H316-H$2","v":-2E-3},{"$f":"元トマト!I316-I$2","v":0}]
[613,{"$f":"元トマト!B317-B$2","v":0},{"$f":"元トマト!C317-C$2","v":6.0000000000000001E-3},{"$f":"元トマト!D317-D$2","v":1.9999999999999992E-3},{"$f":"元トマト!E317-E$2","v":4.0000000000000001E-3},{"$f":"元トマト!F317-F$2","v":6.0000000000000001E-3},{"$f":"元トマト!G317-G$2","v":4.0000000000000001E-3},{"$f":"元トマト!H317-H$2","v":-2E-3},{"$f":"元トマト!I317-I$2","v":0}]
[614,{"$f":"元トマト!B318-B$2","v":-1E-3},{"$f":"元トマト!C318-C$2","v":4.9999999999999992E-3},{"$f":"元トマト!D318-D$2","v":9.9999999999999915E-4},{"$f":"元トマト!E318-E$2","v":3.0000000000000001E-3},{"$f":"元トマト!F318-F$2","v":5.0000000000000001E-3},{"$f":"元トマト!G318-G$2","v":2.9999999999999992E-3},{"$f":"元トマト!H318-H$2","v":-3.0000000000000001E-3},{"$f":"元トマト!I318-I$2","v":0}]
[615,{"$f":"元トマト!B319-B$2","v":-1E-3},{"$f":"元トマト!C319-C$2","v":4.0000000000000001E-3},{"$f":"元トマト!D319-D$2","v":9.9999999999999915E-4},{"$f":"元トマト!E319-E$2","v":2E-3},{"$f":"元トマト!F319-F$2","v":4.0000000000000001E-3},{"$f":"元トマト!G319-G$2","v":2.9999999999999992E-3},{"$f":"元トマト!H319-H$2","v":-2E-3},{"$f":"元トマト!I319-I$2","v":0}]
[616,{"$f":"元トマト!B320-B$2","v":-1E-3},{"$f":"元トマト!C320-C$2","v":4.0000000000000001E-3},{"$f":"元トマト!D320-D$2","v":9.9999999999999915E-4},{"$f":"元トマト!E320-E$2","v":2E-3},{"$f":"元トマト!F320-F$2","v":4.0000000000000001E-3},{"$f":"元トマト!G320-G$2","v":2.9999999999999992E-3},{"$f":"元トマト!H320-H$2","v":-1.0000000000000009E-3},{"$f":"元トマト!I320-I$2","v":0}]
[617,{"$f":"元トマト!B321-B$2","v":-1E-3},{"$f":"元トマト!C321-C$2","v":4.0000000000000001E-3},{"$f":"元トマト!D321-D$2","v":9.9999999999999915E-4},{"$f":"元トマト!E321-E$2","v":2E-3},{"$f":"元トマト!F321-F$2","v":4.0000000000000001E-3},{"$f":"元トマト!G321-G$2","v":2.9999999999999992E-3},{"$f":"元トマト!H321-H$2","v":-1.0000000000000009E-3},{"$f":"元トマト!I321-I$2","v":0}]
[618,{"$f":"元トマト!B322-B$2","v":-1E-3},{"$f":"元トマト!C322-C$2","v":4.0000000000000001E-3},{"$f":"元トマト!D322-D$2","v":0},{"$f":"元トマト!E322-E$2","v":2E-3},{"$f":"元トマト!F322-F$2","v":4.0000000000000001E-3},{"$f":"元トマト!G322-G$2","v":2.9999999999999992E-3},{"$f":"元トマト!H322-H$2","v":0},{"$f":"元トマト!I322-I$2","v":0}]
[619,{"$f":"元トマト!B323-B$2","v":0},{"$f":"元トマト!C323-C$2","v":4.0000000000000001E-3},{"$f":"元トマト!D323-D$2","v":9.9999999999999915E-4},{"$f":"元トマト!E323-E$2","v":2E-3},{"$f":"元トマト!F323-F$2","v":5.0000000000000001E-3},{"$f":"元トマト!G323-G$2","v":2.9999999999999992E-3},{"$f":"元トマト!H323-H$2","v":0},{"$f":"元トマト!I323-I$2","v":0}]
[620,{"$f":"元トマト!B324-B$2","v":0},{"$f":"元トマト!C324-C$2","v":4.9999999999999992E-3},{"$f":"元トマト!D324-D$2","v":9.9999999999999915E-4},{"$f":"元トマト!E324-E$2","v":2E-3},{"$f":"元トマト!F324-F$2","v":5.0000000000000001E-3},{"$f":"元トマト!G324-G$2","v":4.0000000000000001E-3},{"$f":"元トマト!H324-H$2","v":0},{"$f":"元トマト!I324-I$2","v":0}]
[621,{"$f":"元トマト!B325-B$2","v":0},{"$f":"元トマト!C325-C$2","v":4.9999999999999992E-3},{"$f":"元トマト!D325-D$2","v":9.9999999999999915E-4},{"$f":"元トマト!E325-E$2","v":2E-3},{"$f":"元トマト!F325-F$2","v":5.0000000000000001E-3},{"$f":"元トマト!G325-G$2","v":4.0000000000000001E-3},{"$f":"元トマト!H325-H$2","v":0},{"$f":"元トマト!I325-I$2","v":0}]
[622,{"$f":"元トマト!B326-B$2","v":0},{"$f":"元トマト!C326-C$2","v":4.0000000000000001E-3},{"$f":"元トマト!D326-D$2","v":9.9999999999999915E-4},{"$f":"元トマト!E326-E$2","v":2E-3},{"$f":"元トマト!F326-F$2","v":5.0000000000000001E-3},{"$f":"元トマト!G326-G$2","v":2.9999999999999992E-3},{"$f":"元トマト!H326-H$2","v":-1.0000000000000009E-3},{"$f":"元トマト!I326-I$2","v":0}]
[623,{"$f":"元トマト!B327-B$2","v":0},{"$f":"元トマト!C327-C$2","v":2.9999999999999992E-3},{"$f":"元トマト!D327-D$2","v":9.9999999999999915E-4},{"$f":"元トマト!E327-E$2","v":2E-3},{"$f":"元トマト!F327-F$2","v":4.0000000000000001E-3},{"$f":"元トマト!G327-G$2","v":2.9999999999999992E-3},{"$f":"元トマト!H327-H$2","v":0},{"$f":"元トマト!I327-I$2","v":0}]
[624,{"$f":"元トマト!B328-B$2","v":0},{"$f":"元トマト!C328-C$2","v":4.0000000000000001E-3},{"$f":"元トマト!D328-D$2","v":9.9999999999999915E-4},{"$f":"元トマト!E328-E$2","v":2E-3},{"$f":"元トマト!F328-F$2","v":5.0000000000000001E-3},{"$f":"元トマト!G328-G$2","v":2.9999999999999992E-3},{"$f":"元トマト!H328-H$2","v":9.9999999999999915E-4},{"$f":"元トマト!I328-I$2","v":1E-3}]
[625,{"$f":"元トマト!B329-B$2","v":0},{"$f":"元トマト!C329-C$2","v":4.0000000000000001E-3},{"$f":"元トマト!D329-D$2","v":9.9999999999999915E-4},{"$f":"元トマト!E329-E$2","v":2E-3},{"$f":"元トマト!F329-F$2","v":4.0000000000000001E-3},{"$f":"元トマト!G329-G$2","v":4.0000000000000001E-3},{"$f":"元トマト!H329-H$2","v":9.9999999999999915E-4},{"$f":"元トマト!I329-I$2","v":1E-3}]
[626,{"$f":"元トマト!B330-B$2","v":0},{"$f":"元トマト!C330-C$2","v":4.0000000000000001E-3},{"$f":"元トマト!D330-D$2","v":9.9999999999999915E-4},{"$f":"元トマト!E330-E$2","v":2E-3},{"$f":"元トマト!F330-F$2","v":5.0000000000000001E-3},{"$f":"元トマト!G330-G$2","v":4.0000000000000001E-3},{"$f":"元トマト!H330-H$2","v":9.9999999999999915E-4},{"$f":"元トマト!I330-I$2","v":1E-3}]
[627,{"$f":"元トマト!B331-B$2","v":0},{"$f":"元トマト!C331-C$2","v":4.0000000000000001E-3},{"$f":"元トマト!D331-D$2","v":9.9999999999999915E-4},{"$f":"元トマト!E331-E$2","v":2E-3},{"$f":"元トマト!F331-F$2","v":5.0000000000000001E-3},{"$f":"元トマト!G331-G$2","v":4.0000000000000001E-3},{"$f":"元トマト!H331-H$2","v":9.9999999999999915E-4},{"$f":"元トマト!I331-I$2","v":1E-3}]
[628,{"$f":"元トマト!B332-B$2","v":-1E-3},{"$f":"元トマト!C332-C$2","v":4.0000000000000001E-3},{"$f":"元トマト!D332-D$2","v":0},{"$f":"元トマト!E332-E$2","v":1E-3},{"$f":"元トマト!F332-F$2","v":4.0000000000000001E-3},{"$f":"元トマト!G332-G$2","v":2.9999999999999992E-3},{"$f":"元トマト!H332-H$2","v":0},{"$f":"元トマト!I332-I$2","v":1E-3}]
[629,{"$f":"元トマト!B333-B$2","v":-1E-3},{"$f":"元トマト!C333-C$2","v":2.9999999999999992E-3},{"$f":"元トマト!D333-D$2","v":0},{"$f":"元トマト!E333-E$2","v":1E-3},{"$f":"元トマト!F333-F$2","v":4.0000000000000001E-3},{"$f":"元トマト!G333-G$2","v":2.9999999999999992E-3},{"$f":"元トマト!H333-H$2","v":0},{"$f":"元トマト!I333-I$2","v":1E-3}]
[630,{"$f":"元トマト!B334-B$2","v":-1E-3},{"$f":"元トマト!C334-C$2","v":2.9999999999999992E-3},{"$f":"元トマト!D334-D$2","v":0},{"$f":"元トマト!E334-E$2","v":1E-3},{"$f":"元トマト!F334-F$2","v":4.0000000000000001E-3},{"$f":"元トマト!G334-G$2","v":2.9999999999999992E-3},{"$f":"元トマト!H334-H$2","v":2E-3},{"$f":"元トマト!I334-I$2","v":0}]
[631,{"$f":"元トマト!B335-B$2","v":-1E-3},{"$f":"元トマト!C335-C$2","v":2E-3},{"$f":"元トマト!D335-D$2","v":0},{"$f":"元トマト!E335-E$2","v":0},{"$f":"元トマト!F335-F$2","v":4.0000000000000001E-3},{"$f":"元トマト!G335-G$2","v":2.9999999999999992E-3},{"$f":"元トマト!H335-H$2","v":2E-3},{"$f":"元トマト!I335-I$2","v":0}]
[632,{"$f":"元トマト!B336-B$2","v":0},{"$f":"元トマト!C336-C$2","v":9.9999999999999915E-4},{"$f":"元トマト!D336-D$2","v":0},{"$f":"元トマト!E336-E$2","v":0},{"$f":"元トマト!F336-F$2","v":4.0000000000000001E-3},{"$f":"元トマト!G336-G$2","v":2.9999999999999992E-3},{"$f":"元トマト!H336-H$2","v":2E-3},{"$f":"元トマト!I336-I$2","v":0}]
[633,{"$f":"元トマト!B337-B$2","v":0},{"$f":"元トマト!C337-C$2","v":9.9999999999999915E-4},{"$f":"元トマト!D337-D$2","v":0},{"$f":"元トマト!E337-E$2","v":0},{"$f":"元トマト!F337-F$2","v":4.0000000000000001E-3},{"$f":"元トマト!G337-G$2","v":2.9999999999999992E-3},{"$f":"元トマト!H337-H$2","v":2E-3},{"$f":"元トマト!I337-I$2","v":0}]
[634,{"$f":"元トマト!B338-B$2","v":0},{"$f":"元トマト!C338-C$2","v":9.9999999999999915E-4},{"$f":"元トマト!D338-D$2","v":0},{"$f":"元トマト!E338-E$2","v":1E-3},{"$f":"元トマト!F338-F$2","v":4.0000000000000001E-3},{"$f":"元トマト!G338-G$2","v":2.9999999999999992E-3},{"$f":"元トマト!H338-H$2","v":2E-3},{"$f":"元トマト!I338-I$2","v":0}]
[635,{"$f":"元トマト!B339-B$2","v":0},{"$f":"元トマト!C339-C$2","v":9.9999999999999915E-4},{"$f":"元トマト!D339-D$2","v":0},{"$f":"元トマト!E339-E$2","v":1E-3},{"$f":"元トマト!F339-F$2","v":4.0000000000000001E-3},{"$f":"元トマト!G339-G$2","v":2.9999999999999992E-3},{"$f":"元トマト!H339-H$2","v":2E-3},{"$f":"元トマト!I339-I$2","v":0}]
[636,{"$f":"元トマト!B340-B$2","v":0},{"$f":"元トマト!C340-C$2","v":2E-3},{"$f":"元トマト!D340-D$2","v":0},{"$f":"元トマト!E340-E$2","v":0},{"$f":"元トマト!F340-F$2","v":4.0000000000000001E-3},{"$f":"元トマト!G340-G$2","v":2.9999999999999992E-3},{"$f":"元トマト!H340-H$2","v":2E-3},{"$f":"元トマト!I340-I$2","v":1E-3}]
[637,{"$f":"元トマト!B341-B$2","v":0},{"$f":"元トマト!C341-C$2","v":9.9999999999999915E-4},{"$f":"元トマト!D341-D$2","v":0},{"$f":"元トマト!E341-E$2","v":0},{"$f":"元トマト!F341-F$2","v":3.0000000000000001E-3},{"$f":"元トマト!G341-G$2","v":2.9999999999999992E-3},{"$f":"元トマト!H341-H$2","v":2.9999999999999992E-3},{"$f":"元トマト!I341-I$2","v":1E-3}]
[638,{"$f":"元トマト!B342-B$2","v":-1E-3},{"$f":"元トマト!C342-C$2","v":0},{"$f":"元トマト!D342-D$2","v":-1.0000000000000009E-3},{"$f":"元トマト!E342-E$2","v":-1E-3},{"$f":"元トマト!F342-F$2","v":3.0000000000000001E-3},{"$f":"元トマト!G342-G$2","v":2.9999999999999992E-3},{"$f":"元トマト!H342-H$2","v":2.9999999999999992E-3},{"$f":"元トマト!I342-I$2","v":1E-3}]
[639,{"$f":"元トマト!B343-B$2","v":-1E-3},{"$f":"元トマト!C343-C$2","v":0},{"$f":"元トマト!D343-D$2","v":-1.0000000000000009E-3},{"$f":"元トマト!E343-E$2","v":-1E-3},{"$f":"元トマト!F343-F$2","v":3.0000000000000001E-3},{"$f":"元トマト!G343-G$2","v":2E-3},{"$f":"元トマト!H343-H$2","v":2E-3},{"$f":"元トマト!I343-I$2","v":0}]
[640,{"$f":"元トマト!B344-B$2","v":0},{"$f":"元トマト!C344-C$2","v":9.9999999999999915E-4},{"$f":"元トマト!D344-D$2","v":-1.0000000000000009E-3},{"$f":"元トマト!E344-E$2","v":0},{"$f":"元トマト!F344-F$2","v":3.0000000000000001E-3},{"$f":"元トマト!G344-G$2","v":2E-3},{"$f":"元トマト!H344-H$2","v":2E-3},{"$f":"元トマト!I344-I$2","v":0}]
[641,{"$f":"元トマト!B345-B$2","v":0},{"$f":"元トマト!C345-C$2","v":9.9999999999999915E-4},{"$f":"元トマト!D345-D$2","v":0},{"$f":"元トマト!E345-E$2","v":0},{"$f":"元トマト!F345-F$2","v":3.0000000000000001E-3},{"$f":"元トマト!G345-G$2","v":2.9999999999999992E-3},{"$f":"元トマト!H345-H$2","v":2.9999999999999992E-3},{"$f":"元トマト!I345-I$2","v":0}]
[642,{"$f":"元トマト!B346-B$2","v":0},{"$f":"元トマト!C346-C$2","v":9.9999999999999915E-4},{"$f":"元トマト!D346-D$2","v":0},{"$f":"元トマト!E346-E$2","v":-1E-3},{"$f":"元トマト!F346-F$2","v":3.0000000000000001E-3},{"$f":"元トマト!G346-G$2","v":2.9999999999999992E-3},{"$f":"元トマト!H346-H$2","v":2.9999999999999992E-3},{"$f":"元トマト!I346-I$2","v":0}]
[643,{"$f":"元トマト!B347-B$2","v":0},{"$f":"元トマト!C347-C$2","v":9.9999999999999915E-4},{"$f":"元トマト!D347-D$2","v":-1.0000000000000009E-3},{"$f":"元トマト!E347-E$2","v":-1E-3},{"$f":"元トマト!F347-F$2","v":3.0000000000000001E-3},{"$f":"元トマト!G347-G$2","v":2.9999999999999992E-3},{"$f":"元トマト!H347-H$2","v":2.9999999999999992E-3},{"$f":"元トマト!I347-I$2","v":0}]
[644,{"$f":"元トマト!B348-B$2","v":0},{"$f":"元トマト!C348-C$2","v":0},{"$f":"元トマト!D348-D$2","v":-1.0000000000000009E-3},{"$f":"元トマト!E348-E$2","v":-1E-3},{"$f":"元トマト!F348-F$2","v":3.0000000000000001E-3},{"$f":"元トマト!G348-G$2","v":2.9999999999999992E-3},{"$f":"元トマト!H348-H$2","v":2.9999999999999992E-3},{"$f":"元トマト!I348-I$2","v":1E-3}]
[645,{"$f":"元トマト!B349-B$2","v":0},{"$f":"元トマト!C349-C$2","v":0},{"$f":"元トマト!D349-D$2","v":0},{"$f":"元トマト!E349-E$2","v":0},{"$f":"元トマト!F349-F$2","v":3.0000000000000001E-3},{"$f":"元トマト!G349-G$2","v":2.9999999999999992E-3},{"$f":"元トマト!H349-H$2","v":2.9999999999999992E-3},{"$f":"元トマト!I349-I$2","v":1E-3}]
[646,{"$f":"元トマト!B350-B$2","v":0},{"$f":"元トマト!C350-C$2","v":9.9999999999999915E-4},{"$f":"元トマト!D350-D$2","v":-1.0000000000000009E-3},{"$f":"元トマト!E350-E$2","v":0},{"$f":"元トマト!F350-F$2","v":3.0000000000000001E-3},{"$f":"元トマト!G350-G$2","v":2.9999999999999992E-3},{"$f":"元トマト!H350-H$2","v":2E-3},{"$f":"元トマト!I350-I$2","v":1E-3}]
[647,{"$f":"元トマト!B351-B$2","v":0},{"$f":"元トマト!C351-C$2","v":9.9999999999999915E-4},{"$f":"元トマト!D351-D$2","v":0},{"$f":"元トマト!E351-E$2","v":1E-3},{"$f":"元トマト!F351-F$2","v":4.0000000000000001E-3},{"$f":"元トマト!G351-G$2","v":4.0000000000000001E-3},{"$f":"元トマト!H351-H$2","v":2E-3},{"$f":"元トマト!I351-I$2","v":1E-3}]
[648,{"$f":"元トマト!B352-B$2","v":0},{"$f":"元トマト!C352-C$2","v":2E-3},{"$f":"元トマト!D352-D$2","v":0},{"$f":"元トマト!E352-E$2","v":0},{"$f":"元トマト!F352-F$2","v":4.0000000000000001E-3},{"$f":"元トマト!G352-G$2","v":2.9999999999999992E-3},{"$f":"元トマト!H352-H$2","v":2E-3},{"$f":"元トマト!I352-I$2","v":0}]
[649,{"$f":"元トマト!B353-B$2","v":0},{"$f":"元トマト!C353-C$2","v":9.9999999999999915E-4},{"$f":"元トマト!D353-D$2","v":0},{"$f":"元トマト!E353-E$2","v":0},{"$f":"元トマト!F353-F$2","v":3.0000000000000001E-3},{"$f":"元トマト!G353-G$2","v":2.9999999999999992E-3},{"$f":"元トマト!H353-H$2","v":2E-3},{"$f":"元トマト!I353-I$2","v":0}]
[650,{"$f":"元トマト!B354-B$2","v":0},{"$f":"元トマト!C354-C$2","v":9.9999999999999915E-4},{"$f":"元トマト!D354-D$2","v":0},{"$f":"元トマト!E354-E$2","v":0},{"$f":"元トマト!F354-F$2","v":3.0000000000000001E-3},{"$f":"元トマト!G354-G$2","v":2.9999999999999992E-3},{"$f":"元トマト!H354-H$2","v":2E-3},{"$f":"元トマト!I354-I$2","v":0}]
[651,{"$f":"元トマト!B355-B$2","v":0},{"$f":"元トマト!C355-C$2","v":9.9999999999999915E-4},{"$f":"元トマト!D355-D$2","v":-1.0000000000000009E-3},{"$f":"元トマト!E355-E$2","v":0},{"$f":"元トマト!F355-F$2","v":3.0000000000000001E-3},{"$f":"元トマト!G355-G$2","v":2.9999999999999992E-3},{"$f":"元トマト!H355-H$2","v":2E-3},{"$f":"元トマト!I355-I$2","v":1E-3}]
[652,{"$f":"元トマト!B356-B$2","v":0},{"$f":"元トマト!C356-C$2","v":0},{"$f":"元トマト!D356-D$2","v":-1.0000000000000009E-3},{"$f":"元トマト!E356-E$2","v":-1E-3},{"$f":"元トマト!F356-F$2","v":3.0000000000000001E-3},{"$f":"元トマト!G356-G$2","v":2.9999999999999992E-3},{"$f":"元トマト!H356-H$2","v":2E-3},{"$f":"元トマト!I356-I$2","v":1E-3}]
[653,{"$f":"元トマト!B357-B$2","v":1E-3},{"$f":"元トマト!C357-C$2","v":2E-3},{"$f":"元トマト!D357-D$2","v":1.9999999999999992E-3},{"$f":"元トマト!E357-E$2","v":3.0000000000000001E-3},{"$f":"元トマト!F357-F$2","v":6.0000000000000001E-3},{"$f":"元トマト!G357-G$2","v":4.9999999999999992E-3},{"$f":"元トマト!H357-H$2","v":2E-3},{"$f":"元トマト!I357-I$2","v":3.0000000000000001E-3}]
[654,{"$f":"元トマト!B358-B$2","v":-1E-3},{"$f":"元トマト!C358-C$2","v":4.0000000000000001E-3},{"$f":"元トマト!D358-D$2","v":1.9999999999999992E-3},{"$f":"元トマト!E358-E$2","v":5.0000000000000001E-3},{"$f":"元トマト!F358-F$2","v":6.0000000000000001E-3},{"$f":"元トマト!G358-G$2","v":4.9999999999999992E-3},{"$f":"元トマト!H358-H$2","v":-1.0000000000000009E-3},{"$f":"元トマト!I358-I$2","v":2E-3}]
[655,{"$f":"元トマト!B359-B$2","v":-2E-3},{"$f":"元トマト!C359-C$2","v":4.0000000000000001E-3},{"$f":"元トマト!D359-D$2","v":0},{"$f":"元トマト!E359-E$2","v":2E-3},{"$f":"元トマト!F359-F$2","v":4.0000000000000001E-3},{"$f":"元トマト!G359-G$2","v":2.9999999999999992E-3},{"$f":"元トマト!H359-H$2","v":-3.0000000000000001E-3},{"$f":"元トマト!I359-I$2","v":0}]
[656,{"$f":"元トマト!B360-B$2","v":-2E-3},{"$f":"元トマト!C360-C$2","v":2E-3},{"$f":"元トマト!D360-D$2","v":0},{"$f":"元トマト!E360-E$2","v":0},{"$f":"元トマト!F360-F$2","v":3.0000000000000001E-3},{"$f":"元トマト!G360-G$2","v":2.9999999999999992E-3},{"$f":"元トマト!H360-H$2","v":-1.0000000000000009E-3},{"$f":"元トマト!I360-I$2","v":1E-3}]
[657,{"$f":"元トマト!B361-B$2","v":0},{"$f":"元トマト!C361-C$2","v":9.9999999999999915E-4},{"$f":"元トマト!D361-D$2","v":0},{"$f":"元トマト!E361-E$2","v":0},{"$f":"元トマト!F361-F$2","v":3.0000000000000001E-3},{"$f":"元トマト!G361-G$2","v":4.0000000000000001E-3},{"$f":"元トマト!H361-H$2","v":2E-3},{"$f":"元トマト!I361-I$2","v":1E-3}]
[658,{"$f":"元トマト!B362-B$2","v":0},{"$f":"元トマト!C362-C$2","v":0},{"$f":"元トマト!D362-D$2","v":0},{"$f":"元トマト!E362-E$2","v":0},{"$f":"元トマト!F362-F$2","v":3.0000000000000001E-3},{"$f":"元トマト!G362-G$2","v":4.0000000000000001E-3},{"$f":"元トマト!H362-H$2","v":2.9999999999999992E-3},{"$f":"元トマト!I362-I$2","v":1E-3}]
[659,{"$f":"元トマト!B363-B$2","v":0},{"$f":"元トマト!C363-C$2","v":0},{"$f":"元トマト!D363-D$2","v":0},{"$f":"元トマト!E363-E$2","v":0},{"$f":"元トマト!F363-F$2","v":3.0000000000000001E-3},{"$f":"元トマト!G363-G$2","v":4.0000000000000001E-3},{"$f":"元トマト!H363-H$2","v":2.9999999999999992E-3},{"$f":"元トマト!I363-I$2","v":2E-3}]
[660,{"$f":"元トマト!B364-B$2","v":0},{"$f":"元トマト!C364-C$2","v":0},{"$f":"元トマト!D364-D$2","v":0},{"$f":"元トマト!E364-E$2","v":0},{"$f":"元トマト!F364-F$2","v":3.0000000000000001E-3},{"$f":"元トマト!G364-G$2","v":4.9999999999999992E-3},{"$f":"元トマト!H364-H$2","v":2E-3},{"$f":"元トマト!I364-I$2","v":1E-3}]
[661,{"$f":"元トマト!B365-B$2","v":0},{"$f":"元トマト!C365-C$2","v":0},{"$f":"元トマト!D365-D$2","v":0},{"$f":"元トマト!E365-E$2","v":0},{"$f":"元トマト!F365-F$2","v":3.0000000000000001E-3},{"$f":"元トマト!G365-G$2","v":4.0000000000000001E-3},{"$f":"元トマト!H365-H$2","v":2E-3},{"$f":"元トマト!I365-I$2","v":2E-3}]
[662,{"$f":"元トマト!B366-B$2","v":0},{"$f":"元トマト!C366-C$2","v":0},{"$f":"元トマト!D366-D$2","v":0},{"$f":"元トマト!E366-E$2","v":0},{"$f":"元トマト!F366-F$2","v":3.0000000000000001E-3},{"$f":"元トマト!G366-G$2","v":4.0000000000000001E-3},{"$f":"元トマト!H366-H$2","v":2E-3},{"$f":"元トマト!I366-I$2","v":2E-3}]
[663,{"$f":"元トマト!B367-B$2","v":0},{"$f":"元トマト!C367-C$2","v":0},{"$f":"元トマト!D367-D$2","v":-1.0000000000000009E-3},{"$f":"元トマト!E367-E$2","v":0},{"$f":"元トマト!F367-F$2","v":3.0000000000000001E-3},{"$f":"元トマト!G367-G$2","v":4.0000000000000001E-3},{"$f":"元トマト!H367-H$2","v":2E-3},{"$f":"元トマト!I367-I$2","v":1E-3}]
[664,{"$f":"元トマト!B368-B$2","v":0},{"$f":"元トマト!C368-C$2","v":0},{"$f":"元トマト!D368-D$2","v":-1.0000000000000009E-3},{"$f":"元トマト!E368-E$2","v":0},{"$f":"元トマト!F368-F$2","v":3.0000000000000001E-3},{"$f":"元トマト!G368-G$2","v":4.0000000000000001E-3},{"$f":"元トマト!H368-H$2","v":2.9999999999999992E-3},{"$f":"元トマト!I368-I$2","v":1E-3}]
[665,{"$f":"元トマト!B369-B$2","v":0},{"$f":"元トマト!C369-C$2","v":0},{"$f":"元トマト!D369-D$2","v":-1.0000000000000009E-3},{"$f":"元トマト!E369-E$2","v":0},{"$f":"元トマト!F369-F$2","v":3.0000000000000001E-3},{"$f":"元トマト!G369-G$2","v":4.0000000000000001E-3},{"$f":"元トマト!H369-H$2","v":2.9999999999999992E-3},{"$f":"元トマト!I369-I$2","v":1E-3}]
[666,{"$f":"元トマト!B370-B$2","v":0},{"$f":"元トマト!C370-C$2","v":0},{"$f":"元トマト!D370-D$2","v":0},{"$f":"元トマト!E370-E$2","v":0},{"$f":"元トマト!F370-F$2","v":3.0000000000000001E-3},{"$f":"元トマト!G370-G$2","v":4.9999999999999992E-3},{"$f":"元トマト!H370-H$2","v":2.9999999999999992E-3},{"$f":"元トマト!I370-I$2","v":2E-3}]
[667,{"$f":"元トマト!B371-B$2","v":1E-3},{"$f":"元トマト!C371-C$2","v":0},{"$f":"元トマト!D371-D$2","v":0},{"$f":"元トマト!E371-E$2","v":0},{"$f":"元トマト!F371-F$2","v":4.0000000000000001E-3},{"$f":"元トマト!G371-G$2","v":4.9999999999999992E-3},{"$f":"元トマト!H371-H$2","v":2.9999999999999992E-3},{"$f":"元トマト!I371-I$2","v":2E-3}]
[668,{"$f":"元トマト!B372-B$2","v":0},{"$f":"元トマト!C372-C$2","v":0},{"$f":"元トマト!D372-D$2","v":-1.0000000000000009E-3},{"$f":"元トマト!E372-E$2","v":0},{"$f":"元トマト!F372-F$2","v":3.0000000000000001E-3},{"$f":"元トマト!G372-G$2","v":4.0000000000000001E-3},{"$f":"元トマト!H372-H$2","v":2E-3},{"$f":"元トマト!I372-I$2","v":1E-3}]
[669,{"$f":"元トマト!B373-B$2","v":0},{"$f":"元トマト!C373-C$2","v":0},{"$f":"元トマト!D373-D$2","v":0},{"$f":"元トマト!E373-E$2","v":0},{"$f":"元トマト!F373-F$2","v":3.0000000000000001E-3},{"$f":"元トマト!G373-G$2","v":4.0000000000000001E-3},{"$f":"元トマト!H373-H$2","v":2E-3},{"$f":"元トマト!I373-I$2","v":1E-3}]
[670,{"$f":"元トマト!B374-B$2","v":0},{"$f":"元トマト!C374-C$2","v":9.9999999999999915E-4},{"$f":"元トマト!D374-D$2","v":0},{"$f":"元トマト!E374-E$2","v":0},{"$f":"元トマト!F374-F$2","v":3.0000000000000001E-3},{"$f":"元トマト!G374-G$2","v":4.0000000000000001E-3},{"$f":"元トマト!H374-H$2","v":2E-3},{"$f":"元トマト!I374-I$2","v":1E-3}]
[671,{"$f":"元トマト!B375-B$2","v":-1E-3},{"$f":"元トマト!C375-C$2","v":0},{"$f":"元トマト!D375-D$2","v":-1.0000000000000009E-3},{"$f":"元トマト!E375-E$2","v":0},{"$f":"元トマト!F375-F$2","v":3.0000000000000001E-3},{"$f":"元トマト!G375-G$2","v":2.9999999999999992E-3},{"$f":"元トマト!H375-H$2","v":2E-3},{"$f":"元トマト!I375-I$2","v":1E-3}]
[672,{"$f":"元トマト!B376-B$2","v":0},{"$f":"元トマト!C376-C$2","v":0},{"$f":"元トマト!D376-D$2","v":-1.0000000000000009E-3},{"$f":"元トマト!E376-E$2","v":0},{"$f":"元トマト!F376-F$2","v":3.0000000000000001E-3},{"$f":"元トマト!G376-G$2","v":2.9999999999999992E-3},{"$f":"元トマト!H376-H$2","v":2E-3},{"$f":"元トマト!I376-I$2","v":1E-3}]
[673,{"$f":"元トマト!B377-B$2","v":-1E-3},{"$f":"元トマト!C377-C$2","v":0},{"$f":"元トマト!D377-D$2","v":-1.0000000000000009E-3},{"$f":"元トマト!E377-E$2","v":0},{"$f":"元トマト!F377-F$2","v":3.0000000000000001E-3},{"$f":"元トマト!G377-G$2","v":2.9999999999999992E-3},{"$f":"元トマト!H377-H$2","v":2E-3},{"$f":"元トマト!I377-I$2","v":0}]
[674,{"$f":"元トマト!B378-B$2","v":-1E-3},{"$f":"元トマト!C378-C$2","v":0},{"$f":"元トマト!D378-D$2","v":-1.0000000000000009E-3},{"$f":"元トマト!E378-E$2","v":0},{"$f":"元トマト!F378-F$2","v":2E-3},{"$f":"元トマト!G378-G$2","v":2.9999999999999992E-3},{"$f":"元トマト!H378-H$2","v":2E-3},{"$f":"元トマト!I378-I$2","v":0}]
[675,{"$f":"元トマト!B379-B$2","v":0},{"$f":"元トマト!C379-C$2","v":9.9999999999999915E-4},{"$f":"元トマト!D379-D$2","v":-1.0000000000000009E-3},{"$f":"元トマト!E379-E$2","v":0},{"$f":"元トマト!F379-F$2","v":2E-3},{"$f":"元トマト!G379-G$2","v":2.9999999999999992E-3},{"$f":"元トマト!H379-H$2","v":2E-3},{"$f":"元トマト!I379-I$2","v":0}]
[676,{"$f":"元トマト!B380-B$2","v":0},{"$f":"元トマト!C380-C$2","v":9.9999999999999915E-4},{"$f":"元トマト!D380-D$2","v":0},{"$f":"元トマト!E380-E$2","v":0},{"$f":"元トマト!F380-F$2","v":3.0000000000000001E-3},{"$f":"元トマト!G380-G$2","v":2.9999999999999992E-3},{"$f":"元トマト!H380-H$2","v":2E-3},{"$f":"元トマト!I380-I$2","v":0}]
[677,{"$f":"元トマト!B381-B$2","v":0},{"$f":"元トマト!C381-C$2","v":9.9999999999999915E-4},{"$f":"元トマト!D381-D$2","v":0},{"$f":"元トマト!E381-E$2","v":0},{"$f":"元トマト!F381-F$2","v":3.0000000000000001E-3},{"$f":"元トマト!G381-G$2","v":2.9999999999999992E-3},{"$f":"元トマト!H381-H$2","v":2E-3},{"$f":"元トマト!I381-I$2","v":1E-3}]
[678,{"$f":"元トマト!B382-B$2","v":0},{"$f":"元トマト!C382-C$2","v":0},{"$f":"元トマト!D382-D$2","v":-1.0000000000000009E-3},{"$f":"元トマト!E382-E$2","v":0},{"$f":"元トマト!F382-F$2","v":3.0000000000000001E-3},{"$f":"元トマト!G382-G$2","v":2E-3},{"$f":"元トマト!H382-H$2","v":9.9999999999999915E-4},{"$f":"元トマト!I382-I$2","v":0}]
[679,{"$f":"元トマト!B383-B$2","v":0},{"$f":"元トマト!C383-C$2","v":0},{"$f":"元トマト!D383-D$2","v":-1.0000000000000009E-3},{"$f":"元トマト!E383-E$2","v":0},{"$f":"元トマト!F383-F$2","v":3.0000000000000001E-3},{"$f":"元トマト!G383-G$2","v":2E-3},{"$f":"元トマト!H383-H$2","v":2E-3},{"$f":"元トマト!I383-I$2","v":-1E-3}]
[680,{"$f":"元トマト!B384-B$2","v":0},{"$f":"元トマト!C384-C$2","v":9.9999999999999915E-4},{"$f":"元トマト!D384-D$2","v":-1.0000000000000009E-3},{"$f":"元トマト!E384-E$2","v":0},{"$f":"元トマト!F384-F$2","v":2E-3},{"$f":"元トマト!G384-G$2","v":2E-3},{"$f":"元トマト!H384-H$2","v":2E-3},{"$f":"元トマト!I384-I$2","v":-1E-3}]
[681,{"$f":"元トマト!B385-B$2","v":-1E-3},{"$f":"元トマト!C385-C$2","v":0},{"$f":"元トマト!D385-D$2","v":-1.0000000000000009E-3},{"$f":"元トマト!E385-E$2","v":0},{"$f":"元トマト!F385-F$2","v":2E-3},{"$f":"元トマト!G385-G$2","v":2E-3},{"$f":"元トマト!H385-H$2","v":2E-3},{"$f":"元トマト!I385-I$2","v":0}]
[682,{"$f":"元トマト!B386-B$2","v":0},{"$f":"元トマト!C386-C$2","v":0},{"$f":"元トマト!D386-D$2","v":-1.0000000000000009E-3},{"$f":"元トマト!E386-E$2","v":-1E-3},{"$f":"元トマト!F386-F$2","v":2E-3},{"$f":"元トマト!G386-G$2","v":2E-3},{"$f":"元トマト!H386-H$2","v":2E-3},{"$f":"元トマト!I386-I$2","v":0}]
[683,{"$f":"元トマト!B387-B$2","v":0},{"$f":"元トマト!C387-C$2","v":9.9999999999999915E-4},{"$f":"元トマト!D387-D$2","v":0},{"$f":"元トマト!E387-E$2","v":0},{"$f":"元トマト!F387-F$2","v":3.0000000000000001E-3},{"$f":"元トマト!G387-G$2","v":2E-3},{"$f":"元トマト!H387-H$2","v":9.9999999999999915E-4},{"$f":"元トマト!I387-I$2","v":0}]
[684,{"$f":"元トマト!B388-B$2","v":0},{"$f":"元トマト!C388-C$2","v":2E-3},{"$f":"元トマト!D388-D$2","v":9.9999999999999915E-4},{"$f":"元トマト!E388-E$2","v":1E-3},{"$f":"元トマト!F388-F$2","v":3.0000000000000001E-3},{"$f":"元トマト!G388-G$2","v":2E-3},{"$f":"元トマト!H388-H$2","v":2E-3},{"$f":"元トマト!I388-I$2","v":0}]
[685,{"$f":"元トマト!B389-B$2","v":0},{"$f":"元トマト!C389-C$2","v":9.9999999999999915E-4},{"$f":"元トマト!D389-D$2","v":0},{"$f":"元トマト!E389-E$2","v":1E-3},{"$f":"元トマト!F389-F$2","v":2E-3},{"$f":"元トマト!G389-G$2","v":2E-3},{"$f":"元トマト!H389-H$2","v":9.9999999999999915E-4},{"$f":"元トマト!I389-I$2","v":0}]
[686,{"$f":"元トマト!B390-B$2","v":0},{"$f":"元トマト!C390-C$2","v":0},{"$f":"元トマト!D390-D$2","v":-1.0000000000000009E-3},{"$f":"元トマト!E390-E$2","v":0},{"$f":"元トマト!F390-F$2","v":2E-3},{"$f":"元トマト!G390-G$2","v":2E-3},{"$f":"元トマト!H390-H$2","v":9.9999999999999915E-4},{"$f":"元トマト!I390-I$2","v":0}]
[687,{"$f":"元トマト!B391-B$2","v":0},{"$f":"元トマト!C391-C$2","v":0},{"$f":"元トマト!D391-D$2","v":0},{"$f":"元トマト!E391-E$2","v":0},{"$f":"元トマト!F391-F$2","v":2E-3},{"$f":"元トマト!G391-G$2","v":1E-3},{"$f":"元トマト!H391-H$2","v":2E-3},{"$f":"元トマト!I391-I$2","v":0}]
[688,{"$f":"元トマト!B392-B$2","v":0},{"$f":"元トマト!C392-C$2","v":9.9999999999999915E-4},{"$f":"元トマト!D392-D$2","v":0},{"$f":"元トマト!E392-E$2","v":0},{"$f":"元トマト!F392-F$2","v":2E-3},{"$f":"元トマト!G392-G$2","v":2E-3},{"$f":"元トマト!H392-H$2","v":2E-3},{"$f":"元トマト!I392-I$2","v":0}]
[689,{"$f":"元トマト!B393-B$2","v":0},{"$f":"元トマト!C393-C$2","v":0},{"$f":"元トマト!D393-D$2","v":-1.0000000000000009E-3},{"$f":"元トマト!E393-E$2","v":0},{"$f":"元トマト!F393-F$2","v":2E-3},{"$f":"元トマト!G393-G$2","v":2E-3},{"$f":"元トマト!H393-H$2","v":9.9999999999999915E-4},{"$f":"元トマト!I393-I$2","v":0}]
[690,{"$f":"元トマト!B394-B$2","v":0},{"$f":"元トマト!C394-C$2","v":0},{"$f":"元トマト!D394-D$2","v":0},{"$f":"元トマト!E394-E$2","v":0},{"$f":"元トマト!F394-F$2","v":2E-3},{"$f":"元トマト!G394-G$2","v":1E-3},{"$f":"元トマト!H394-H$2","v":9.9999999999999915E-4},{"$f":"元トマト!I394-I$2","v":0}]
[691,{"$f":"元トマト!B395-B$2","v":0},{"$f":"元トマト!C395-C$2","v":0},{"$f":"元トマト!D395-D$2","v":0},{"$f":"元トマト!E395-E$2","v":0},{"$f":"元トマト!F395-F$2","v":2E-3},{"$f":"元トマト!G395-G$2","v":1E-3},{"$f":"元トマト!H395-H$2","v":9.9999999999999915E-4},{"$f":"元トマト!I395-I$2","v":-1E-3}]
[692,{"$f":"元トマト!B396-B$2","v":0},{"$f":"元トマト!C396-C$2","v":0},{"$f":"元トマト!D396-D$2","v":-1.0000000000000009E-3},{"$f":"元トマト!E396-E$2","v":0},{"$f":"元トマト!F396-F$2","v":1E-3},{"$f":"元トマト!G396-G$2","v":0},{"$f":"元トマト!H396-H$2","v":9.9999999999999915E-4},{"$f":"元トマト!I396-I$2","v":0}]
[693,{"$f":"元トマト!B397-B$2","v":-1E-3},{"$f":"元トマト!C397-C$2","v":0},{"$f":"元トマト!D397-D$2","v":-1.0000000000000009E-3},{"$f":"元トマト!E397-E$2","v":0},{"$f":"元トマト!F397-F$2","v":1E-3},{"$f":"元トマト!G397-G$2","v":1E-3},{"$f":"元トマト!H397-H$2","v":9.9999999999999915E-4},{"$f":"元トマト!I397-I$2","v":0}]
[694,{"$f":"元トマト!B398-B$2","v":0},{"$f":"元トマト!C398-C$2","v":0},{"$f":"元トマト!D398-D$2","v":0},{"$f":"元トマト!E398-E$2","v":0},{"$f":"元トマト!F398-F$2","v":2E-3},{"$f":"元トマト!G398-G$2","v":2E-3},{"$f":"元トマト!H398-H$2","v":9.9999999999999915E-4},{"$f":"元トマト!I398-I$2","v":0}]
[695,{"$f":"元トマト!B399-B$2","v":0},{"$f":"元トマト!C399-C$2","v":0},{"$f":"元トマト!D399-D$2","v":0},{"$f":"元トマト!E399-E$2","v":1E-3},{"$f":"元トマト!F399-F$2","v":2E-3},{"$f":"元トマト!G399-G$2","v":1E-3},{"$f":"元トマト!H399-H$2","v":9.9999999999999915E-4},{"$f":"元トマト!I399-I$2","v":0}]
[696,{"$f":"元トマト!B400-B$2","v":-1E-3},{"$f":"元トマト!C400-C$2","v":0},{"$f":"元トマト!D400-D$2","v":0},{"$f":"元トマト!E400-E$2","v":0},{"$f":"元トマト!F400-F$2","v":2E-3},{"$f":"元トマト!G400-G$2","v":1E-3},{"$f":"元トマト!H400-H$2","v":0},{"$f":"元トマト!I400-I$2","v":-1E-3}]
[697,{"$f":"元トマト!B401-B$2","v":-1E-3},{"$f":"元トマト!C401-C$2","v":0},{"$f":"元トマト!D401-D$2","v":-1.0000000000000009E-3},{"$f":"元トマト!E401-E$2","v":-1E-3},{"$f":"元トマト!F401-F$2","v":1E-3},{"$f":"元トマト!G401-G$2","v":0},{"$f":"元トマト!H401-H$2","v":9.9999999999999915E-4},{"$f":"元トマト!I401-I$2","v":-1E-3}]
[698,{"$f":"元トマト!B402-B$2","v":-1E-3},{"$f":"元トマト!C402-C$2","v":0},{"$f":"元トマト!D402-D$2","v":-1.0000000000000009E-3},{"$f":"元トマト!E402-E$2","v":-1E-3},{"$f":"元トマト!F402-F$2","v":1E-3},{"$f":"元トマト!G402-G$2","v":0},{"$f":"元トマト!H402-H$2","v":9.9999999999999915E-4},{"$f":"元トマト!I402-I$2","v":-1E-3}]
[699,{"$f":"元トマト!B403-B$2","v":-1E-3},{"$f":"元トマト!C403-C$2","v":0},{"$f":"元トマト!D403-D$2","v":-1.0000000000000009E-3},{"$f":"元トマト!E403-E$2","v":-1E-3},{"$f":"元トマト!F403-F$2","v":1E-3},{"$f":"元トマト!G403-G$2","v":0},{"$f":"元トマト!H403-H$2","v":2E-3},{"$f":"元トマト!I403-I$2","v":-1E-3}]
[700,{"$f":"元トマト!B404-B$2","v":-1E-3},{"$f":"元トマト!C404-C$2","v":0},{"$f":"元トマト!D404-D$2","v":-1.0000000000000009E-3},{"$f":"元トマト!E404-E$2","v":0},{"$f":"元トマト!F404-F$2","v":2E-3},{"$f":"元トマト!G404-G$2","v":1E-3},{"$f":"元トマト!H404-H$2","v":2E-3},{"$f":"元トマト!I404-I$2","v":0}]
[701,{"$f":"元トマト!B405-B$2","v":0},{"$f":"元トマト!C405-C$2","v":0},{"$f":"元トマト!D405-D$2","v":-1.0000000000000009E-3},{"$f":"元トマト!E405-E$2","v":0},{"$f":"元トマト!F405-F$2","v":1E-3},{"$f":"元トマト!G405-G$2","v":1E-3},{"$f":"元トマト!H405-H$2","v":9.9999999999999915E-4},{"$f":"元トマト!I405-I$2","v":0}]
[702,{"$f":"元トマト!B406-B$2","v":0},{"$f":"元トマト!C406-C$2","v":0},{"$f":"元トマト!D406-D$2","v":-1.0000000000000009E-3},{"$f":"元トマト!E406-E$2","v":-1E-3},{"$f":"元トマト!F406-F$2","v":0},{"$f":"元トマト!G406-G$2","v":0},{"$f":"元トマト!H406-H$2","v":9.9999999999999915E-4},{"$f":"元トマト!I406-I$2","v":-1E-3}]
[703,{"$f":"元トマト!B407-B$2","v":0},{"$f":"元トマト!C407-C$2","v":-1E-3},{"$f":"元トマト!D407-D$2","v":-1.0000000000000009E-3},{"$f":"元トマト!E407-E$2","v":-1E-3},{"$f":"元トマト!F407-F$2","v":1E-3},{"$f":"元トマト!G407-G$2","v":0},{"$f":"元トマト!H407-H$2","v":2E-3},{"$f":"元トマト!I407-I$2","v":-1E-3}]
[704,{"$f":"元トマト!B408-B$2","v":0},{"$f":"元トマト!C408-C$2","v":0},{"$f":"元トマト!D408-D$2","v":-1.0000000000000009E-3},{"$f":"元トマト!E408-E$2","v":0},{"$f":"元トマト!F408-F$2","v":1E-3},{"$f":"元トマト!G408-G$2","v":1E-3},{"$f":"元トマト!H408-H$2","v":2E-3},{"$f":"元トマト!I408-I$2","v":0}]
[705,{"$f":"元トマト!B409-B$2","v":0},{"$f":"元トマト!C409-C$2","v":9.9999999999999915E-4},{"$f":"元トマト!D409-D$2","v":0},{"$f":"元トマト!E409-E$2","v":0},{"$f":"元トマト!F409-F$2","v":2E-3},{"$f":"元トマト!G409-G$2","v":2E-3},{"$f":"元トマト!H409-H$2","v":9.9999999999999915E-4},{"$f":"元トマト!I409-I$2","v":0}]
[706,{"$f":"元トマト!B410-B$2","v":0},{"$f":"元トマト!C410-C$2","v":9.9999999999999915E-4},{"$f":"元トマト!D410-D$2","v":0},{"$f":"元トマト!E410-E$2","v":0},{"$f":"元トマト!F410-F$2","v":2E-3},{"$f":"元トマト!G410-G$2","v":1E-3},{"$f":"元トマト!H410-H$2","v":9.9999999999999915E-4},{"$f":"元トマト!I410-I$2","v":-1E-3}]
[707,{"$f":"元トマト!B411-B$2","v":-1E-3},{"$f":"元トマト!C411-C$2","v":0},{"$f":"元トマト!D411-D$2","v":-1.0000000000000009E-3},{"$f":"元トマト!E411-E$2","v":-1E-3},{"$f":"元トマト!F411-F$2","v":1E-3},{"$f":"元トマト!G411-G$2","v":0},{"$f":"元トマト!H411-H$2","v":0},{"$f":"元トマト!I411-I$2","v":-1E-3}]
[708,{"$f":"元トマト!B412-B$2","v":-1E-3},{"$f":"元トマト!C412-C$2","v":0},{"$f":"元トマト!D412-D$2","v":-1.0000000000000009E-3},{"$f":"元トマト!E412-E$2","v":-1E-3},{"$f":"元トマト!F412-F$2","v":1E-3},{"$f":"元トマト!G412-G$2","v":1E-3},{"$f":"元トマト!H412-H$2","v":9.9999999999999915E-4},{"$f":"元トマト!I412-I$2","v":-1E-3}]
[709,{"$f":"元トマト!B413-B$2","v":0},{"$f":"元トマト!C413-C$2","v":0},{"$f":"元トマト!D413-D$2","v":-1.0000000000000009E-3},{"$f":"元トマト!E413-E$2","v":0},{"$f":"元トマト!F413-F$2","v":1E-3},{"$f":"元トマト!G413-G$2","v":1E-3},{"$f":"元トマト!H413-H$2","v":9.9999999999999915E-4},{"$f":"元トマト!I413-I$2","v":0}]
[710,{"$f":"元トマト!B414-B$2","v":0},{"$f":"元トマト!C414-C$2","v":0},{"$f":"元トマト!D414-D$2","v":0},{"$f":"元トマト!E414-E$2","v":0},{"$f":"元トマト!F414-F$2","v":2E-3},{"$f":"元トマト!G414-G$2","v":1E-3},{"$f":"元トマト!H414-H$2","v":2E-3},{"$f":"元トマト!I414-I$2","v":0}]
[711,{"$f":"元トマト!B415-B$2","v":0},{"$f":"元トマト!C415-C$2","v":9.9999999999999915E-4},{"$f":"元トマト!D415-D$2","v":0},{"$f":"元トマト!E415-E$2","v":0},{"$f":"元トマト!F415-F$2","v":2E-3},{"$f":"元トマト!G415-G$2","v":1E-3},{"$f":"元トマト!H415-H$2","v":9.9999999999999915E-4},{"$f":"元トマト!I415-I$2","v":0}]
[712,{"$f":"元トマト!B416-B$2","v":-1E-3},{"$f":"元トマト!C416-C$2","v":9.9999999999999915E-4},{"$f":"元トマト!D416-D$2","v":-1.0000000000000009E-3},{"$f":"元トマト!E416-E$2","v":0},{"$f":"元トマト!F416-F$2","v":1E-3},{"$f":"元トマト!G416-G$2","v":1E-3},{"$f":"元トマト!H416-H$2","v":9.9999999999999915E-4},{"$f":"元トマト!I416-I$2","v":-1E-3}]
[713,{"$f":"元トマト!B417-B$2","v":-2E-3},{"$f":"元トマト!C417-C$2","v":0},{"$f":"元トマト!D417-D$2","v":-1.0000000000000009E-3},{"$f":"元トマト!E417-E$2","v":-1E-3},{"$f":"元トマト!F417-F$2","v":1E-3},{"$f":"元トマト!G417-G$2","v":0},{"$f":"元トマト!H417-H$2","v":0},{"$f":"元トマト!I417-I$2","v":-1E-3}]
[714,{"$f":"元トマト!B418-B$2","v":-1E-3},{"$f":"元トマト!C418-C$2","v":0},{"$f":"元トマト!D418-D$2","v":-1.0000000000000009E-3},{"$f":"元トマト!E418-E$2","v":-1E-3},{"$f":"元トマト!F418-F$2","v":1E-3},{"$f":"元トマト!G418-G$2","v":1E-3},{"$f":"元トマト!H418-H$2","v":0},{"$f":"元トマト!I418-I$2","v":-1E-3}]
[715,{"$f":"元トマト!B419-B$2","v":0},{"$f":"元トマト!C419-C$2","v":0},{"$f":"元トマト!D419-D$2","v":-1.0000000000000009E-3},{"$f":"元トマト!E419-E$2","v":-1E-3},{"$f":"元トマト!F419-F$2","v":1E-3},{"$f":"元トマト!G419-G$2","v":1E-3},{"$f":"元トマト!H419-H$2","v":2E-3},{"$f":"元トマト!I419-I$2","v":0}]
[716,{"$f":"元トマト!B420-B$2","v":-1E-3},{"$f":"元トマト!C420-C$2","v":0},{"$f":"元トマト!D420-D$2","v":-1.0000000000000009E-3},{"$f":"元トマト!E420-E$2","v":-1E-3},{"$f":"元トマト!F420-F$2","v":1E-3},{"$f":"元トマト!G420-G$2","v":1E-3},{"$f":"元トマト!H420-H$2","v":9.9999999999999915E-4},{"$f":"元トマト!I420-I$2","v":0}]
[717,{"$f":"元トマト!B421-B$2","v":-1E-3},{"$f":"元トマト!C421-C$2","v":0},{"$f":"元トマト!D421-D$2","v":-1.0000000000000009E-3},{"$f":"元トマト!E421-E$2","v":-1E-3},{"$f":"元トマト!F421-F$2","v":1E-3},{"$f":"元トマト!G421-G$2","v":0},{"$f":"元トマト!H421-H$2","v":0},{"$f":"元トマト!I421-I$2","v":0}]
[718,{"$f":"元トマト!B422-B$2","v":-1E-3},{"$f":"元トマト!C422-C$2","v":0},{"$f":"元トマト!D422-D$2","v":-1.0000000000000009E-3},{"$f":"元トマト!E422-E$2","v":-1E-3},{"$f":"元トマト!F422-F$2","v":1E-3},{"$f":"元トマト!G422-G$2","v":0},{"$f":"元トマト!H422-H$2","v":0},{"$f":"元トマト!I422-I$2","v":0}]
[719,{"$f":"元トマト!B423-B$2","v":0},{"$f":"元トマト!C423-C$2","v":0},{"$f":"元トマト!D423-D$2","v":-1.0000000000000009E-3},{"$f":"元トマト!E423-E$2","v":0},{"$f":"元トマト!F423-F$2","v":1E-3},{"$f":"元トマト!G423-G$2","v":0},{"$f":"元トマト!H423-H$2","v":9.9999999999999915E-4},{"$f":"元トマト!I423-I$2","v":0}]
[720,{"$f":"元トマト!B424-B$2","v":-1E-3},{"$f":"元トマト!C424-C$2","v":-1E-3},{"$f":"元トマト!D424-D$2","v":-1.0000000000000009E-3},{"$f":"元トマト!E424-E$2","v":0},{"$f":"元トマト!F424-F$2","v":1E-3},{"$f":"元トマト!G424-G$2","v":0},{"$f":"元トマト!H424-H$2","v":9.9999999999999915E-4},{"$f":"元トマト!I424-I$2","v":0}]
[721,{"$f":"元トマト!B425-B$2","v":-1E-3},{"$f":"元トマト!C425-C$2","v":-1E-3},{"$f":"元トマト!D425-D$2","v":-1.0000000000000009E-3},{"$f":"元トマト!E425-E$2","v":-1E-3},{"$f":"元トマト!F425-F$2","v":1E-3},{"$f":"元トマト!G425-G$2","v":1E-3},{"$f":"元トマト!H425-H$2","v":9.9999999999999915E-4},{"$f":"元トマト!I425-I$2","v":-1E-3}]
[722,{"$f":"元トマト!B426-B$2","v":-1E-3},{"$f":"元トマト!C426-C$2","v":0},{"$f":"元トマト!D426-D$2","v":-1.0000000000000009E-3},{"$f":"元トマト!E426-E$2","v":0},{"$f":"元トマト!F426-F$2","v":1E-3},{"$f":"元トマト!G426-G$2","v":1E-3},{"$f":"元トマト!H426-H$2","v":9.9999999999999915E-4},{"$f":"元トマト!I426-I$2","v":0}]
[723,{"$f":"元トマト!B427-B$2","v":0},{"$f":"元トマト!C427-C$2","v":0},{"$f":"元トマト!D427-D$2","v":-1.0000000000000009E-3},{"$f":"元トマト!E427-E$2","v":0},{"$f":"元トマト!F427-F$2","v":1E-3},{"$f":"元トマト!G427-G$2","v":1E-3},{"$f":"元トマト!H427-H$2","v":9.9999999999999915E-4},{"$f":"元トマト!I427-I$2","v":0}]
[724,{"$f":"元トマト!B428-B$2","v":-1E-3},{"$f":"元トマト!C428-C$2","v":0},{"$f":"元トマト!D428-D$2","v":-1.0000000000000009E-3},{"$f":"元トマト!E428-E$2","v":0},{"$f":"元トマト!F428-F$2","v":1E-3},{"$f":"元トマト!G428-G$2","v":1E-3},{"$f":"元トマト!H428-H$2","v":9.9999999999999915E-4},{"$f":"元トマト!I428-I$2","v":0}]
[725,{"$f":"元トマト!B429-B$2","v":-1E-3},{"$f":"元トマト!C429-C$2","v":0},{"$f":"元トマト!D429-D$2","v":-1.0000000000000009E-3},{"$f":"元トマト!E429-E$2","v":0},{"$f":"元トマト!F429-F$2","v":1E-3},{"$f":"元トマト!G429-G$2","v":1E-3},{"$f":"元トマト!H429-H$2","v":9.9999999999999915E-4},{"$f":"元トマト!I429-I$2","v":1E-3}]
[726,{"$f":"元トマト!B430-B$2","v":-1E-3},{"$f":"元トマト!C430-C$2","v":-1E-3},{"$f":"元トマト!D430-D$2","v":-1.0000000000000009E-3},{"$f":"元トマト!E430-E$2","v":0},{"$f":"元トマト!F430-F$2","v":1E-3},{"$f":"元トマト!G430-G$2","v":1E-3},{"$f":"元トマト!H430-H$2","v":9.9999999999999915E-4},{"$f":"元トマト!I430-I$2","v":1E-3}]
[727,{"$f":"元トマト!B431-B$2","v":-1E-3},{"$f":"元トマト!C431-C$2","v":-1E-3},{"$f":"元トマト!D431-D$2","v":-1.0000000000000009E-3},{"$f":"元トマト!E431-E$2","v":0},{"$f":"元トマト!F431-F$2","v":1E-3},{"$f":"元トマト!G431-G$2","v":0},{"$f":"元トマト!H431-H$2","v":0},{"$f":"元トマト!I431-I$2","v":0}]
[728,{"$f":"元トマト!B432-B$2","v":0},{"$f":"元トマト!C432-C$2","v":0},{"$f":"元トマト!D432-D$2","v":-1.0000000000000009E-3},{"$f":"元トマト!E432-E$2","v":1E-3},{"$f":"元トマト!F432-F$2","v":1E-3},{"$f":"元トマト!G432-G$2","v":1E-3},{"$f":"元トマト!H432-H$2","v":0},{"$f":"元トマト!I432-I$2","v":0}]
[729,{"$f":"元トマト!B433-B$2","v":-1E-3},{"$f":"元トマト!C433-C$2","v":0},{"$f":"元トマト!D433-D$2","v":-1.0000000000000009E-3},{"$f":"元トマト!E433-E$2","v":1E-3},{"$f":"元トマト!F433-F$2","v":1E-3},{"$f":"元トマト!G433-G$2","v":1E-3},{"$f":"元トマト!H433-H$2","v":0},{"$f":"元トマト!I433-I$2","v":0}]
[730,{"$f":"元トマト!B434-B$2","v":-1E-3},{"$f":"元トマト!C434-C$2","v":9.9999999999999915E-4},{"$f":"元トマト!D434-D$2","v":0},{"$f":"元トマト!E434-E$2","v":1E-3},{"$f":"元トマト!F434-F$2","v":1E-3},{"$f":"元トマト!G434-G$2","v":1E-3},{"$f":"元トマト!H434-H$2","v":9.9999999999999915E-4},{"$f":"元トマト!I434-I$2","v":0}]
[731,{"$f":"元トマト!B435-B$2","v":0},{"$f":"元トマト!C435-C$2","v":9.9999999999999915E-4},{"$f":"元トマト!D435-D$2","v":0},{"$f":"元トマト!E435-E$2","v":1E-3},{"$f":"元トマト!F435-F$2","v":1E-3},{"$f":"元トマト!G435-G$2","v":1E-3},{"$f":"元トマト!H435-H$2","v":9.9999999999999915E-4},{"$f":"元トマト!I435-I$2","v":0}]
[732,{"$f":"元トマト!B436-B$2","v":0},{"$f":"元トマト!C436-C$2","v":9.9999999999999915E-4},{"$f":"元トマト!D436-D$2","v":0},{"$f":"元トマト!E436-E$2","v":1E-3},{"$f":"元トマト!F436-F$2","v":1E-3},{"$f":"元トマト!G436-G$2","v":1E-3},{"$f":"元トマト!H436-H$2","v":0},{"$f":"元トマト!I436-I$2","v":0}]
[733,{"$f":"元トマト!B437-B$2","v":-1E-3},{"$f":"元トマト!C437-C$2","v":9.9999999999999915E-4},{"$f":"元トマト!D437-D$2","v":0},{"$f":"元トマト!E437-E$2","v":1E-3},{"$f":"元トマト!F437-F$2","v":2E-3},{"$f":"元トマト!G437-G$2","v":1E-3},{"$f":"元トマト!H437-H$2","v":0},{"$f":"元トマト!I437-I$2","v":0}]
[734,{"$f":"元トマト!B438-B$2","v":-1E-3},{"$f":"元トマト!C438-C$2","v":9.9999999999999915E-4},{"$f":"元トマト!D438-D$2","v":0},{"$f":"元トマト!E438-E$2","v":1E-3},{"$f":"元トマト!F438-F$2","v":1E-3},{"$f":"元トマト!G438-G$2","v":1E-3},{"$f":"元トマト!H438-H$2","v":0},{"$f":"元トマト!I438-I$2","v":0}]
[735,{"$f":"元トマト!B439-B$2","v":-1E-3},{"$f":"元トマト!C439-C$2","v":9.9999999999999915E-4},{"$f":"元トマト!D439-D$2","v":0},{"$f":"元トマト!E439-E$2","v":0},{"$f":"元トマト!F439-F$2","v":1E-3},{"$f":"元トマト!G439-G$2","v":1E-3},{"$f":"元トマト!H439-H$2","v":0},{"$f":"元トマト!I439-I$2","v":0}]
[736,{"$f":"元トマト!B440-B$2","v":-1E-3},{"$f":"元トマト!C440-C$2","v":0},{"$f":"元トマト!D440-D$2","v":0},{"$f":"元トマト!E440-E$2","v":0},{"$f":"元トマト!F440-F$2","v":1E-3},{"$f":"元トマト!G440-G$2","v":0},{"$f":"元トマト!H440-H$2","v":0},{"$f":"元トマト!I440-I$2","v":0}]
[737,{"$f":"元トマト!B441-B$2","v":-1E-3},{"$f":"元トマト!C441-C$2","v":0},{"$f":"元トマト!D441-D$2","v":-1.0000000000000009E-3},{"$f":"元トマト!E441-E$2","v":0},{"$f":"元トマト!F441-F$2","v":1E-3},{"$f":"元トマト!G441-G$2","v":0},{"$f":"元トマト!H441-H$2","v":0},{"$f":"元トマト!I441-I$2","v":-1E-3}]
[738,{"$f":"元トマト!B442-B$2","v":-2E-3},{"$f":"元トマト!C442-C$2","v":0},{"$f":"元トマト!D442-D$2","v":-2E-3},{"$f":"元トマト!E442-E$2","v":0},{"$f":"元トマト!F442-F$2","v":0},{"$f":"元トマト!G442-G$2","v":0},{"$f":"元トマト!H442-H$2","v":-1.0000000000000009E-3},{"$f":"元トマト!I442-I$2","v":-1E-3}]
[739,{"$f":"元トマト!B443-B$2","v":-1E-3},{"$f":"元トマト!C443-C$2","v":0},{"$f":"元トマト!D443-D$2","v":-1.0000000000000009E-3},{"$f":"元トマト!E443-E$2","v":0},{"$f":"元トマト!F443-F$2","v":0},{"$f":"元トマト!G443-G$2","v":0},{"$f":"元トマト!H443-H$2","v":0},{"$f":"元トマト!I443-I$2","v":-1E-3}]
[740,{"$f":"元トマト!B444-B$2","v":-1E-3},{"$f":"元トマト!C444-C$2","v":0},{"$f":"元トマト!D444-D$2","v":-1.0000000000000009E-3},{"$f":"元トマト!E444-E$2","v":0},{"$f":"元トマト!F444-F$2","v":0},{"$f":"元トマト!G444-G$2","v":0},{"$f":"元トマト!H444-H$2","v":0},{"$f":"元トマト!I444-I$2","v":-1E-3}]
[741,{"$f":"元トマト!B445-B$2","v":-1E-3},{"$f":"元トマト!C445-C$2","v":0},{"$f":"元トマト!D445-D$2","v":-1.0000000000000009E-3},{"$f":"元トマト!E445-E$2","v":-1E-3},{"$f":"元トマト!F445-F$2","v":0},{"$f":"元トマト!G445-G$2","v":0},{"$f":"元トマト!H445-H$2","v":0},{"$f":"元トマト!I445-I$2","v":-1E-3}]
[742,{"$f":"元トマト!B446-B$2","v":-1E-3},{"$f":"元トマト!C446-C$2","v":0},{"$f":"元トマト!D446-D$2","v":-1.0000000000000009E-3},{"$f":"元トマト!E446-E$2","v":-1E-3},{"$f":"元トマト!F446-F$2","v":0},{"$f":"元トマト!G446-G$2","v":0},{"$f":"元トマト!H446-H$2","v":0},{"$f":"元トマト!I446-I$2","v":-1E-3}]
[743,{"$f":"元トマト!B447-B$2","v":0},{"$f":"元トマト!C447-C$2","v":0},{"$f":"元トマト!D447-D$2","v":0},{"$f":"元トマト!E447-E$2","v":0},{"$f":"元トマト!F447-F$2","v":0},{"$f":"元トマト!G447-G$2","v":0},{"$f":"元トマト!H447-H$2","v":0},{"$f":"元トマト!I447-I$2","v":-1E-3}]
[744,{"$f":"元トマト!B448-B$2","v":0},{"$f":"元トマト!C448-C$2","v":-1E-3},{"$f":"元トマト!D448-D$2","v":-1.0000000000000009E-3},{"$f":"元トマト!E448-E$2","v":0},{"$f":"元トマト!F448-F$2","v":0},{"$f":"元トマト!G448-G$2","v":0},{"$f":"元トマト!H448-H$2","v":0},{"$f":"元トマト!I448-I$2","v":-2E-3}]
[745,{"$f":"元トマト!B449-B$2","v":-1E-3},{"$f":"元トマト!C449-C$2","v":-1E-3},{"$f":"元トマト!D449-D$2","v":-1.0000000000000009E-3},{"$f":"元トマト!E449-E$2","v":-1E-3},{"$f":"元トマト!F449-F$2","v":-1E-3},{"$f":"元トマト!G449-G$2","v":-1E-3},{"$f":"元トマト!H449-H$2","v":0},{"$f":"元トマト!I449-I$2","v":-2E-3}]
[746,{"$f":"元トマト!B450-B$2","v":-1E-3},{"$f":"元トマト!C450-C$2","v":-1E-3},{"$f":"元トマト!D450-D$2","v":-2E-3},{"$f":"元トマト!E450-E$2","v":-1E-3},{"$f":"元トマト!F450-F$2","v":-1E-3},{"$f":"元トマト!G450-G$2","v":-1E-3},{"$f":"元トマト!H450-H$2","v":0},{"$f":"元トマト!I450-I$2","v":-2E-3}]
[747,{"$f":"元トマト!B451-B$2","v":-1E-3},{"$f":"元トマト!C451-C$2","v":-1E-3},{"$f":"元トマト!D451-D$2","v":-2E-3},{"$f":"元トマト!E451-E$2","v":-1E-3},{"$f":"元トマト!F451-F$2","v":-1E-3},{"$f":"元トマト!G451-G$2","v":0},{"$f":"元トマト!H451-H$2","v":9.9999999999999915E-4},{"$f":"元トマト!I451-I$2","v":-2E-3}]
[748,{"$f":"元トマト!B452-B$2","v":-1E-3},{"$f":"元トマト!C452-C$2","v":-1E-3},{"$f":"元トマト!D452-D$2","v":-1.0000000000000009E-3},{"$f":"元トマト!E452-E$2","v":-1E-3},{"$f":"元トマト!F452-F$2","v":0},{"$f":"元トマト!G452-G$2","v":0},{"$f":"元トマト!H452-H$2","v":0},{"$f":"元トマト!I452-I$2","v":-2E-3}]
[749,{"$f":"元トマト!B453-B$2","v":-1E-3},{"$f":"元トマト!C453-C$2","v":-1E-3},{"$f":"元トマト!D453-D$2","v":-1.0000000000000009E-3},{"$f":"元トマト!E453-E$2","v":-1E-3},{"$f":"元トマト!F453-F$2","v":0},{"$f":"元トマト!G453-G$2","v":0},{"$f":"元トマト!H453-H$2","v":-1.0000000000000009E-3},{"$f":"元トマト!I453-I$2","v":-2E-3}]
[750,{"$f":"元トマト!B454-B$2","v":-1E-3},{"$f":"元トマト!C454-C$2","v":-1E-3},{"$f":"元トマト!D454-D$2","v":-1.0000000000000009E-3},{"$f":"元トマト!E454-E$2","v":-1E-3},{"$f":"元トマト!F454-F$2","v":0},{"$f":"元トマト!G454-G$2","v":0},{"$f":"元トマト!H454-H$2","v":-1.0000000000000009E-3},{"$f":"元トマト!I454-I$2","v":-1E-3}]
[751,{"$f":"元トマト!B455-B$2","v":-1E-3},{"$f":"元トマト!C455-C$2","v":-1E-3},{"$f":"元トマト!D455-D$2","v":-1.0000000000000009E-3},{"$f":"元トマト!E455-E$2","v":-1E-3},{"$f":"元トマト!F455-F$2","v":1E-3},{"$f":"元トマト!G455-G$2","v":0},{"$f":"元トマト!H455-H$2","v":0},{"$f":"元トマト!I455-I$2","v":-2E-3}]
[752,{"$f":"元トマト!B456-B$2","v":-1E-3},{"$f":"元トマト!C456-C$2","v":0},{"$f":"元トマト!D456-D$2","v":-1.0000000000000009E-3},{"$f":"元トマト!E456-E$2","v":0},{"$f":"元トマト!F456-F$2","v":0},{"$f":"元トマト!G456-G$2","v":0},{"$f":"元トマト!H456-H$2","v":0},{"$f":"元トマト!I456-I$2","v":-2E-3}]
[753,{"$f":"元トマト!B457-B$2","v":0},{"$f":"元トマト!C457-C$2","v":0},{"$f":"元トマト!D457-D$2","v":-1.0000000000000009E-3},{"$f":"元トマト!E457-E$2","v":0},{"$f":"元トマト!F457-F$2","v":0},{"$f":"元トマト!G457-G$2","v":-1E-3},{"$f":"元トマト!H457-H$2","v":0},{"$f":"元トマト!I457-I$2","v":-2E-3}]
[754,{"$f":"元トマト!B458-B$2","v":-1E-3},{"$f":"元トマト!C458-C$2","v":0},{"$f":"元トマト!D458-D$2","v":0},{"$f":"元トマト!E458-E$2","v":1E-3},{"$f":"元トマト!F458-F$2","v":0},{"$f":"元トマト!G458-G$2","v":0},{"$f":"元トマト!H458-H$2","v":0},{"$f":"元トマト!I458-I$2","v":-1E-3}]
[755,{"$f":"元トマト!B459-B$2","v":-2E-3},{"$f":"元トマト!C459-C$2","v":0},{"$f":"元トマト!D459-D$2","v":0},{"$f":"元トマト!E459-E$2","v":0},{"$f":"元トマト!F459-F$2","v":1E-3},{"$f":"元トマト!G459-G$2","v":0},{"$f":"元トマト!H459-H$2","v":-1.0000000000000009E-3},{"$f":"元トマト!I459-I$2","v":-2E-3}]
[756,{"$f":"元トマト!B460-B$2","v":-1E-3},{"$f":"元トマト!C460-C$2","v":9.9999999999999915E-4},{"$f":"元トマト!D460-D$2","v":-1.0000000000000009E-3},{"$f":"元トマト!E460-E$2","v":0},{"$f":"元トマト!F460-F$2","v":0},{"$f":"元トマト!G460-G$2","v":-1E-3},{"$f":"元トマト!H460-H$2","v":-1.0000000000000009E-3},{"$f":"元トマト!I460-I$2","v":-3.0000000000000001E-3}]
[757,{"$f":"元トマト!B461-B$2","v":-1E-3},{"$f":"元トマト!C461-C$2","v":9.9999999999999915E-4},{"$f":"元トマト!D461-D$2","v":-1.0000000000000009E-3},{"$f":"元トマト!E461-E$2","v":0},{"$f":"元トマト!F461-F$2","v":1E-3},{"$f":"元トマト!G461-G$2","v":-1E-3},{"$f":"元トマト!H461-H$2","v":0},{"$f":"元トマト!I461-I$2","v":-2E-3}]
[758,{"$f":"元トマト!B462-B$2","v":0},{"$f":"元トマト!C462-C$2","v":9.9999999999999915E-4},{"$f":"元トマト!D462-D$2","v":0},{"$f":"元トマト!E462-E$2","v":1E-3},{"$f":"元トマト!F462-F$2","v":2E-3},{"$f":"元トマト!G462-G$2","v":0},{"$f":"元トマト!H462-H$2","v":9.9999999999999915E-4},{"$f":"元トマト!I462-I$2","v":-1E-3}]
[759,{"$f":"元トマト!B463-B$2","v":0},{"$f":"元トマト!C463-C$2","v":9.9999999999999915E-4},{"$f":"元トマト!D463-D$2","v":0},{"$f":"元トマト!E463-E$2","v":1E-3},{"$f":"元トマト!F463-F$2","v":2E-3},{"$f":"元トマト!G463-G$2","v":0},{"$f":"元トマト!H463-H$2","v":-1.0000000000000009E-3},{"$f":"元トマト!I463-I$2","v":-1E-3}]
[760,{"$f":"元トマト!B464-B$2","v":0},{"$f":"元トマト!C464-C$2","v":9.9999999999999915E-4},{"$f":"元トマト!D464-D$2","v":0},{"$f":"元トマト!E464-E$2","v":1E-3},{"$f":"元トマト!F464-F$2","v":1E-3},{"$f":"元トマト!G464-G$2","v":0},{"$f":"元トマト!H464-H$2","v":-1.0000000000000009E-3},{"$f":"元トマト!I464-I$2","v":-1E-3}]
[761,{"$f":"元トマト!B465-B$2","v":-1E-3},{"$f":"元トマト!C465-C$2","v":9.9999999999999915E-4},{"$f":"元トマト!D465-D$2","v":0},{"$f":"元トマト!E465-E$2","v":0},{"$f":"元トマト!F465-F$2","v":1E-3},{"$f":"元トマト!G465-G$2","v":0},{"$f":"元トマト!H465-H$2","v":0},{"$f":"元トマト!I465-I$2","v":-1E-3}]
[762,{"$f":"元トマト!B466-B$2","v":-1E-3},{"$f":"元トマト!C466-C$2","v":9.9999999999999915E-4},{"$f":"元トマト!D466-D$2","v":0},{"$f":"元トマト!E466-E$2","v":0},{"$f":"元トマト!F466-F$2","v":2E-3},{"$f":"元トマト!G466-G$2","v":0},{"$f":"元トマト!H466-H$2","v":0},{"$f":"元トマト!I466-I$2","v":-1E-3}]
[763,{"$f":"元トマト!B467-B$2","v":-1E-3},{"$f":"元トマト!C467-C$2","v":0},{"$f":"元トマト!D467-D$2","v":0},{"$f":"元トマト!E467-E$2","v":0},{"$f":"元トマト!F467-F$2","v":1E-3},{"$f":"元トマト!G467-G$2","v":0},{"$f":"元トマト!H467-H$2","v":-1.0000000000000009E-3},{"$f":"元トマト!I467-I$2","v":-1E-3}]
[764,{"$f":"元トマト!B468-B$2","v":-1E-3},{"$f":"元トマト!C468-C$2","v":0},{"$f":"元トマト!D468-D$2","v":0},{"$f":"元トマト!E468-E$2","v":0},{"$f":"元トマト!F468-F$2","v":1E-3},{"$f":"元トマト!G468-G$2","v":-1E-3},{"$f":"元トマト!H468-H$2","v":-1.0000000000000009E-3},{"$f":"元トマト!I468-I$2","v":-1E-3}]
[765,{"$f":"元トマト!B469-B$2","v":-1E-3},{"$f":"元トマト!C469-C$2","v":9.9999999999999915E-4},{"$f":"元トマト!D469-D$2","v":0},{"$f":"元トマト!E469-E$2","v":0},{"$f":"元トマト!F469-F$2","v":1E-3},{"$f":"元トマト!G469-G$2","v":-1E-3},{"$f":"元トマト!H469-H$2","v":-1.0000000000000009E-3},{"$f":"元トマト!I469-I$2","v":-1E-3}]
[766,{"$f":"元トマト!B470-B$2","v":-1E-3},{"$f":"元トマト!C470-C$2","v":0},{"$f":"元トマト!D470-D$2","v":0},{"$f":"元トマト!E470-E$2","v":0},{"$f":"元トマト!F470-F$2","v":1E-3},{"$f":"元トマト!G470-G$2","v":0},{"$f":"元トマト!H470-H$2","v":0},{"$f":"元トマト!I470-I$2","v":-1E-3}]
[767,{"$f":"元トマト!B471-B$2","v":-1E-3},{"$f":"元トマト!C471-C$2","v":0},{"$f":"元トマト!D471-D$2","v":-1.0000000000000009E-3},{"$f":"元トマト!E471-E$2","v":0},{"$f":"元トマト!F471-F$2","v":1E-3},{"$f":"元トマト!G471-G$2","v":0},{"$f":"元トマト!H471-H$2","v":-1.0000000000000009E-3},{"$f":"元トマト!I471-I$2","v":-1E-3}]
[768,{"$f":"元トマト!B472-B$2","v":0},{"$f":"元トマト!C472-C$2","v":0},{"$f":"元トマト!D472-D$2","v":0},{"$f":"元トマト!E472-E$2","v":0},{"$f":"元トマト!F472-F$2","v":1E-3},{"$f":"元トマト!G472-G$2","v":0},{"$f":"元トマト!H472-H$2","v":-1.0000000000000009E-3},{"$f":"元トマト!I472-I$2","v":-1E-3}]
[769,{"$f":"元トマト!B473-B$2","v":0},{"$f":"元トマト!C473-C$2","v":0},{"$f":"元トマト!D473-D$2","v":0},{"$f":"元トマト!E473-E$2","v":0},{"$f":"元トマト!F473-F$2","v":1E-3},{"$f":"元トマト!G473-G$2","v":0},{"$f":"元トマト!H473-H$2","v":-1.0000000000000009E-3},{"$f":"元トマト!I473-I$2","v":-1E-3}]
[770,{"$f":"元トマト!B474-B$2","v":0},{"$f":"元トマト!C474-C$2","v":0},{"$f":"元トマト!D474-D$2","v":0},{"$f":"元トマト!E474-E$2","v":0},{"$f":"元トマト!F474-F$2","v":0},{"$f":"元トマト!G474-G$2","v":0},{"$f":"元トマト!H474-H$2","v":0},{"$f":"元トマト!I474-I$2","v":0}]
[771,{"$f":"元トマト!B475-B$2","v":0},{"$f":"元トマト!C475-C$2","v":0},{"$f":"元トマト!D475-D$2","v":0},{"$f":"元トマト!E475-E$2","v":0},{"$f":"元トマト!F475-F$2","v":1E-3},{"$f":"元トマト!G475-G$2","v":0},{"$f":"元トマト!H475-H$2","v":0},{"$f":"元トマト!I475-I$2","v":0}]
[772,{"$f":"元トマト!B476-B$2","v":0},{"$f":"元トマト!C476-C$2","v":0},{"$f":"元トマト!D476-D$2","v":0},{"$f":"元トマト!E476-E$2","v":0},{"$f":"元トマト!F476-F$2","v":1E-3},{"$f":"元トマト!G476-G$2","v":0},{"$f":"元トマト!H476-H$2","v":0},{"$f":"元トマト!I476-I$2","v":-1E-3}]
[773,{"$f":"元トマト!B477-B$2","v":0},{"$f":"元トマト!C477-C$2","v":-1E-3},{"$f":"元トマト!D477-D$2","v":-1.0000000000000009E-3},{"$f":"元トマト!E477-E$2","v":0},{"$f":"元トマト!F477-F$2","v":0},{"$f":"元トマト!G477-G$2","v":0},{"$f":"元トマト!H477-H$2","v":0},{"$f":"元トマト!I477-I$2","v":-1E-3}]
[774,{"$f":"元トマト!B478-B$2","v":0},{"$f":"元トマト!C478-C$2","v":-1E-3},{"$f":"元トマト!D478-D$2","v":-1.0000000000000009E-3},{"$f":"元トマト!E478-E$2","v":0},{"$f":"元トマト!F478-F$2","v":0},{"$f":"元トマト!G478-G$2","v":-1E-3},{"$f":"元トマト!H478-H$2","v":-1.0000000000000009E-3},{"$f":"元トマト!I478-I$2","v":-1E-3}]
[775,{"$f":"元トマト!B479-B$2","v":-1E-3},{"$f":"元トマト!C479-C$2","v":-1E-3},{"$f":"元トマト!D479-D$2","v":-1.0000000000000009E-3},{"$f":"元トマト!E479-E$2","v":0},{"$f":"元トマト!F479-F$2","v":0},{"$f":"元トマト!G479-G$2","v":0},{"$f":"元トマト!H479-H$2","v":-1.0000000000000009E-3},{"$f":"元トマト!I479-I$2","v":-1E-3}]
[776,{"$f":"元トマト!B480-B$2","v":0},{"$f":"元トマト!C480-C$2","v":-1E-3},{"$f":"元トマト!D480-D$2","v":0},{"$f":"元トマト!E480-E$2","v":0},{"$f":"元トマト!F480-F$2","v":0},{"$f":"元トマト!G480-G$2","v":-1E-3},{"$f":"元トマト!H480-H$2","v":-1.0000000000000009E-3},{"$f":"元トマト!I480-I$2","v":-1E-3}]
[777,{"$f":"元トマト!B481-B$2","v":0},{"$f":"元トマト!C481-C$2","v":-1E-3},{"$f":"元トマト!D481-D$2","v":-1.0000000000000009E-3},{"$f":"元トマト!E481-E$2","v":0},{"$f":"元トマト!F481-F$2","v":0},{"$f":"元トマト!G481-G$2","v":-1E-3},{"$f":"元トマト!H481-H$2","v":-1.0000000000000009E-3},{"$f":"元トマト!I481-I$2","v":-1E-3}]
[778,{"$f":"元トマト!B482-B$2","v":0},{"$f":"元トマト!C482-C$2","v":0},{"$f":"元トマト!D482-D$2","v":-1.0000000000000009E-3},{"$f":"元トマト!E482-E$2","v":0},{"$f":"元トマト!F482-F$2","v":0},{"$f":"元トマト!G482-G$2","v":-1E-3},{"$f":"元トマト!H482-H$2","v":0},{"$f":"元トマト!I482-I$2","v":-1E-3}]
[779,{"$f":"元トマト!B483-B$2","v":0},{"$f":"元トマト!C483-C$2","v":-1E-3},{"$f":"元トマト!D483-D$2","v":-1.0000000000000009E-3},{"$f":"元トマト!E483-E$2","v":0},{"$f":"元トマト!F483-F$2","v":0},{"$f":"元トマト!G483-G$2","v":-1E-3},{"$f":"元トマト!H483-H$2","v":0},{"$f":"元トマト!I483-I$2","v":-1E-3}]
[780,{"$f":"元トマト!B484-B$2","v":0},{"$f":"元トマト!C484-C$2","v":0},{"$f":"元トマト!D484-D$2","v":-1.0000000000000009E-3},{"$f":"元トマト!E484-E$2","v":0},{"$f":"元トマト!F484-F$2","v":0},{"$f":"元トマト!G484-G$2","v":-1E-3},{"$f":"元トマト!H484-H$2","v":-1.0000000000000009E-3},{"$f":"元トマト!I484-I$2","v":-1E-3}]
[781,{"$f":"元トマト!B485-B$2","v":-1E-3},{"$f":"元トマト!C485-C$2","v":0},{"$f":"元トマト!D485-D$2","v":0},{"$f":"元トマト!E485-E$2","v":0},{"$f":"元トマト!F485-F$2","v":1E-3},{"$f":"元トマト!G485-G$2","v":0},{"$f":"元トマト!H485-H$2","v":0},{"$f":"元トマト!I485-I$2","v":-1E-3}]
[782,{"$f":"元トマト!B486-B$2","v":0},{"$f":"元トマト!C486-C$2","v":-1E-3},{"$f":"元トマト!D486-D$2","v":0},{"$f":"元トマト!E486-E$2","v":0},{"$f":"元トマト!F486-F$2","v":0},{"$f":"元トマト!G486-G$2","v":-1E-3},{"$f":"元トマト!H486-H$2","v":0},{"$f":"元トマト!I486-I$2","v":-1E-3}]
[783,{"$f":"元トマト!B487-B$2","v":-1E-3},{"$f":"元トマト!C487-C$2","v":-1E-3},{"$f":"元トマト!D487-D$2","v":-2E-3},{"$f":"元トマト!E487-E$2","v":0},{"$f":"元トマト!F487-F$2","v":-1E-3},{"$f":"元トマト!G487-G$2","v":-1E-3},{"$f":"元トマト!H487-H$2","v":-1.0000000000000009E-3},{"$f":"元トマト!I487-I$2","v":-1E-3}]
[784,{"$f":"元トマト!B488-B$2","v":-1E-3},{"$f":"元トマト!C488-C$2","v":-1E-3},{"$f":"元トマト!D488-D$2","v":-1.0000000000000009E-3},{"$f":"元トマト!E488-E$2","v":0},{"$f":"元トマト!F488-F$2","v":0},{"$f":"元トマト!G488-G$2","v":-1E-3},{"$f":"元トマト!H488-H$2","v":-1.0000000000000009E-3},{"$f":"元トマト!I488-I$2","v":-1E-3}]
[785,{"$f":"元トマト!B489-B$2","v":-1E-3},{"$f":"元トマト!C489-C$2","v":-1E-3},{"$f":"元トマト!D489-D$2","v":-1.0000000000000009E-3},{"$f":"元トマト!E489-E$2","v":-1E-3},{"$f":"元トマト!F489-F$2","v":0},{"$f":"元トマト!G489-G$2","v":-1E-3},{"$f":"元トマト!H489-H$2","v":-1.0000000000000009E-3},{"$f":"元トマト!I489-I$2","v":-1E-3}]
[786,{"$f":"元トマト!B490-B$2","v":-1E-3},{"$f":"元トマト!C490-C$2","v":-1E-3},{"$f":"元トマト!D490-D$2","v":-1.0000000000000009E-3},{"$f":"元トマト!E490-E$2","v":0},{"$f":"元トマト!F490-F$2","v":0},{"$f":"元トマト!G490-G$2","v":-1E-3},{"$f":"元トマト!H490-H$2","v":-1.0000000000000009E-3},{"$f":"元トマト!I490-I$2","v":-1E-3}]
[787,{"$f":"元トマト!B491-B$2","v":0},{"$f":"元トマト!C491-C$2","v":0},{"$f":"元トマト!D491-D$2","v":0},{"$f":"元トマト!E491-E$2","v":1E-3},{"$f":"元トマト!F491-F$2","v":0},{"$f":"元トマト!G491-G$2","v":0},{"$f":"元トマト!H491-H$2","v":-1.0000000000000009E-3},{"$f":"元トマト!I491-I$2","v":-1E-3}]
[788,{"$f":"元トマト!B492-B$2","v":0},{"$f":"元トマト!C492-C$2","v":0},{"$f":"元トマト!D492-D$2","v":-1.0000000000000009E-3},{"$f":"元トマト!E492-E$2","v":0},{"$f":"元トマト!F492-F$2","v":-1E-3},{"$f":"元トマト!G492-G$2","v":-1E-3},{"$f":"元トマト!H492-H$2","v":-1.0000000000000009E-3},{"$f":"元トマト!I492-I$2","v":-1E-3}]
[789,{"$f":"元トマト!B493-B$2","v":0},{"$f":"元トマト!C493-C$2","v":0},{"$f":"元トマト!D493-D$2","v":-1.0000000000000009E-3},{"$f":"元トマト!E493-E$2","v":0},{"$f":"元トマト!F493-F$2","v":0},{"$f":"元トマト!G493-G$2","v":-1E-3},{"$f":"元トマト!H493-H$2","v":-1.0000000000000009E-3},{"$f":"元トマト!I493-I$2","v":-1E-3}]
[790,{"$f":"元トマト!B494-B$2","v":0},{"$f":"元トマト!C494-C$2","v":0},{"$f":"元トマト!D494-D$2","v":0},{"$f":"元トマト!E494-E$2","v":1E-3},{"$f":"元トマト!F494-F$2","v":1E-3},{"$f":"元トマト!G494-G$2","v":0},{"$f":"元トマト!H494-H$2","v":0},{"$f":"元トマト!I494-I$2","v":0}]
[791,{"$f":"元トマト!B495-B$2","v":0},{"$f":"元トマト!C495-C$2","v":0},{"$f":"元トマト!D495-D$2","v":0},{"$f":"元トマト!E495-E$2","v":0},{"$f":"元トマト!F495-F$2","v":1E-3},{"$f":"元トマト!G495-G$2","v":0},{"$f":"元トマト!H495-H$2","v":-1.0000000000000009E-3},{"$f":"元トマト!I495-I$2","v":0}]
[792,{"$f":"元トマト!B496-B$2","v":0},{"$f":"元トマト!C496-C$2","v":0},{"$f":"元トマト!D496-D$2","v":-1.0000000000000009E-3},{"$f":"元トマト!E496-E$2","v":1E-3},{"$f":"元トマト!F496-F$2","v":1E-3},{"$f":"元トマト!G496-G$2","v":-1E-3},{"$f":"元トマト!H496-H$2","v":-1.0000000000000009E-3},{"$f":"元トマト!I496-I$2","v":-1E-3}]
[793,{"$f":"元トマト!B497-B$2","v":-1E-3},{"$f":"元トマト!C497-C$2","v":0},{"$f":"元トマト!D497-D$2","v":-1.0000000000000009E-3},{"$f":"元トマト!E497-E$2","v":0},{"$f":"元トマト!F497-F$2","v":0},{"$f":"元トマト!G497-G$2","v":-1E-3},{"$f":"元トマト!H497-H$2","v":-2E-3},{"$f":"元トマト!I497-I$2","v":-1E-3}]
[794,{"$f":"元トマト!B498-B$2","v":-1E-3},{"$f":"元トマト!C498-C$2","v":0},{"$f":"元トマト!D498-D$2","v":-1.0000000000000009E-3},{"$f":"元トマト!E498-E$2","v":-1E-3},{"$f":"元トマト!F498-F$2","v":0},{"$f":"元トマト!G498-G$2","v":-2E-3},{"$f":"元トマト!H498-H$2","v":-2E-3},{"$f":"元トマト!I498-I$2","v":-1E-3}]
[795,{"$f":"元トマト!B499-B$2","v":0},{"$f":"元トマト!C499-C$2","v":0},{"$f":"元トマト!D499-D$2","v":0},{"$f":"元トマト!E499-E$2","v":0},{"$f":"元トマト!F499-F$2","v":0},{"$f":"元トマト!G499-G$2","v":-1E-3},{"$f":"元トマト!H499-H$2","v":-1.0000000000000009E-3},{"$f":"元トマト!I499-I$2","v":0}]
[796,{"$f":"元トマト!B500-B$2","v":0},{"$f":"元トマト!C500-C$2","v":0},{"$f":"元トマト!D500-D$2","v":0},{"$f":"元トマト!E500-E$2","v":0},{"$f":"元トマト!F500-F$2","v":0},{"$f":"元トマト!G500-G$2","v":-1E-3},{"$f":"元トマト!H500-H$2","v":0},{"$f":"元トマト!I500-I$2","v":0}]
[797,{"$f":"元トマト!B501-B$2","v":0},{"$f":"元トマト!C501-C$2","v":0},{"$f":"元トマト!D501-D$2","v":-1.0000000000000009E-3},{"$f":"元トマト!E501-E$2","v":-1E-3},{"$f":"元トマト!F501-F$2","v":0},{"$f":"元トマト!G501-G$2","v":-1E-3},{"$f":"元トマト!H501-H$2","v":0},{"$f":"元トマト!I501-I$2","v":-1E-3}]
[798,{"$f":"元トマト!B502-B$2","v":0},{"$f":"元トマト!C502-C$2","v":0},{"$f":"元トマト!D502-D$2","v":-1.0000000000000009E-3},{"$f":"元トマト!E502-E$2","v":-1E-3},{"$f":"元トマト!F502-F$2","v":0},{"$f":"元トマト!G502-G$2","v":-1E-3},{"$f":"元トマト!H502-H$2","v":0},{"$f":"元トマト!I502-I$2","v":-1E-3}]
[799,{"$f":"元トマト!B503-B$2","v":0},{"$f":"元トマト!C503-C$2","v":-1E-3},{"$f":"元トマト!D503-D$2","v":-1.0000000000000009E-3},{"$f":"元トマト!E503-E$2","v":-1E-3},{"$f":"元トマト!F503-F$2","v":0},{"$f":"元トマト!G503-G$2","v":-1E-3},{"$f":"元トマト!H503-H$2","v":-1.0000000000000009E-3},{"$f":"元トマト!I503-I$2","v":-1E-3}]
[800,{"$f":"元トマト!B504-B$2","v":0},{"$f":"元トマト!C504-C$2","v":0},{"$f":"元トマト!D504-D$2","v":-1.0000000000000009E-3},{"$f":"元トマト!E504-E$2","v":-1E-3},{"$f":"元トマト!F504-F$2","v":0},{"$f":"元トマト!G504-G$2","v":-1E-3},{"$f":"元トマト!H504-H$2","v":-1.0000000000000009E-3},{"$f":"元トマト!I504-I$2","v":-1E-3}]

{"sheet":"元トマト","index":4,"n_rows":1006,"n_cols":9,"rows_kept":1006,"cut":false,"hidden":false,"merged":[]}
[]
[]
["波長/nm","E:\\spectrum1125\\トマト０１.txt","E:\\spectrum1125\\トマト０２.txt","E:\\spectrum1125\\トマト０３.txt","E:\\spectrum1125\\トマト０４.txt","E:\\spectrum1125\\トマト０５.txt","E:\\spectrum1125\\トマト０６.txt","E:\\spectrum1125\\トマト０７.txt","E:\\spectrum1125\\トマト０８.txt"]
[300,-1.081,-0.69399999999999995,-0.499,-0.59299999999999997,-0.40500000000000003,5.7000000000000002E-2,5.0000000000000001E-3,6.8000000000000005E-2]
[301,-1.141,-0.76900000000000002,-0.56599999999999995,-0.65900000000000003,-0.46700000000000003,6.9000000000000006E-2,1.2999999999999999E-2,8.2000000000000003E-2]
[302,-1.196,-0.84,-0.64,-0.72599999999999998,-0.53600000000000003,6.9000000000000006E-2,1.4999999999999999E-2,8.7999999999999995E-2]
[303,-1.2490000000000001,-0.91800000000000004,-0.72,-0.79900000000000004,-0.60899999999999999,8.5000000000000006E-2,1.6E-2,0.10299999999999999]
[304,-1.298,-0.98799999999999999,-0.79500000000000004,-0.86899999999999999,-0.67900000000000005,0.123,3.5999999999999997E-2,0.129]
[305,-1.3160000000000001,-1.0269999999999999,-0.84299999999999997,-0.91100000000000003,-0.72699999999999998,0.151,5.2999999999999999E-2,0.16900000000000001]
[306,-1.3220000000000001,-1.054,-0.88500000000000001,-0.94399999999999995,-0.77100000000000002,0.17299999999999999,5.2999999999999999E-2,0.214]
[307,-1.304,-1.0569999999999999,-0.90100000000000002,-0.95499999999999996,-0.79300000000000004,0.24,6.5000000000000002E-2,0.29399999999999998]
[308,-1.2809999999999999,-1.0509999999999999,-0.90700000000000003,-0.95799999999999996,-0.80400000000000005,0.32500000000000001,7.3999999999999996E-2,0.38500000000000001]
[309,-1.238,-1.024,-0.89100000000000001,-0.94,-0.79500000000000004,0.40899999999999997,8.1000000000000003E-2,0.47499999999999998]
[310,-1.1679999999999999,-0.96899999999999997,-0.85199999999999998,-0.89700000000000002,-0.76200000000000001,0.495,8.8999999999999996E-2,0.57699999999999996]
[311,-1.095,-0.90800000000000003,-0.80500000000000005,-0.84699999999999998,-0.72199999999999998,0.57899999999999996,8.7999999999999995E-2,0.68600000000000005]
[312,-1.016,-0.84299999999999997,-0.753,-0.79,-0.67500000000000004,0.65700000000000003,8.4000000000000005E-2,0.80100000000000005]
[313,-0.92200000000000004,-0.76400000000000001,-0.68700000000000006,-0.72199999999999998,-0.61699999999999999,0.70199999999999996,7.6999999999999999E-2,0.92100000000000004]
[314,-0.83499999999999996,-0.68700000000000006,-0.623,-0.65600000000000003,-0.56000000000000005,0.71399999999999997,6.9000000000000006E-2,1.012]
[315,-0.745,-0.60899999999999999,-0.55600000000000005,-0.58699999999999997,-0.5,0.7,6.4000000000000001E-2,1.1240000000000001]
[316,-0.64700000000000002,-0.52400000000000002,-0.48299999999999998,-0.51300000000000001,-0.436,0.66200000000000003,5.6000000000000001E-2,1.256]
[317,-0.55700000000000005,-0.44600000000000001,-0.41699999999999998,-0.44400000000000001,-0.375,0.59799999999999998,4.7E-2,1.3640000000000001]
[318,-0.48099999999999998,-0.379,-0.36099999999999999,-0.38600000000000001,-0.32500000000000001,0.53200000000000003,4.1000000000000002E-2,1.421]
[319,-0.41099999999999998,-0.314,-0.308,-0.33100000000000002,-0.27700000000000002,0.46500000000000002,3.4000000000000002E-2,1.423]
[320,-0.33900000000000002,-0.251,-0.255,-0.27700000000000002,-0.23,0.39500000000000002,2.7E-2,1.3540000000000001]
[321,-0.27600000000000002,-0.19600000000000001,-0.20699999999999999,-0.22800000000000001,-0.188,0.33100000000000002,2.1000000000000001E-2,1.228]
[322,-0.224,-0.15,-0.16700000000000001,-0.188,-0.153,0.27900000000000003,1.7999999999999999E-2,1.0760000000000001]
[323,-0.17899999999999999,-0.107,-0.13300000000000001,-0.153,-0.122,0.23499999999999999,1.6E-2,0.91100000000000003]
[324,-0.13600000000000001,-6.7000000000000004E-2,-0.10100000000000001,-0.122,-9.2999999999999999E-2,0.192,1.2E-2,0.74]
[325,-0.10199999999999999,-3.5000000000000003E-2,-7.5999999999999998E-2,-9.7000000000000003E-2,-7.0999999999999994E-2,0.158,8.9999999999999993E-3,0.60299999999999998]
[326,-7.2999999999999995E-2,-8.9999999999999993E-3,-5.3999999999999999E-2,-7.4999999999999997E-2,-5.2999999999999999E-2,0.13,7.0000000000000001E-3,0.48799999999999999]
[327,-4.8000000000000001E-2,1.4999999999999999E-2,-3.5000000000000003E-2,-5.7000000000000002E-2,-3.6999999999999998E-2,0.105,5.0000000000000001E-3,0.38500000000000001]
[328,-2.8000000000000001E-2,3.4000000000000002E-2,-0.02,-4.2000000000000003E-2,-2.5000000000000001E-2,8.5999999999999993E-2,4.0000000000000001E-3,0.30299999999999999]
[329,-1.2999999999999999E-2,4.9000000000000002E-2,-8.0000000000000002E-3,-3.1E-2,-1.4999999999999999E-2,7.2999999999999995E-2,4.0000000000000001E-3,0.24399999999999999]
[330,-2E-3,0.06,0,-2.3E-2,-7.0000000000000001E-3,6.3E-2,2E-3,0.19800000000000001]
[331,6.0000000000000001E-3,6.9000000000000006E-2,8.0000000000000002E-3,-1.6E-2,-2E-3,5.2999999999999999E-2,1E-3,0.156]
[332,1.2999999999999999E-2,7.6999999999999999E-2,1.4E-2,-1.0999999999999999E-2,2E-3,4.4999999999999998E-2,0,0.124]
[333,1.9E-2,8.3000000000000004E-2,0.02,-6.0000000000000001E-3,6.0000000000000001E-3,4.1000000000000002E-2,0,0.10100000000000001]
[334,2.1999999999999999E-2,8.8999999999999996E-2,2.4E-2,-3.0000000000000001E-3,8.9999999999999993E-3,3.5999999999999997E-2,0,8.2000000000000003E-2]
[335,2.5000000000000001E-2,9.5000000000000001E-2,2.8000000000000001E-2,0,1.0999999999999999E-2,3.3000000000000002E-2,0,6.6000000000000003E-2]
[336,2.7E-2,0.1,3.1E-2,3.0000000000000001E-3,1.2999999999999999E-2,0.03,0,5.3999999999999999E-2]
[337,0.03,0.105,3.5000000000000003E-2,4.0000000000000001E-3,1.4E-2,2.8000000000000001E-2,0,4.4999999999999998E-2]
[338,3.2000000000000001E-2,0.111,3.9E-2,6.0000000000000001E-3,1.4999999999999999E-2,2.5999999999999999E-2,0,3.6999999999999998E-2]
[339,3.5000000000000003E-2,0.11700000000000001,4.2999999999999997E-2,6.0000000000000001E-3,1.6E-2,2.4E-2,-1E-3,0.03]
[340,3.6999999999999998E-2,0.123,4.5999999999999999E-2,7.0000000000000001E-3,1.7000000000000001E-2,2.3E-2,0,2.5999999999999999E-2]
[341,4.1000000000000002E-2,0.129,4.9000000000000002E-2,8.0000000000000002E-3,1.7999999999999999E-2,2.1999999999999999E-2,0,2.3E-2]
[342,4.4999999999999998E-2,0.13500000000000001,5.0999999999999997E-2,8.9999999999999993E-3,1.9E-2,2.1999999999999999E-2,1E-3,0.02]
[343,4.8000000000000001E-2,0.14000000000000001,5.2999999999999999E-2,0.01,0.02,2.1999999999999999E-2,1E-3,1.7999999999999999E-2]
[344,0.05,0.14299999999999999,5.5E-2,0.01,0.02,2.1000000000000001E-2,1E-3,1.6E-2]
[345,5.0999999999999997E-2,0.14499999999999999,5.6000000000000001E-2,1.0999999999999999E-2,0.02,2.1000000000000001E-2,1E-3,1.4999999999999999E-2]
[346,5.2999999999999999E-2,0.14699999999999999,5.6000000000000001E-2,1.0999999999999999E-2,2.1000000000000001E-2,2.1000000000000001E-2,1E-3,1.4E-2]
[347,5.2999999999999999E-2,0.14699999999999999,5.6000000000000001E-2,1.2E-2,2.1000000000000001E-2,2.1000000000000001E-2,1E-3,1.4E-2]
[348,5.1999999999999998E-2,0.14599999999999999,5.6000000000000001E-2,1.2E-2,2.1000000000000001E-2,2.1000000000000001E-2,1E-3,1.2999999999999999E-2]
[349,5.0999999999999997E-2,0.14499999999999999,5.6000000000000001E-2,1.2E-2,0.02,2.1000000000000001E-2,1E-3,1.2999999999999999E-2]
[350,0.05,0.14399999999999999,5.6000000000000001E-2,1.2E-2,0.02,2.1000000000000001E-2,1E-3,1.2E-2]
[351,4.7E-2,0.14399999999999999,5.6000000000000001E-2,1.2E-2,0.02,2.1999999999999999E-2,1E-3,1.2E-2]
[352,4.4999999999999998E-2,0.14399999999999999,5.7000000000000002E-2,1.2E-2,0.02,2.1000000000000001E-2,2E-3,1.2E-2]
[353,4.3999999999999997E-2,0.14499999999999999,5.8999999999999997E-2,1.2E-2,1.9E-2,2.1000000000000001E-2,1E-3,1.2E-2]
[354,4.2000000000000003E-2,0.14799999999999999,6.2E-2,1.2E-2,1.9E-2,2.1000000000000001E-2,1E-3,1.2E-2]
[355,4.1000000000000002E-2,0.153,6.4000000000000001E-2,1.2999999999999999E-2,1.9E-2,2.1000000000000001E-2,1E-3,1.2E-2]
[356,4.1000000000000002E-2,0.159,6.8000000000000005E-2,1.2999999999999999E-2,1.9E-2,2.1999999999999999E-2,1E-3,1.2E-2]
[357,4.1000000000000002E-2,0.16500000000000001,7.1999999999999995E-2,1.2999999999999999E-2,1.7999999999999999E-2,2.1999999999999999E-2,1E-3,1.2E-2]
[358,4.2000000000000003E-2,0.17,7.4999999999999997E-2,1.2999999999999999E-2,1.7999999999999999E-2,2.1000000000000001E-2,1E-3,1.2E-2]
[359,4.3999999999999997E-2,0.17499999999999999,7.6999999999999999E-2,1.4E-2,1.9E-2,2.1999999999999999E-2,2E-3,1.2E-2]
[360,4.5999999999999999E-2,0.17799999999999999,7.8E-2,1.4E-2,1.9E-2,2.1999999999999999E-2,2E-3,1.2E-2]
[361,4.9000000000000002E-2,0.17799999999999999,7.8E-2,1.4E-2,0.02,2.1999999999999999E-2,3.0000000000000001E-3,1.2E-2]
[362,5.0999999999999997E-2,0.17699999999999999,7.5999999999999998E-2,1.4E-2,0.02,2.1999999999999999E-2,2E-3,1.2E-2]
[363,5.2999999999999999E-2,0.17399999999999999,7.2999999999999995E-2,1.4E-2,2.1000000000000001E-2,2.1999999999999999E-2,2E-3,1.2E-2]
[364,5.3999999999999999E-2,0.16900000000000001,6.9000000000000006E-2,1.4E-2,2.1000000000000001E-2,2.1999999999999999E-2,2E-3,1.2E-2]
[365,5.5E-2,0.16400000000000001,6.6000000000000003E-2,1.4E-2,2.1000000000000001E-2,2.1999999999999999E-2,2E-3,1.2999999999999999E-2]
[366,5.5E-2,0.158,6.2E-2,1.4E-2,2.1000000000000001E-2,2.1999999999999999E-2,3.0000000000000001E-3,1.2999999999999999E-2]
[367,5.5E-2,0.152,5.8000000000000003E-2,1.4E-2,2.1000000000000001E-2,2.3E-2,3.0000000000000001E-3,1.2999999999999999E-2]
[368,5.2999999999999999E-2,0.14499999999999999,5.5E-2,1.4E-2,2.1000000000000001E-2,2.4E-2,3.0000000000000001E-3,1.4E-2]
[369,5.0999999999999997E-2,0.14000000000000001,5.1999999999999998E-2,1.2999999999999999E-2,0.02,2.3E-2,3.0000000000000001E-3,1.4E-2]
[370,4.9000000000000002E-2,0.13600000000000001,0.05,1.2999999999999999E-2,1.9E-2,2.4E-2,3.0000000000000001E-3,1.4E-2]
[371,4.5999999999999999E-2,0.13100000000000001,4.8000000000000001E-2,1.2E-2,1.9E-2,2.4E-2,2E-3,1.4E-2]
[372,4.2999999999999997E-2,0.128,4.5999999999999999E-2,1.2E-2,1.9E-2,2.4E-2,2E-3,1.4E-2]
[373,4.2000000000000003E-2,0.126,4.4999999999999998E-2,1.0999999999999999E-2,1.7999999999999999E-2,2.4E-2,2E-3,1.4E-2]
[374,0.04,0.125,4.4999999999999998E-2,1.0999999999999999E-2,1.7999999999999999E-2,2.4E-2,2E-3,1.4E-2]
[375,3.9E-2,0.125,4.4999999999999998E-2,1.0999999999999999E-2,1.7000000000000001E-2,2.5000000000000001E-2,3.0000000000000001E-3,1.4E-2]
[376,3.9E-2,0.126,4.5999999999999999E-2,1.0999999999999999E-2,1.7000000000000001E-2,2.5000000000000001E-2,3.0000000000000001E-3,1.4999999999999999E-2]
[377,3.9E-2,0.128,4.7E-2,1.2E-2,1.7000000000000001E-2,2.5000000000000001E-2,3.0000000000000001E-3,1.4999999999999999E-2]
[378,3.9E-2,0.13,4.8000000000000001E-2,1.2E-2,1.7000000000000001E-2,2.5000000000000001E-2,3.0000000000000001E-3,1.4999999999999999E-2]
[379,3.7999999999999999E-2,0.13200000000000001,4.9000000000000002E-2,1.2E-2,1.7000000000000001E-2,2.5000000000000001E-2,3.0000000000000001E-3,1.4999999999999999E-2]
[380,3.7999999999999999E-2,0.13400000000000001,0.05,1.2E-2,1.7000000000000001E-2,2.5000000000000001E-2,3.0000000000000001E-3,1.4999999999999999E-2]
[381,3.7999999999999999E-2,0.13800000000000001,5.1999999999999998E-2,1.2E-2,1.7000000000000001E-2,2.5000000000000001E-2,3.0000000000000001E-3,1.4999999999999999E-2]
[382,0.04,0.14199999999999999,5.3999999999999999E-2,1.2999999999999999E-2,1.7000000000000001E-2,2.5000000000000001E-2,4.0000000000000001E-3,1.4999999999999999E-2]
[383,4.1000000000000002E-2,0.14699999999999999,5.7000000000000002E-2,1.2999999999999999E-2,1.6E-2,2.5999999999999999E-2,4.0000000000000001E-3,1.6E-2]
[384,4.2000000000000003E-2,0.152,5.8999999999999997E-2,1.4E-2,1.6E-2,2.5999999999999999E-2,4.0000000000000001E-3,1.6E-2]
[385,4.2999999999999997E-2,0.157,6.2E-2,1.4E-2,1.6E-2,2.5000000000000001E-2,4.0000000000000001E-3,1.4999999999999999E-2]
[386,4.4999999999999998E-2,0.16300000000000001,6.6000000000000003E-2,1.4E-2,1.7000000000000001E-2,2.5999999999999999E-2,4.0000000000000001E-3,1.6E-2]
[387,4.7E-2,0.17,6.9000000000000006E-2,1.4999999999999999E-2,1.7000000000000001E-2,2.7E-2,5.0000000000000001E-3,1.7000000000000001E-2]
[388,4.9000000000000002E-2,0.17699999999999999,7.2999999999999995E-2,1.4999999999999999E-2,1.7000000000000001E-2,2.7E-2,5.0000000000000001E-3,1.7000000000000001E-2]
[389,0.05,0.182,7.4999999999999997E-2,1.4999999999999999E-2,1.7000000000000001E-2,2.8000000000000001E-2,5.0000000000000001E-3,1.7000000000000001E-2]
[390,5.1999999999999998E-2,0.189,7.6999999999999999E-2,1.6E-2,1.7000000000000001E-2,2.8000000000000001E-2,5.0000000000000001E-3,1.7000000000000001E-2]
[391,5.3999999999999999E-2,0.19600000000000001,8.1000000000000003E-2,1.6E-2,1.7999999999999999E-2,2.8000000000000001E-2,5.0000000000000001E-3,1.7999999999999999E-2]
[392,5.6000000000000001E-2,0.20200000000000001,8.4000000000000005E-2,1.7000000000000001E-2,1.7999999999999999E-2,2.9000000000000001E-2,6.0000000000000001E-3,1.9E-2]
[393,5.8999999999999997E-2,0.20899999999999999,8.6999999999999994E-2,1.7000000000000001E-2,1.7000000000000001E-2,2.9000000000000001E-2,6.0000000000000001E-3,1.9E-2]
[394,6.0999999999999999E-2,0.215,0.09,1.7000000000000001E-2,1.7000000000000001E-2,2.9000000000000001E-2,6.0000000000000001E-3,0.02]
[395,6.3E-2,0.222,9.2999999999999999E-2,1.7999999999999999E-2,1.7999999999999999E-2,0.03,6.0000000000000001E-3,0.02]
[396,6.5000000000000002E-2,0.22800000000000001,9.5000000000000001E-2,1.7999999999999999E-2,1.7999999999999999E-2,0.03,6.0000000000000001E-3,0.02]
[397,6.6000000000000003E-2,0.23400000000000001,9.7000000000000003E-2,1.7999999999999999E-2,1.7999999999999999E-2,0.03,6.0000000000000001E-3,2.1000000000000001E-2]
[398,6.8000000000000005E-2,0.23899999999999999,0.1,1.7999999999999999E-2,1.7999999999999999E-2,3.1E-2,7.0000000000000001E-3,2.1000000000000001E-2]
[399,7.0000000000000007E-2,0.245,0.10299999999999999,1.9E-2,1.7999999999999999E-2,3.1E-2,7.0000000000000001E-3,2.1000000000000001E-2]
[400,7.0999999999999994E-2,0.252,0.107,1.9E-2,1.7999999999999999E-2,3.2000000000000001E-2,7.0000000000000001E-3,2.1999999999999999E-2]
[401,7.1999999999999995E-2,0.25900000000000001,0.11,0.02,1.9E-2,3.2000000000000001E-2,8.0000000000000002E-3,2.1999999999999999E-2]
[402,7.3999999999999996E-2,0.26700000000000002,0.115,0.02,1.7999999999999999E-2,3.2000000000000001E-2,8.0000000000000002E-3,2.1000000000000001E-2]
[403,7.4999999999999997E-2,0.27700000000000002,0.12,0.02,1.7999999999999999E-2,3.2000000000000001E-2,8.0000000000000002E-3,2.1000000000000001E-2]
[404,7.6999999999999999E-2,0.28699999999999998,0.126,2.1000000000000001E-2,1.7999999999999999E-2,3.3000000000000002E-2,8.0000000000000002E-3,2.1999999999999999E-2]
[405,7.9000000000000001E-2,0.29699999999999999,0.13200000000000001,2.1999999999999999E-2,1.7999999999999999E-2,3.3000000000000002E-2,8.0000000000000002E-3,2.1999999999999999E-2]
[406,8.1000000000000003E-2,0.307,0.13900000000000001,2.3E-2,1.7999999999999999E-2,3.3000000000000002E-2,8.9999999999999993E-3,2.3E-2]
[407,8.3000000000000004E-2,0.31900000000000001,0.14499999999999999,2.4E-2,1.9E-2,3.4000000000000002E-2,0.01,2.3E-2]
[408,8.4000000000000005E-2,0.33100000000000002,0.151,2.4E-2,1.9E-2,3.3000000000000002E-2,0.01,2.3E-2]
[409,8.7999999999999995E-2,0.34399999999999997,0.158,2.5000000000000001E-2,1.7999999999999999E-2,3.3000000000000002E-2,0.01,2.3E-2]
[410,9.0999999999999998E-2,0.35799999999999998,0.16600000000000001,2.5999999999999999E-2,1.7999999999999999E-2,3.4000000000000002E-2,0.01,2.4E-2]
[411,9.4E-2,0.372,0.17299999999999999,2.7E-2,1.9E-2,3.4000000000000002E-2,1.0999999999999999E-2,2.4E-2]
[412,9.6000000000000002E-2,0.38300000000000001,0.17899999999999999,2.8000000000000001E-2,1.9E-2,3.4000000000000002E-2,1.0999999999999999E-2,2.4E-2]
[413,9.9000000000000005E-2,0.39500000000000002,0.185,2.9000000000000001E-2,1.9E-2,3.5000000000000003E-2,1.0999999999999999E-2,2.5000000000000001E-2]
[414,0.10299999999999999,0.40600000000000003,0.191,2.9000000000000001E-2,1.9E-2,3.5000000000000003E-2,1.2E-2,2.5000000000000001E-2]
[415,0.105,0.41599999999999998,0.19500000000000001,2.8000000000000001E-2,1.9E-2,3.4000000000000002E-2,1.2E-2,2.5000000000000001E-2]
[416,0.109,0.42499999999999999,0.2,2.9000000000000001E-2,0.02,3.5000000000000003E-2,1.2999999999999999E-2,2.5999999999999999E-2]
[417,0.113,0.433,0.20399999999999999,2.9000000000000001E-2,0.02,3.5999999999999997E-2,1.2999999999999999E-2,2.7E-2]
[418,0.115,0.441,0.20599999999999999,0.03,0.02,3.5999999999999997E-2,1.2999999999999999E-2,2.7E-2]
[419,0.11700000000000001,0.44600000000000001,0.20799999999999999,3.1E-2,0.02,3.5999999999999997E-2,1.2999999999999999E-2,2.7E-2]
[420,0.12,0.45200000000000001,0.21,3.1E-2,0.02,3.5999999999999997E-2,1.2999999999999999E-2,2.7E-2]
[421,0.123,0.45900000000000002,0.214,3.2000000000000001E-2,0.02,3.6999999999999998E-2,1.4E-2,2.8000000000000001E-2]
[422,0.124,0.46500000000000002,0.217,3.2000000000000001E-2,0.02,3.6999999999999998E-2,1.2999999999999999E-2,2.7E-2]
[423,0.126,0.47199999999999998,0.219,3.2000000000000001E-2,0.02,3.6999999999999998E-2,1.4E-2,2.7E-2]
[424,0.127,0.48,0.224,3.3000000000000002E-2,2.1000000000000001E-2,3.6999999999999998E-2,1.4E-2,2.7E-2]
[425,0.128,0.48699999999999999,0.22800000000000001,3.3000000000000002E-2,0.02,3.5999999999999997E-2,1.4E-2,2.7E-2]
[426,0.129,0.496,0.23300000000000001,3.3000000000000002E-2,0.02,3.5999999999999997E-2,1.4E-2,2.7E-2]
[427,0.13,0.50700000000000001,0.24099999999999999,3.4000000000000002E-2,0.02,3.5000000000000003E-2,1.4E-2,2.7E-2]
[428,0.13200000000000001,0.52200000000000002,0.249,3.5000000000000003E-2,2.1000000000000001E-2,3.5999999999999997E-2,1.4999999999999999E-2,2.7E-2]
[429,0.13400000000000001,0.53900000000000003,0.25900000000000001,3.5999999999999997E-2,2.1000000000000001E-2,3.5999999999999997E-2,1.4999999999999999E-2,2.8000000000000001E-2]
[430,0.13600000000000001,0.55800000000000005,0.27,3.7999999999999999E-2,2.1000000000000001E-2,3.6999999999999998E-2,1.4999999999999999E-2,2.8000000000000001E-2]
[431,0.13700000000000001,0.57599999999999996,0.28100000000000003,3.7999999999999999E-2,0.02,3.5999999999999997E-2,1.4999999999999999E-2,2.7E-2]
[432,0.14000000000000001,0.59399999999999997,0.29299999999999998,3.9E-2,0.02,3.5999999999999997E-2,1.4999999999999999E-2,2.5999999999999999E-2]
[433,0.14199999999999999,0.61299999999999999,0.30499999999999999,4.1000000000000002E-2,1.9E-2,3.5999999999999997E-2,1.6E-2,2.5999999999999999E-2]
[434,0.14499999999999999,0.63700000000000001,0.32,4.2999999999999997E-2,0.02,3.5999999999999997E-2,1.6E-2,2.5999999999999999E-2]
[435,0.14799999999999999,0.65900000000000003,0.33200000000000002,4.4999999999999998E-2,0.02,3.5999999999999997E-2,1.7000000000000001E-2,2.7E-2]
[436,0.152,0.67900000000000005,0.34399999999999997,4.5999999999999999E-2,2.1000000000000001E-2,3.6999999999999998E-2,1.7999999999999999E-2,2.8000000000000001E-2]
[437,0.155,0.69799999999999995,0.35499999999999998,4.7E-2,2.1999999999999999E-2,3.6999999999999998E-2,1.9E-2,2.8000000000000001E-2]
[438,0.158,0.71299999999999997,0.36299999999999999,4.7E-2,2.1000000000000001E-2,3.5999999999999997E-2,1.9E-2,2.7E-2]
[439,0.161,0.72399999999999998,0.37,4.7E-2,0.02,3.5000000000000003E-2,1.9E-2,2.5999999999999999E-2]
[440,0.16400000000000001,0.73299999999999998,0.374,4.8000000000000001E-2,0.02,3.5999999999999997E-2,1.9E-2,2.7E-2]
[441,0.16600000000000001,0.74199999999999999,0.378,0.05,2.1000000000000001E-2,3.6999999999999998E-2,0.02,2.7E-2]
[442,0.16800000000000001,0.746,0.38,0.05,2.1000000000000001E-2,3.6999999999999998E-2,0.02,2.7E-2]
[443,0.17,0.746,0.38,4.9000000000000002E-2,0.02,3.6999999999999998E-2,0.02,2.8000000000000001E-2]
[444,0.17199999999999999,0.745,0.378,4.9000000000000002E-2,2.1000000000000001E-2,3.5999999999999997E-2,0.02,2.7E-2]
[445,0.17199999999999999,0.74299999999999999,0.375,4.9000000000000002E-2,2.1000000000000001E-2,3.6999999999999998E-2,0.02,2.8000000000000001E-2]
[446,0.17299999999999999,0.73799999999999999,0.371,4.8000000000000001E-2,2.1000000000000001E-2,3.6999999999999998E-2,0.02,2.8000000000000001E-2]
[447,0.17399999999999999,0.73,0.36599999999999999,4.8000000000000001E-2,2.1000000000000001E-2,3.6999999999999998E-2,2.1000000000000001E-2,2.9000000000000001E-2]
[448,0.17299999999999999,0.72399999999999998,0.36299999999999999,4.8000000000000001E-2,2.1000000000000001E-2,3.6999999999999998E-2,0.02,2.8000000000000001E-2]
[449,0.17199999999999999,0.71899999999999997,0.35899999999999999,4.5999999999999999E-2,0.02,3.5999999999999997E-2,1.9E-2,2.7E-2]
[450,0.17100000000000001,0.71399999999999997,0.35499999999999998,4.5999999999999999E-2,0.02,3.5999999999999997E-2,1.9E-2,2.5999999999999999E-2]
[451,0.17100000000000001,0.71,0.35199999999999998,4.5999999999999999E-2,0.02,3.5999999999999997E-2,1.9E-2,2.5999999999999999E-2]
[452,0.17,0.70799999999999996,0.35,4.4999999999999998E-2,1.9E-2,3.4000000000000002E-2,1.9E-2,2.5999999999999999E-2]
[453,0.17,0.70899999999999996,0.35299999999999998,4.5999999999999999E-2,0.02,3.4000000000000002E-2,0.02,2.5000000000000001E-2]
[454,0.16900000000000001,0.71399999999999997,0.35799999999999998,4.5999999999999999E-2,0.02,3.4000000000000002E-2,1.9E-2,2.5000000000000001E-2]
[455,0.16800000000000001,0.72599999999999998,0.36499999999999999,4.7E-2,0.02,3.4000000000000002E-2,1.9E-2,2.4E-2]
[456,0.16900000000000001,0.74199999999999999,0.375,4.8000000000000001E-2,1.9E-2,3.3000000000000002E-2,0.02,2.4E-2]
[457,0.16900000000000001,0.76,0.38700000000000001,4.9000000000000002E-2,0.02,3.3000000000000002E-2,1.9E-2,2.4E-2]
[458,0.16900000000000001,0.77900000000000003,0.4,5.0999999999999997E-2,1.9E-2,3.3000000000000002E-2,0.02,2.3E-2]
[459,0.17,0.80400000000000005,0.41499999999999998,5.1999999999999998E-2,1.9E-2,3.3000000000000002E-2,2.1000000000000001E-2,2.3E-2]
[460,0.17100000000000001,0.82899999999999996,0.433,5.3999999999999999E-2,0.02,3.3000000000000002E-2,2.1999999999999999E-2,2.3E-2]
[461,0.17100000000000001,0.85799999999999998,0.45200000000000001,5.6000000000000001E-2,1.9E-2,3.2000000000000001E-2,2.3E-2,2.3E-2]
[462,0.17399999999999999,0.89,0.47299999999999998,5.8999999999999997E-2,0.02,3.3000000000000002E-2,2.4E-2,2.3E-2]
[463,0.17599999999999999,0.91900000000000004,0.49299999999999999,6.0999999999999999E-2,0.02,3.3000000000000002E-2,2.4E-2,2.1999999999999999E-2]
[464,0.17799999999999999,0.94299999999999995,0.51,6.2E-2,1.9E-2,3.3000000000000002E-2,2.4E-2,2.1999999999999999E-2]
[465,0.17899999999999999,0.96399999999999997,0.52300000000000002,6.4000000000000001E-2,1.9E-2,3.2000000000000001E-2,2.5000000000000001E-2,2.1999999999999999E-2]
[466,0.18099999999999999,0.98299999999999998,0.53600000000000003,6.6000000000000003E-2,1.9E-2,3.3000000000000002E-2,2.5999999999999999E-2,2.3E-2]
[467,0.183,0.996,0.54500000000000004,6.7000000000000004E-2,0.02,3.3000000000000002E-2,2.7E-2,2.3E-2]
[468,0.184,1.0009999999999999,0.55000000000000004,6.8000000000000005E-2,0.02,3.4000000000000002E-2,2.8000000000000001E-2,2.1999999999999999E-2]
[469,0.185,1.0009999999999999,0.55100000000000005,6.8000000000000005E-2,0.02,3.3000000000000002E-2,2.8000000000000001E-2,2.1999999999999999E-2]
[470,0.185,0.996,0.54800000000000004,6.8000000000000005E-2,0.02,3.2000000000000001E-2,2.7E-2,2.1999999999999999E-2]
[471,0.184,0.98499999999999999,0.54100000000000004,6.6000000000000003E-2,1.9E-2,3.1E-2,2.7E-2,2.1000000000000001E-2]
[472,0.183,0.96899999999999997,0.53100000000000003,6.5000000000000002E-2,1.9E-2,3.1E-2,2.7E-2,2.1000000000000001E-2]
[473,0.182,0.94899999999999995,0.51600000000000001,6.3E-2,1.9E-2,0.03,2.5999999999999999E-2,2.1000000000000001E-2]
[474,0.17899999999999999,0.92400000000000004,0.498,6.2E-2,1.9E-2,0.03,2.5000000000000001E-2,0.02]
[475,0.17599999999999999,0.89300000000000002,0.47899999999999998,5.8999999999999997E-2,1.7999999999999999E-2,0.03,2.4E-2,1.9E-2]
[476,0.17399999999999999,0.86099999999999999,0.45700000000000002,5.6000000000000001E-2,1.7999999999999999E-2,2.9000000000000001E-2,2.3E-2,1.7999999999999999E-2]
[477,0.17,0.82799999999999996,0.436,5.2999999999999999E-2,1.7999999999999999E-2,2.8000000000000001E-2,2.1999999999999999E-2,1.7999999999999999E-2]
[478,0.16600000000000001,0.79300000000000004,0.41499999999999998,5.0999999999999997E-2,1.7999999999999999E-2,2.8000000000000001E-2,2.1999999999999999E-2,1.7000000000000001E-2]
[479,0.16200000000000001,0.75900000000000001,0.39500000000000002,4.9000000000000002E-2,1.7999999999999999E-2,2.7E-2,2.1000000000000001E-2,1.7000000000000001E-2]
[480,0.157,0.72799999999999998,0.377,4.7E-2,1.7000000000000001E-2,2.7E-2,0.02,1.6E-2]
[481,0.152,0.70099999999999996,0.36099999999999999,4.4999999999999998E-2,1.6E-2,2.5999999999999999E-2,1.9E-2,1.6E-2]
[482,0.14799999999999999,0.67900000000000005,0.34799999999999998,4.2999999999999997E-2,1.6E-2,2.5999999999999999E-2,1.7999999999999999E-2,1.4E-2]
[483,0.14399999999999999,0.66200000000000003,0.33600000000000002,4.2000000000000003E-2,1.6E-2,2.5000000000000001E-2,1.7000000000000001E-2,1.4E-2]
[484,0.14000000000000001,0.64700000000000002,0.32700000000000001,4.1000000000000002E-2,1.6E-2,2.5000000000000001E-2,1.7000000000000001E-2,1.2999999999999999E-2]
[485,0.13600000000000001,0.63700000000000001,0.32200000000000001,3.9E-2,1.6E-2,2.4E-2,1.6E-2,1.2999999999999999E-2]
[486,0.13200000000000001,0.63200000000000001,0.32,3.9E-2,1.4999999999999999E-2,2.3E-2,1.6E-2,1.2E-2]
[487,0.129,0.63300000000000001,0.32300000000000001,3.9E-2,1.4999999999999999E-2,2.3E-2,1.6E-2,1.2E-2]
[488,0.126,0.63900000000000001,0.32900000000000001,3.9E-2,1.4E-2,2.3E-2,1.6E-2,1.0999999999999999E-2]
[489,0.123,0.64900000000000002,0.33800000000000002,0.04,1.4999999999999999E-2,2.3E-2,1.7000000000000001E-2,1.0999999999999999E-2]
[490,0.121,0.66500000000000004,0.35,4.2000000000000003E-2,1.4999999999999999E-2,2.3E-2,1.7999999999999999E-2,1.0999999999999999E-2]
[491,0.12,0.68400000000000005,0.36499999999999999,4.3999999999999997E-2,1.4999999999999999E-2,2.3E-2,1.9E-2,1.0999999999999999E-2]
[492,0.11700000000000001,0.70499999999999996,0.38100000000000001,4.4999999999999998E-2,1.4999999999999999E-2,2.3E-2,1.9E-2,0.01]
[493,0.11600000000000001,0.72799999999999998,0.39900000000000002,4.8000000000000001E-2,1.4999999999999999E-2,2.1999999999999999E-2,1.9E-2,8.9999999999999993E-3]
[494,0.114,0.753,0.41599999999999998,0.05,1.4E-2,2.1000000000000001E-2,0.02,8.9999999999999993E-3]
[495,0.113,0.77500000000000002,0.433,5.0999999999999997E-2,1.4999999999999999E-2,2.1000000000000001E-2,2.1000000000000001E-2,8.9999999999999993E-3]
[496,0.112,0.79500000000000004,0.44800000000000001,5.2999999999999999E-2,1.4999999999999999E-2,2.1000000000000001E-2,2.1999999999999999E-2,8.9999999999999993E-3]
[497,0.111,0.81200000000000006,0.46200000000000002,5.5E-2,1.4999999999999999E-2,2.1000000000000001E-2,2.1999999999999999E-2,8.0000000000000002E-3]
[498,0.109,0.82399999999999995,0.47199999999999998,5.6000000000000001E-2,1.4999999999999999E-2,2.1000000000000001E-2,2.3E-2,8.0000000000000002E-3]
[499,0.105,0.83,0.47899999999999998,5.6000000000000001E-2,1.4999999999999999E-2,1.9E-2,2.3E-2,7.0000000000000001E-3]
[500,0.10199999999999999,0.82799999999999996,0.48,5.6000000000000001E-2,1.4999999999999999E-2,1.9E-2,2.3E-2,7.0000000000000001E-3]
[501,0.1,0.82,0.47899999999999998,5.6000000000000001E-2,1.4999999999999999E-2,0.02,2.3E-2,7.0000000000000001E-3]
[502,9.7000000000000003E-2,0.80400000000000005,0.47199999999999998,5.5E-2,1.4999999999999999E-2,1.9E-2,2.3E-2,7.0000000000000001E-3]
[503,9.1999999999999998E-2,0.78,0.45900000000000002,5.2999999999999999E-2,1.4999999999999999E-2,1.7999999999999999E-2,2.1999999999999999E-2,6.0000000000000001E-3]
[504,8.6999999999999994E-2,0.75,0.442,5.1999999999999998E-2,1.4E-2,1.7999999999999999E-2,2.1999999999999999E-2,6.0000000000000001E-3]
[505,8.3000000000000004E-2,0.71799999999999997,0.42199999999999999,0.05,1.2999999999999999E-2,1.7999999999999999E-2,2.1000000000000001E-2,5.0000000000000001E-3]
[506,7.6999999999999999E-2,0.68200000000000005,0.40100000000000002,4.7E-2,1.2999999999999999E-2,1.7000000000000001E-2,2.1000000000000001E-2,4.0000000000000001E-3]
[507,7.1999999999999995E-2,0.64100000000000001,0.376,4.3999999999999997E-2,1.2999999999999999E-2,1.7000000000000001E-2,1.9E-2,4.0000000000000001E-3]
[508,6.7000000000000004E-2,0.59699999999999998,0.35,4.2000000000000003E-2,1.2999999999999999E-2,1.7000000000000001E-2,1.7999999999999999E-2,5.0000000000000001E-3]
[509,6.2E-2,0.55200000000000005,0.32300000000000001,3.9E-2,1.2E-2,1.7000000000000001E-2,1.7999999999999999E-2,4.0000000000000001E-3]
[510,5.6000000000000001E-2,0.50600000000000001,0.29499999999999998,3.5999999999999997E-2,1.2E-2,1.7000000000000001E-2,1.7000000000000001E-2,4.0000000000000001E-3]
[511,5.0999999999999997E-2,0.46100000000000002,0.26800000000000002,3.2000000000000001E-2,1.0999999999999999E-2,1.6E-2,1.4999999999999999E-2,4.0000000000000001E-3]
[512,4.5999999999999999E-2,0.41799999999999998,0.24199999999999999,2.9000000000000001E-2,1.0999999999999999E-2,1.6E-2,1.4E-2,3.0000000000000001E-3]
[513,4.2000000000000003E-2,0.378,0.217,2.5000000000000001E-2,1.0999999999999999E-2,1.4999999999999999E-2,1.2999999999999999E-2,3.0000000000000001E-3]
[514,3.6999999999999998E-2,0.34,0.19400000000000001,2.3E-2,1.0999999999999999E-2,1.4999999999999999E-2,1.2999999999999999E-2,3.0000000000000001E-3]
[515,3.4000000000000002E-2,0.30499999999999999,0.17299999999999999,2.1000000000000001E-2,1.0999999999999999E-2,1.4999999999999999E-2,1.2999999999999999E-2,3.0000000000000001E-3]
[516,3.1E-2,0.27400000000000002,0.153,1.9E-2,1.0999999999999999E-2,1.4999999999999999E-2,1.2E-2,3.0000000000000001E-3]
[517,2.7E-2,0.245,0.13400000000000001,1.7000000000000001E-2,0.01,1.4E-2,1.0999999999999999E-2,2E-3]
[518,2.5000000000000001E-2,0.219,0.11899999999999999,1.4999999999999999E-2,0.01,1.4E-2,1.0999999999999999E-2,2E-3]
[519,2.1999999999999999E-2,0.19700000000000001,0.105,1.2999999999999999E-2,0.01,1.4E-2,0.01,2E-3]
[520,0.02,0.17499999999999999,9.1999999999999998E-2,1.2E-2,8.9999999999999993E-3,1.4E-2,8.9999999999999993E-3,1E-3]
[521,1.7000000000000001E-2,0.156,0.08,0.01,8.9999999999999993E-3,1.4E-2,8.0000000000000002E-3,1E-3]
[522,1.4999999999999999E-2,0.14099999999999999,6.9000000000000006E-2,8.9999999999999993E-3,8.9999999999999993E-3,1.4E-2,8.0000000000000002E-3,1E-3]
[523,1.4999999999999999E-2,0.127,6.2E-2,8.0000000000000002E-3,8.9999999999999993E-3,1.2999999999999999E-2,8.9999999999999993E-3,1E-3]
[524,1.2999999999999999E-2,0.114,5.3999999999999999E-2,7.0000000000000001E-3,8.9999999999999993E-3,1.2999999999999999E-2,8.0000000000000002E-3,1E-3]
[525,1.2E-2,0.10299999999999999,4.7E-2,6.0000000000000001E-3,8.9999999999999993E-3,1.2999999999999999E-2,8.0000000000000002E-3,1E-3]
[526,1.0999999999999999E-2,9.2999999999999999E-2,4.1000000000000002E-2,6.0000000000000001E-3,8.0000000000000002E-3,1.4E-2,8.0000000000000002E-3,1E-3]
[527,0.01,8.5000000000000006E-2,3.5000000000000003E-2,4.0000000000000001E-3,8.0000000000000002E-3,1.2999999999999999E-2,7.0000000000000001E-3,1E-3]
[528,8.9999999999999993E-3,7.8E-2,0.03,3.0000000000000001E-3,8.0000000000000002E-3,1.2999999999999999E-2,7.0000000000000001E-3,1E-3]
[529,8.0000000000000002E-3,7.0999999999999994E-2,2.7E-2,3.0000000000000001E-3,8.0000000000000002E-3,1.2999999999999999E-2,7.0000000000000001E-3,1E-3]
[530,8.0000000000000002E-3,6.6000000000000003E-2,2.3E-2,3.0000000000000001E-3,8.0000000000000002E-3,1.2999999999999999E-2,8.0000000000000002E-3,1E-3]
[531,8.0000000000000002E-3,0.06,1.9E-2,3.0000000000000001E-3,8.0000000000000002E-3,1.2E-2,7.0000000000000001E-3,0]
[532,7.0000000000000001E-3,5.5E-2,1.7000000000000001E-2,2E-3,8.0000000000000002E-3,1.2E-2,6.0000000000000001E-3,0]
[533,6.0000000000000001E-3,5.1999999999999998E-2,1.4999999999999999E-2,2E-3,7.0000000000000001E-3,1.2E-2,6.0000000000000001E-3,0]
[534,6.0000000000000001E-3,4.8000000000000001E-2,1.2999999999999999E-2,2E-3,7.0000000000000001E-3,1.2E-2,7.0000000000000001E-3,1E-3]
[535,5.0000000000000001E-3,4.4999999999999998E-2,1.0999999999999999E-2,1E-3,8.0000000000000002E-3,1.2E-2,7.0000000000000001E-3,1E-3]
[536,5.0000000000000001E-3,4.2000000000000003E-2,8.9999999999999993E-3,2E-3,8.0000000000000002E-3,1.2E-2,7.0000000000000001E-3,1E-3]
[537,5.0000000000000001E-3,0.04,8.0000000000000002E-3,1E-3,8.0000000000000002E-3,1.2E-2,7.0000000000000001E-3,0]
[538,4.0000000000000001E-3,3.6999999999999998E-2,6.0000000000000001E-3,0,7.0000000000000001E-3,1.2E-2,6.0000000000000001E-3,-1E-3]
[539,5.0000000000000001E-3,3.5999999999999997E-2,5.0000000000000001E-3,0,7.0000000000000001E-3,1.2E-2,5.0000000000000001E-3,-2E-3]
[540,5.0000000000000001E-3,3.4000000000000002E-2,3.0000000000000001E-3,0,7.0000000000000001E-3,1.0999999999999999E-2,4.0000000000000001E-3,-3.0000000000000001E-3]
[541,5.0000000000000001E-3,3.2000000000000001E-2,3.0000000000000001E-3,0,7.0000000000000001E-3,1.0999999999999999E-2,4.0000000000000001E-3,-4.0000000000000001E-3]
[542,4.0000000000000001E-3,3.1E-2,2E-3,-1E-3,7.0000000000000001E-3,1.2E-2,3.0000000000000001E-3,-4.0000000000000001E-3]
[543,4.0000000000000001E-3,0.03,2E-3,-1E-3,8.0000000000000002E-3,1.2E-2,3.0000000000000001E-3,-4.0000000000000001E-3]
[544,4.0000000000000001E-3,0.03,1E-3,0,8.0000000000000002E-3,1.2E-2,4.0000000000000001E-3,-3.0000000000000001E-3]
[545,3.0000000000000001E-3,2.9000000000000001E-2,1E-3,-1E-3,7.0000000000000001E-3,1.2E-2,5.0000000000000001E-3,-2E-3]
[546,3.0000000000000001E-3,2.8000000000000001E-2,0,-1E-3,7.0000000000000001E-3,1.2E-2,5.0000000000000001E-3,-1E-3]
[547,4.0000000000000001E-3,2.7E-2,0,0,7.0000000000000001E-3,1.2E-2,6.0000000000000001E-3,-1E-3]
[548,4.0000000000000001E-3,2.5999999999999999E-2,-1E-3,-1E-3,7.0000000000000001E-3,1.2E-2,7.0000000000000001E-3,-1E-3]
[549,4.0000000000000001E-3,2.5000000000000001E-2,-1E-3,-1E-3,6.0000000000000001E-3,1.2E-2,7.0000000000000001E-3,-1E-3]
[550,3.0000000000000001E-3,2.4E-2,-3.0000000000000001E-3,-2E-3,6.0000000000000001E-3,1.0999999999999999E-2,7.0000000000000001E-3,-1E-3]
[551,3.0000000000000001E-3,2.3E-2,-3.0000000000000001E-3,-2E-3,6.0000000000000001E-3,0.01,7.0000000000000001E-3,-1E-3]
[552,3.0000000000000001E-3,2.3E-2,-3.0000000000000001E-3,-2E-3,6.0000000000000001E-3,0.01,6.0000000000000001E-3,-2E-3]
[553,3.0000000000000001E-3,2.3E-2,-3.0000000000000001E-3,-2E-3,5.0000000000000001E-3,1.0999999999999999E-2,6.0000000000000001E-3,-1E-3]
[554,3.0000000000000001E-3,2.3E-2,-3.0000000000000001E-3,-2E-3,5.0000000000000001E-3,0.01,7.0000000000000001E-3,-1E-3]
[555,4.0000000000000001E-3,2.1999999999999999E-2,-3.0000000000000001E-3,-2E-3,5.0000000000000001E-3,0.01,8.0000000000000002E-3,-1E-3]
[556,4.0000000000000001E-3,2.1999999999999999E-2,-4.0000000000000001E-3,-2E-3,5.0000000000000001E-3,0.01,8.0000000000000002E-3,-2E-3]
[557,3.0000000000000001E-3,2.1000000000000001E-2,-4.0000000000000001E-3,-3.0000000000000001E-3,5.0000000000000001E-3,1.0999999999999999E-2,8.0000000000000002E-3,-2E-3]
[558,3.0000000000000001E-3,0.02,-4.0000000000000001E-3,-2E-3,5.0000000000000001E-3,1.0999999999999999E-2,8.0000000000000002E-3,-1E-3]
[559,4.0000000000000001E-3,2.1000000000000001E-2,-3.0000000000000001E-3,-1E-3,6.0000000000000001E-3,1.0999999999999999E-2,8.0000000000000002E-3,-1E-3]
[560,3.0000000000000001E-3,2.1000000000000001E-2,-4.0000000000000001E-3,-2E-3,6.0000000000000001E-3,1.0999999999999999E-2,8.0000000000000002E-3,-1E-3]
[561,2E-3,0.02,-5.0000000000000001E-3,-2E-3,6.0000000000000001E-3,1.0999999999999999E-2,8.0000000000000002E-3,-1E-3]
[562,2E-3,0.02,-5.0000000000000001E-3,-2E-3,5.0000000000000001E-3,0.01,8.0000000000000002E-3,-1E-3]
[563,2E-3,1.9E-2,-6.0000000000000001E-3,-3.0000000000000001E-3,4.0000000000000001E-3,8.9999999999999993E-3,7.0000000000000001E-3,-2E-3]
[564,2E-3,1.7999999999999999E-2,-5.0000000000000001E-3,-4.0000000000000001E-3,4.0000000000000001E-3,8.9999999999999993E-3,8.0000000000000002E-3,-1E-3]
[565,3.0000000000000001E-3,1.9E-2,-5.0000000000000001E-3,-3.0000000000000001E-3,5.0000000000000001E-3,0.01,8.9999999999999993E-3,0]
[566,4.0000000000000001E-3,1.9E-2,-4.0000000000000001E-3,-2E-3,5.0000000000000001E-3,1.0999999999999999E-2,8.9999999999999993E-3,0]
[567,3.0000000000000001E-3,0.02,-5.0000000000000001E-3,-2E-3,6.0000000000000001E-3,1.0999999999999999E-2,8.0000000000000002E-3,-1E-3]
[568,3.0000000000000001E-3,0.02,-5.0000000000000001E-3,-1E-3,6.0000000000000001E-3,1.0999999999999999E-2,7.0000000000000001E-3,-1E-3]
[569,3.0000000000000001E-3,0.02,-5.0000000000000001E-3,-1E-3,6.0000000000000001E-3,1.0999999999999999E-2,7.0000000000000001E-3,-1E-3]
[570,2E-3,0.02,-5.0000000000000001E-3,-2E-3,5.0000000000000001E-3,0.01,6.0000000000000001E-3,-2E-3]
[571,2E-3,0.02,-4.0000000000000001E-3,-1E-3,6.0000000000000001E-3,0.01,6.0000000000000001E-3,-2E-3]
[572,3.0000000000000001E-3,0.02,-4.0000000000000001E-3,-1E-3,6.0000000000000001E-3,0.01,6.0000000000000001E-3,-1E-3]
[573,2E-3,1.9E-2,-4.0000000000000001E-3,-2E-3,6.0000000000000001E-3,0.01,6.0000000000000001E-3,-1E-3]
[574,3.0000000000000001E-3,1.9E-2,-4.0000000000000001E-3,-2E-3,6.0000000000000001E-3,0.01,6.0000000000000001E-3,-1E-3]
[575,3.0000000000000001E-3,1.9E-2,-4.0000000000000001E-3,-1E-3,7.0000000000000001E-3,0.01,6.0000000000000001E-3,-1E-3]
[576,2E-3,1.9E-2,-4.0000000000000001E-3,-1E-3,6.0000000000000001E-3,0.01,5.0000000000000001E-3,-1E-3]
[577,2E-3,1.9E-2,-5.0000000000000001E-3,-2E-3,6.0000000000000001E-3,0.01,5.0000000000000001E-3,-2E-3]
[578,2E-3,1.9E-2,-5.0000000000000001E-3,-1E-3,5.0000000000000001E-3,0.01,5.0000000000000001E-3,-2E-3]
[579,2E-3,1.7999999999999999E-2,-5.0000000000000001E-3,-1E-3,5.0000000000000001E-3,0.01,5.0000000000000001E-3,-2E-3]
[580,2E-3,1.9E-2,-5.0000000000000001E-3,-1E-3,5.0000000000000001E-3,0.01,4.0000000000000001E-3,-2E-3]
[581,1E-3,1.9E-2,-5.0000000000000001E-3,-2E-3,4.0000000000000001E-3,8.9999999999999993E-3,5.0000000000000001E-3,-2E-3]
[582,2E-3,1.7999999999999999E-2,-5.0000000000000001E-3,-2E-3,5.0000000000000001E-3,0.01,6.0000000000000001E-3,-1E-3]
[583,2E-3,1.7999999999999999E-2,-5.0000000000000001E-3,-2E-3,5.0000000000000001E-3,8.9999999999999993E-3,5.0000000000000001E-3,-1E-3]
[584,2E-3,1.7999999999999999E-2,-6.0000000000000001E-3,-1E-3,5.0000000000000001E-3,8.9999999999999993E-3,5.0000000000000001E-3,-2E-3]
[585,3.0000000000000001E-3,1.7999999999999999E-2,-5.0000000000000001E-3,-1E-3,5.0000000000000001E-3,0.01,5.0000000000000001E-3,-2E-3]
[586,3.0000000000000001E-3,1.7000000000000001E-2,-5.0000000000000001E-3,-2E-3,5.0000000000000001E-3,0.01,5.0000000000000001E-3,-2E-3]
[587,2E-3,1.7000000000000001E-2,-6.0000000000000001E-3,-2E-3,5.0000000000000001E-3,0.01,6.0000000000000001E-3,-2E-3]
[588,3.0000000000000001E-3,1.6E-2,-6.0000000000000001E-3,-2E-3,4.0000000000000001E-3,0.01,6.0000000000000001E-3,-2E-3]
[589,3.0000000000000001E-3,1.6E-2,-6.0000000000000001E-3,-3.0000000000000001E-3,5.0000000000000001E-3,0.01,7.0000000000000001E-3,-1E-3]
[590,3.0000000000000001E-3,1.6E-2,-6.0000000000000001E-3,-2E-3,5.0000000000000001E-3,1.0999999999999999E-2,8.0000000000000002E-3,-1E-3]
[591,2E-3,1.7000000000000001E-2,-6.0000000000000001E-3,-1E-3,5.0000000000000001E-3,1.0999999999999999E-2,6.0000000000000001E-3,-1E-3]
[592,2E-3,1.7000000000000001E-2,-6.0000000000000001E-3,-2E-3,4.0000000000000001E-3,0.01,6.0000000000000001E-3,-2E-3]
[593,3.0000000000000001E-3,1.7000000000000001E-2,-6.0000000000000001E-3,-3.0000000000000001E-3,4.0000000000000001E-3,0.01,7.0000000000000001E-3,-1E-3]
[594,3.0000000000000001E-3,1.7000000000000001E-2,-6.0000000000000001E-3,-2E-3,5.0000000000000001E-3,0.01,8.0000000000000002E-3,-1E-3]
[595,3.0000000000000001E-3,1.6E-2,-7.0000000000000001E-3,-2E-3,5.0000000000000001E-3,0.01,8.0000000000000002E-3,-1E-3]
[596,3.0000000000000001E-3,1.6E-2,-6.0000000000000001E-3,-2E-3,5.0000000000000001E-3,1.0999999999999999E-2,8.0000000000000002E-3,-1E-3]
[597,3.0000000000000001E-3,1.7000000000000001E-2,-6.0000000000000001E-3,-1E-3,5.0000000000000001E-3,0.01,7.0000000000000001E-3,-1E-3]
[598,2E-3,1.7000000000000001E-2,-6.0000000000000001E-3,-2E-3,5.0000000000000001E-3,0.01,6.0000000000000001E-3,-1E-3]
[599,2E-3,1.6E-2,-7.0000000000000001E-3,-3.0000000000000001E-3,4.0000000000000001E-3,8.9999999999999993E-3,6.0000000000000001E-3,-2E-3]
[600,2E-3,1.4999999999999999E-2,-7.0000000000000001E-3,-4.0000000000000001E-3,3.0000000000000001E-3,8.9999999999999993E-3,7.0000000000000001E-3,-2E-3]
[601,2E-3,1.4E-2,-7.0000000000000001E-3,-4.0000000000000001E-3,4.0000000000000001E-3,8.9999999999999993E-3,7.0000000000000001E-3,-1E-3]
[602,3.0000000000000001E-3,1.4999999999999999E-2,-7.0000000000000001E-3,-4.0000000000000001E-3,4.0000000000000001E-3,8.9999999999999993E-3,8.0000000000000002E-3,-1E-3]
[603,2E-3,1.4999999999999999E-2,-7.0000000000000001E-3,-4.0000000000000001E-3,4.0000000000000001E-3,0.01,7.0000000000000001E-3,-2E-3]
[604,2E-3,1.4999999999999999E-2,-7.0000000000000001E-3,-3.0000000000000001E-3,4.0000000000000001E-3,0.01,7.0000000000000001E-3,-2E-3]
[605,2E-3,1.4999999999999999E-2,-7.0000000000000001E-3,-3.0000000000000001E-3,4.0000000000000001E-3,0.01,6.0000000000000001E-3,-2E-3]
[606,2E-3,1.4999999999999999E-2,-7.0000000000000001E-3,-3.0000000000000001E-3,3.0000000000000001E-3,8.9999999999999993E-3,6.0000000000000001E-3,-2E-3]
[607,2E-3,1.4999999999999999E-2,-7.0000000000000001E-3,-4.0000000000000001E-3,3.0000000000000001E-3,0.01,7.0000000000000001E-3,-2E-3]
[608,2E-3,1.4E-2,-7.0000000000000001E-3,-4.0000000000000001E-3,4.0000000000000001E-3,1.0999999999999999E-2,8.0000000000000002E-3,-2E-3]
[609,3.0000000000000001E-3,1.4E-2,-8.0000000000000002E-3,-4.0000000000000001E-3,4.0000000000000001E-3,0.01,7.0000000000000001E-3,-3.0000000000000001E-3]
[610,3.0000000000000001E-3,1.2999999999999999E-2,-8.0000000000000002E-3,-4.0000000000000001E-3,3.0000000000000001E-3,0.01,6.0000000000000001E-3,-3.0000000000000001E-3]
[611,3.0000000000000001E-3,1.2999999999999999E-2,-7.0000000000000001E-3,-4.0000000000000001E-3,4.0000000000000001E-3,0.01,7.0000000000000001E-3,-3.0000000000000001E-3]
[612,3.0000000000000001E-3,1.4E-2,-7.0000000000000001E-3,-3.0000000000000001E-3,4.0000000000000001E-3,0.01,8.0000000000000002E-3,-2E-3]
[613,3.0000000000000001E-3,1.4E-2,-7.0000000000000001E-3,-3.0000000000000001E-3,4.0000000000000001E-3,0.01,8.0000000000000002E-3,-2E-3]
[614,2E-3,1.2999999999999999E-2,-8.0000000000000002E-3,-4.0000000000000001E-3,3.0000000000000001E-3,8.9999999999999993E-3,7.0000000000000001E-3,-2E-3]
[615,2E-3,1.2E-2,-8.0000000000000002E-3,-5.0000000000000001E-3,2E-3,8.9999999999999993E-3,8.0000000000000002E-3,-2E-3]
[616,2E-3,1.2E-2,-8.0000000000000002E-3,-5.0000000000000001E-3,2E-3,8.9999999999999993E-3,8.9999999999999993E-3,-2E-3]
[617,2E-3,1.2E-2,-8.0000000000000002E-3,-5.0000000000000001E-3,2E-3,8.9999999999999993E-3,8.9999999999999993E-3,-2E-3]
[618,2E-3,1.2E-2,-8.9999999999999993E-3,-5.0000000000000001E-3,2E-3,8.9999999999999993E-3,0.01,-2E-3]
[619,3.0000000000000001E-3,1.2E-2,-8.0000000000000002E-3,-5.0000000000000001E-3,3.0000000000000001E-3,8.9999999999999993E-3,0.01,-2E-3]
[620,3.0000000000000001E-3,1.2999999999999999E-2,-8.0000000000000002E-3,-5.0000000000000001E-3,3.0000000000000001E-3,0.01,0.01,-2E-3]
[621,3.0000000000000001E-3,1.2999999999999999E-2,-8.0000000000000002E-3,-5.0000000000000001E-3,3.0000000000000001E-3,0.01,0.01,-2E-3]
[622,3.0000000000000001E-3,1.2E-2,-8.0000000000000002E-3,-5.0000000000000001E-3,3.0000000000000001E-3,8.9999999999999993E-3,8.9999999999999993E-3,-2E-3]
[623,3.0000000000000001E-3,1.0999999999999999E-2,-8.0000000000000002E-3,-5.0000000000000001E-3,2E-3,8.9999999999999993E-3,0.01,-2E-3]
[624,3.0000000000000001E-3,1.2E-2,-8.0000000000000002E-3,-5.0000000000000001E-3,3.0000000000000001E-3,8.9999999999999993E-3,1.0999999999999999E-2,-1E-3]
[625,3.0000000000000001E-3,1.2E-2,-8.0000000000000002E-3,-5.0000000000000001E-3,2E-3,0.01,1.0999999999999999E-2,-1E-3]
[626,3.0000000000000001E-3,1.2E-2,-8.0000000000000002E-3,-5.0000000000000001E-3,3.0000000000000001E-3,0.01,1.0999999999999999E-2,-1E-3]
[627,3.0000000000000001E-3,1.2E-2,-8.0000000000000002E-3,-5.0000000000000001E-3,3.0000000000000001E-3,0.01,1.0999999999999999E-2,-1E-3]
[628,2E-3,1.2E-2,-8.9999999999999993E-3,-6.0000000000000001E-3,2E-3,8.9999999999999993E-3,0.01,-1E-3]
[629,2E-3,1.0999999999999999E-2,-8.9999999999999993E-3,-6.0000000000000001E-3,2E-3,8.9999999999999993E-3,0.01,-1E-3]
[630,2E-3,1.0999999999999999E-2,-8.9999999999999993E-3,-6.0000000000000001E-3,2E-3,8.9999999999999993E-3,1.2E-2,-2E-3]
[631,2E-3,0.01,-8.9999999999999993E-3,-7.0000000000000001E-3,2E-3,8.9999999999999993E-3,1.2E-2,-2E-3]
[632,3.0000000000000001E-3,8.9999999999999993E-3,-8.9999999999999993E-3,-7.0000000000000001E-3,2E-3,8.9999999999999993E-3,1.2E-2,-2E-3]
[633,3.0000000000000001E-3,8.9999999999999993E-3,-8.9999999999999993E-3,-7.0000000000000001E-3,2E-3,8.9999999999999993E-3,1.2E-2,-2E-3]
[634,3.0000000000000001E-3,8.9999999999999993E-3,-8.9999999999999993E-3,-6.0000000000000001E-3,2E-3,8.9999999999999993E-3,1.2E-2,-2E-3]
[635,3.0000000000000001E-3,8.9999999999999993E-3,-8.9999999999999993E-3,-6.0000000000000001E-3,2E-3,8.9999999999999993E-3,1.2E-2,-2E-3]
[636,3.0000000000000001E-3,0.01,-8.9999999999999993E-3,-7.0000000000000001E-3,2E-3,8.9999999999999993E-3,1.2E-2,-1E-3]
[637,3.0000000000000001E-3,8.9999999999999993E-3,-8.9999999999999993E-3,-7.0000000000000001E-3,1E-3,8.9999999999999993E-3,1.2999999999999999E-2,-1E-3]
[638,2E-3,8.0000000000000002E-3,-0.01,-8.0000000000000002E-3,1E-3,8.9999999999999993E-3,1.2999999999999999E-2,-1E-3]
[639,2E-3,8.0000000000000002E-3,-0.01,-8.0000000000000002E-3,1E-3,8.0000000000000002E-3,1.2E-2,-2E-3]
[640,3.0000000000000001E-3,8.9999999999999993E-3,-0.01,-7.0000000000000001E-3,1E-3,8.0000000000000002E-3,1.2E-2,-2E-3]
[641,3.0000000000000001E-3,8.9999999999999993E-3,-8.9999999999999993E-3,-7.0000000000000001E-3,1E-3,8.9999999999999993E-3,1.2999999999999999E-2,-2E-3]
[642,3.0000000000000001E-3,8.9999999999999993E-3,-8.9999999999999993E-3,-8.0000000000000002E-3,1E-3,8.9999999999999993E-3,1.2999999999999999E-2,-2E-3]
[643,3.0000000000000001E-3,8.9999999999999993E-3,-0.01,-8.0000000000000002E-3,1E-3,8.9999999999999993E-3,1.2999999999999999E-2,-2E-3]
[644,3.0000000000000001E-3,8.0000000000000002E-3,-0.01,-8.0000000000000002E-3,1E-3,8.9999999999999993E-3,1.2999999999999999E-2,-1E-3]
[645,3.0000000000000001E-3,8.0000000000000002E-3,-8.9999999999999993E-3,-7.0000000000000001E-3,1E-3,8.9999999999999993E-3,1.2999999999999999E-2,-1E-3]
[646,3.0000000000000001E-3,8.9999999999999993E-3,-0.01,-7.0000000000000001E-3,1E-3,8.9999999999999993E-3,1.2E-2,-1E-3]
[647,3.0000000000000001E-3,8.9999999999999993E-3,-8.9999999999999993E-3,-6.0000000000000001E-3,2E-3,0.01,1.2E-2,-1E-3]
[648,3.0000000000000001E-3,0.01,-8.9999999999999993E-3,-7.0000000000000001E-3,2E-3,8.9999999999999993E-3,1.2E-2,-2E-3]
[649,3.0000000000000001E-3,8.9999999999999993E-3,-8.9999999999999993E-3,-7.0000000000000001E-3,1E-3,8.9999999999999993E-3,1.2E-2,-2E-3]
[650,3.0000000000000001E-3,8.9999999999999993E-3,-8.9999999999999993E-3,-7.0000000000000001E-3,1E-3,8.9999999999999993E-3,1.2E-2,-2E-3]
[651,3.0000000000000001E-3,8.9999999999999993E-3,-0.01,-7.0000000000000001E-3,1E-3,8.9999999999999993E-3,1.2E-2,-1E-3]
[652,3.0000000000000001E-3,8.0000000000000002E-3,-0.01,-8.0000000000000002E-3,1E-3,8.9999999999999993E-3,1.2E-2,-1E-3]
[653,4.0000000000000001E-3,0.01,-7.0000000000000001E-3,-4.0000000000000001E-3,4.0000000000000001E-3,1.0999999999999999E-2,1.2E-2,1E-3]
[654,2E-3,1.2E-2,-7.0000000000000001E-3,-2E-3,4.0000000000000001E-3,1.0999999999999999E-2,8.9999999999999993E-3,0]
[655,1E-3,1.2E-2,-8.9999999999999993E-3,-5.0000000000000001E-3,2E-3,8.9999999999999993E-3,7.0000000000000001E-3,-2E-3]
[656,1E-3,0.01,-8.9999999999999993E-3,-7.0000000000000001E-3,1E-3,8.9999999999999993E-3,8.9999999999999993E-3,-1E-3]
[657,3.0000000000000001E-3,8.9999999999999993E-3,-8.9999999999999993E-3,-7.0000000000000001E-3,1E-3,0.01,1.2E-2,-1E-3]
[658,3.0000000000000001E-3,8.0000000000000002E-3,-8.9999999999999993E-3,-7.0000000000000001E-3,1E-3,0.01,1.2999999999999999E-2,-1E-3]
[659,3.0000000000000001E-3,8.0000000000000002E-3,-8.9999999999999993E-3,-7.0000000000000001E-3,1E-3,0.01,1.2999999999999999E-2,0]
[660,3.0000000000000001E-3,8.0000000000000002E-3,-8.9999999999999993E-3,-7.0000000000000001E-3,1E-3,1.0999999999999999E-2,1.2E-2,-1E-3]
[661,3.0000000000000001E-3,8.0000000000000002E-3,-8.9999999999999993E-3,-7.0000000000000001E-3,1E-3,0.01,1.2E-2,0]
[662,3.0000000000000001E-3,8.0000000000000002E-3,-8.9999999999999993E-3,-7.0000000000000001E-3,1E-3,0.01,1.2E-2,0]
[663,3.0000000000000001E-3,8.0000000000000002E-3,-0.01,-7.0000000000000001E-3,1E-3,0.01,1.2E-2,-1E-3]
[664,3.0000000000000001E-3,8.0000000000000002E-3,-0.01,-7.0000000000000001E-3,1E-3,0.01,1.2999999999999999E-2,-1E-3]
[665,3.0000000000000001E-3,8.0000000000000002E-3,-0.01,-7.0000000000000001E-3,1E-3,0.01,1.2999999999999999E-2,-1E-3]
[666,3.0000000000000001E-3,8.0000000000000002E-3,-8.9999999999999993E-3,-7.0000000000000001E-3,1E-3,1.0999999999999999E-2,1.2999999999999999E-2,0]
[667,4.0000000000000001E-3,8.0000000000000002E-3,-8.9999999999999993E-3,-7.0000000000000001E-3,2E-3,1.0999999999999999E-2,1.2999999999999999E-2,0]
[668,3.0000000000000001E-3,8.0000000000000002E-3,-0.01,-7.0000000000000001E-3,1E-3,0.01,1.2E-2,-1E-3]
[669,3.0000000000000001E-3,8.0000000000000002E-3,-8.9999999999999993E-3,-7.0000000000000001E-3,1E-3,0.01,1.2E-2,-1E-3]
[670,3.0000000000000001E-3,8.9999999999999993E-3,-8.9999999999999993E-3,-7.0000000000000001E-3,1E-3,0.01,1.2E-2,-1E-3]
[671,2E-3,8.0000000000000002E-3,-0.01,-7.0000000000000001E-3,1E-3,8.9999999999999993E-3,1.2E-2,-1E-3]
[672,3.0000000000000001E-3,8.0000000000000002E-3,-0.01,-7.0000000000000001E-3,1E-3,8.9999999999999993E-3,1.2E-2,-1E-3]
[673,2E-3,8.0000000000000002E-3,-0.01,-7.0000000000000001E-3,1E-3,8.9999999999999993E-3,1.2E-2,-2E-3]
[674,2E-3,8.0000000000000002E-3,-0.01,-7.0000000000000001E-3,0,8.9999999999999993E-3,1.2E-2,-2E-3]
[675,3.0000000000000001E-3,8.9999999999999993E-3,-0.01,-7.0000000000000001E-3,0,8.9999999999999993E-3,1.2E-2,-2E-3]
[676,3.0000000000000001E-3,8.9999999999999993E-3,-8.9999999999999993E-3,-7.0000000000000001E-3,1E-3,8.9999999999999993E-3,1.2E-2,-2E-3]
[677,3.0000000000000001E-3,8.9999999999999993E-3,-8.9999999999999993E-3,-7.0000000000000001E-3,1E-3,8.9999999999999993E-3,1.2E-2,-1E-3]
[678,3.0000000000000001E-3,8.0000000000000002E-3,-0.01,-7.0000000000000001E-3,1E-3,8.0000000000000002E-3,1.0999999999999999E-2,-2E-3]
[679,3.0000000000000001E-3,8.0000000000000002E-3,-0.01,-7.0000000000000001E-3,1E-3,8.0000000000000002E-3,1.2E-2,-3.0000000000000001E-3]
[680,3.0000000000000001E-3,8.9999999999999993E-3,-0.01,-7.0000000000000001E-3,0,8.0000000000000002E-3,1.2E-2,-3.0000000000000001E-3]
[681,2E-3,8.0000000000000002E-3,-0.01,-7.0000000000000001E-3,0,8.0000000000000002E-3,1.2E-2,-2E-3]
[682,3.0000000000000001E-3,8.0000000000000002E-3,-0.01,-8.0000000000000002E-3,0,8.0000000000000002E-3,1.2E-2,-2E-3]
[683,3.0000000000000001E-3,8.9999999999999993E-3,-8.9999999999999993E-3,-7.0000000000000001E-3,1E-3,8.0000000000000002E-3,1.0999999999999999E-2,-2E-3]
[684,3.0000000000000001E-3,0.01,-8.0000000000000002E-3,-6.0000000000000001E-3,1E-3,8.0000000000000002E-3,1.2E-2,-2E-3]
[685,3.0000000000000001E-3,8.9999999999999993E-3,-8.9999999999999993E-3,-6.0000000000000001E-3,0,8.0000000000000002E-3,1.0999999999999999E-2,-2E-3]
[686,3.0000000000000001E-3,8.0000000000000002E-3,-0.01,-7.0000000000000001E-3,0,8.0000000000000002E-3,1.0999999999999999E-2,-2E-3]
[687,3.0000000000000001E-3,8.0000000000000002E-3,-8.9999999999999993E-3,-7.0000000000000001E-3,0,7.0000000000000001E-3,1.2E-2,-2E-3]
[688,3.0000000000000001E-3,8.9999999999999993E-3,-8.9999999999999993E-3,-7.0000000000000001E-3,0,8.0000000000000002E-3,1.2E-2,-2E-3]
[689,3.0000000000000001E-3,8.0000000000000002E-3,-0.01,-7.0000000000000001E-3,0,8.0000000000000002E-3,1.0999999999999999E-2,-2E-3]
[690,3.0000000000000001E-3,8.0000000000000002E-3,-8.9999999999999993E-3,-7.0000000000000001E-3,0,7.0000000000000001E-3,1.0999999999999999E-2,-2E-3]
[691,3.0000000000000001E-3,8.0000000000000002E-3,-8.9999999999999993E-3,-7.0000000000000001E-3,0,7.0000000000000001E-3,1.0999999999999999E-2,-3.0000000000000001E-3]
[692,3.0000000000000001E-3,8.0000000000000002E-3,-0.01,-7.0000000000000001E-3,-1E-3,6.0000000000000001E-3,1.0999999999999999E-2,-2E-3]
[693,2E-3,8.0000000000000002E-3,-0.01,-7.0000000000000001E-3,-1E-3,7.0000000000000001E-3,1.0999999999999999E-2,-2E-3]
[694,3.0000000000000001E-3,8.0000000000000002E-3,-8.9999999999999993E-3,-7.0000000000000001E-3,0,8.0000000000000002E-3,1.0999999999999999E-2,-2E-3]
[695,3.0000000000000001E-3,8.0000000000000002E-3,-8.9999999999999993E-3,-6.0000000000000001E-3,0,7.0000000000000001E-3,1.0999999999999999E-2,-2E-3]
[696,2E-3,8.0000000000000002E-3,-8.9999999999999993E-3,-7.0000000000000001E-3,0,7.0000000000000001E-3,0.01,-3.0000000000000001E-3]
[697,2E-3,8.0000000000000002E-3,-0.01,-8.0000000000000002E-3,-1E-3,6.0000000000000001E-3,1.0999999999999999E-2,-3.0000000000000001E-3]
[698,2E-3,8.0000000000000002E-3,-0.01,-8.0000000000000002E-3,-1E-3,6.0000000000000001E-3,1.0999999999999999E-2,-3.0000000000000001E-3]
[699,2E-3,8.0000000000000002E-3,-0.01,-8.0000000000000002E-3,-1E-3,6.0000000000000001E-3,1.2E-2,-3.0000000000000001E-3]
[700,2E-3,8.0000000000000002E-3,-0.01,-7.0000000000000001E-3,0,7.0000000000000001E-3,1.2E-2,-2E-3]
[701,3.0000000000000001E-3,8.0000000000000002E-3,-0.01,-7.0000000000000001E-3,-1E-3,7.0000000000000001E-3,1.0999999999999999E-2,-2E-3]
[702,3.0000000000000001E-3,8.0000000000000002E-3,-0.01,-8.0000000000000002E-3,-2E-3,6.0000000000000001E-3,1.0999999999999999E-2,-3.0000000000000001E-3]
[703,3.0000000000000001E-3,7.0000000000000001E-3,-0.01,-8.0000000000000002E-3,-1E-3,6.0000000000000001E-3,1.2E-2,-3.0000000000000001E-3]
[704,3.0000000000000001E-3,8.0000000000000002E-3,-0.01,-7.0000000000000001E-3,-1E-3,7.0000000000000001E-3,1.2E-2,-2E-3]
[705,3.0000000000000001E-3,8.9999999999999993E-3,-8.9999999999999993E-3,-7.0000000000000001E-3,0,8.0000000000000002E-3,1.0999999999999999E-2,-2E-3]
[706,3.0000000000000001E-3,8.9999999999999993E-3,-8.9999999999999993E-3,-7.0000000000000001E-3,0,7.0000000000000001E-3,1.0999999999999999E-2,-3.0000000000000001E-3]
[707,2E-3,8.0000000000000002E-3,-0.01,-8.0000000000000002E-3,-1E-3,6.0000000000000001E-3,0.01,-3.0000000000000001E-3]
[708,2E-3,8.0000000000000002E-3,-0.01,-8.0000000000000002E-3,-1E-3,7.0000000000000001E-3,1.0999999999999999E-2,-3.0000000000000001E-3]
[709,3.0000000000000001E-3,8.0000000000000002E-3,-0.01,-7.0000000000000001E-3,-1E-3,7.0000000000000001E-3,1.0999999999999999E-2,-2E-3]
[710,3.0000000000000001E-3,8.0000000000000002E-3,-8.9999999999999993E-3,-7.0000000000000001E-3,0,7.0000000000000001E-3,1.2E-2,-2E-3]
[711,3.0000000000000001E-3,8.9999999999999993E-3,-8.9999999999999993E-3,-7.0000000000000001E-3,0,7.0000000000000001E-3,1.0999999999999999E-2,-2E-3]
[712,2E-3,8.9999999999999993E-3,-0.01,-7.0000000000000001E-3,-1E-3,7.0000000000000001E-3,1.0999999999999999E-2,-3.0000000000000001E-3]
[713,1E-3,8.0000000000000002E-3,-0.01,-8.0000000000000002E-3,-1E-3,6.0000000000000001E-3,0.01,-3.0000000000000001E-3]
[714,2E-3,8.0000000000000002E-3,-0.01,-8.0000000000000002E-3,-1E-3,7.0000000000000001E-3,0.01,-3.0000000000000001E-3]
[715,3.0000000000000001E-3,8.0000000000000002E-3,-0.01,-8.0000000000000002E-3,-1E-3,7.0000000000000001E-3,1.2E-2,-2E-3]
[716,2E-3,8.0000000000000002E-3,-0.01,-8.0000000000000002E-3,-1E-3,7.0000000000000001E-3,1.0999999999999999E-2,-2E-3]
[717,2E-3,8.0000000000000002E-3,-0.01,-8.0000000000000002E-3,-1E-3,6.0000000000000001E-3,0.01,-2E-3]
[718,2E-3,8.0000000000000002E-3,-0.01,-8.0000000000000002E-3,-1E-3,6.0000000000000001E-3,0.01,-2E-3]
[719,3.0000000000000001E-3,8.0000000000000002E-3,-0.01,-7.0000000000000001E-3,-1E-3,6.0000000000000001E-3,1.0999999999999999E-2,-2E-3]
[720,2E-3,7.0000000000000001E-3,-0.01,-7.0000000000000001E-3,-1E-3,6.0000000000000001E-3,1.0999999999999999E-2,-2E-3]
[721,2E-3,7.0000000000000001E-3,-0.01,-8.0000000000000002E-3,-1E-3,7.0000000000000001E-3,1.0999999999999999E-2,-3.0000000000000001E-3]
[722,2E-3,8.0000000000000002E-3,-0.01,-7.0000000000000001E-3,-1E-3,7.0000000000000001E-3,1.0999999999999999E-2,-2E-3]
[723,3.0000000000000001E-3,8.0000000000000002E-3,-0.01,-7.0000000000000001E-3,-1E-3,7.0000000000000001E-3,1.0999999999999999E-2,-2E-3]
[724,2E-3,8.0000000000000002E-3,-0.01,-7.0000000000000001E-3,-1E-3,7.0000000000000001E-3,1.0999999999999999E-2,-2E-3]
[725,2E-3,8.0000000000000002E-3,-0.01,-7.0000000000000001E-3,-1E-3,7.0000000000000001E-3,1.0999999999999999E-2,-1E-3]
[726,2E-3,7.0000000000000001E-3,-0.01,-7.0000000000000001E-3,-1E-3,7.0000000000000001E-3,1.0999999999999999E-2,-1E-3]
[727,2E-3,7.0000000000000001E-3,-0.01,-7.0000000000000001E-3,-1E-3,6.0000000000000001E-3,0.01,-2E-3]
[728,3.0000000000000001E-3,8.0000000000000002E-3,-0.01,-6.0000000000000001E-3,-1E-3,7.0000000000000001E-3,0.01,-2E-3]
[729,2E-3,8.0000000000000002E-3,-0.01,-6.0000000000000001E-3,-1E-3,7.0000000000000001E-3,0.01,-2E-3]
[730,2E-3,8.9999999999999993E-3,-8.9999999999999993E-3,-6.0000000000000001E-3,-1E-3,7.0000000000000001E-3,1.0999999999999999E-2,-2E-3]
[731,3.0000000000000001E-3,8.9999999999999993E-3,-8.9999999999999993E-3,-6.0000000000000001E-3,-1E-3,7.0000000000000001E-3,1.0999999999999999E-2,-2E-3]
[732,3.0000000000000001E-3,8.9999999999999993E-3,-8.9999999999999993E-3,-6.0000000000000001E-3,-1E-3,7.0000000000000001E-3,0.01,-2E-3]
[733,2E-3,8.9999999999999993E-3,-8.9999999999999993E-3,-6.0000000000000001E-3,0,7.0000000000000001E-3,0.01,-2E-3]
[734,2E-3,8.9999999999999993E-3,-8.9999999999999993E-3,-6.0000000000000001E-3,-1E-3,7.0000000000000001E-3,0.01,-2E-3]
[735,2E-3,8.9999999999999993E-3,-8.9999999999999993E-3,-7.0000000000000001E-3,-1E-3,7.0000000000000001E-3,0.01,-2E-3]
[736,2E-3,8.0000000000000002E-3,-8.9999999999999993E-3,-7.0000000000000001E-3,-1E-3,6.0000000000000001E-3,0.01,-2E-3]
[737,2E-3,8.0000000000000002E-3,-0.01,-7.0000000000000001E-3,-1E-3,6.0000000000000001E-3,0.01,-3.0000000000000001E-3]
[738,1E-3,8.0000000000000002E-3,-1.0999999999999999E-2,-7.0000000000000001E-3,-2E-3,6.0000000000000001E-3,8.9999999999999993E-3,-3.0000000000000001E-3]
[739,2E-3,8.0000000000000002E-3,-0.01,-7.0000000000000001E-3,-2E-3,6.0000000000000001E-3,0.01,-3.0000000000000001E-3]
[740,2E-3,8.0000000000000002E-3,-0.01,-7.0000000000000001E-3,-2E-3,6.0000000000000001E-3,0.01,-3.0000000000000001E-3]
[741,2E-3,8.0000000000000002E-3,-0.01,-8.0000000000000002E-3,-2E-3,6.0000000000000001E-3,0.01,-3.0000000000000001E-3]
[742,2E-3,8.0000000000000002E-3,-0.01,-8.0000000000000002E-3,-2E-3,6.0000000000000001E-3,0.01,-3.0000000000000001E-3]
[743,3.0000000000000001E-3,8.0000000000000002E-3,-8.9999999999999993E-3,-7.0000000000000001E-3,-2E-3,6.0000000000000001E-3,0.01,-3.0000000000000001E-3]
[744,3.0000000000000001E-3,7.0000000000000001E-3,-0.01,-7.0000000000000001E-3,-2E-3,6.0000000000000001E-3,0.01,-4.0000000000000001E-3]
[745,2E-3,7.0000000000000001E-3,-0.01,-8.0000000000000002E-3,-3.0000000000000001E-3,5.0000000000000001E-3,0.01,-4.0000000000000001E-3]
[746,2E-3,7.0000000000000001E-3,-1.0999999999999999E-2,-8.0000000000000002E-3,-3.0000000000000001E-3,5.0000000000000001E-3,0.01,-4.0000000000000001E-3]
[747,2E-3,7.0000000000000001E-3,-1.0999999999999999E-2,-8.0000000000000002E-3,-3.0000000000000001E-3,6.0000000000000001E-3,1.0999999999999999E-2,-4.0000000000000001E-3]
[748,2E-3,7.0000000000000001E-3,-0.01,-8.0000000000000002E-3,-2E-3,6.0000000000000001E-3,0.01,-4.0000000000000001E-3]
[749,2E-3,7.0000000000000001E-3,-0.01,-8.0000000000000002E-3,-2E-3,6.0000000000000001E-3,8.9999999999999993E-3,-4.0000000000000001E-3]
[750,2E-3,7.0000000000000001E-3,-0.01,-8.0000000000000002E-3,-2E-3,6.0000000000000001E-3,8.9999999999999993E-3,-3.0000000000000001E-3]
[751,2E-3,7.0000000000000001E-3,-0.01,-8.0000000000000002E-3,-1E-3,6.0000000000000001E-3,0.01,-4.0000000000000001E-3]
[752,2E-3,8.0000000000000002E-3,-0.01,-7.0000000000000001E-3,-2E-3,6.0000000000000001E-3,0.01,-4.0000000000000001E-3]
[753,3.0000000000000001E-3,8.0000000000000002E-3,-0.01,-7.0000000000000001E-3,-2E-3,5.0000000000000001E-3,0.01,-4.0000000000000001E-3]
[754,2E-3,8.0000000000000002E-3,-8.9999999999999993E-3,-6.0000000000000001E-3,-2E-3,6.0000000000000001E-3,0.01,-3.0000000000000001E-3]
[755,1E-3,8.0000000000000002E-3,-8.9999999999999993E-3,-7.0000000000000001E-3,-1E-3,6.0000000000000001E-3,8.9999999999999993E-3,-4.0000000000000001E-3]
[756,2E-3,8.9999999999999993E-3,-0.01,-7.0000000000000001E-3,-2E-3,5.0000000000000001E-3,8.9999999999999993E-3,-5.0000000000000001E-3]
[757,2E-3,8.9999999999999993E-3,-0.01,-7.0000000000000001E-3,-1E-3,5.0000000000000001E-3,0.01,-4.0000000000000001E-3]
[758,3.0000000000000001E-3,8.9999999999999993E-3,-8.9999999999999993E-3,-6.0000000000000001E-3,0,6.0000000000000001E-3,1.0999999999999999E-2,-3.0000000000000001E-3]
[759,3.0000000000000001E-3,8.9999999999999993E-3,-8.9999999999999993E-3,-6.0000000000000001E-3,0,6.0000000000000001E-3,8.9999999999999993E-3,-3.0000000000000001E-3]
[760,3.0000000000000001E-3,8.9999999999999993E-3,-8.9999999999999993E-3,-6.0000000000000001E-3,-1E-3,6.0000000000000001E-3,8.9999999999999993E-3,-3.0000000000000001E-3]
[761,2E-3,8.9999999999999993E-3,-8.9999999999999993E-3,-7.0000000000000001E-3,-1E-3,6.0000000000000001E-3,0.01,-3.0000000000000001E-3]
[762,2E-3,8.9999999999999993E-3,-8.9999999999999993E-3,-7.0000000000000001E-3,0,6.0000000000000001E-3,0.01,-3.0000000000000001E-3]
[763,2E-3,8.0000000000000002E-3,-8.9999999999999993E-3,-7.0000000000000001E-3,-1E-3,6.0000000000000001E-3,8.9999999999999993E-3,-3.0000000000000001E-3]
[764,2E-3,8.0000000000000002E-3,-8.9999999999999993E-3,-7.0000000000000001E-3,-1E-3,5.0000000000000001E-3,8.9999999999999993E-3,-3.0000000000000001E-3]
[765,2E-3,8.9999999999999993E-3,-8.9999999999999993E-3,-7.0000000000000001E-3,-1E-3,5.0000000000000001E-3,8.9999999999999993E-3,-3.0000000000000001E-3]
[766,2E-3,8.0000000000000002E-3,-8.9999999999999993E-3,-7.0000000000000001E-3,-1E-3,6.0000000000000001E-3,0.01,-3.0000000000000001E-3]
[767,2E-3,8.0000000000000002E-3,-0.01,-7.0000000000000001E-3,-1E-3,6.0000000000000001E-3,8.9999999999999993E-3,-3.0000000000000001E-3]
[768,3.0000000000000001E-3,8.0000000000000002E-3,-8.9999999999999993E-3,-7.0000000000000001E-3,-1E-3,6.0000000000000001E-3,8.9999999999999993E-3,-3.0000000000000001E-3]
[769,3.0000000000000001E-3,8.0000000000000002E-3,-8.9999999999999993E-3,-7.0000000000000001E-3,-1E-3,6.0000000000000001E-3,8.9999999999999993E-3,-3.0000000000000001E-3]
[770,3.0000000000000001E-3,8.0000000000000002E-3,-8.9999999999999993E-3,-7.0000000000000001E-3,-2E-3,6.0000000000000001E-3,0.01,-2E-3]
[771,3.0000000000000001E-3,8.0000000000000002E-3,-8.9999999999999993E-3,-7.0000000000000001E-3,-1E-3,6.0000000000000001E-3,0.01,-2E-3]
[772,3.0000000000000001E-3,8.0000000000000002E-3,-8.9999999999999993E-3,-7.0000000000000001E-3,-1E-3,6.0000000000000001E-3,0.01,-3.0000000000000001E-3]
[773,3.0000000000000001E-3,7.0000000000000001E-3,-0.01,-7.0000000000000001E-3,-2E-3,6.0000000000000001E-3,0.01,-3.0000000000000001E-3]
[774,3.0000000000000001E-3,7.0000000000000001E-3,-0.01,-7.0000000000000001E-3,-2E-3,5.0000000000000001E-3,8.9999999999999993E-3,-3.0000000000000001E-3]
[775,2E-3,7.0000000000000001E-3,-0.01,-7.0000000000000001E-3,-2E-3,6.0000000000000001E-3,8.9999999999999993E-3,-3.0000000000000001E-3]
[776,3.0000000000000001E-3,7.0000000000000001E-3,-8.9999999999999993E-3,-7.0000000000000001E-3,-2E-3,5.0000000000000001E-3,8.9999999999999993E-3,-3.0000000000000001E-3]
[777,3.0000000000000001E-3,7.0000000000000001E-3,-0.01,-7.0000000000000001E-3,-2E-3,5.0000000000000001E-3,8.9999999999999993E-3,-3.0000000000000001E-3]
[778,3.0000000000000001E-3,8.0000000000000002E-3,-0.01,-7.0000000000000001E-3,-2E-3,5.0000000000000001E-3,0.01,-3.0000000000000001E-3]
[779,3.0000000000000001E-3,7.0000000000000001E-3,-0.01,-7.0000000000000001E-3,-2E-3,5.0000000000000001E-3,0.01,-3.0000000000000001E-3]
[780,3.0000000000000001E-3,8.0000000000000002E-3,-0.01,-7.0000000000000001E-3,-2E-3,5.0000000000000001E-3,8.9999999999999993E-3,-3.0000000000000001E-3]
[781,2E-3,8.0000000000000002E-3,-8.9999999999999993E-3,-7.0000000000000001E-3,-1E-3,6.0000000000000001E-3,0.01,-3.0000000000000001E-3]
[782,3.0000000000000001E-3,7.0000000000000001E-3,-8.9999999999999993E-3,-7.0000000000000001E-3,-2E-3,5.0000000000000001E-3,0.01,-3.0000000000000001E-3]
[783,2E-3,7.0000000000000001E-3,-1.0999999999999999E-2,-7.0000000000000001E-3,-3.0000000000000001E-3,5.0000000000000001E-3,8.9999999999999993E-3,-3.0000000000000001E-3]
[784,2E-3,7.0000000000000001E-3,-0.01,-7.0000000000000001E-3,-2E-3,5.0000000000000001E-3,8.9999999999999993E-3,-3.0000000000000001E-3]
[785,2E-3,7.0000000000000001E-3,-0.01,-8.0000000000000002E-3,-2E-3,5.0000000000000001E-3,8.9999999999999993E-3,-3.0000000000000001E-3]
[786,2E-3,7.0000000000000001E-3,-0.01,-7.0000000000000001E-3,-2E-3,5.0000000000000001E-3,8.9999999999999993E-3,-3.0000000000000001E-3]
[787,3.0000000000000001E-3,8.0000000000000002E-3,-8.9999999999999993E-3,-6.0000000000000001E-3,-2E-3,6.0000000000000001E-3,8.9999999999999993E-3,-3.0000000000000001E-3]
[788,3.0000000000000001E-3,8.0000000000000002E-3,-0.01,-7.0000000000000001E-3,-3.0000000000000001E-3,5.0000000000000001E-3,8.9999999999999993E-3,-3.0000000000000001E-3]
[789,3.0000000000000001E-3,8.0000000000000002E-3,-0.01,-7.0000000000000001E-3,-2E-3,5.0000000000000001E-3,8.9999999999999993E-3,-3.0000000000000001E-3]
[790,3.0000000000000001E-3,8.0000000000000002E-3,-8.9999999999999993E-3,-6.0000000000000001E-3,-1E-3,6.0000000000000001E-3,0.01,-2E-3]
[791,3.0000000000000001E-3,8.0000000000000002E-3,-8.9999999999999993E-3,-7.0000000000000001E-3,-1E-3,6.0000000000000001E-3,8.9999999999999993E-3,-2E-3]
[792,3.0000000000000001E-3,8.0000000000000002E-3,-0.01,-6.0000000000000001E-3,-1E-3,5.0000000000000001E-3,8.9999999999999993E-3,-3.0000000000000001E-3]
[793,2E-3,8.0000000000000002E-3,-0.01,-7.0000000000000001E-3,-2E-3,5.0000000000000001E-3,8.0000000000000002E-3,-3.0000000000000001E-3]
[794,2E-3,8.0000000000000002E-3,-0.01,-8.0000000000000002E-3,-2E-3,4.0000000000000001E-3,8.0000000000000002E-3,-3.0000000000000001E-3]
[795,3.0000000000000001E-3,8.0000000000000002E-3,-8.9999999999999993E-3,-7.0000000000000001E-3,-2E-3,5.0000000000000001E-3,8.9999999999999993E-3,-2E-3]
[796,3.0000000000000001E-3,8.0000000000000002E-3,-8.9999999999999993E-3,-7.0000000000000001E-3,-2E-3,5.0000000000000001E-3,0.01,-2E-3]
[797,3.0000000000000001E-3,8.0000000000000002E-3,-0.01,-8.0000000000000002E-3,-2E-3,5.0000000000000001E-3,0.01,-3.0000000000000001E-3]
[798,3.0000000000000001E-3,8.0000000000000002E-3,-0.01,-8.0000000000000002E-3,-2E-3,5.0000000000000001E-3,0.01,-3.0000000000000001E-3]
[799,3.0000000000000001E-3,7.0000000000000001E-3,-0.01,-8.0000000000000002E-3,-2E-3,5.0000000000000001E-3,8.9999999999999993E-3,-3.0000000000000001E-3]
[800,3.0000000000000001E-3,8.0000000000000002E-3,-0.01,-8.0000000000000002E-3,-2E-3,5.0000000000000001E-3,8.9999999999999993E-3,-3.0000000000000001E-3]
[null,"E:\\spectrum1125\\トマト０１.txt"]
[null,-1.081]
[null,-1.141]
[null,-1.196]
[null,-1.2490000000000001]
[null,-1.298]
[null,-1.3160000000000001]
[null,-1.3220000000000001]
[null,-1.304]
[null,-1.2809999999999999]
[null,-1.238]
[null,-1.1679999999999999]
[null,-1.095]
[null,-1.016]
[null,-0.92200000000000004]
[null,-0.83499999999999996]
[null,-0.745]
[null,-0.64700000000000002]
[null,-0.55700000000000005]
[null,-0.48099999999999998]
[null,-0.41099999999999998]
[null,-0.33900000000000002]
[null,-0.27600000000000002]
[null,-0.224]
[null,-0.17899999999999999]
[null,-0.13600000000000001]
[null,-0.10199999999999999]
[null,-7.2999999999999995E-2]
[null,-4.8000000000000001E-2]
[null,-2.8000000000000001E-2]
[null,-1.2999999999999999E-2]
[null,-2E-3]
[null,6.0000000000000001E-3]
[null,1.2999999999999999E-2]
[null,1.9E-2]
[null,2.1999999999999999E-2]
[null,2.5000000000000001E-2]
[null,2.7E-2]
[null,0.03]
[null,3.2000000000000001E-2]
[null,3.5000000000000003E-2]
[null,3.6999999999999998E-2]
[null,4.1000000000000002E-2]
[null,4.4999999999999998E-2]
[null,4.8000000000000001E-2]
[null,0.05]
[null,5.0999999999999997E-2]
[null,5.2999999999999999E-2]
[null,5.2999999999999999E-2]
[null,5.1999999999999998E-2]
[null,5.0999999999999997E-2]
[null,0.05]
[null,4.7E-2]
[null,4.4999999999999998E-2]
[null,4.3999999999999997E-2]
[null,4.2000000000000003E-2]
[null,4.1000000000000002E-2]
[null,4.1000000000000002E-2]
[null,4.1000000000000002E-2]
[null,4.2000000000000003E-2]
[null,4.3999999999999997E-2]
[null,4.5999999999999999E-2]
[null,4.9000000000000002E-2]
[null,5.0999999999999997E-2]
[null,5.2999999999999999E-2]
[null,5.3999999999999999E-2]
[null,5.5E-2]
[null,5.5E-2]
[null,5.5E-2]
[null,5.2999999999999999E-2]
[null,5.0999999999999997E-2]
[null,4.9000000000000002E-2]
[null,4.5999999999999999E-2]
[null,4.2999999999999997E-2]
[null,4.2000000000000003E-2]
[null,0.04]
[null,3.9E-2]
[null,3.9E-2]
[null,3.9E-2]
[null,3.9E-2]
[null,3.7999999999999999E-2]
[null,3.7999999999999999E-2]
[null,3.7999999999999999E-2]
[null,0.04]
[null,4.1000000000000002E-2]
[null,4.2000000000000003E-2]
[null,4.2999999999999997E-2]
[null,4.4999999999999998E-2]
[null,4.7E-2]
[null,4.9000000000000002E-2]
[null,0.05]
[null,5.1999999999999998E-2]
[null,5.3999999999999999E-2]
[null,5.6000000000000001E-2]
[null,5.8999999999999997E-2]
[null,6.0999999999999999E-2]
[null,6.3E-2]
[null,6.5000000000000002E-2]
[null,6.6000000000000003E-2]
[null,6.8000000000000005E-2]
[null,7.0000000000000007E-2]
[null,7.0999999999999994E-2]
[null,7.1999999999999995E-2]
[null,7.3999999999999996E-2]
[null,7.4999999999999997E-2]
[null,7.6999999999999999E-2]
[null,7.9000000000000001E-2]
[null,8.1000000000000003E-2]
[null,8.3000000000000004E-2]
[null,8.4000000000000005E-2]
[null,8.7999999999999995E-2]
[null,9.0999999999999998E-2]
[null,9.4E-2]
[null,9.6000000000000002E-2]
[null,9.9000000000000005E-2]
[null,0.10299999999999999]
[null,0.105]
[null,0.109]
[null,0.113]
[null,0.115]
[null,0.11700000000000001]
[null,0.12]
[null,0.123]
[null,0.124]
[null,0.126]
[null,0.127]
[null,0.128]
[null,0.129]
[null,0.13]
[null,0.13200000000000001]
[null,0.13400000000000001]
[null,0.13600000000000001]
[null,0.13700000000000001]
[null,0.14000000000000001]
[null,0.14199999999999999]
[null,0.14499999999999999]
[null,0.14799999999999999]
[null,0.152]
[null,0.155]
[null,0.158]
[null,0.161]
[null,0.16400000000000001]
[null,0.16600000000000001]
[null,0.16800000000000001]
[null,0.17]
[null,0.17199999999999999]
[null,0.17199999999999999]
[null,0.17299999999999999]
[null,0.17399999999999999]
[null,0.17299999999999999]
[null,0.17199999999999999]
[null,0.17100000000000001]
[null,0.17100000000000001]
[null,0.17]
[null,0.17]
[null,0.16900000000000001]
[null,0.16800000000000001]
[null,0.16900000000000001]
[null,0.16900000000000001]
[null,0.16900000000000001]
[null,0.17]
[null,0.17100000000000001]
[null,0.17100000000000001]
[null,0.17399999999999999]
[null,0.17599999999999999]
[null,0.17799999999999999]
[null,0.17899999999999999]
[null,0.18099999999999999]
[null,0.183]
[null,0.184]
[null,0.185]
[null,0.185]
[null,0.184]
[null,0.183]
[null,0.182]
[null,0.17899999999999999]
[null,0.17599999999999999]
[null,0.17399999999999999]
[null,0.17]
[null,0.16600000000000001]
[null,0.16200000000000001]
[null,0.157]
[null,0.152]
[null,0.14799999999999999]
[null,0.14399999999999999]
[null,0.14000000000000001]
[null,0.13600000000000001]
[null,0.13200000000000001]
[null,0.129]
[null,0.126]
[null,0.123]
[null,0.121]
[null,0.12]
[null,0.11700000000000001]
[null,0.11600000000000001]
[null,0.114]
[null,0.113]
[null,0.112]
[null,0.111]
[null,0.109]
[null,0.105]
[null,0.10199999999999999]
[null,0.1]
[null,9.7000000000000003E-2]
[null,9.1999999999999998E-2]
[null,8.6999999999999994E-2]
[null,8.3000000000000004E-2]
[null,7.6999999999999999E-2]
[null,7.1999999999999995E-2]
[null,6.7000000000000004E-2]
[null,6.2E-2]
[null,5.6000000000000001E-2]
[null,5.0999999999999997E-2]
[null,4.5999999999999999E-2]
[null,4.2000000000000003E-2]
[null,3.6999999999999998E-2]
[null,3.4000000000000002E-2]
[null,3.1E-2]
[null,2.7E-2]
[null,2.5000000000000001E-2]
[null,2.1999999999999999E-2]
[null,0.02]
[null,1.7000000000000001E-2]
[null,1.4999999999999999E-2]
[null,1.4999999999999999E-2]
[null,1.2999999999999999E-2]
[null,1.2E-2]
[null,1.0999999999999999E-2]
[null,0.01]
[null,8.9999999999999993E-3]
[null,8.0000000000000002E-3]
[null,8.0000000000000002E-3]
[null,8.0000000000000002E-3]
[null,7.0000000000000001E-3]
[null,6.0000000000000001E-3]
[null,6.0000000000000001E-3]
[null,5.0000000000000001E-3]
[null,5.0000000000000001E-3]
[null,5.0000000000000001E-3]
[null,4.0000000000000001E-3]
[null,5.0000000000000001E-3]
[null,5.0000000000000001E-3]
[null,5.0000000000000001E-3]
[null,4.0000000000000001E-3]
[null,4.0000000000000001E-3]
[null,4.0000000000000001E-3]
[null,3.0000000000000001E-3]
[null,3.0000000000000001E-3]
[null,4.0000000000000001E-3]
[null,4.0000000000000001E-3]
[null,4.0000000000000001E-3]
[null,3.0000000000000001E-3]
[null,3.0000000000000001E-3]
[null,3.0000000000000001E-3]
[null,3.0000000000000001E-3]
[null,3.0000000000000001E-3]
[null,4.0000000000000001E-3]
[null,4.0000000000000001E-3]
[null,3.0000000000000001E-3]
[null,3.0000000000000001E-3]
[null,4.0000000000000001E-3]
[null,3.0000000000000001E-3]
[null,2E-3]
[null,2E-3]
[null,2E-3]
[null,2E-3]
[null,3.0000000000000001E-3]
[null,4.0000000000000001E-3]
[null,3.0000000000000001E-3]
[null,3.0000000000000001E-3]
[null,3.0000000000000001E-3]
[null,2E-3]
[null,2E-3]
[null,3.0000000000000001E-3]
[null,2E-3]
[null,3.0000000000000001E-3]
[null,3.0000000000000001E-3]
[null,2E-3]
[null,2E-3]
[null,2E-3]
[null,2E-3]
[null,2E-3]
[null,1E-3]
[null,2E-3]
[null,2E-3]
[null,2E-3]
[null,3.0000000000000001E-3]
[null,3.0000000000000001E-3]
[null,2E-3]
[null,3.0000000000000001E-3]
[null,3.0000000000000001E-3]
[null,3.0000000000000001E-3]
[null,2E-3]
[null,2E-3]
[null,3.0000000000000001E-3]
[null,3.0000000000000001E-3]
[null,3.0000000000000001E-3]
[null,3.0000000000000001E-3]
[null,3.0000000000000001E-3]
[null,2E-3]
[null,2E-3]
[null,2E-3]
[null,2E-3]
[null,3.0000000000000001E-3]
[null,2E-3]
[null,2E-3]
[null,2E-3]
[null,2E-3]
[null,2E-3]
[null,2E-3]
[null,3.0000000000000001E-3]
[null,3.0000000000000001E-3]
[null,3.0000000000000001E-3]
[null,3.0000000000000001E-3]
[null,3.0000000000000001E-3]
[null,2E-3]
[null,2E-3]
[null,2E-3]
[null,2E-3]
[null,2E-3]
[null,3.0000000000000001E-3]
[null,3.0000000000000001E-3]
[null,3.0000000000000001E-3]
[null,3.0000000000000001E-3]
[null,3.0000000000000001E-3]
[null,3.0000000000000001E-3]
[null,3.0000000000000001E-3]
[null,3.0000000000000001E-3]
[null,3.0000000000000001E-3]
[null,2E-3]
[null,2E-3]
[null,2E-3]
[null,2E-3]
[null,3.0000000000000001E-3]
[null,3.0000000000000001E-3]
[null,3.0000000000000001E-3]
[null,3.0000000000000001E-3]
[null,3.0000000000000001E-3]
[null,3.0000000000000001E-3]
[null,2E-3]
[null,2E-3]
[null,3.0000000000000001E-3]
[null,3.0000000000000001E-3]
[null,3.0000000000000001E-3]
[null,3.0000000000000001E-3]
[null,3.0000000000000001E-3]
[null,3.0000000000000001E-3]
[null,3.0000000000000001E-3]
[null,3.0000000000000001E-3]
[null,3.0000000000000001E-3]
[null,3.0000000000000001E-3]
[null,3.0000000000000001E-3]
[null,3.0000000000000001E-3]
[null,3.0000000000000001E-3]
[null,4.0000000000000001E-3]
[null,2E-3]
[null,1E-3]
[null,1E-3]
[null,3.0000000000000001E-3]
[null,3.0000000000000001E-3]
[null,3.0000000000000001E-3]
[null,3.0000000000000001E-3]
[null,3.0000000000000001E-3]
[null,3.0000000000000001E-3]
[null,3.0000000000000001E-3]
[null,3.0000000000000001E-3]
[null,3.0000000000000001E-3]
[null,3.0000000000000001E-3]
[null,4.0000000000000001E-3]
[null,3.0000000000000001E-3]
[null,3.0000000000000001E-3]
[null,3.0000000000000001E-3]
[null,2E-3]
[null,3.0000000000000001E-3]
[null,2E-3]
[null,2E-3]
[null,3.0000000000000001E-3]
[null,3.0000000000000001E-3]
[null,3.0000000000000001E-3]
[null,3.0000000000000001E-3]
[null,3.0000000000000001E-3]
[null,3.0000000000000001E-3]
[null,2E-3]
[null,3.0000000000000001E-3]
[null,3.0000000000000001E-3]
[null,3.0000000000000001E-3]
[null,3.0000000000000001E-3]
[null,3.0000000000000001E-3]
[null,3.0000000000000001E-3]
[null,3.0000000000000001E-3]
[null,3.0000000000000001E-3]
[null,3.0000000000000001E-3]
[null,3.0000000000000001E-3]
[null,3.0000000000000001E-3]
[null,2E-3]
[null,3.0000000000000001E-3]
[null,3.0000000000000001E-3]
[null,2E-3]
[null,2E-3]
[null,2E-3]
[null,2E-3]
[null,2E-3]
[null,3.0000000000000001E-3]
[null,3.0000000000000001E-3]
[null,3.0000000000000001E-3]
[null,3.0000000000000001E-3]
[null,3.0000000000000001E-3]
[null,3.0000000000000001E-3]
[null,2E-3]
[null,2E-3]
[null,3.0000000000000001E-3]
[null,3.0000000000000001E-3]
[null,3.0000000000000001E-3]
[null,2E-3]
[null,1E-3]
[null,2E-3]
[null,3.0000000000000001E-3]
[null,2E-3]
[null,2E-3]
[null,2E-3]
[null,3.0000000000000001E-3]
[null,2E-3]
[null,2E-3]
[null,2E-3]
[null,3.0000000000000001E-3]
[null,2E-3]
[null,2E-3]
[null,2E-3]
[null,2E-3]
[null,3.0000000000000001E-3]
[null,2E-3]
[null,2E-3]
[null,3.0000000000000001E-3]
[null,3.0000000000000001E-3]
[null,2E-3]
[null,2E-3]
[null,2E-3]
[null,2E-3]
[null,2E-3]
[null,1E-3]
[null,2E-3]
[null,2E-3]
[null,2E-3]
[null,2E-3]
[null,3.0000000000000001E-3]
[null,3.0000000000000001E-3]
[null,2E-3]
[null,2E-3]
[null,2E-3]
[null,2E-3]
[null,2E-3]
[null,2E-3]
[null,2E-3]
[null,2E-3]
[null,3.0000000000000001E-3]
[null,2E-3]
[null,1E-3]
[null,2E-3]
[null,2E-3]
[null,3.0000000000000001E-3]
[null,3.0000000000000001E-3]
[null,3.0000000000000001E-3]
[null,2E-3]
[null,2E-3]
[null,2E-3]
[null,2E-3]
[null,2E-3]
[null,2E-3]
[null,2E-3]
[null,3.0000000000000001E-3]
[null,3.0000000000000001E-3]
[null,3.0000000000000001E-3]
[null,3.0000000000000001E-3]
[null,3.0000000000000001E-3]
[null,3.0000000000000001E-3]
[null,3.0000000000000001E-3]
[null,2E-3]
[null,3.0000000000000001E-3]
[null,3.0000000000000001E-3]
[null,3.0000000000000001E-3]
[null,3.0000000000000001E-3]
[null,3.0000000000000001E-3]
[null,2E-3]
[null,3.0000000000000001E-3]
[null,2E-3]
[null,2E-3]
[null,2E-3]
[null,2E-3]
[null,3.0000000000000001E-3]
[null,3.0000000000000001E-3]
[null,3.0000000000000001E-3]
[null,3.0000000000000001E-3]
[null,3.0000000000000001E-3]
[null,3.0000000000000001E-3]
[null,2E-3]
[null,2E-3]
[null,3.0000000000000001E-3]
[null,3.0000000000000001E-3]
[null,3.0000000000000001E-3]
[null,3.0000000000000001E-3]
[null,3.0000000000000001E-3]
[null,3.0000000000000001E-3]